Workbook

Sheet 様式第１号
A1: （様式第１号）
A3: 大阪府私立高等学校等教育振興補助金事業計画書 （障がいのある生徒の高校生活支援事業）
F5: 令和８年 月 日
A7: 大 阪 府 教 育 長 様
E9: 所在地
E10: 学校法人名
E11: 理事長名
A13: 下記のとおり事業計画書を提出します。
A15: 記
G17: （単位：円）
A18: 補助事業 の 種 類 | D18: 学 校 名 | E18: 補助対象経費 | F18: 補助対象経費の負担区分
F19: 補助金額 | G19: 法人負担額等
A20: 障がいのある生徒の高校生活支援事業 | E20: =様式第２号!G20+様式第２号!G27 -> 0 | F20: =様式第２号!E24+様式第２号!E31 -> 0 | G20: =IF(E20>0,E20-F20,"")
G21: =IF(E21>0,E21-F21,"")
G22: =IF(E22>0,E22-F22,"")
G23: =IF(E23>0,E23-F23,"")
A24: 合 計 | E24: =SUM(E20:E23) -> 0 | F24: =SUM(F20:F23) -> 0 | G24: =SUM(G20:G23) -> 0
A25: ※各学校ごとの補助対象経費の内訳については、別添所要経費（様式第２号）のとおりです。
E27: 担当職・氏名
E28: 担当者電話番号

Sheet 様式第２号
A1: （様式第２号）
A3: 所 要 経 費
H5: 学校名 | J5: =様式第１号!D20 -> 0
H6: 担当者職・氏名 | J6: =様式第１号!F27 -> 0
H7: 担当者電話番号 | J7: =様式第１号!F28 -> 0
A9: 事業の目的・効果
A10: 〇目的
A12: 〇効果
A14: 事業の内容（具体的に記載）
A18: 事業経費（単位：円） | D18: ※人件費、教育研究経費に分けて記載すること。
A19: ■介助員
A20: 補助対象経費 | C20: 5000 | D20: × | F20: ＝ | G20: =C20*E20 -> 0 | I20: （実際の契約内容）
F21: うち、令和8年10月31日時点支払済日数： | I21: 給与
A22: 補助対象経費×1/2 | D22: ＝ | E22: =G20/2 -> 0 | I22: 勤務時間
I23: 日数根拠
A24: 補助限度額（591,000円以内） | E24: =ROUNDDOWN(IF(E22>=591000,591000,E22),-3) -> 0 | F24: =ROUNDDOWN(IF(E24>=840000,840000,E24),-3) -> 0
A26: ■学習支援員
A27: 補助対象経費 | C27: 3000 | D27: × | F27: ＝ | G27: =C27*E27 -> 0 | I27: （実際の契約内容）
F28: うち、支払済日数： | I28: 給与
A29: 補助対象経費×1/2 | D29: ＝ | E29: =G27/2 -> 0 | I29: 勤務時間
I30: 日数根拠
A31: 補助限度額（120,000円以内） | E31: =ROUNDDOWN(IF(E29>=120000,120000,E29),-3) -> 0 | F31: =ROUNDDOWN(IF(E31>=840000,840000,E31),-3) -> 0
A33: ※所要経費の記載については、学校ごとに別様とすること。
A34: ※事業経費については、詳細に記入すること。
A35: ※事業の例 | C35: ・食事介助またはトイレ介助等を必要とする生徒に対し、学校生活において
C36: 必要とされる支援全般を行う介助員の配置
C37: ・障がいにより支援を必要とする生徒に対し、授業や学校行事等において
C38: 教員の補助にあたることにより、必要とされる支援を行う学習支援員の配置
A39: ※介助員又は学習支援員の配置については、契約期間中、原則として、生徒による毎月１回以上の 活用実績があることが補助要件となります。

Sheet 様式第１号 (記入例)
A1: （様式第１号）
A3: 大阪府私立高等学校等教育振興補助金事業計画書 （障がいのある生徒の高校生活支援事業）
F5: 令和８年●月●日
A7: 大 阪 府 教 育 長 様
E9: 所在地 | F9: 大阪府●●市●●区●●－●－●
E10: 学校法人名 | F10: 学校法人●●学園
E11: 理事長名 | F11: ●● ●●
A13: 下記のとおり事業計画書を提出します。
A15: 記
G17: （単位：円）
A18: 補助事業 の 種 類 | D18: 学 校 名 | E18: 補助対象経費 | F18: 補助対象経費の負担区分
F19: 補助金額 | G19: 法人負担額等
A20: 障がいのある生徒の高校生活支援事業 | D20: ●●●●高等学校 | E20: ='様式第２号 (記入例)'!G20+'様式第２号 (記入例)'!G27 -> 1725000 | F20: ='様式第２号 (記入例)'!E24+'様式第２号 (記入例)'!E31 -> 695000 | G20: =IF(E20>0,E20-F20,"") -> 1030000
G21: =IF(E21>0,E21-F21,"")
G22: =IF(E22>0,E22-F22,"")
G23: =IF(E23>0,E23-F23,"")
A24: 合 計 | E24: =SUM(E20:E23) -> 1725000 | F24: =SUM(F20:F23) -> 695000 | G24: =SUM(G20:G23) -> 1030000
A25: ※各学校ごとの補助対象経費の内訳については、別添所要経費（様式第２号）のとおりです。
E27: 担当職・氏名 | F27: 事務長 ●● ●●
E28: 担当者電話番号 | F28: ●●－●●●●－●●●●

Sheet 様式第２号 (記入例)
A1: （様式第２号）
A3: 所 要 経 費
H5: 学校名 | J5: ='様式第１号 (記入例)'!D20 -> ●●●●高等学校
H6: 担当者職・氏名 | J6: ='様式第１号 (記入例)'!F27 -> 事務長 ●● ●●
H7: 担当者電話番号 | J7: ='様式第１号 (記入例)'!F28 -> ●●－●●●●－●●●●
A9: 事業の目的・効果
A10: 〇目的 | B10: 生徒が安心して通える学校づくりを支援するために、介助員及び学習支援員を配置し、障がいのある生徒一人ひとりのニーズ、障がいの状態や特性を踏まえた適切な指導・支援を行う。
A12: 〇効果 | B12: 介助員及び学習支援員を配置することにより、障がいのある生徒の学習環境が整備され、学習意欲の向上が図られる。
A14: 事業の内容（具体的に記載）
A15: ①●年生徒A（肢体不自由、身体障害者手帳２級所持●●年●●月●●日取得）に対してトイレ等の介助を行う介助員１名を配置（１日８時間）。（車椅子で生活。上右半身に麻痺があるため１人でトイレに行くことが困難。） ②●年生徒B（学習障がい、診断書有り●●年●●月●●日付け発行）に対して、授業において教員の補助を行う学習支援員１名を配置（１日７コマ）。（先生の話に集中できない、指示が聞き取れないといった状況が散見される。）
A18: 事業経費（単位：円） | D18: ※人件費、教育研究経費に分けて記載すること。
A19: ■介助員
A20: 補助対象経費 | C20: 5000 | D20: × | E20: 230 | F20: ＝ | G20: =C20*E20 -> 1150000 | I20: （実際の契約内容）
F21: うち、令和8年10月31日時点支払済日数： | G21: 140 | I21: 給与 | J21: 時給1,500円
A22: 補助対象経費×1/2 | D22: ＝ | E22: =G20/2 -> 575000 | I22: 勤務時間 | J22: １日６時間
I23: 日数根拠
A24: 補助限度額（591,000円以内） | E24: =ROUNDDOWN(IF(E22>=591000,591000,E22),-3) -> 575000 | F24: =ROUNDDOWN(IF(E24>=840000,840000,E24),-3) -> 575000 | I24: 4～7月：80日、9～10月：60日、11月：10日、１～3月：80日
A26: ■学習支援員
A27: 補助対象経費 | C27: 2500 | D27: × | E27: 230 | F27: ＝ | G27: =C27*E27 -> 575000 | I27: （実際の契約内容）
F28: うち、支払済日数： | G28: 140 | I28: 給与 | J28: 日給2,500円
A29: 補助対象経費×1/2 | D29: ＝ | E29: =G27/2 -> 287500 | I29: 勤務時間 | J29: 日給のため回答不要
I30: 日数根拠
A31: 補助限度額（120,000円以内） | E31: =ROUNDDOWN(IF(E29>=120000,120000,E29),-3) -> 120000 | F31: =ROUNDDOWN(IF(E31>=840000,840000,E31),-3) -> 120000 | I31: 4～7月：80日、9～10月：60日、11月：10日、１～3月：80日
A33: ※所要経費の記載については、学校ごとに別様とすること。
A34: ※事業経費については、詳細に記入すること。
A35: ※事業の例 | C35: ・食事介助またはトイレ介助等を必要とする生徒に対し、学校生活において
C36: 必要とされる支援全般を行う介助員の配置
C37: ・障がいにより支援を必要とする生徒に対し、授業や学校行事等において
C38: 教員の補助にあたることにより、必要とされる支援を行う学習支援員の配置
A39: ※介助員又は学習支援員の配置については、契約期間中、原則として、生徒による毎月１回以上の 活用実績があることが補助要件となります。
