{"text_format":"1","workbook":"xlsx","n_sheets":47,"sheets":["巻末資料表紙","2-Ⅰ","２-Ⅱ","２-Ⅲ","２-Ⅳ","２-Ⅴ","２-Ⅵ","３-Ⅰ","３-Ⅱ","３-Ⅲ","３-Ⅳ","３-Ⅴ","４-Ⅰ","４-Ⅱ","４-Ⅲ","４-Ⅳ","４-Ⅴ","４-Ⅵ","5-Ⅰ①","５-Ⅰ②","５-Ⅰ③","５-Ⅱ①","５-Ⅱ②","５-Ⅱ③","５-Ⅱ④","6-Ⅰ①","6-Ⅰ②","6-Ⅰ③","6-Ⅰ④ ","6-Ⅰ⑤","6-Ⅰ⑥ ","6-Ⅱ①","6-Ⅱ②","6-Ⅱ③","6-Ⅱ④","6-Ⅱ⑤","6-Ⅱ⑥","6-Ⅲ","6-Ⅳ","一覧表","グラフ(年齢区分）","グラフ(疾患名)","グラフ(在院期間) ","グラフ(在院期間)  (2)","グラフ(退院阻害要因＿１) ","グラフ(退院阻害要因＿２）","グラフ(退院阻害要因＿２(寛解・院内寛解)"],"not_rendered":{"charts":24,"images":0,"macros":1,"external_links":0,"defined_names":47,"comments":0,"pivot_tables":0},"unopened":[],"bounds":{"document_bytes":16777216,"sheet_cells":100000,"rows_first":2000,"rows_last":500,"rows_between":2000,"halvings":0,"cell_chars":16384,"cell_head_chars":4096},"cells_cut":0,"cells_raw":0,"read":"whole","date_system":"1900"}

{"sheet":"巻末資料表紙","index":0,"n_rows":3,"n_cols":1,"rows_kept":3,"cut":false,"hidden":false,"merged":[]}
["令和5年度\n巻末資料"]
["バージョン　　日付　　　　　内容"]
["Vol.1.0　　　　R6.7.29　　　新規作成"]

{"sheet":"2-Ⅰ","index":1,"n_rows":16,"n_cols":17,"rows_kept":16,"cut":false,"hidden":false,"merged":[]}
["【年齢区分】"]
[null,null,null,null,null,null,null,null,null,null,"データ貼り付け箇所"]
["〔全状態像〕",null,null,null,"〔寛解・院内寛解群〕",null,null,null,null,null,"年齢区分","患者全体",null,"年齢区分","寛解","年齢区分","院内寛解"]
[null,"人数","割合",null,null,"寛解","院内寛解","計","割合",null,"行ラベル","データの個数 / 年齢",null,"行ラベル","データの個数 / 年齢","行ラベル","データの個数 / 年齢"]
["19歳以下",{"$f":"IFERROR(VLOOKUP($A5,年齢区分[#All],2,FALSE),0)","v":181},{"$f":"IFERROR(B5/B$14,\"-\")","v":1.2423639233989979E-2},null,"19歳以下",{"$f":"IFERROR(VLOOKUP($A5,年齢区分＿寛解[#All],2,FALSE),0)","v":9},{"$f":"IFERROR(VLOOKUP($A5,年齢区分＿院内寛解[#All],2,FALSE),0)","v":20},{"$f":"SUM(F5:G5)","v":29},{"$f":"IFERROR(H5/H$14,\"-\")","v":1.6439909297052153E-2},null,"19歳以下",181,null,"19歳以下",9,"19歳以下",20]
["20歳代",{"$f":"IFERROR(VLOOKUP($A6,年齢区分[#All],2,FALSE),0)","v":297},{"$f":"IFERROR(B6/B$14,\"-\")","v":2.0385750566270851E-2},null,"20歳代",{"$f":"IFERROR(VLOOKUP($A6,年齢区分＿寛解[#All],2,FALSE),0)","v":15},{"$f":"IFERROR(VLOOKUP($A6,年齢区分＿院内寛解[#All],2,FALSE),0)","v":55},{"$f":"SUM(F6:G6)","v":70},{"$f":"IFERROR(H6/H$14,\"-\")","v":3.968253968253968E-2},null,"20歳代",297,null,"20歳代",15,"20歳代",55]
["30歳代",{"$f":"IFERROR(VLOOKUP($A7,年齢区分[#All],2,FALSE),0)","v":553},{"$f":"IFERROR(B7/B$14,\"-\")","v":3.7957306609925183E-2},null,"30歳代",{"$f":"IFERROR(VLOOKUP($A7,年齢区分＿寛解[#All],2,FALSE),0)","v":21},{"$f":"IFERROR(VLOOKUP($A7,年齢区分＿院内寛解[#All],2,FALSE),0)","v":83},104,5.8956916099773243E-2,null,"30歳代",553,null,"30歳代",21,"30歳代",83]
["40歳代",{"$f":"IFERROR(VLOOKUP($A8,年齢区分[#All],2,FALSE),0)","v":1181},8.1062530029514718E-2,null,"40歳代",{"$f":"IFERROR(VLOOKUP($A8,年齢区分＿寛解[#All],2,FALSE),0)","v":36},{"$f":"IFERROR(VLOOKUP($A8,年齢区分＿院内寛解[#All],2,FALSE),0)","v":147},183,0.10374149659863946,null,"40歳代",1181,null,"40歳代",36,"40歳代",147]
["50歳代",{"$f":"IFERROR(VLOOKUP($A9,年齢区分[#All],2,FALSE),0)","v":2335},0.16027181000755028,null,"50歳代",{"$f":"IFERROR(VLOOKUP($A9,年齢区分＿寛解[#All],2,FALSE),0)","v":62},{"$f":"IFERROR(VLOOKUP($A9,年齢区分＿院内寛解[#All],2,FALSE),0)","v":234},296,0.16780045351473924,null,"50歳代",2335,null,"50歳代",62,"50歳代",234]
["60歳代",{"$f":"IFERROR(VLOOKUP($A10,年齢区分[#All],2,FALSE),0)","v":2406},0.16514517125403252,null,"60歳代",{"$f":"IFERROR(VLOOKUP($A10,年齢区分＿寛解[#All],2,FALSE),0)","v":55},{"$f":"IFERROR(VLOOKUP($A10,年齢区分＿院内寛解[#All],2,FALSE),0)","v":249},304,0.17233560090702948,null,"60歳代",2406,null,"60歳代",55,"60歳代",249]
["70歳代",{"$f":"IFERROR(VLOOKUP($A11,年齢区分[#All],2,FALSE),0)","v":3548},0.24353078454252181,null,"70歳代",{"$f":"IFERROR(VLOOKUP($A11,年齢区分＿寛解[#All],2,FALSE),0)","v":63},{"$f":"IFERROR(VLOOKUP($A11,年齢区分＿院内寛解[#All],2,FALSE),0)","v":343},406,0.23015873015873015,null,"70歳代",3548,null,"70歳代",63,"70歳代",343]
["80歳代",{"$f":"IFERROR(VLOOKUP($A12,年齢区分[#All],2,FALSE),0)","v":3249},0.2230077561946599,null,"80歳代",{"$f":"IFERROR(VLOOKUP($A12,年齢区分＿寛解[#All],2,FALSE),0)","v":55},{"$f":"IFERROR(VLOOKUP($A12,年齢区分＿院内寛解[#All],2,FALSE),0)","v":255},310,0.17573696145124718,null,"80歳代",3249,null,"80歳代",55,"80歳代",255]
["90歳以上",{"$f":"IFERROR(VLOOKUP($A13,年齢区分[#All],2,FALSE),0)","v":819},5.6215251561534764E-2,null,"90歳以上",{"$f":"IFERROR(VLOOKUP($A13,年齢区分＿寛解[#All],2,FALSE),0)","v":12},{"$f":"IFERROR(VLOOKUP($A13,年齢区分＿院内寛解[#All],2,FALSE),0)","v":50},62,3.5147392290249435E-2,null,"90歳以上",819,null,"90歳以上",12,"90歳以上",50]
["総計",{"$f":"SUM(B5:B13)","v":14569},{"$f":"SUM(C5:C13)","v":1.0000000000000002},null,"総計",{"$f":"SUM(F5:F13)","v":328},1436,{"$f":"SUM(H5:H13)","v":1764},{"$f":"SUM(I5:I13)","v":1}]
["65歳未満（再掲）",{"$f":"B14-B16","v":5781},{"$f":"IFERROR(B15/B$14,\"-\")","v":0.39680142768892857},null,"65歳未満（再掲）",{"$f":"F14-F16","v":171},{"$f":"G14-G16","v":669},840,{"$f":"IFERROR(H15/H$14,\"-\")","v":0.47619047619047616},null,"65歳以上（再掲）",8788,null,"65歳以上（再掲）",157,"65歳以上（再掲）",767]
["65歳以上（再掲）",{"$f":"L15","v":8788},{"$f":"IFERROR(B16/B$14,\"-\")","v":0.60319857231107143},null,"65歳以上（再掲）",{"$f":"O15","v":157},{"$f":"Q15","v":767},924,{"$f":"IFERROR(H16/H$14,\"-\")","v":0.52380952380952384}]

{"sheet":"２-Ⅱ","index":2,"n_rows":22,"n_cols":11,"rows_kept":22,"cut":false,"hidden":false,"merged":[]}
["【入院形態区分】"]
[null,null,null,null,null,null,"データ貼り付け箇所"]
["〔全状態像〕",null,null,null,null,null,"入院形態","全体"]
[null,"人数","割合",null,null,null,"行ラベル","データの個数 / 入院"]
["措置入院・緊急措置入院",{"$f":"IFERROR(VLOOKUP(\"措置入院\",入院形態[#All],2,FALSE),0)+IFERROR(VLOOKUP(\"緊急措置入院\",入院形態[#All],2,FALSE),0)","v":76},{"$f":"IFERROR(B5/B$10,\"-\")","v":5.2165557004598805E-3},null,null,null,"任意入院",6282]
["医療保護入院",{"$f":"IFERROR(VLOOKUP(A6,入院形態[#All],2,FALSE),0)","v":8169},{"$f":"IFERROR(B6/B$10,\"-\")","v":0.56071109890864168},null,null,null,"措置入院",76]
["任意入院",{"$f":"IFERROR(VLOOKUP(A7,入院形態[#All],2,FALSE),0)","v":6282},0.43118951197748645,null,null,null,"鑑定入院",6]
["応急入院",{"$f":"IFERROR(VLOOKUP(A8,入院形態[#All],2,FALSE),0)","v":4},2.74555563182099E-4,null,null,null,"応急入院",4]
["その他",{"$f":"IFERROR(VLOOKUP(\"鑑定入院\",入院形態[#All],2,FALSE),0)+IFERROR(VLOOKUP(\"医療観察法による入院\",入院形態[#All],2,FALSE),0)+IFERROR(VLOOKUP(\"不明\",入院形態[#All],2,FALSE),0)","v":38},2.6082778502299403E-3,null,null,null,"医療保護入院",8169]
["総計",{"$f":"SUM(B5:B9)","v":14569},{"$f":"SUM(C5:C9)","v":1},null,null,null,"医療観察法による入院",32]
[null,null,null,null,null,null,"緊急措置入院",0]
[null,null,null,null,null,null,"不明",0]
[null,null,null,null,null,null,"入院形態","寛解",null,"入院形態","院内寛解"]
["〔寛解・院内寛解群〕",null,null,null,null,null,"行ラベル","データの個数 / 入院",null,"行ラベル","データの個数 / 入院"]
[null,"寛解","院内寛解","計","割合",null,"任意入院",201,null,"任意入院",914]
["措置入院・緊急措置入院",{"$f":"IFERROR(VLOOKUP(\"措置入院\",入院形態_寛解[#All],2,FALSE),0)+IFERROR(VLOOKUP(\"緊急措置入院\",入院形態_寛解[#All],2,FALSE),0)","v":4},{"$f":"IFERROR(VLOOKUP(\"措置入院\",入院形態_院内寛解[#All],2,FALSE),0)+IFERROR(VLOOKUP(\"緊急措置入院\",入院形態_院内寛解[#All],2,FALSE),0)","v":11},{"$f":"SUM(B16:C16)","v":15},{"$f":"IFERROR(D16/D$21,\"-\")","v":8.5034013605442185E-3},null,"措置入院",4,null,"措置入院",11]
["医療保護入院",{"$f":"IFERROR(VLOOKUP(A17,入院形態_寛解[#All],2,FALSE),0)","v":123},{"$f":"IFERROR(VLOOKUP(A17,入院形態_院内寛解[#All],2,FALSE),0)","v":509},{"$f":"SUM(B17:C17)","v":632},{"$f":"IFERROR(D17/D$21,\"-\")","v":0.35827664399092973},null,"鑑定入院",0,null,"鑑定入院",1]
["任意入院",{"$f":"IFERROR(VLOOKUP(A18,入院形態_寛解[#All],2,FALSE),0)","v":201},{"$f":"IFERROR(VLOOKUP(A18,入院形態_院内寛解[#All],2,FALSE),0)","v":914},1115,0.63208616780045357,null,"応急入院",0,null,"応急入院",0]
["応急入院",{"$f":"IFERROR(VLOOKUP(A19,入院形態_寛解[#All],2,FALSE),0)","v":0},{"$f":"IFERROR(VLOOKUP(A19,入院形態_院内寛解[#All],2,FALSE),0)","v":0},0,0,null,"医療保護入院",123,null,"医療保護入院",509]
["その他",{"$f":"IFERROR(VLOOKUP(\"鑑定入院\",入院形態_寛解[#All],2,FALSE),0)+IFERROR(VLOOKUP(\"医療観察法による入院\",入院形態_寛解[#All],2,FALSE),0)+IFERROR(VLOOKUP(\"不明\",入院形態_寛解[#All],2,FALSE),0)","v":0},{"$f":"IFERROR(VLOOKUP(\"鑑定入院\",入院形態_院内寛解[#All],2,FALSE),0)+IFERROR(VLOOKUP(\"医療観察法による入院\",入院形態_院内寛解[#All],2,FALSE),0)+IFERROR(VLOOKUP(\"不明\",入院形態_院内寛解[#All],2,FALSE),0)","v":2},2,1.1337868480725624E-3,null,"医療観察法による入院",0,null,"医療観察法による入院",1]
["総計",{"$f":"SUM(B16:B20)","v":328},{"$f":"SUM(C16:C20)","v":1436},{"$f":"SUM(D16:D20)","v":1764},{"$f":"SUM(E16:E20)","v":1},null,"緊急措置入院",0,null,"緊急措置入院",0]
[null,null,null,null,null,null,"不明",0,null,"不明",0]

{"sheet":"２-Ⅲ","index":3,"n_rows":62,"n_cols":15,"rows_kept":62,"cut":false,"hidden":false,"merged":[[18,0,18,1],[10,5,10,6],[11,5,11,6],[15,5,15,6],[16,5,16,6],[17,5,17,6],[12,5,12,6],[13,5,13,6],[14,5,14,6],[16,0,16,1],[19,0,19,1],[19,5,19,6],[12,0,12,1],[13,0,13,1],[4,5,4,6],[8,5,8,6],[9,5,9,6],[4,0,4,1],[8,0,8,1],[9,0,9,1],[14,0,14,1],[15,0,15,1],[10,0,10,1],[11,0,11,1],[18,5,18,6],[17,0,17,1]]}
["【疾患名区分】"]
[]
["〔全状態像〕",null,null,null,null,"〔寛解・院内寛解群〕"]
[null,null,"人数","割合",null,null,null,"寛解","院内寛解","計","割合",null,"F00アルツハイマー病型認知症","F0","データ貼り付けは表の下にあります。"]
["症状性を含む器質性精神障害（F0）",null,{"$f":"SUM(C6:C8)","v":4241},{"$f":"SUM(D6:D8)","v":0.29109753586382042},null,"症状性を含む器質性精神障害（F0）",null,{"$f":"SUM(H6:H8)","v":84},332,{"$f":"SUM(H5:I5)","v":416},{"$f":"IFERROR(J5/J$21,\"-\")","v":0.23582766439909297},null,"F01血管性認知症","F1","直接入力しないようにご注意ください。"]
[null,"アルツハイマー病の認知症を含む器質性精神障害（F00）",{"$f":"IFERROR(VLOOKUP($M4,疾患別[#All],2,FALSE),0)","v":2181},{"$f":"IFERROR(C6/C$21,\"-\")","v":0.14970142082503946},null,null,"アルツハイマー病の認知症を含む器質性精神障害（F00）",{"$f":"IFERROR(VLOOKUP($M4,疾患別＿寛解[#All],2,FALSE),0)","v":33},{"$f":"IFERROR(VLOOKUP($M4,疾患別＿院内寛解[#All],2,FALSE),0)","v":154},{"$f":"SUM(H6:I6)","v":187},0.10600907029478458,null,"F02-09上記以外の症状性を含む器質性精神障害","F2"]
[null,"血管性認知症を含む器質性精神障害（F01）",{"$f":"IFERROR(VLOOKUP($M5,疾患別[#All],2,FALSE),0)","v":343},2.3543139542864987E-2,null,null,"血管性認知症を含む器質性精神障害（F01）",{"$f":"IFERROR(VLOOKUP($M5,疾患別＿寛解[#All],2,FALSE),0)","v":6},{"$f":"IFERROR(VLOOKUP($M5,疾患別＿院内寛解[#All],2,FALSE),0)","v":32},38,2.1541950113378686E-2,null,"F10アルコール使用による精神及び行動の障害","F3"]
[null,"アルツハイマー病の認知症・血管性認知症以外の、\n症状性を含む器質性精神障害（F02-F09）",{"$f":"IFERROR(VLOOKUP($M6,疾患別[#All],2,FALSE),0)","v":1717},0.11785297549591599,null,null,"アルツハイマー病の認知症・血管性認知症以外の、症状性を含む器質性精神障害（F02-F09）",{"$f":"IFERROR(VLOOKUP($M6,疾患別＿寛解[#All],2,FALSE),0)","v":45},{"$f":"IFERROR(VLOOKUP($M6,疾患別＿院内寛解[#All],2,FALSE),0)","v":146},191,0.10827664399092971,null,"アルコール覚せい剤を除く精神作用物質使用による精神及び行動の障害※","F4"]
["精神作用物質使用による精神及び行動の障害（F1）",null,{"$f":"IFERROR(VLOOKUP($M7,疾患別[#All],2,FALSE),0)+IFERROR(VLOOKUP($M8,疾患別[#All],2,FALSE),0)+IFERROR(VLOOKUP($M9,疾患別[#All],2,FALSE),0)","v":826},5.6695723797103442E-2,null,"精神作用物質使用による精神及び行動の障害（F1）",null,{"$f":"IFERROR(VLOOKUP($M7,疾患別＿寛解[#All],2,FALSE),0)+IFERROR(VLOOKUP($M8,疾患別＿寛解[#All],2,FALSE),0)+IFERROR(VLOOKUP($M9,疾患別＿寛解[#All],2,FALSE),0)","v":25},{"$f":"IFERROR(VLOOKUP($M7,疾患別＿院内寛解[#All],2,FALSE),0)+IFERROR(VLOOKUP($M8,疾患別＿院内寛解[#All],2,FALSE),0)+IFERROR(VLOOKUP($M9,疾患別＿院内寛解[#All],2,FALSE),0)","v":190},215,0.12188208616780045,null,"覚せい剤による精神及び行動の障害※","F5"]
["統合失調症、統合失調症型障害及び妄想性障害（F2）",null,{"$f":"IFERROR(VLOOKUP($M10,疾患別[#All],2,FALSE),0)","v":6942},0.47649117990253276,null,"統合失調症、統合失調症型障害及び妄想性障害（F2）",null,{"$f":"IFERROR(VLOOKUP($M10,疾患別＿寛解[#All],2,FALSE),0)","v":110},{"$f":"IFERROR(VLOOKUP($M10,疾患別＿院内寛解[#All],2,FALSE),0)","v":540},650,0.36848072562358275,null,"F2統合失調症、統合失調症型障害及び妄想性障害","F6"]
["気分（感情）障害（F3）",null,{"$f":"IFERROR(VLOOKUP($M11,疾患別[#All],2,FALSE),0)+IFERROR(VLOOKUP($M12,疾患別[#All],2,FALSE),0)","v":1519},0.10426247511840209,null,"気分（感情）障害（F3）",null,{"$f":"IFERROR(VLOOKUP($M11,疾患別＿寛解[#All],2,FALSE),0)+IFERROR(VLOOKUP($M12,疾患別＿寛解[#All],2,FALSE),0)","v":81},{"$f":"IFERROR(VLOOKUP($M11,疾患別＿院内寛解[#All],2,FALSE),0)+IFERROR(VLOOKUP($M12,疾患別＿院内寛解[#All],2,FALSE),0)","v":240},321,0.18197278911564627,null,"F30‐31　躁病エピソード・双極性感情障害［躁うつ病］","F7"]
["神経症性障害、ストレス関連障害及び身体表現性障害（F4）",null,{"$f":"IFERROR(VLOOKUP($M13,疾患別[#All],2,FALSE),0)","v":238},1.6336056009334889E-2,null,"神経症性障害、ストレス関連障害及び身体表現性障害（F4）",null,{"$f":"IFERROR(VLOOKUP($M13,疾患別＿寛解[#All],2,FALSE),0)","v":8},{"$f":"IFERROR(VLOOKUP($M13,疾患別＿院内寛解[#All],2,FALSE),0)","v":46},54,3.0612244897959183E-2,null,"F32-39　その他の気分障害","F8"]
["生理的障害及び身体的要因に関連した行動症候群（F5）",null,{"$f":"IFERROR(VLOOKUP($M14,疾患別[#All],2,FALSE),0)","v":55},3.7751389937538608E-3,null,"生理的障害及び身体的要因に関連した行動症候群（F5）",null,{"$f":"IFERROR(VLOOKUP($M14,疾患別＿寛解[#All],2,FALSE),0)","v":4},{"$f":"IFERROR(VLOOKUP($M14,疾患別＿院内寛解[#All],2,FALSE),0)","v":8},12,6.8027210884353739E-3,null,"F4神経症性障害、ストレス関連障害及び身体表現性障害","F9"]
["成人のパーソナリティ及び行動の障害（F6)",null,{"$f":"IFERROR(VLOOKUP($M15,疾患別[#All],2,FALSE),0)","v":35},2.4023611778433659E-3,null,"成人のパーソナリティ及び行動の障害（F6)",null,{"$f":"IFERROR(VLOOKUP($M15,疾患別＿寛解[#All],2,FALSE),0)","v":1},{"$f":"IFERROR(VLOOKUP($M15,疾患別＿院内寛解[#All],2,FALSE),0)","v":7},8,4.5351473922902496E-3,null,"F5生理的障害及び身体的要因に関連した行動症候群","てんかん"]
["精神遅滞〔知的障害〕（F7)",null,{"$f":"IFERROR(VLOOKUP($M16,疾患別[#All],2,FALSE),0)","v":305},2.0934861692635046E-2,null,"精神遅滞〔知的障害〕（F7)",null,{"$f":"IFERROR(VLOOKUP($M16,疾患別＿寛解[#All],2,FALSE),0)","v":6},{"$f":"IFERROR(VLOOKUP($M16,疾患別＿院内寛解[#All],2,FALSE),0)","v":22},28,1.5873015873015872E-2,null,"F6成人のパーソナリティ及び行動の障害","その他"]
["心理的発達の障害（F8）",null,{"$f":"IFERROR(VLOOKUP($M17,疾患別[#All],2,FALSE),0)","v":162},1.1119500308875008E-2,null,"心理的発達の障害（F8）",null,{"$f":"IFERROR(VLOOKUP($M17,疾患別＿寛解[#All],2,FALSE),0)","v":5},{"$f":"IFERROR(VLOOKUP($M17,疾患別＿院内寛解[#All],2,FALSE),0)","v":25},30,1.7006802721088437E-2,null,"F7精神遅滞〔知的障害〕","不明"]
["小児期及び青年期に通常発症する行動及び情緒の障害及び特定不能の精神障害（F9)",null,{"$f":"IFERROR(VLOOKUP($M18,疾患別[#All],2,FALSE),0)","v":60},4.1183334477314848E-3,null,"小児期及び青年期に通常発症する行動及び情緒の障害及び特定不能の精神障害（F9)",null,{"$f":"IFERROR(VLOOKUP($M18,疾患別＿寛解[#All],2,FALSE),0)","v":2},{"$f":"IFERROR(VLOOKUP($M18,疾患別＿院内寛解[#All],2,FALSE),0)","v":8},10,5.6689342403628117E-3,null,"F8心理的発達の障害"]
["てんかん（症状性を含む器質性障害(F0)に属さないもの）",null,{"$f":"IFERROR(VLOOKUP($M19,疾患別[#All],2,FALSE),0)","v":42},2.8828334134120394E-3,null,"てんかん（症状性を含む器質性障害(F0)に属さないもの）",null,{"$f":"IFERROR(VLOOKUP($M19,疾患別＿寛解[#All],2,FALSE),0)","v":0},{"$f":"IFERROR(VLOOKUP($M19,疾患別＿院内寛解[#All],2,FALSE),0)","v":4},{"$f":"SUM(H18:I18)","v":4},2.2675736961451248E-3,null,"F9小児期及び青年期に通常発症する行動及び情緒の障害及び特定不能の精神障害"]
["その他",null,{"$f":"IFERROR(VLOOKUP($M20,疾患別[#All],2,FALSE),0)","v":143},9.8153613837600392E-3,null,"その他",null,{"$f":"IFERROR(VLOOKUP($M20,疾患別＿寛解[#All],2,FALSE),0)","v":2},{"$f":"IFERROR(VLOOKUP($M20,疾患別＿院内寛解[#All],2,FALSE),0)","v":14},16,9.0702947845804991E-3,null,"てんかん（F0に属さないものを計上する）"]
["不明",null,{"$f":"IFERROR(VLOOKUP($M21,疾患別[#All],2,FALSE),0)","v":1},6.8638890795524749E-5,null,"不明",null,{"$f":"IFERROR(VLOOKUP($M21,疾患別＿寛解[#All],2,FALSE),0)","v":0},{"$f":"IFERROR(VLOOKUP($M21,疾患別＿院内寛解[#All],2,FALSE),0)","v":0},{"$f":"SUM(H20:I20)","v":0},0,null,"その他"]
["総計",null,{"$f":"SUM(C6:C20)","v":14569},{"$f":"SUM(D6:D20)","v":0.99999999999999989},null,"総計",null,{"$f":"SUM(H6:H20)","v":328},{"$f":"SUM(I6:I20)","v":1436},{"$f":"SUM(J6:J20)","v":1764},{"$f":"SUM(K6:K20)","v":1},null,"不明"]
[null,"データ貼り付け箇所",null,null,null,null,"データ貼り付け箇所"]
[null,"疾患名","人数",null,null,null,"疾患名","寛解"]
[null,"行ラベル","データの個数 / 疾患名",null,null,null,"行ラベル","データの個数 / 疾患名"]
[null,"F00アルツハイマー病型認知症",2181,null,null,null,"F00アルツハイマー病型認知症",33]
[null,"F01血管性認知症",343,null,null,null,"F01血管性認知症",6]
[null,"F02-09上記以外の症状性を含む器質性精神障害",1717,null,null,null,"F02-09上記以外の症状性を含む器質性精神障害",45]
[null,"F10アルコール使用による精神及び行動の障害",678,null,null,null,"F10アルコール使用による精神及び行動の障害",25]
[null,"アルコール覚せい剤を除く精神作用物質使用による精神及び行動の障害※",57,null,null,null,"アルコール覚せい剤を除く精神作用物質使用による精神及び行動の障害※",0]
[null,"覚せい剤による精神及び行動の障害※",91,null,null,null,"覚せい剤による精神及び行動の障害※",0]
[null,"F2統合失調症、統合失調症型障害及び妄想性障害",6942,null,null,null,"F2統合失調症、統合失調症型障害及び妄想性障害",110]
[null,"F30‐31　躁病エピソード・双極性感情障害［躁うつ病］",756,null,null,null,"F30‐31　躁病エピソード・双極性感情障害［躁うつ病］",48]
[null,"F32-39　その他の気分障害",763,null,null,null,"F32-39　その他の気分障害",33]
[null,"F4神経症性障害、ストレス関連障害及び身体表現性障害",238,null,null,null,"F4神経症性障害、ストレス関連障害及び身体表現性障害",8]
[null,"F5生理的障害及び身体的要因に関連した行動症候群",55,null,null,null,"F5生理的障害及び身体的要因に関連した行動症候群",4]
[null,"F6成人のパーソナリティ及び行動の障害",35,null,null,null,"F6成人のパーソナリティ及び行動の障害",1]
[null,"F7精神遅滞〔知的障害〕",305,null,null,null,"F7精神遅滞〔知的障害〕",6]
[null,"F8心理的発達の障害",162,null,null,null,"F8心理的発達の障害",5]
[null,"F9小児期及び青年期に通常発症する行動及び情緒の障害及び特定不能の精神障害",60,null,null,null,"F9小児期及び青年期に通常発症する行動及び情緒の障害及び特定不能の精神障害",2]
[null,"その他",143,null,null,null,"その他",2]
[null,"てんかん（F0に属さないものを計上する）",42,null,null,null,"てんかん（F0に属さないものを計上する）",0]
[null,"不明",1,null,null,null,"不明",0]
[null,null,null,null,null,null,"疾患名","院内寛解"]
[null,null,null,null,null,null,"行ラベル","データの個数 / 疾患名"]
[null,null,null,null,null,null,"F00アルツハイマー病型認知症",154]
[null,null,null,null,null,null,"F01血管性認知症",32]
[null,null,null,null,null,null,"F02-09上記以外の症状性を含む器質性精神障害",146]
[null,null,null,null,null,null,"F10アルコール使用による精神及び行動の障害",168]
[null,null,null,null,null,null,"アルコール覚せい剤を除く精神作用物質使用による精神及び行動の障害※",12]
[null,null,null,null,null,null,"覚せい剤による精神及び行動の障害※",10]
[null,null,null,null,null,null,"F2統合失調症、統合失調症型障害及び妄想性障害",540]
[null,null,null,null,null,null,"F30‐31　躁病エピソード・双極性感情障害［躁うつ病］",104]
[null,null,null,null,null,null,"F32-39　その他の気分障害",136]
[null,null,null,null,null,null,"F4神経症性障害、ストレス関連障害及び身体表現性障害",46]
[null,null,null,null,null,null,"F5生理的障害及び身体的要因に関連した行動症候群",8]
[null,null,null,null,null,null,"F6成人のパーソナリティ及び行動の障害",7]
[null,null,null,null,null,null,"F7精神遅滞〔知的障害〕",22]
[null,null,null,null,null,null,"F8心理的発達の障害",25]
[null,null,null,null,null,null,"F9小児期及び青年期に通常発症する行動及び情緒の障害及び特定不能の精神障害",8]
[null,null,null,null,null,null,"その他",14]
[null,null,null,null,null,null,"てんかん（F0に属さないものを計上する）",4]
[null,null,null,null,null,null,"不明",0]

{"sheet":"２-Ⅳ","index":4,"n_rows":25,"n_cols":20,"rows_kept":25,"cut":false,"hidden":false,"merged":[]}
["【在院期間区分】"]
[null,null,null,null,null,null,null,null,null,null,"データ貼り付け箇所"]
["〔全状態像〕",null,null,null,"〔寛解・院内寛解群〕",null,null,null,null,null,"在院期間","患者全体",null,"在院期間","寛解","在院期間","院内寛解"]
[null,"人数","割合",null,null,"寛解","院内寛解","計","割合",null,"行ラベル","データの個数 / 在院",null,"行ラベル","データの個数 / 在院","行ラベル","データの個数 / 在院"]
["1ヶ月未満",{"$f":"IFERROR(VLOOKUP($T5,在院期間[#All],2,FALSE),0)","v":1817},{"$f":"IFERROR(B5/B$21,\"-\")","v":0.12471686457546846},null,"1ヶ月未満",{"$f":"IFERROR(VLOOKUP($T5,在院期間＿寛解[#All],2,FALSE),0)","v":91},{"$f":"IFERROR(VLOOKUP($T5,在院期間＿院内寛解[#All],2,FALSE),0)","v":294},{"$f":"SUM(F5:G5)","v":385},{"$f":"IFERROR(H5/H$21,\"-\")","v":0.21825396825396826},null,"01_1ヶ月未満",1817,null,"01_1ヶ月未満",91,"01_1ヶ月未満",294,null,null,"01_1ヶ月未満"]
["1ヶ月～3ヶ月未満",{"$f":"IFERROR(VLOOKUP($T6,在院期間[#All],2,FALSE),0)","v":2135},{"$f":"IFERROR(B6/B$21,\"-\")","v":0.14654403184844533},null,"1ヶ月～3ヶ月未満",{"$f":"IFERROR(VLOOKUP($T6,在院期間＿寛解[#All],2,FALSE),0)","v":96},{"$f":"IFERROR(VLOOKUP($T6,在院期間＿院内寛解[#All],2,FALSE),0)","v":395},{"$f":"SUM(F6:G6)","v":491},{"$f":"IFERROR(H6/H$21,\"-\")","v":0.27834467120181405},null,"02_1ヶ月～3ヶ月未満",2135,null,"02_1ヶ月～3ヶ月未満",96,"02_1ヶ月～3ヶ月未満",395,null,null,"02_1ヶ月～3ヶ月未満"]
["3ヶ月～6ヶ月未満",{"$f":"IFERROR(VLOOKUP($T7,在院期間[#All],2,FALSE),0)","v":1208},8.2915780080993887E-2,null,"3ヶ月～6ヶ月未満",{"$f":"IFERROR(VLOOKUP($T7,在院期間＿寛解[#All],2,FALSE),0)","v":39},{"$f":"IFERROR(VLOOKUP($T7,在院期間＿院内寛解[#All],2,FALSE),0)","v":149},188,0.10657596371882086,null,"03_3ヶ月～6ヶ月未満",1208,null,"03_3ヶ月～6ヶ月未満",39,"03_3ヶ月～6ヶ月未満",149,null,null,"03_3ヶ月～6ヶ月未満"]
["6ヶ月～1年未満",{"$f":"IFERROR(VLOOKUP($T8,在院期間[#All],2,FALSE),0)","v":1277},8.7651863545885098E-2,null,"6ヶ月～1年未満",{"$f":"IFERROR(VLOOKUP($T8,在院期間＿寛解[#All],2,FALSE),0)","v":25},{"$f":"IFERROR(VLOOKUP($T8,在院期間＿院内寛解[#All],2,FALSE),0)","v":126},151,8.5600907029478451E-2,null,"04_6ヶ月～1年未満",1277,null,"04_6ヶ月～1年未満",25,"04_6ヶ月～1年未満",126,null,null,"04_6ヶ月～1年未満"]
["1年～1年6ヶ月未満",{"$f":"IFERROR(VLOOKUP($T9,在院期間[#All],2,FALSE),0)","v":839},5.7588029377445261E-2,null,"1年～1年6ヶ月未満",{"$f":"IFERROR(VLOOKUP($T9,在院期間＿寛解[#All],2,FALSE),0)","v":17},{"$f":"IFERROR(VLOOKUP($T9,在院期間＿院内寛解[#All],2,FALSE),0)","v":64},81,4.5918367346938778E-2,null,"05_1年～1年6ヶ月未満",839,null,"05_1年～1年6ヶ月未満",17,"05_1年～1年6ヶ月未満",64,null,null,"05_1年～1年6ヶ月未満"]
["1年6ヶ月～2年未満",{"$f":"IFERROR(VLOOKUP($T10,在院期間[#All],2,FALSE),0)","v":728},4.9969112499142015E-2,null,"1年6ヶ月～2年未満",{"$f":"IFERROR(VLOOKUP($T10,在院期間＿寛解[#All],2,FALSE),0)","v":4},{"$f":"IFERROR(VLOOKUP($T10,在院期間＿院内寛解[#All],2,FALSE),0)","v":55},59,3.344671201814059E-2,null,"06_1年6ヶ月～2年未満",728,null,"06_1年6ヶ月～2年未満",4,"06_1年6ヶ月～2年未満",55,null,null,"06_1年6ヶ月～2年未満"]
["2年～3年未満",{"$f":"IFERROR(VLOOKUP($T11,在院期間[#All],2,FALSE),0)","v":1041},7.1453085318141263E-2,null,"2年～3年未満",{"$f":"IFERROR(VLOOKUP($T11,在院期間＿寛解[#All],2,FALSE),0)","v":12},{"$f":"IFERROR(VLOOKUP($T11,在院期間＿院内寛解[#All],2,FALSE),0)","v":60},72,4.0816326530612242E-2,null,"07_2年～3年未満",1041,null,"07_2年～3年未満",12,"07_2年～3年未満",60,null,null,"07_2年～3年未満"]
["3年～4年未満",{"$f":"IFERROR(VLOOKUP($T12,在院期間[#All],2,FALSE),0)","v":894},6.1363168371199123E-2,null,"3年～4年未満",{"$f":"IFERROR(VLOOKUP($T12,在院期間＿寛解[#All],2,FALSE),0)","v":7},{"$f":"IFERROR(VLOOKUP($T12,在院期間＿院内寛解[#All],2,FALSE),0)","v":65},72,4.0816326530612242E-2,null,"08_3年～4年未満",894,null,"08_3年～4年未満",7,"08_3年～4年未満",65,null,null,"08_3年～4年未満"]
["4年～5年未満",{"$f":"IFERROR(VLOOKUP($T13,在院期間[#All],2,FALSE),0)","v":676},4.6399890177774725E-2,null,"4年～5年未満",{"$f":"IFERROR(VLOOKUP($T13,在院期間＿寛解[#All],2,FALSE),0)","v":6},{"$f":"IFERROR(VLOOKUP($T13,在院期間＿院内寛解[#All],2,FALSE),0)","v":44},50,2.834467120181406E-2,null,"09_4年～5年未満",676,null,"09_4年～5年未満",6,"09_4年～5年未満",44,null,null,"09_4年～5年未満"]
["5年～6年未満",{"$f":"IFERROR(VLOOKUP($T14,在院期間[#All],2,FALSE),0)","v":574},3.9398723316631204E-2,null,"5年～6年未満",{"$f":"IFERROR(VLOOKUP($T14,在院期間＿寛解[#All],2,FALSE),0)","v":4},{"$f":"IFERROR(VLOOKUP($T14,在院期間＿院内寛解[#All],2,FALSE),0)","v":20},24,1.3605442176870748E-2,null,"10_5年～6年未満",574,null,"10_5年～6年未満",4,"10_5年～6年未満",20,null,null,"10_5年～6年未満"]
["6年～7年未満",{"$f":"IFERROR(VLOOKUP($T15,在院期間[#All],2,FALSE),0)","v":431},2.9583361932871165E-2,null,"6年～7年未満",{"$f":"IFERROR(VLOOKUP($T15,在院期間＿寛解[#All],2,FALSE),0)","v":5},{"$f":"IFERROR(VLOOKUP($T15,在院期間＿院内寛解[#All],2,FALSE),0)","v":23},28,1.5873015873015872E-2,null,"11_6年～7年未満",431,null,"11_6年～7年未満",5,"11_6年～7年未満",23,null,null,"11_6年～7年未満"]
["7年～8年未満",{"$f":"IFERROR(VLOOKUP($T16,在院期間[#All],2,FALSE),0)","v":304},2.0866222801839522E-2,null,"7年～8年未満",{"$f":"IFERROR(VLOOKUP($T16,在院期間＿寛解[#All],2,FALSE),0)","v":5},{"$f":"IFERROR(VLOOKUP($T16,在院期間＿院内寛解[#All],2,FALSE),0)","v":15},20,1.1337868480725623E-2,null,"12_7年～8年未満",304,null,"12_7年～8年未満",5,"12_7年～8年未満",15,null,null,"12_7年～8年未満"]
["8年～9年未満",{"$f":"IFERROR(VLOOKUP($T17,在院期間[#All],2,FALSE),0)","v":316},2.1689889491385818E-2,null,"8年～9年未満",{"$f":"IFERROR(VLOOKUP($T17,在院期間＿寛解[#All],2,FALSE),0)","v":3},{"$f":"IFERROR(VLOOKUP($T17,在院期間＿院内寛解[#All],2,FALSE),0)","v":13},16,9.0702947845804991E-3,null,"13_8年～9年未満",316,null,"13_8年～9年未満",3,"13_8年～9年未満",13,null,null,"13_8年～9年未満"]
["9年～10年未満",{"$f":"IFERROR(VLOOKUP($T18,在院期間[#All],2,FALSE),0)","v":244},1.6747889354108036E-2,null,"9年～10年未満",{"$f":"IFERROR(VLOOKUP($T18,在院期間＿寛解[#All],2,FALSE),0)","v":2},{"$f":"IFERROR(VLOOKUP($T18,在院期間＿院内寛解[#All],2,FALSE),0)","v":8},10,5.6689342403628117E-3,null,"14_9年～10年未満",244,null,"14_9年～10年未満",2,"14_9年～10年未満",8,null,null,"14_9年～10年未満"]
["10年～20年未満",{"$f":"IFERROR(VLOOKUP($T19,在院期間[#All],2,FALSE),0)","v":1308},8.977966916054636E-2,null,"10年～20年未満",{"$f":"IFERROR(VLOOKUP($T19,在院期間＿寛解[#All],2,FALSE),0)","v":9},{"$f":"IFERROR(VLOOKUP($T19,在院期間＿院内寛解[#All],2,FALSE),0)","v":64},73,4.1383219954648526E-2,null,"15_10年～20年未満",1308,null,"15_10年～20年未満",9,"15_10年～20年未満",64,null,null,"15_10年～20年未満"]
["20年以上",{"$f":"IFERROR(VLOOKUP($T20,在院期間[#All],2,FALSE),0)","v":777},5.3332418148122729E-2,null,"20年以上",{"$f":"IFERROR(VLOOKUP($T20,在院期間＿寛解[#All],2,FALSE),0)","v":3},{"$f":"IFERROR(VLOOKUP($T20,在院期間＿院内寛解[#All],2,FALSE),0)","v":41},44,2.4943310657596373E-2,null,"16_ 20年以上",777,null,"16_ 20年以上",3,"16_ 20年以上",41,null,null,"16_ 20年以上"]
["総計",{"$f":"SUM(B5:B20)","v":14569},{"$f":"SUM(C5:C20)","v":1},null,"総計",{"$f":"SUM(F5:F20)","v":328},{"$f":"SUM(G5:G20)","v":1436},{"$f":"SUM(H5:H20)","v":1764},{"$f":"SUM(I5:I20)","v":1}]
["1年未満（再掲）",{"$f":"SUM(B5:B8)","v":6437},{"$f":"IFERROR(B22/B$21,\"-\")","v":0.44182854005079281},null,"1年未満（再掲）",{"$f":"SUM(F5:F8)","v":251},{"$f":"SUM(G5:G8)","v":964},{"$f":"SUM(H5:H8)","v":1215},{"$f":"IFERROR(H22/H$21,\"-\")","v":0.68877551020408168}]
["1年以上5年未満（再掲）",{"$f":"SUM(B9:B13)","v":4178},0.28677328574370237,null,"1年以上5年未満（再掲）",{"$f":"SUM(F9:F13)","v":46},{"$f":"SUM(G9:G13)","v":288},{"$f":"SUM(H9:H13)","v":334},0.18934240362811791]
["5年以上10年未満（再掲）",{"$f":"SUM(B14:B18)","v":1869},0.12828608689683574,null,"5年以上10年未満（再掲）",{"$f":"SUM(F14:F18)","v":19},{"$f":"SUM(G14:G18)","v":79},{"$f":"SUM(H14:H18)","v":98},5.5555555555555552E-2]
["10年以上（再掲）",{"$f":"SUM(B19:B20)","v":2085},0.14311208730866909,null,"10年以上（再掲）",{"$f":"SUM(F19:F20)","v":12},{"$f":"SUM(G19:G20)","v":105},{"$f":"SUM(H19:H20)","v":117},6.6326530612244902E-2]

{"sheet":"２-Ⅴ","index":5,"n_rows":13,"n_cols":3,"rows_kept":13,"cut":false,"hidden":false,"merged":[]}
["【状態像区分】"]
[]
["〔全状態像〕"]
[null,"人数","割合"]
["寛解",328,{"$f":"IFERROR(B5/B$11,\"-\")","v":2.2513556180932117E-2}]
["院内寛解",1436,{"$f":"IFERROR(B6/B$11,\"-\")","v":9.8565447182373533E-2}]
["軽度",2711,0.18608003294666758]
["中等度",5984,0.41073512252042005]
["重度",3467,0.23797103438808428]
["最重度",643,4.4134806781522408E-2]
["総計",{"$f":"SUM(B5:B10)","v":14569},{"$f":"SUM(C5:C10)","v":1}]
[]
[null,"こちらのシートは直接貼り付けです。"]

{"sheet":"２-Ⅵ","index":6,"n_rows":42,"n_cols":11,"rows_kept":42,"cut":false,"hidden":false,"merged":[[20,0,20,2],[20,4,20,8]]}
["【退院予定の有無】"]
[]
["〔全状態像〕",null,null,null,"〔寛解・院内寛解群〕"]
[null,"人数","割合",null,null,"寛解","院内寛解","計","割合"]
["病状（主症状）が落ち着き、入院によらない形で治療ができるまで回復",2188,{"$f":"IFERROR(B5/B$8,\"-\")","v":0.15018189306060814},null,"病状（主症状）が落ち着き、入院によらない形で治療ができるまで回復",108,528,{"$f":"SUM(F5:G5)","v":636},{"$f":"IFERROR(H5/H$8,\"-\")","v":0.36054421768707484}]
["病状（主症状）が不安定で入院による治療が必要",10815,{"$f":"IFERROR(B6/B$8,\"-\")","v":0.74232960395360015},null,"病状（主症状）が不安定で入院による治療が必要",12,350,{"$f":"SUM(F6:G6)","v":362},{"$f":"IFERROR(H6/H$8,\"-\")","v":0.20521541950113378}]
["退院予定",1566,0.10748850298579175,null,"退院予定",208,558,766,0.4342403628117914]
["総計",{"$f":"SUM(B5:B7)","v":14569},{"$f":"SUM(C5:C7)","v":1},null,"総計",{"$f":"SUM(F5:F7)","v":328},{"$f":"SUM(G5:G7)","v":1436},{"$f":"SUM(H5:H7)","v":1764},{"$f":"SUM(I5:I7)","v":1},null,"こちらのシートは直接入力です。"]
[]
["【退院阻害要因の有無】"]
[]
["〔全状態像〕",null,null,null,"〔寛解・院内寛解群〕"]
[null,"人数","割合",null,null,"寛解","院内寛解","計","割合"]
["退院阻害要因がある",1956,{"$f":"IFERROR(B14/B$16,\"-\")","v":0.89396709323583179},null,"退院阻害要因がある",96,464,{"$f":"SUM(F14:G14)","v":560},{"$f":"IFERROR(H14/H$16,\"-\")","v":0.88050314465408808}]
["退院阻害要因はない",232,{"$f":"IFERROR(B15/B$16,\"-\")","v":0.10603290676416818},null,"退院阻害要因はない",12,64,{"$f":"SUM(F15:G15)","v":76},{"$f":"IFERROR(H15/H$16,\"-\")","v":0.11949685534591195}]
["総計",{"$f":"SUM(B14:B15)","v":2188},{"$f":"SUM(C14:C15)","v":1},null,"総計",{"$f":"SUM(F14:F15)","v":108},{"$f":"SUM(G14:G15)","v":528},{"$f":"SUM(H14:H15)","v":636},{"$f":"SUM(I14:I15)","v":1}]
[]
["【退院阻害要因（複数回答）】"]
[]
["〔全状態像〕",null,null,null,"〔寛解・院内寛解群〕"]
[{"$f":"B14","v":1956},null,null,null,{"$f":"H14","v":560}]
[null,"回答数","割合",null,null,"寛解","院内寛解","計","割合"]
["病状は落ち着いているが、ときどき不安定な病状が見られ、そのことが退院を阻害する要因になっている",660,{"$f":"IFERROR(B23/B$14,\"-\")","v":0.33742331288343558},null,"病状は落ち着いているが、ときどき不安定な病状が見られ、そのことが退院を阻害する要因になっている",21,142,{"$f":"SUM(F23:G23)","v":163},{"$f":"IFERROR(H23/H$14,\"-\")","v":0.29107142857142859}]
["病識がなく通院服薬の中断が予測される",509,{"$f":"IFERROR(B24/B$14,\"-\")","v":0.2602249488752556},null,"病識がなく通院服薬の中断が予測される",14,89,{"$f":"SUM(F24:G24)","v":103},{"$f":"IFERROR(H24/H$14,\"-\")","v":0.18392857142857144}]
["反社会的行動が予測される",82,4.1922290388548056E-2,null,"反社会的行動が予測される",1,12,13,2.3214285714285715E-2]
["退院意欲が乏しい",726,0.37116564417177916,null,"退院意欲が乏しい",29,167,196,0.35]
["現実認識が乏しい",737,0.37678936605316976,null,"現実認識が乏しい",24,127,151,0.26964285714285713]
["退院による環境変化への不安が強い",499,0.2551124744376278,null,"退院による環境変化への不安が強い",25,121,146,0.26071428571428573]
["援助者との対人関係がもてない",151,7.7198364008179962E-2,null,"援助者との対人関係がもてない",4,17,21,3.7499999999999999E-2]
["家事（食事・洗濯・金銭管理など）ができない",579,0.29601226993865032,null,"家事（食事・洗濯・金銭管理など）ができない",23,110,133,0.23749999999999999]
["家族がいない、本人をサポートする機能が実質ない",317,0.16206543967280163,null,"家族がいない、本人をサポートする機能が実質ない",20,70,90,0.16071428571428573]
["家族が退院に反対している",420,0.21472392638036811,null,"家族が退院に反対している",30,90,120,0.21428571428571427]
["住まいの確保ができない",615,0.31441717791411045,null,"住まいの確保ができない",38,145,183,0.32678571428571429]
["生活費の確保ができない",114,5.8282208588957052E-2,null,"生活費の確保ができない",4,29,33,5.8928571428571427E-2]
["日常生活を支える制度がない",132,6.7484662576687116E-2,null,"日常生活を支える制度がない",2,22,24,4.2857142857142858E-2]
["救急診療体制がない",5,2.5562372188139061E-3,null,"救急診療体制がない",0,1,1,1.7857142857142857E-3]
["退院に向けてサポートする人的資源が乏しい",146,7.4642126789366048E-2,null,"退院に向けてサポートする人的資源が乏しい",8,38,46,8.2142857142857142E-2]
["退院後サポート・マネジメントする人的資源が乏しい",110,5.6237218813905927E-2,null,"退院後サポート・マネジメントする人的資源が乏しい",4,32,36,6.4285714285714279E-2]
["住所地と入院先の距離があり支援体制がとりにくい",30,1.5337423312883436E-2,null,"住所地と入院先の距離があり支援体制がとりにくい",2,9,11,1.9642857142857142E-2]
["身体的機能や状態を原因としたADLの低下がある",331,0.16922290388548059,null,"身体的機能や状態を原因としたADLの低下がある",12,41,53,9.464285714285714E-2]
["身体合併症の程度が重いなど身体面のフォローが必要であり、地域での生活が困難",211,0.10787321063394684,null,"身体合併症の程度が重いなど身体面のフォローが必要であり、地域での生活が困難",4,13,17,3.0357142857142857E-2]
["その他の退院阻害要因がある",44,2.2494887525562373E-2,null,"その他の退院阻害要因がある",5,13,18,3.214285714285714E-2]

{"sheet":"３-Ⅰ","index":7,"n_rows":16,"n_cols":17,"rows_kept":16,"cut":false,"hidden":false,"merged":[]}
["【年齢区分（在院期間１年以上）】"]
[null,null,null,null,null,null,null,null,null,null,"データ貼り付け箇所"]
["〔全状態像〕",null,null,null,"〔寛解・院内寛解群〕",null,null,null,null,null,"年齢区分","患者全体",null,"年齢区分","寛解","年齢区分","院内寛解"]
[null,"人数","割合",null,null,"寛解","院内寛解","計","割合",null,"行ラベル","データの個数 / 年齢",null,"行ラベル","データの個数 / 年齢","行ラベル","データの個数 / 年齢"]
["19歳以下",{"$f":"IFERROR(VLOOKUP($A5,年齢区分＿1年以上[#All],2,FALSE),0)","v":3},{"$f":"IFERROR(B5/B$14,\"-\")","v":3.6891293654697489E-4},null,"19歳以下",{"$f":"IFERROR(VLOOKUP($A5,年齢区分＿1年以上＿寛解[#All],2,FALSE),0)","v":0},{"$f":"IFERROR(VLOOKUP($A5,年齢区分＿1年以上＿院内寛解[#All],2,FALSE),0)","v":0},{"$f":"SUM(F5:G5)","v":0},{"$f":"IFERROR(H5/H$14,\"-\")","v":0},null,"19歳以下",3,null,"19歳以下",0,"19歳以下",0]
["20歳代",{"$f":"IFERROR(VLOOKUP($A6,年齢区分＿1年以上[#All],2,FALSE),0)","v":50},{"$f":"IFERROR(B6/B$14,\"-\")","v":6.1485489424495821E-3},null,"20歳代",{"$f":"IFERROR(VLOOKUP($A6,年齢区分＿1年以上＿寛解[#All],2,FALSE),0)","v":0},{"$f":"IFERROR(VLOOKUP($A6,年齢区分＿1年以上＿院内寛解[#All],2,FALSE),0)","v":4},{"$f":"SUM(F6:G6)","v":4},{"$f":"IFERROR(H6/H$14,\"-\")","v":7.2859744990892532E-3},null,"20歳代",50,null,"20歳代",0,"20歳代",4]
["30歳代",{"$f":"IFERROR(VLOOKUP($A7,年齢区分＿1年以上[#All],2,FALSE),0)","v":192},2.3610427939006393E-2,null,"30歳代",{"$f":"IFERROR(VLOOKUP($A7,年齢区分＿1年以上＿寛解[#All],2,FALSE),0)","v":3},{"$f":"IFERROR(VLOOKUP($A7,年齢区分＿1年以上＿院内寛解[#All],2,FALSE),0)","v":11},14,2.5500910746812388E-2,null,"30歳代",192,null,"30歳代",3,"30歳代",11]
["40歳代",{"$f":"IFERROR(VLOOKUP($A8,年齢区分＿1年以上[#All],2,FALSE),0)","v":580},7.1323167732415149E-2,null,"40歳代",{"$f":"IFERROR(VLOOKUP($A8,年齢区分＿1年以上＿寛解[#All],2,FALSE),0)","v":4},{"$f":"IFERROR(VLOOKUP($A8,年齢区分＿1年以上＿院内寛解[#All],2,FALSE),0)","v":29},33,6.0109289617486336E-2,null,"40歳代",580,null,"40歳代",4,"40歳代",29]
["50歳代",{"$f":"IFERROR(VLOOKUP($A9,年齢区分＿1年以上[#All],2,FALSE),0)","v":1394},0.17142154451549435,null,"50歳代",{"$f":"IFERROR(VLOOKUP($A9,年齢区分＿1年以上＿寛解[#All],2,FALSE),0)","v":14},{"$f":"IFERROR(VLOOKUP($A9,年齢区分＿1年以上＿院内寛解[#All],2,FALSE),0)","v":69},83,0.151183970856102,null,"50歳代",1394,null,"50歳代",14,"50歳代",69]
["60歳代",{"$f":"IFERROR(VLOOKUP($A10,年齢区分＿1年以上[#All],2,FALSE),0)","v":1519},0.18679291687161831,null,"60歳代",{"$f":"IFERROR(VLOOKUP($A10,年齢区分＿1年以上＿寛解[#All],2,FALSE),0)","v":18},{"$f":"IFERROR(VLOOKUP($A10,年齢区分＿1年以上＿院内寛解[#All],2,FALSE),0)","v":97},115,0.20947176684881602,null,"60歳代",1519,null,"60歳代",18,"60歳代",97]
["70歳代",{"$f":"IFERROR(VLOOKUP($A11,年齢区分＿1年以上[#All],2,FALSE),0)","v":2184},0.26856861780619773,null,"70歳代",{"$f":"IFERROR(VLOOKUP($A11,年齢区分＿1年以上＿寛解[#All],2,FALSE),0)","v":22},{"$f":"IFERROR(VLOOKUP($A11,年齢区分＿1年以上＿院内寛解[#All],2,FALSE),0)","v":139},161,0.29326047358834245,null,"70歳代",2184,null,"70歳代",22,"70歳代",139]
["80歳代",{"$f":"IFERROR(VLOOKUP($A12,年齢区分＿1年以上[#All],2,FALSE),0)","v":1738},0.21372356123954747,null,"80歳代",{"$f":"IFERROR(VLOOKUP($A12,年齢区分＿1年以上＿寛解[#All],2,FALSE),0)","v":11},{"$f":"IFERROR(VLOOKUP($A12,年齢区分＿1年以上＿院内寛解[#All],2,FALSE),0)","v":100},111,0.20218579234972678,null,"80歳代",1738,null,"80歳代",11,"80歳代",100]
["90歳以上",{"$f":"IFERROR(VLOOKUP($A13,年齢区分＿1年以上[#All],2,FALSE),0)","v":472},5.804230201672405E-2,null,"90歳以上",{"$f":"IFERROR(VLOOKUP($A13,年齢区分＿1年以上＿寛解[#All],2,FALSE),0)","v":5},{"$f":"IFERROR(VLOOKUP($A13,年齢区分＿1年以上＿院内寛解[#All],2,FALSE),0)","v":23},28,5.1001821493624776E-2,null,"90歳以上",472,null,"90歳以上",5,"90歳以上",23]
["総計",{"$f":"SUM(B5:B13)","v":8132},{"$f":"SUM(C5:C13)","v":1},null,"総計",{"$f":"SUM(F5:F13)","v":77},{"$f":"SUM(G5:G13)","v":472},{"$f":"SUM(H5:H13)","v":549},{"$f":"SUM(I5:I13)","v":1}]
["65歳未満（再掲）",{"$f":"B14-B16","v":3015},{"$f":"IFERROR(B15/B$14,\"-\")","v":0.3707575012297098},null,"65歳未満（再掲）",{"$f":"F14-F16","v":30},167,{"$f":"SUM(F15:G15)","v":197},0.35883424408014569,null,"65歳以上（再掲）",5117,null,"65歳以上（再掲）",47,"65歳以上（再掲）",305]
["65歳以上（再掲）",{"$f":"L15","v":5117},0.62924249877029026,null,"65歳以上（再掲）",{"$f":"O15","v":47},{"$f":"Q15","v":305},{"$f":"SUM(F16:G16)","v":352},0.64116575591985425]

{"sheet":"３-Ⅱ","index":8,"n_rows":24,"n_cols":11,"rows_kept":24,"cut":false,"hidden":false,"merged":[]}
["【入院形態区分（在院期間１年以上）】"]
[null,null,null,null,null,null,"データ貼り付け箇所"]
["〔全状態像〕",null,null,null,null,null,"入院形態","人数"]
[null,"人数","割合",null,null,null,"行ラベル","データの個数 / 入院"]
["措置入院・緊急措置入院",{"$f":"IFERROR(VLOOKUP(\"措置入院\",入院形態＿1年以上[#All],2,FALSE),0)+IFERROR(VLOOKUP(\"緊急措置入院\",入院形態＿1年以上[#All],2,FALSE),0)","v":5},{"$f":"IFERROR(B5/B$10,\"-\")","v":6.1485489424495821E-4},null,null,null,"任意入院",3692]
["医療保護入院",{"$f":"IFERROR(VLOOKUP(A6,入院形態＿1年以上[#All],2,FALSE),0)","v":4413},{"$f":"IFERROR(B6/B$10,\"-\")","v":0.54267092966060004},null,null,null,"措置入院",5]
["任意入院",{"$f":"IFERROR(VLOOKUP(A7,入院形態＿1年以上[#All],2,FALSE),0)","v":3692},0.45400885391047713,null,null,null,"鑑定入院",0]
["応急入院",{"$f":"IFERROR(VLOOKUP(A8,入院形態＿1年以上[#All],2,FALSE),0)","v":0},0,null,null,null,"応急入院",0]
["その他",{"$f":"IFERROR(VLOOKUP(\"鑑定入院\",入院形態＿1年以上[#All],2,FALSE),0)+IFERROR(VLOOKUP(\"医療観察法による入院\",入院形態＿1年以上[#All],2,FALSE),0)+IFERROR(VLOOKUP(\"不明\",入院形態＿1年以上[#All],2,FALSE),0)","v":22},2.7053615346778162E-3,null,null,null,"医療保護入院",4413]
["総計",{"$f":"SUM(B5:B9)","v":8132},{"$f":"SUM(C5:C9)","v":0.99999999999999989},null,null,null,"医療観察法による入院",22]
[null,null,null,null,null,null,"緊急措置入院",0]
[null,null,null,null,null,null,"不明",0]
[]
["〔寛解・院内寛解群〕"]
[null,"寛解","院内寛解","計","割合",null,"入院形態","寛解",null,"入院形態","院内寛解"]
["措置入院・緊急措置入院",{"$f":"IFERROR(VLOOKUP(\"措置入院\",入院形態＿1年以上＿寛解[#All],2,FALSE),0)+IFERROR(VLOOKUP(\"緊急措置入院\",入院形態＿1年以上＿寛解[#All],2,FALSE),0)","v":1},{"$f":"IFERROR(VLOOKUP(\"措置入院\",入院形態＿1年以上＿院内寛解[#All],2,FALSE),0)+IFERROR(VLOOKUP(\"緊急措置入院\",入院形態＿1年以上＿院内寛解[#All],2,FALSE),0)","v":0},{"$f":"SUM(B16:C16)","v":1},{"$f":"IFERROR(D16/D$21,\"-\")","v":1.8214936247723133E-3},null,"行ラベル","データの個数 / 入院",null,"行ラベル","データの個数 / 入院"]
["医療保護入院",{"$f":"IFERROR(VLOOKUP($A17,入院形態＿1年以上＿寛解[#All],2,FALSE),0)","v":32},{"$f":"IFERROR(VLOOKUP($A17,入院形態＿1年以上＿院内寛解[#All],2,FALSE),0)","v":121},{"$f":"SUM(B17:C17)","v":153},{"$f":"IFERROR(D17/D$21,\"-\")","v":0.27868852459016391},null,"任意入院",44,null,"任意入院",350]
["任意入院",{"$f":"IFERROR(VLOOKUP($A18,入院形態＿1年以上＿寛解[#All],2,FALSE),0)","v":44},{"$f":"IFERROR(VLOOKUP($A18,入院形態＿1年以上＿院内寛解[#All],2,FALSE),0)","v":350},394,0.71766848816029138,null,"措置入院",1,null,"措置入院",0]
["応急入院",{"$f":"IFERROR(VLOOKUP($A19,入院形態＿1年以上＿寛解[#All],2,FALSE),0)","v":0},{"$f":"IFERROR(VLOOKUP($A19,入院形態＿1年以上＿院内寛解[#All],2,FALSE),0)","v":0},0,0,null,"鑑定入院",0,null,"鑑定入院",0]
["その他",{"$f":"IFERROR(VLOOKUP(\"鑑定入院\",入院形態＿1年以上＿寛解[#All],2,FALSE),0)+IFERROR(VLOOKUP(\"医療観察法による入院\",入院形態＿1年以上＿寛解[#All],2,FALSE),0)+IFERROR(VLOOKUP(\"不明\",入院形態＿1年以上＿寛解[#All],2,FALSE),0)","v":0},{"$f":"IFERROR(VLOOKUP(\"鑑定入院\",入院形態＿1年以上＿院内寛解[#All],2,FALSE),0)+IFERROR(VLOOKUP(\"医療観察法による入院\",入院形態＿1年以上＿院内寛解[#All],2,FALSE),0)+IFERROR(VLOOKUP(\"不明\",入院形態＿1年以上＿院内寛解[#All],2,FALSE),0)+IFERROR(VLOOKUP(\"不明\",入院形態＿1年以上＿院内寛解[#All],2,FALSE),0)","v":1},1,1.8214936247723133E-3,null,"応急入院",0,null,"応急入院",0]
["総計",{"$f":"SUM(B16:B20)","v":77},{"$f":"SUM(C16:C20)","v":472},{"$f":"SUM(D16:D20)","v":549},{"$f":"SUM(E16:E20)","v":0.99999999999999989},null,"医療保護入院",32,null,"医療保護入院",121]
[null,null,null,null,null,null,"医療観察法による入院",0,null,"医療観察法による入院",1]
[null,null,null,null,null,null,"緊急措置入院",0,null,"緊急措置入院",0]
[null,null,null,null,null,null,"不明",0,null,"不明",0]

{"sheet":"３-Ⅲ","index":9,"n_rows":62,"n_cols":17,"rows_kept":62,"cut":false,"hidden":false,"merged":[[13,5,13,6],[14,5,14,6],[15,5,15,6],[16,5,16,6],[17,5,17,6],[8,5,8,6],[9,5,9,6],[10,5,10,6],[11,5,11,6],[12,5,12,6],[19,0,19,1],[19,5,19,6],[18,0,18,1],[4,0,4,1],[8,0,8,1],[9,0,9,1],[10,0,10,1],[11,0,11,1],[12,0,12,1],[13,0,13,1],[14,0,14,1],[15,0,15,1],[16,0,16,1],[17,0,17,1],[18,5,18,6],[4,5,4,6]]}
["【疾患名区分（在院期間１年以上）】"]
[]
["〔全状態像〕",null,null,null,null,"〔寛解・院内寛解群〕"]
[null,null,"人数","割合",null,null,null,"寛解","院内寛解","計","割合",null,"F00アルツハイマー病型認知症",null,"F0",null,"データ貼り付けは表の下にあります。"]
["症状性を含む器質性精神障害（F0）",null,{"$f":"SUM(C6:C8)","v":2031},{"$f":"IFERROR(C5/C$21,\"-\")","v":0.24975405804230202},null,"症状性を含む器質性精神障害（F0）",null,{"$f":"SUM(H6:H8)","v":22},{"$f":"SUM(I6:I8)","v":117},{"$f":"SUM(H5:I5)","v":139},{"$f":"IFERROR(J5/J$21,\"-\")","v":0.25318761384335153},null,"F01血管性認知症",null,"F1",null,"直接入力しないようにご注意ください。"]
[null,"アルツハイマー病の認知症を含む器質性精神障害（F00）",{"$f":"IFERROR(VLOOKUP($M4,疾患別＿1年以上[#All],2,FALSE),0)","v":998},0.12272503689129366,null,null,"アルツハイマー病の認知症を含む器質性精神障害（F00）",{"$f":"IFERROR(VLOOKUP($M4,疾患別＿1年以上＿寛解[#All],2,FALSE),0)","v":7},{"$f":"IFERROR(VLOOKUP($M4,疾患別＿1年以上＿院内寛解[#All],2,FALSE),0)","v":43},{"$f":"SUM(H6:I6)","v":50},9.107468123861566E-2,null,"F02-09上記以外の症状性を含む器質性精神障害",null,"F2"]
[null,"血管性認知症を含む器質性精神障害（F01）",{"$f":"IFERROR(VLOOKUP($M5,疾患別＿1年以上[#All],2,FALSE),0)","v":180},2.2134776192818496E-2,null,null,"血管性認知症を含む器質性精神障害（F01）",{"$f":"IFERROR(VLOOKUP($M5,疾患別＿1年以上＿寛解[#All],2,FALSE),0)","v":3},{"$f":"IFERROR(VLOOKUP($M5,疾患別＿1年以上＿院内寛解[#All],2,FALSE),0)","v":10},13,2.3679417122040074E-2,null,"F10アルコール使用による精神及び行動の障害",null,"F3"]
[null,"アルツハイマー病の認知症・血管性認知症以外の、\n症状性を含む器質性精神障害（F02-F09）",{"$f":"IFERROR(VLOOKUP($M6,疾患別＿1年以上[#All],2,FALSE),0)","v":853},0.10489424495818987,null,null,"アルツハイマー病の認知症・血管性認知症以外の、\n症状性を含む器質性精神障害（F02-F09）",{"$f":"IFERROR(VLOOKUP($M6,疾患別＿1年以上＿寛解[#All],2,FALSE),0)","v":12},{"$f":"IFERROR(VLOOKUP($M6,疾患別＿1年以上＿院内寛解[#All],2,FALSE),0)","v":64},76,0.13843351548269581,null,"アルコール覚せい剤を除く精神作用物質使用による精神及び行動の障害※",null,"F4"]
["精神作用物質使用による精神及び行動の障害（F1）",null,{"$f":"IFERROR(VLOOKUP($M7,疾患別＿1年以上[#All],2,FALSE),0)+IFERROR(VLOOKUP($M8,疾患別＿1年以上[#All],2,FALSE),0)+IFERROR(VLOOKUP($M9,疾患別＿1年以上[#All],2,FALSE),0)","v":320},3.9350713231677326E-2,null,"精神作用物質使用による精神及び行動の障害（F1）",null,{"$f":"IFERROR(VLOOKUP($M7,疾患別＿1年以上＿寛解[#All],2,FALSE),0)+IFERROR(VLOOKUP($M8,疾患別＿1年以上＿寛解[#All],2,FALSE),0)+IFERROR(VLOOKUP($M9,疾患別＿1年以上＿寛解[#All],2,FALSE),0)","v":4},{"$f":"IFERROR(VLOOKUP($M7,疾患別＿1年以上＿院内寛解[#All],2,FALSE),0)+IFERROR(VLOOKUP($M8,疾患別＿1年以上＿院内寛解[#All],2,FALSE),0)+IFERROR(VLOOKUP($M9,疾患別＿1年以上＿院内寛解[#All],2,FALSE),0)","v":35},39,7.1038251366120214E-2,null,"覚せい剤による精神及び行動の障害※",null,"F5"]
["統合失調症、統合失調症型障害及び妄想性障害（F2）",null,{"$f":"IFERROR(VLOOKUP($M10,疾患別＿1年以上[#All],2,FALSE),0)","v":4793},0.58939990162321687,null,"統合失調症、統合失調症型障害及び妄想性障害（F2）",null,{"$f":"IFERROR(VLOOKUP($M10,疾患別＿1年以上＿寛解[#All],2,FALSE),0)","v":34},{"$f":"IFERROR(VLOOKUP($M10,疾患別＿1年以上＿院内寛解[#All],2,FALSE),0)","v":244},278,0.50637522768670307,null,"F2統合失調症、統合失調症型障害及び妄想性障害",null,"F6"]
["気分（感情）障害（F3）",null,{"$f":"IFERROR(VLOOKUP($M11,疾患別＿1年以上[#All],2,FALSE),0)+IFERROR(VLOOKUP($M12,疾患別＿1年以上[#All],2,FALSE),0)","v":597},7.3413674372848015E-2,null,"気分（感情）障害（F3）",null,{"$f":"IFERROR(VLOOKUP($M11,疾患別＿1年以上＿寛解[#All],2,FALSE),0)+IFERROR(VLOOKUP($M12,疾患別＿1年以上＿寛解[#All],2,FALSE),0)","v":14},{"$f":"IFERROR(VLOOKUP($M11,疾患別＿1年以上＿院内寛解[#All],2,FALSE),0)+IFERROR(VLOOKUP($M12,疾患別＿1年以上＿院内寛解[#All],2,FALSE),0)","v":52},66,0.12021857923497267,null,"F30‐31　躁病エピソード・双極性感情障害［躁うつ病］",null,"F7"]
["神経症性障害、ストレス関連障害及び身体表現性障害（F4）",null,{"$f":"IFERROR(VLOOKUP($M13,疾患別＿1年以上[#All],2,FALSE),0)","v":75},9.2228234136743723E-3,null,"神経症性障害、ストレス関連障害及び身体表現性障害（F4）",null,{"$f":"IFERROR(VLOOKUP($M13,疾患別＿1年以上＿寛解[#All],2,FALSE),0)","v":0},{"$f":"IFERROR(VLOOKUP($M13,疾患別＿1年以上＿院内寛解[#All],2,FALSE),0)","v":10},10,1.8214936247723135E-2,null,"F32-39　その他の気分障害",null,"F8"]
["生理的障害及び身体的要因に関連した行動症候群（F5）",null,{"$f":"IFERROR(VLOOKUP($M14,疾患別＿1年以上[#All],2,FALSE),0)","v":5},6.1485489424495821E-4,null,"生理的障害及び身体的要因に関連した行動症候群（F5）",null,{"$f":"IFERROR(VLOOKUP($M14,疾患別＿1年以上＿寛解[#All],2,FALSE),0)","v":0},{"$f":"IFERROR(VLOOKUP($M14,疾患別＿1年以上＿院内寛解[#All],2,FALSE),0)","v":1},1,1.8214936247723133E-3,null,"F4神経症性障害、ストレス関連障害及び身体表現性障害",null,"F9"]
["成人のパーソナリティ及び行動の障害（F6)",null,{"$f":"IFERROR(VLOOKUP($M15,疾患別＿1年以上[#All],2,FALSE),0)","v":14},1.721593703885883E-3,null,"成人のパーソナリティ及び行動の障害（F6)",null,{"$f":"IFERROR(VLOOKUP($M15,疾患別＿1年以上＿寛解[#All],2,FALSE),0)","v":0},{"$f":"IFERROR(VLOOKUP($M15,疾患別＿1年以上＿院内寛解[#All],2,FALSE),0)","v":1},1,1.8214936247723133E-3,null,"F5生理的障害及び身体的要因に関連した行動症候群",null,"てんかん"]
["精神遅滞〔知的障害〕（F7)",null,{"$f":"IFERROR(VLOOKUP($M16,疾患別＿1年以上[#All],2,FALSE),0)","v":153},1.8814559763895719E-2,null,"精神遅滞〔知的障害〕（F7)",null,{"$f":"IFERROR(VLOOKUP($M16,疾患別＿1年以上＿寛解[#All],2,FALSE),0)","v":1},{"$f":"IFERROR(VLOOKUP($M16,疾患別＿1年以上＿院内寛解[#All],2,FALSE),0)","v":5},6,1.092896174863388E-2,null,"F6成人のパーソナリティ及び行動の障害",null,"その他"]
["心理的発達の障害（F8）",null,{"$f":"IFERROR(VLOOKUP($M17,疾患別＿1年以上[#All],2,FALSE),0)","v":46},5.6566650270536154E-3,null,"心理的発達の障害（F8）",null,{"$f":"IFERROR(VLOOKUP($M17,疾患別＿1年以上＿寛解[#All],2,FALSE),0)","v":0},{"$f":"IFERROR(VLOOKUP($M17,疾患別＿1年以上＿院内寛解[#All],2,FALSE),0)","v":5},5,9.1074681238615673E-3,null,"F7精神遅滞〔知的障害〕"]
["小児期及び青年期に通常発症する行動及び情緒の障害及び特定不能の精神障害（F9)",null,{"$f":"IFERROR(VLOOKUP($M18,疾患別＿1年以上[#All],2,FALSE),0)","v":7},8.6079685194294148E-4,null,"小児期及び青年期に通常発症する行動及び情緒の障害及び特定不能の精神障害（F9)",null,{"$f":"IFERROR(VLOOKUP($M18,疾患別＿1年以上＿寛解[#All],2,FALSE),0)","v":0},{"$f":"IFERROR(VLOOKUP($M18,疾患別＿1年以上＿院内寛解[#All],2,FALSE),0)","v":1},1,1.8214936247723133E-3,null,"F8心理的発達の障害"]
["てんかん（症状性を含む器質性障害(F0)に属さないもの）",null,{"$f":"IFERROR(VLOOKUP($M19,疾患別＿1年以上[#All],2,FALSE),0)","v":31},3.8121003443187407E-3,null,"てんかん（症状性を含む器質性障害(F0)に属さないもの）",null,{"$f":"IFERROR(VLOOKUP($M19,疾患別＿1年以上＿寛解[#All],2,FALSE),0)","v":0},{"$f":"IFERROR(VLOOKUP($M19,疾患別＿1年以上＿院内寛解[#All],2,FALSE),0)","v":1},1,1.8214936247723133E-3,null,"F9小児期及び青年期に通常発症する行動及び情緒の障害及び特定不能の精神障害"]
["その他",null,{"$f":"IFERROR(VLOOKUP($M21,疾患別＿1年以上[#All],2,FALSE),0)","v":60},7.3782587309394985E-3,null,"その他",null,{"$f":"IFERROR(VLOOKUP($M21,疾患別＿1年以上＿寛解[#All],2,FALSE),0)","v":2},{"$f":"IFERROR(VLOOKUP($M21,疾患別＿1年以上＿院内寛解[#All],2,FALSE),0)","v":0},2,3.6429872495446266E-3,null,"てんかん（F0に属さないものを計上する）"]
["不明",null,{"$f":"IFERROR(VLOOKUP($M22,疾患別＿1年以上[#All],2,FALSE),0)","v":0},0,null,"不明",null,{"$f":"IFERROR(VLOOKUP($M22,疾患別＿1年以上＿寛解[#All],2,FALSE),0)","v":0},{"$f":"IFERROR(VLOOKUP($M22,疾患別＿1年以上＿院内寛解[#All],2,FALSE),0)","v":0},{"$f":"SUM(H20:I20)","v":0},0,null,"その他"]
["総計",null,{"$f":"SUM(C6:C20)","v":8132},{"$f":"SUM(D6:D20)","v":1.0000000000000002},null,"総計",null,{"$f":"SUM(H6:H20)","v":77},{"$f":"SUM(I6:I20)","v":472},{"$f":"SUM(J6:J20)","v":549},{"$f":"SUM(K6:K20)","v":1},null,"その他"]
[null,"データ貼り付け箇所"]
[null,"疾患名","人数",null,null,null,"疾患名","寛解"]
[null,"行ラベル","データの個数 / 疾患名",null,null,null,"行ラベル","データの個数 / 疾患名"]
[null,"F00アルツハイマー病型認知症",998,null,null,null,"F00アルツハイマー病型認知症",7]
[null,"F01血管性認知症",180,null,null,null,"F01血管性認知症",3]
[null,"F02-09上記以外の症状性を含む器質性精神障害",853,null,null,null,"F02-09上記以外の症状性を含む器質性精神障害",12]
[null,"F10アルコール使用による精神及び行動の障害",256,null,null,null,"F10アルコール使用による精神及び行動の障害",4]
[null,"アルコール覚せい剤を除く精神作用物質使用による精神及び行動の障害※",20,null,null,null,"アルコール覚せい剤を除く精神作用物質使用による精神及び行動の障害※",0]
[null,"覚せい剤による精神及び行動の障害※",44,null,null,null,"覚せい剤による精神及び行動の障害※",0]
[null,"F2統合失調症、統合失調症型障害及び妄想性障害",4793,null,null,null,"F2統合失調症、統合失調症型障害及び妄想性障害",34]
[null,"F30‐31　躁病エピソード・双極性感情障害［躁うつ病］",329,null,null,null,"F30‐31　躁病エピソード・双極性感情障害［躁うつ病］",6]
[null,"F32-39　その他の気分障害",268,null,null,null,"F32-39　その他の気分障害",8]
[null,"F4神経症性障害、ストレス関連障害及び身体表現性障害",75,null,null,null,"F4神経症性障害、ストレス関連障害及び身体表現性障害",0]
[null,"F5生理的障害及び身体的要因に関連した行動症候群",5,null,null,null,"F5生理的障害及び身体的要因に関連した行動症候群",0]
[null,"F6成人のパーソナリティ及び行動の障害",14,null,null,null,"F6成人のパーソナリティ及び行動の障害",0]
[null,"F7精神遅滞〔知的障害〕",153,null,null,null,"F7精神遅滞〔知的障害〕",1]
[null,"F8心理的発達の障害",46,null,null,null,"F8心理的発達の障害",0]
[null,"F9小児期及び青年期に通常発症する行動及び情緒の障害及び特定不能の精神障害",7,null,null,null,"F9小児期及び青年期に通常発症する行動及び情緒の障害及び特定不能の精神障害",0]
[null,"その他",60,null,null,null,"その他",2]
[null,"てんかん（F0に属さないものを計上する）",31,null,null,null,"てんかん（F0に属さないものを計上する）",0]
[null,"不明",0,null,null,null,"不明",0]
[null,null,null,null,null,null,"疾患名","院内寛解"]
[null,null,null,null,null,null,"行ラベル","データの個数 / 疾患名"]
[null,null,null,null,null,null,"F00アルツハイマー病型認知症",43]
[null,null,null,null,null,null,"F01血管性認知症",10]
[null,null,null,null,null,null,"F02-09上記以外の症状性を含む器質性精神障害",64]
[null,null,null,null,null,null,"F10アルコール使用による精神及び行動の障害",33]
[null,null,null,null,null,null,"アルコール覚せい剤を除く精神作用物質使用による精神及び行動の障害※",0]
[null,null,null,null,null,null,"覚せい剤による精神及び行動の障害※",2]
[null,null,null,null,null,null,"F2統合失調症、統合失調症型障害及び妄想性障害",244]
[null,null,null,null,null,null,"F30‐31　躁病エピソード・双極性感情障害［躁うつ病］",21]
[null,null,null,null,null,null,"F32-39　その他の気分障害",31]
[null,null,null,null,null,null,"F4神経症性障害、ストレス関連障害及び身体表現性障害",10]
[null,null,null,null,null,null,"F5生理的障害及び身体的要因に関連した行動症候群",1]
[null,null,null,null,null,null,"F6成人のパーソナリティ及び行動の障害",1]
[null,null,null,null,null,null,"F7精神遅滞〔知的障害〕",5]
[null,null,null,null,null,null,"F8心理的発達の障害",5]
[null,null,null,null,null,null,"F9小児期及び青年期に通常発症する行動及び情緒の障害及び特定不能の精神障害",1]
[null,null,null,null,null,null,"その他",0]
[null,null,null,null,null,null,"てんかん（F0に属さないものを計上する）",1]
[null,null,null,null,null,null,"不明",0]

{"sheet":"３-Ⅳ","index":10,"n_rows":13,"n_cols":3,"rows_kept":13,"cut":false,"hidden":false,"merged":[]}
["【状態像区分（在院期間１年以上）】"]
[]
["〔全状態像〕"]
[null,"人数","割合"]
["寛解",77,{"$f":"IFERROR(B5/B$11,\"-\")","v":9.4687653713723553E-3}]
["院内寛解",472,{"$f":"IFERROR(B6/B$11,\"-\")","v":5.804230201672405E-2}]
["軽度",1294,0.15912444663059519]
["中等度",3801,0.46741269060501722]
["重度",2106,0.25897688145597642]
["最重度",382,4.6974913920314804E-2]
["総計",{"$f":"SUM(B5:B10)","v":8132},{"$f":"SUM(C5:C10)","v":1}]
[]
[null,"こちらのシートは直接入力です。"]

{"sheet":"３-Ⅴ","index":11,"n_rows":42,"n_cols":12,"rows_kept":42,"cut":false,"hidden":false,"merged":[[20,0,20,2],[20,4,20,8]]}
["【退院予定の有無（在院期間１年以上）】"]
[]
["〔全状態像〕",null,null,null,"〔寛解・院内寛解群〕"]
[null,"人数","割合",null,null,"寛解","院内寛解","計","割合"]
["病状（主症状）が落ち着き、入院によらない形で治療ができるまで回復",1325,{"$f":"IFERROR(B5/B$8,\"-\")","v":0.16293654697491392},null,"病状（主症状）が落ち着き、入院によらない形で治療ができるまで回復",48,297,{"$f":"SUM(F5:G5)","v":345},{"$f":"IFERROR(H5/H$8,\"-\")","v":0.62841530054644812}]
["病状（主症状）が不安定で入院による治療が必要",6579,{"$f":"IFERROR(B6/B$8,\"-\")","v":0.80902606984751602},null,"病状（主症状）が不安定で入院による治療が必要",0,103,{"$f":"SUM(F6:G6)","v":103},{"$f":"IFERROR(H6/H$8,\"-\")","v":0.18761384335154827}]
["退院予定",228,2.8037383177570093E-2,null,"退院予定",29,72,101,0.18397085610200364]
["総計",{"$f":"SUM(B5:B7)","v":8132},{"$f":"SUM(C5:C7)","v":1},null,"総計",{"$f":"SUM(F5:F7)","v":77},{"$f":"SUM(G5:G7)","v":472},{"$f":"SUM(H5:H7)","v":549},{"$f":"SUM(I5:I7)","v":1},null,null,"こちらのシートは直接入力です。"]
[]
["【退院阻害要因の有無（在院期間１年以上）】"]
[]
["〔全状態像〕",null,null,null,"〔寛解・院内寛解群〕"]
[null,"人数","割合",null,null,"寛解","院内寛解","計","割合"]
["退院阻害要因がある",1291,{"$f":"IFERROR(B14/B$16,\"-\")","v":0.97433962264150942},null,"退院阻害要因がある",46,287,{"$f":"SUM(F14:G14)","v":333},{"$f":"IFERROR(H14/H$16,\"-\")","v":0.9652173913043478}]
["退院阻害要因はない",34,{"$f":"IFERROR(B15/B$16,\"-\")","v":2.5660377358490565E-2},null,"退院阻害要因はない",2,10,{"$f":"SUM(F15:G15)","v":12},{"$f":"IFERROR(H15/H$16,\"-\")","v":3.4782608695652174E-2}]
["総計",{"$f":"SUM(B14:B15)","v":1325},{"$f":"SUM(C14:C15)","v":1},null,"総計",{"$f":"SUM(F14:F15)","v":48},{"$f":"SUM(G14:G15)","v":297},{"$f":"SUM(H14:H15)","v":345},{"$f":"SUM(I14:I15)","v":1}]
[]
["【退院阻害要因（複数回答）（在院期間１年以上）】"]
[]
["〔全状態像〕",null,null,null,"〔寛解・院内寛解群〕"]
[{"$f":"B14","v":1291},null,null,null,{"$f":"H14","v":333}]
[null,"回答数","割合",null,null,"寛解","院内寛解","計","割合"]
["病状は落ち着いているが、ときどき不安定な病状が見られ、そのことが退院を阻害する要因になっている",439,{"$f":"IFERROR(B23/B$14,\"-\")","v":0.34004647560030982},null,"病状は落ち着いているが、ときどき不安定な病状が見られ、そのことが退院を阻害する要因になっている",8,82,{"$f":"SUM(F23:G23)","v":90},{"$f":"IFERROR(H23/H$14,\"-\")","v":0.27027027027027029}]
["病識がなく通院服薬の中断が予測される",347,{"$f":"IFERROR(B24/B$14,\"-\")","v":0.26878388845855927},null,"病識がなく通院服薬の中断が予測される",5,52,{"$f":"SUM(F24:G24)","v":57},{"$f":"IFERROR(H24/H$14,\"-\")","v":0.17117117117117117}]
["反社会的行動が予測される",53,4.1053446940356314E-2,null,"反社会的行動が予測される",1,5,6,1.8018018018018018E-2]
["退院意欲が乏しい",575,0.44539116963594111,null,"退院意欲が乏しい",19,132,151,0.45345345345345345]
["現実認識が乏しい",520,0.40278853601859022,null,"現実認識が乏しい",15,80,95,0.28528528528528529]
["退院による環境変化への不安が強い",366,0.28350116189000774,null,"退院による環境変化への不安が強い",12,78,90,0.27027027027027029]
["援助者との対人関係がもてない",112,8.6754453911696353E-2,null,"援助者との対人関係がもてない",2,10,12,3.6036036036036036E-2]
["家事（食事・洗濯・金銭管理など）ができない",387,0.29976762199845081,null,"家事（食事・洗濯・金銭管理など）ができない",16,67,83,0.24924924924924924]
["家族がいない、本人をサポートする機能が実質ない",231,0.17893106119287375,null,"家族がいない、本人をサポートする機能が実質ない",10,42,52,0.15615615615615616]
["家族が退院に反対している",309,0.23934934159566229,null,"家族が退院に反対している",17,62,79,0.23723723723723725]
["住まいの確保ができない",357,0.27652982184353214,null,"住まいの確保ができない",18,74,92,0.27627627627627627]
["生活費の確保ができない",71,5.4996127033307515E-2,null,"生活費の確保ができない",2,16,18,5.4054054054054057E-2]
["日常生活を支える制度がない",79,6.1192873741285826E-2,null,"日常生活を支える制度がない",1,13,14,4.2042042042042045E-2]
["救急診療体制がない",5,3.8729666924864447E-3,null,"救急診療体制がない",0,1,1,3.003003003003003E-3]
["退院に向けてサポートする人的資源が乏しい",107,8.2881487219209918E-2,null,"退院に向けてサポートする人的資源が乏しい",4,25,29,8.7087087087087081E-2]
["退院後サポート・マネジメントする人的資源が乏しい",76,5.8869093725793957E-2,null,"退院後サポート・マネジメントする人的資源が乏しい",2,17,19,5.7057057057057055E-2]
["住所地と入院先の距離があり支援体制がとりにくい",18,1.3942680092951201E-2,null,"住所地と入院先の距離があり支援体制がとりにくい",1,5,6,1.8018018018018018E-2]
["身体的機能や状態を原因としたADLの低下がある",216,0.16731216111541442,null,"身体的機能や状態を原因としたADLの低下がある",5,26,31,9.3093093093093091E-2]
["身体合併症の程度が重いなど身体面のフォローが必要であり、\n地域での生活が困難",135,0.104570100697134,null,"身体合併症の程度が重いなど身体面の\nフォローが必要であり、地域での生活が困難",1,6,7,2.1021021021021023E-2]
["その他の退院阻害要因がある",16,{"$f":"IFERROR(B42/B$14,\"-\")","v":1.2393493415956624E-2},null,"その他の退院阻害要因がある",3,1,4,1.2012012012012012E-2]

{"sheet":"４-Ⅰ","index":12,"n_rows":13,"n_cols":15,"rows_kept":13,"cut":false,"hidden":false,"merged":[]}
["【年齢区分（65歳以上在院患者）】"]
[null,null,null,null,null,null,null,null,"データ貼り付け箇所"]
["〔全状態像〕",null,null,null,"〔寛解・院内寛解群〕",null,null,null,"年齢区分","患者全体",null,"年齢区分","寛解・院内寛解"]
[null,"人数","割合",null,null,"人数","割合",null,"行ラベル","データの個数 / 年齢",null,"行ラベル","データの個数 / 年齢"]
["65歳～69歳",{"$f":"IFERROR(VLOOKUP($O5,年齢区分＿65歳以上[#All],2,FALSE),0)","v":1172},{"$f":"IFERROR(B5/B$11,\"-\")","v":0.13336367774237598},null,"65歳～69歳",{"$f":"IFERROR(VLOOKUP($O5,年齢区分＿65歳以上＿寛解・院内寛解[#All],2,FALSE),0)","v":146},{"$f":"IFERROR(F5/F$11,\"-\")","v":0.15800865800865802},null,"65-69歳",1172,null,"65-69歳",146,null,"65-69歳"]
["70歳～74歳",{"$f":"IFERROR(VLOOKUP($O6,年齢区分＿65歳以上[#All],2,FALSE),0)","v":1733},{"$f":"IFERROR(B6/B$11,\"-\")","v":0.19720072826581703},null,"70歳～74歳",{"$f":"IFERROR(VLOOKUP($O6,年齢区分＿65歳以上＿寛解・院内寛解[#All],2,FALSE),0)","v":203},{"$f":"IFERROR(F6/F$11,\"-\")","v":0.2196969696969697},null,"70-74歳",1733,null,"70-74歳",203,null,"70-74歳"]
["75歳～79歳",{"$f":"IFERROR(VLOOKUP($O7,年齢区分＿65歳以上[#All],2,FALSE),0)","v":1815},0.20653163404642694,null,"75歳～79歳",{"$f":"IFERROR(VLOOKUP($O7,年齢区分＿65歳以上＿寛解・院内寛解[#All],2,FALSE),0)","v":203},0.2196969696969697,null,"75-79歳",1815,null,"75-79歳",203,null,"75-79歳"]
["80歳～84歳",{"$f":"IFERROR(VLOOKUP($O8,年齢区分＿65歳以上[#All],2,FALSE),0)","v":1882},0.21415566681838871,null,"80歳～84歳",{"$f":"IFERROR(VLOOKUP($O8,年齢区分＿65歳以上＿寛解・院内寛解[#All],2,FALSE),0)","v":189},0.20454545454545456,null,"80-84歳",1882,null,"80-84歳",189,null,"80-84歳"]
["85歳～89歳",{"$f":"IFERROR(VLOOKUP($O9,年齢区分＿65歳以上[#All],2,FALSE),0)","v":1367},0.15555302685480199,null,"85歳～89歳",{"$f":"IFERROR(VLOOKUP($O9,年齢区分＿65歳以上＿寛解・院内寛解[#All],2,FALSE),0)","v":121},0.13095238095238096,null,"85-89歳",1367,null,"85-89歳",121,null,"85-89歳"]
["90歳～",{"$f":"IFERROR(VLOOKUP($O10,年齢区分＿65歳以上[#All],2,FALSE),0)","v":819},9.3195266272189353E-2,null,"90歳～",{"$f":"IFERROR(VLOOKUP($O10,年齢区分＿65歳以上＿寛解・院内寛解[#All],2,FALSE),0)","v":62},6.7099567099567103E-2,null,"90歳以上",819,null,"90歳以上",62,null,"90歳以上"]
["　総計",{"$f":"SUM(B5:B10)","v":8788},{"$f":"SUM(C5:C10)","v":1},null,"　総計",{"$f":"SUM(F5:F10)","v":924},{"$f":"SUM(G5:G10)","v":1}]
["75歳未満（再掲）",{"$f":"B5+B6","v":2905},{"$f":"IFERROR(B12/B$11,\"-\")","v":0.33056440600819298},null,"75歳未満（再掲）",{"$f":"F5+F6","v":349},{"$f":"IFERROR(F12/F$11,\"-\")","v":0.37770562770562771}]
["75歳以上（再掲）",{"$f":"B7+B8+B9+B10","v":5883},{"$f":"IFERROR(B13/B$11,\"-\")","v":0.66943559399180697},null,"75歳以上（再掲）",{"$f":"F7+F8+F9+F10","v":575},{"$f":"IFERROR(F13/F$11,\"-\")","v":0.62229437229437234}]

{"sheet":"４-Ⅱ","index":13,"n_rows":23,"n_cols":6,"rows_kept":23,"cut":false,"hidden":false,"merged":[]}
["【入院形態区分（65歳以上在院患者）】"]
[null,null,null,null,"データ貼り付け箇所"]
["〔全状態像〕",null,null,null,"入院形態","人数"]
[null,"人数","割合",null,"行ラベル","データの個数 / 入院"]
["措置入院・緊急措置入院",{"$f":"IFERROR(VLOOKUP(\"措置入院\",入院形態＿65歳以上[#All],2,FALSE),0)+IFERROR(VLOOKUP(\"緊急措置入院\",入院形態＿65歳以上[#All],2,FALSE),0)","v":7},{"$f":"IFERROR(B5/B$10,\"-\")","v":7.9654073736913969E-4},null,"任意入院",3690]
["医療保護入院",{"$f":"IFERROR(VLOOKUP(A6,入院形態＿65歳以上[#All],2,FALSE),0)","v":5084},{"$f":"IFERROR(B6/B$10,\"-\")","v":0.57851615839781523},null,"措置入院",7]
["任意入院",{"$f":"IFERROR(VLOOKUP(A7,入院形態＿65歳以上[#All],2,FALSE),0)","v":3690},0.41989076012744653,null,"鑑定入院",1]
["応急入院",{"$f":"IFERROR(VLOOKUP(A8,入院形態＿65歳以上[#All],2,FALSE),0)","v":2},2.2758306781975421E-4,null,"応急入院",2]
["その他",{"$f":"IFERROR(VLOOKUP(\"鑑定入院\",入院形態＿65歳以上[#All],2,FALSE),0)+IFERROR(VLOOKUP(\"医療観察法による入院\",入院形態＿65歳以上[#All],2,FALSE),0)+IFERROR(VLOOKUP(\"不明\",入院形態＿65歳以上[#All],2,FALSE),0)","v":5},5.6895766954938548E-4,null,"医療保護入院",5084]
["　総計",{"$f":"SUM(B5:B9)","v":8788},{"$f":"SUM(C5:C9)","v":1},null,"医療観察法による入院",4]
[null,null,null,null,"緊急措置入院",0]
[null,null,null,null,"不明",0]
[null,null,null,null,"データ貼り付け箇所"]
["〔寛解・院内寛解群〕",null,null,null,"入院形態","寛解・院内寛解"]
[null,"人数","割合",null,"行ラベル","データの個数 / 入院"]
["措置入院・緊急措置入院",{"$f":"IFERROR(VLOOKUP(\"措置入院\",入院形態＿65歳以上＿寛解・院内寛解[#All],2,FALSE),0)+IFERROR(VLOOKUP(\"緊急措置入院\",入院形態＿65歳以上＿寛解・院内寛解[#All],2,FALSE),0)","v":2},{"$f":"IFERROR(B16/B$21,\"-\")","v":2.1645021645021645E-3},null,"任意入院",528]
["医療保護入院",{"$f":"IFERROR(VLOOKUP(A17,入院形態＿65歳以上＿寛解・院内寛解[#All],2,FALSE),0)","v":393},{"$f":"IFERROR(B17/B$21,\"-\")","v":0.42532467532467533},null,"措置入院",2]
["任意入院",{"$f":"IFERROR(VLOOKUP(A18,入院形態＿65歳以上＿寛解・院内寛解[#All],2,FALSE),0)","v":528},0.5714285714285714,null,"鑑定入院",1]
["応急入院",{"$f":"IFERROR(VLOOKUP(A19,入院形態＿65歳以上＿寛解・院内寛解[#All],2,FALSE),0)","v":0},0,null,"応急入院",0]
["その他",{"$f":"IFERROR(VLOOKUP(\"鑑定入院\",入院形態＿65歳以上＿寛解・院内寛解[#All],2,FALSE),0)+IFERROR(VLOOKUP(\"医療観察法による入院\",入院形態＿65歳以上＿寛解・院内寛解[#All],2,FALSE),0)+IFERROR(VLOOKUP(\"不明\",入院形態＿65歳以上＿寛解・院内寛解[#All],2,FALSE),0)","v":1},1.0822510822510823E-3,null,"医療保護入院",393]
["　総計",{"$f":"SUM(B16:B20)","v":924},{"$f":"SUM(C16:C20)","v":1},null,"医療観察法による入院",0]
[null,null,null,null,"緊急措置入院",0]
[null,null,null,null,"不明",0]

{"sheet":"４-Ⅲ","index":14,"n_rows":44,"n_cols":20,"rows_kept":44,"cut":false,"hidden":false,"merged":[[3,6,3,7],[24,6,24,7],[38,1,38,2],[39,1,39,2],[40,1,40,2],[31,1,31,2],[13,1,13,2],[14,1,14,2],[15,1,15,2],[16,1,16,2],[17,1,17,2],[18,1,18,2],[19,1,19,2],[21,1,21,2],[25,1,25,2],[26,1,26,2],[42,1,42,2],[32,1,32,2],[33,1,33,2],[34,1,34,2],[35,1,35,2],[36,1,36,2],[37,1,37,2],[41,1,41,2],[30,1,30,2],[12,1,12,2],[4,1,4,2],[5,1,5,2],[9,1,9,2],[10,1,10,2],[11,1,11,2],[20,1,20,2]]}
[null,"【疾患名区分（65歳以上在院患者）】"]
[]
[null,"〔全状態像〕",null,null,null,null,null,null,null,"データ貼り付け箇所"]
[null,null,null,null,null,null,"(再掲：患者全体)",null,null,"疾患名","人数"]
[null,null,null,"人数","割合",null,"人数","割合",null,"行ラベル","データの個数 / 疾患名",null,null,null,"F00アルツハイマー病型認知症",null,null,null,null,"F0"]
[null,"症状性を含む器質性精神障害（F0）",null,{"$f":"SUM(D7:D9)","v":3963},{"$f":"SUM(E7:E9)","v":0.45095584888484297},null,{"$f":"'２-Ⅲ'!C5","v":4241},{"$f":"SUM(H7:H9)","v":0.29109753586382042},null,"F00アルツハイマー病型認知症",2150,null,null,null,"F01血管性認知症",null,null,null,null,"F1"]
[null,null,"アルツハイマー病の認知症を含む器質性精神障害（F00）",{"$f":"IFERROR(VLOOKUP($O5,疾患別＿65歳以上[#All],2,FALSE),0)","v":2150},{"$f":"IFERROR(D7/D$22,\"-\")","v":0.24465179790623579},null,{"$f":"'２-Ⅲ'!C6","v":2181},{"$f":"IFERROR(G7/G$22,\"-\")","v":0.14970142082503946},null,"F01血管性認知症",327,null,null,null,"F02-09上記以外の症状性を含む器質性精神障害",null,null,null,null,"F2"]
[null,null,"血管性認知症を含む器質性精神障害（F01）",{"$f":"IFERROR(VLOOKUP($O6,疾患別＿65歳以上[#All],2,FALSE),0)","v":327},{"$f":"IFERROR(D8/D$22,\"-\")","v":3.7209831588529814E-2},null,{"$f":"'２-Ⅲ'!C7","v":343},{"$f":"IFERROR(G8/G$22,\"-\")","v":2.3543139542864987E-2},null,"F02-09上記以外の症状性を含む器質性精神障害",1486,null,null,null,"F10アルコール使用による精神及び行動の障害",null,null,null,null,"F3"]
[null,null,"アルツハイマー病の認知症・血管性認知症以外の、症状性を含む器質性精神障害（F02-F09）",{"$f":"IFERROR(VLOOKUP($O7,疾患別＿65歳以上[#All],2,FALSE),0)","v":1486},0.16909421939007738,null,{"$f":"'２-Ⅲ'!C8","v":1717},0.11785297549591599,null,"F10アルコール使用による精神及び行動の障害",336,null,null,null,"アルコール覚せい剤を除く精神作用物質使用による精神及び行動の障害※",null,null,null,null,"F4"]
[null,"精神作用物質使用による精神及び行動の障害（F1）",null,{"$f":"IFERROR(VLOOKUP($O8,疾患別＿65歳以上[#All],2,FALSE),0)+IFERROR(VLOOKUP($O9,疾患別＿65歳以上[#All],2,FALSE),0)+IFERROR(VLOOKUP($O10,疾患別＿65歳以上[#All],2,FALSE),0)","v":369},4.1989076012744653E-2,null,{"$f":"'２-Ⅲ'!C9","v":826},5.6695723797103442E-2,null,"アルコール覚せい剤を除く精神作用物質使用による精神及び行動の障害※",15,null,null,null,"覚せい剤による精神及び行動の障害※",null,null,null,null,"F5"]
[null,"統合失調症、統合失調症型障害及び妄想性障害（F2）",null,{"$f":"IFERROR(VLOOKUP($O11,疾患別＿65歳以上[#All],2,FALSE),0)","v":3225},0.36697769685935366,null,{"$f":"'２-Ⅲ'!C10","v":6942},0.47649117990253276,null,"覚せい剤による精神及び行動の障害※",18,null,null,null,"F2統合失調症、統合失調症型障害及び妄想性障害",null,null,null,null,"F6"]
[null,"気分（感情）障害（F3）",null,{"$f":"IFERROR(VLOOKUP($O12,疾患別＿65歳以上[#All],2,FALSE),0)+IFERROR(VLOOKUP($O13,疾患別＿65歳以上[#All],2,FALSE),0)","v":936},0.10650887573964497,null,{"$f":"'２-Ⅲ'!C11","v":1519},0.10426247511840209,null,"F2統合失調症、統合失調症型障害及び妄想性障害",3225,null,null,null,"F30‐31　躁病エピソード・双極性感情障害［躁うつ病］",null,null,null,null,"F7"]
[null,"神経症性障害、ストレス関連障害及び身体表現性障害（F4）",null,{"$f":"IFERROR(VLOOKUP($O14,疾患別＿65歳以上[#All],2,FALSE),0)","v":97},1.1037778789258079E-2,null,{"$f":"'２-Ⅲ'!C12","v":238},1.6336056009334889E-2,null,"F30‐31　躁病エピソード・双極性感情障害［躁うつ病］",456,null,null,null,"F32-39　その他の気分障害",null,null,null,null,"F8"]
[null,"生理的障害及び身体的要因に関連した行動症候群（F5）",null,{"$f":"IFERROR(VLOOKUP($O15,疾患別＿65歳以上[#All],2,FALSE),0)","v":2},2.2758306781975421E-4,null,{"$f":"'２-Ⅲ'!C13","v":55},3.7751389937538608E-3,null,"F32-39　その他の気分障害",480,null,null,null,"F4神経症性障害、ストレス関連障害及び身体表現性障害",null,null,null,null,"F9"]
[null,"成人のパーソナリティ及び行動の障害（F6)",null,{"$f":"IFERROR(VLOOKUP($O16,疾患別＿65歳以上[#All],2,FALSE),0)","v":8},9.1033227127901685E-4,null,{"$f":"'２-Ⅲ'!C14","v":35},2.4023611778433659E-3,null,"F4神経症性障害、ストレス関連障害及び身体表現性障害",97,null,null,null,"F5生理的障害及び身体的要因に関連した行動症候群",null,null,null,null,"てんかん"]
[null,"精神遅滞〔知的障害〕（F7）",null,{"$f":"IFERROR(VLOOKUP($O17,疾患別＿65歳以上[#All],2,FALSE),0)","v":59},6.7137005006827491E-3,null,{"$f":"'２-Ⅲ'!C15","v":305},2.0934861692635046E-2,null,"F5生理的障害及び身体的要因に関連した行動症候群",2,null,null,null,"F6成人のパーソナリティ及び行動の障害",null,null,null,null,"その他"]
[null,"心理的発達の障害（F8）",null,{"$f":"IFERROR(VLOOKUP($O18,疾患別＿65歳以上[#All],2,FALSE),0)","v":5},5.6895766954938548E-4,null,{"$f":"'２-Ⅲ'!C16","v":162},1.1119500308875008E-2,null,"F6成人のパーソナリティ及び行動の障害",8,null,null,null,"F7精神遅滞〔知的障害〕"]
[null,"小児期及び青年期に通常発症する行動及び情緒の障害及び特定不能の精神障害（F9)",null,{"$f":"IFERROR(VLOOKUP($O19,疾患別＿65歳以上[#All],2,FALSE),0)","v":12},1.3654984069185253E-3,null,{"$f":"'２-Ⅲ'!C17","v":60},4.1183334477314848E-3,null,"F7精神遅滞〔知的障害〕",59,null,null,null,"F8心理的発達の障害"]
[null,"てんかん（症状性を含む器質性障害(F0)に属さないもの）",null,{"$f":"IFERROR(VLOOKUP($O20,疾患別＿65歳以上[#All],2,FALSE),0)","v":17},1.9344560764679108E-3,null,{"$f":"'２-Ⅲ'!C18","v":42},2.8828334134120394E-3,null,"F8心理的発達の障害",5,null,null,null,"F9小児期及び青年期に通常発症する行動及び情緒の障害及び特定不能の精神障害"]
[null,"その他",null,{"$f":"IFERROR(VLOOKUP($O21,疾患別＿65歳以上[#All],2,FALSE),0)","v":94},1.0696404187528447E-2,null,{"$f":"'２-Ⅲ'!C19","v":143},9.8153613837600392E-3,null,"F9小児期及び青年期に通常発症する行動及び情緒の障害及び特定不能の精神障害",12,null,null,null,"てんかん（F0に属さないものを計上する）"]
[null,"不明",null,{"$f":"IFERROR(VLOOKUP($O22,疾患別＿65歳以上[#All],2,FALSE),0)","v":1},{"$f":"IFERROR(D21/D$22,\"-\")","v":1.1379153390987711E-4},null,{"$f":"'２-Ⅲ'!C20","v":1},{"$f":"IFERROR(G21/G$22,\"-\")","v":6.8638890795524749E-5},null,"その他",94,null,null,null,"その他"]
[null,"　総計",null,{"$f":"SUM(D7:D21)","v":8788},{"$f":"SUM(E7:E20)","v":0.99988620846609022},null,{"$f":"SUM(G7:G21)","v":14569},{"$f":"SUM(H7:H20)","v":0.99993136110920433},null,"てんかん（F0に属さないものを計上する）",17,null,null,null,"不明"]
[null,null,null,null,null,null,null,null,null,"不明",1]
[null,"〔寛解・院内寛解群〕"]
[null,null,null,null,null,null,"(再掲：患者全体)",null,null,"疾患名","寛解・院内寛解"]
[null,null,null,"人数","割合",null,"人数","割合",null,"行ラベル","データの個数 / 疾患名"]
[null,"症状性を含む器質性精神障害（F0）",null,{"$f":"SUM(D28:D30)","v":388},{"$f":"SUM(E28:E30)","v":0.41991341991341991},null,{"$f":"'２-Ⅲ'!J5","v":416},{"$f":"SUM(H28:H30)","v":0.23582766439909297},null,"F00アルツハイマー病型認知症",184]
[null,null,"アルツハイマー病の認知症を含む器質性精神障害（F00）",{"$f":"IFERROR(VLOOKUP($O5,疾患別＿65歳以上＿寛解・院内寛解[#All],2,FALSE),0)","v":184},{"$f":"IFERROR(D28/D$43,\"-\")","v":0.19913419913419914},null,{"$f":"'２-Ⅲ'!J6","v":187},{"$f":"IFERROR(G28/G$43,\"-\")","v":0.10600907029478458},null,"F01血管性認知症",36]
[null,null,"血管性認知症を含む器質性精神障害（F01）",{"$f":"IFERROR(VLOOKUP($O6,疾患別＿65歳以上＿寛解・院内寛解[#All],2,FALSE),0)","v":36},{"$f":"IFERROR(D29/D$43,\"-\")","v":3.896103896103896E-2},null,{"$f":"'２-Ⅲ'!J7","v":38},{"$f":"IFERROR(G29/G$43,\"-\")","v":2.1541950113378686E-2},null,"F02-09上記以外の症状性を含む器質性精神障害",168]
[null,null,"アルツハイマー病の認知症・血管性認知症以外の、症状性を含む器質性精神障害（F02-F09）",{"$f":"IFERROR(VLOOKUP($O7,疾患別＿65歳以上＿寛解・院内寛解[#All],2,FALSE),0)","v":168},0.18181818181818182,null,{"$f":"'２-Ⅲ'!J8","v":191},0.10827664399092971,null,"F10アルコール使用による精神及び行動の障害",75]
[null,"精神作用物質使用による精神及び行動の障害（F1）",null,{"$f":"IFERROR(VLOOKUP($O8,疾患別＿65歳以上＿寛解・院内寛解[#All],2,FALSE),0)+IFERROR(VLOOKUP($O9,疾患別＿65歳以上＿寛解・院内寛解[#All],2,FALSE),0)+IFERROR(VLOOKUP($O10,疾患別＿65歳以上＿寛解・院内寛解[#All],2,FALSE),0)","v":81},8.7662337662337664E-2,null,{"$f":"'２-Ⅲ'!J9","v":215},0.12188208616780045,null,"アルコール覚せい剤を除く精神作用物質使用による精神及び行動の障害※",2]
[null,"統合失調症、統合失調症型障害及び妄想性障害（F2）",null,{"$f":"IFERROR(VLOOKUP($O11,疾患別＿65歳以上＿寛解・院内寛解[#All],2,FALSE),0)","v":259},0.28030303030303028,null,{"$f":"'２-Ⅲ'!J10","v":650},0.36848072562358275,null,"覚せい剤による精神及び行動の障害※",4]
[null,"気分（感情）障害（F3）",null,{"$f":"IFERROR(VLOOKUP($O12,疾患別＿65歳以上＿寛解・院内寛解[#All],2,FALSE),0)+IFERROR(VLOOKUP($O13,疾患別＿65歳以上＿寛解・院内寛解[#All],2,FALSE),0)","v":153},0.16558441558441558,null,{"$f":"'２-Ⅲ'!J11","v":321},0.18197278911564627,null,"F2統合失調症、統合失調症型障害及び妄想性障害",259]
[null,"神経症性障害、ストレス関連障害及び身体表現性障害（F4）",null,{"$f":"IFERROR(VLOOKUP($O14,疾患別＿65歳以上＿寛解・院内寛解[#All],2,FALSE),0)","v":23},2.4891774891774892E-2,null,{"$f":"'２-Ⅲ'!J12","v":54},3.0612244897959183E-2,null,"F30‐31　躁病エピソード・双極性感情障害［躁うつ病］",60]
[null,"生理的障害及び身体的要因に関連した行動症候群（F5）",null,{"$f":"IFERROR(VLOOKUP($O15,疾患別＿65歳以上＿寛解・院内寛解[#All],2,FALSE),0)","v":0},0,null,{"$f":"'２-Ⅲ'!J13","v":12},6.8027210884353739E-3,null,"F32-39　その他の気分障害",93]
[null,"成人のパーソナリティ及び行動の障害（F6)",null,{"$f":"IFERROR(VLOOKUP($O16,疾患別＿65歳以上＿寛解・院内寛解[#All],2,FALSE),0)","v":2},2.1645021645021645E-3,null,{"$f":"'２-Ⅲ'!J14","v":8},4.5351473922902496E-3,null,"F4神経症性障害、ストレス関連障害及び身体表現性障害",23]
[null,"精神遅滞〔知的障害〕（F7）",null,{"$f":"IFERROR(VLOOKUP($O17,疾患別＿65歳以上＿寛解・院内寛解[#All],2,FALSE),0)","v":3},3.246753246753247E-3,null,{"$f":"'２-Ⅲ'!J15","v":28},1.5873015873015872E-2,null,"F5生理的障害及び身体的要因に関連した行動症候群",0]
[null,"心理的発達の障害（F8）",null,{"$f":"IFERROR(VLOOKUP($O18,疾患別＿65歳以上＿寛解・院内寛解[#All],2,FALSE),0)","v":0},0,null,{"$f":"'２-Ⅲ'!J16","v":30},1.7006802721088437E-2,null,"F6成人のパーソナリティ及び行動の障害",2]
[null,"小児期及び青年期に通常発症する行動及び情緒の障害及び特定不能の精神障害（F9)",null,{"$f":"IFERROR(VLOOKUP($O19,疾患別＿65歳以上＿寛解・院内寛解[#All],2,FALSE),0)","v":2},2.1645021645021645E-3,null,{"$f":"'２-Ⅲ'!J17","v":10},5.6689342403628117E-3,null,"F7精神遅滞〔知的障害〕",3]
[null,"てんかん（症状性を含む器質性障害(F0)に属さないもの）",null,{"$f":"IFERROR(VLOOKUP($O20,疾患別＿65歳以上＿寛解・院内寛解[#All],2,FALSE),0)","v":3},3.246753246753247E-3,null,{"$f":"'２-Ⅲ'!J18","v":4},2.2675736961451248E-3,null,"F8心理的発達の障害",0]
[null,"その他",null,{"$f":"IFERROR(VLOOKUP($O21,疾患別＿65歳以上＿寛解・院内寛解[#All],2,FALSE),0)","v":10},1.0822510822510822E-2,null,{"$f":"'２-Ⅲ'!J19","v":16},9.0702947845804991E-3,null,"F9小児期及び青年期に通常発症する行動及び情緒の障害及び特定不能の精神障害",2]
[null,"不明",null,{"$f":"IFERROR(VLOOKUP($O22,疾患別＿65歳以上＿寛解・院内寛解[#All],2,FALSE),0)","v":0},{"$f":"IFERROR(D42/D$22,\"-\")","v":0},null,{"$f":"'２-Ⅲ'!J20","v":0},{"$f":"IFERROR(G42/G$22,\"-\")","v":0},null,"その他",10]
[null,"　総計",null,{"$f":"SUM(D28:D42)","v":924},{"$f":"SUM(E28:E41)","v":1},null,{"$f":"SUM(G28:G42)","v":1764},{"$f":"IFERROR(G43/$G$43,0)","v":1},null,"てんかん（F0に属さないものを計上する）",3]
[null,null,null,null,null,null,null,null,null,"不明",0]

{"sheet":"４-Ⅳ","index":15,"n_rows":26,"n_cols":17,"rows_kept":26,"cut":false,"hidden":false,"merged":[[2,1,3,2],[2,3,2,4],[3,3,3,4],[2,0,4,0],[2,6,3,7]]}
["【在院期間区分（65歳以上在院患者）】"]
[]
[null,"65歳以上全体",null,null,null,null,"(再掲：患者全体)",null,null,"データ貼り付け箇所"]
[null,null,null,"うち寛解・院内寛解群",null,null,null,null,null,"在院期間","患者全体",null,"在院期間","寛解・院内寛解"]
[null,"人数","割合","人数","割合",null,"人数","割合",null,"行ラベル","データの個数 / 在院",null,"行ラベル","データの個数 / 在院"]
["1ヶ月未満",{"$f":"IFERROR(VLOOKUP($Q6,在院期間＿65歳以上[#All],2,FALSE),0)","v":800},{"$f":"IFERROR(B6/B$22,\"-\")","v":9.1033227127901684E-2},{"$f":"IFERROR(VLOOKUP($Q6,在院期間＿65歳以上＿寛解・院内寛解[#All],2,FALSE),0)","v":147},{"$f":"IFERROR(D6/D$22,\"-\")","v":0.15909090909090909},null,{"$f":"'２-Ⅳ'!B5","v":1817},{"$f":"IFERROR(G6/G$22,\"-\")","v":0.12471686457546846},null,"01_1ヶ月未満",800,null,"01_1ヶ月未満",147,null,null,"01_1ヶ月未満"]
["1ヶ月～3ヶ月未満",{"$f":"IFERROR(VLOOKUP($Q7,在院期間＿65歳以上[#All],2,FALSE),0)","v":1155},{"$f":"IFERROR(B7/B$22,\"-\")","v":0.13142922166590806},{"$f":"IFERROR(VLOOKUP($Q7,在院期間＿65歳以上＿寛解・院内寛解[#All],2,FALSE),0)","v":218},{"$f":"IFERROR(D7/D$22,\"-\")","v":0.23593073593073594},null,{"$f":"'２-Ⅳ'!B6","v":2135},{"$f":"IFERROR(G7/G$22,\"-\")","v":0.14654403184844533},null,"02_1ヶ月～3ヶ月未満",1155,null,"02_1ヶ月～3ヶ月未満",218,null,null,"02_1ヶ月～3ヶ月未満"]
["3ヶ月～6ヶ月未満",{"$f":"IFERROR(VLOOKUP($Q8,在院期間＿65歳以上[#All],2,FALSE),0)","v":824},9.3764223941738736E-2,{"$f":"IFERROR(VLOOKUP($Q8,在院期間＿65歳以上＿寛解・院内寛解[#All],2,FALSE),0)","v":108},0.11688311688311688,null,{"$f":"'２-Ⅳ'!B7","v":1208},8.2915780080993887E-2,null,"03_3ヶ月～6ヶ月未満",824,null,"03_3ヶ月～6ヶ月未満",108,null,null,"03_3ヶ月～6ヶ月未満"]
["6ヶ月～1年未満",{"$f":"IFERROR(VLOOKUP($Q9,在院期間＿65歳以上[#All],2,FALSE),0)","v":892},0.10150204824761037,{"$f":"IFERROR(VLOOKUP($Q9,在院期間＿65歳以上＿寛解・院内寛解[#All],2,FALSE),0)","v":99},0.10714285714285714,null,{"$f":"'２-Ⅳ'!B8","v":1277},8.7651863545885098E-2,null,"04_6ヶ月～1年未満",892,null,"04_6ヶ月～1年未満",99,null,null,"04_6ヶ月～1年未満"]
["1年～1年6ヶ月未満",{"$f":"IFERROR(VLOOKUP($Q10,在院期間＿65歳以上[#All],2,FALSE),0)","v":584},6.6454255803368223E-2,{"$f":"IFERROR(VLOOKUP($Q10,在院期間＿65歳以上＿寛解・院内寛解[#All],2,FALSE),0)","v":54},5.844155844155844E-2,null,{"$f":"'２-Ⅳ'!B9","v":839},5.7588029377445261E-2,null,"05_1年～1年6ヶ月未満",584,null,"05_1年～1年6ヶ月未満",54,null,null,"05_1年～1年6ヶ月未満"]
["1年6ヶ月～2年未満",{"$f":"IFERROR(VLOOKUP($Q11,在院期間＿65歳以上[#All],2,FALSE),0)","v":508},5.7806099226217572E-2,{"$f":"IFERROR(VLOOKUP($Q11,在院期間＿65歳以上＿寛解・院内寛解[#All],2,FALSE),0)","v":35},3.787878787878788E-2,null,{"$f":"'２-Ⅳ'!B10","v":728},4.9969112499142015E-2,null,"06_1年6ヶ月～2年未満",508,null,"06_1年6ヶ月～2年未満",35,null,null,"06_1年6ヶ月～2年未満"]
["2年～3年未満",{"$f":"IFERROR(VLOOKUP($Q12,在院期間＿65歳以上[#All],2,FALSE),0)","v":725},8.2498862084660896E-2,{"$f":"IFERROR(VLOOKUP($Q12,在院期間＿65歳以上＿寛解・院内寛解[#All],2,FALSE),0)","v":58},6.2770562770562768E-2,null,{"$f":"'２-Ⅳ'!B11","v":1041},7.1453085318141263E-2,null,"07_2年～3年未満",725,null,"07_2年～3年未満",58,null,null,"07_2年～3年未満"]
["3年～4年未満",{"$f":"IFERROR(VLOOKUP($Q13,在院期間＿65歳以上[#All],2,FALSE),0)","v":585},6.6568047337278113E-2,{"$f":"IFERROR(VLOOKUP($Q13,在院期間＿65歳以上＿寛解・院内寛解[#All],2,FALSE),0)","v":40},4.3290043290043288E-2,null,{"$f":"'２-Ⅳ'!B12","v":894},6.1363168371199123E-2,null,"08_3年～4年未満",585,null,"08_3年～4年未満",40,null,null,"08_3年～4年未満"]
["4年～5年未満",{"$f":"IFERROR(VLOOKUP($Q14,在院期間＿65歳以上[#All],2,FALSE),0)","v":451},5.1319981793354577E-2,{"$f":"IFERROR(VLOOKUP($Q14,在院期間＿65歳以上＿寛解・院内寛解[#All],2,FALSE),0)","v":35},3.787878787878788E-2,null,{"$f":"'２-Ⅳ'!B13","v":676},4.6399890177774725E-2,null,"09_4年～5年未満",451,null,"09_4年～5年未満",35,null,null,"09_4年～5年未満"]
["5年～6年未満",{"$f":"IFERROR(VLOOKUP($Q15,在院期間＿65歳以上[#All],2,FALSE),0)","v":348},3.959945380063723E-2,{"$f":"IFERROR(VLOOKUP($Q15,在院期間＿65歳以上＿寛解・院内寛解[#All],2,FALSE),0)","v":13},1.406926406926407E-2,null,{"$f":"'２-Ⅳ'!B14","v":574},3.9398723316631204E-2,null,"10_5年～6年未満",348,null,"10_5年～6年未満",13,null,null,"10_5年～6年未満"]
["6年～7年未満",{"$f":"IFERROR(VLOOKUP($Q16,在院期間＿65歳以上[#All],2,FALSE),0)","v":263},2.9927173418297679E-2,{"$f":"IFERROR(VLOOKUP($Q16,在院期間＿65歳以上＿寛解・院内寛解[#All],2,FALSE),0)","v":21},2.2727272727272728E-2,null,{"$f":"'２-Ⅳ'!B15","v":431},2.9583361932871165E-2,null,"11_6年～7年未満",263,null,"11_6年～7年未満",21,null,null,"11_6年～7年未満"]
["7年～8年未満",{"$f":"IFERROR(VLOOKUP($Q17,在院期間＿65歳以上[#All],2,FALSE),0)","v":171},1.9458352298588985E-2,{"$f":"IFERROR(VLOOKUP($Q17,在院期間＿65歳以上＿寛解・院内寛解[#All],2,FALSE),0)","v":13},1.406926406926407E-2,null,{"$f":"'２-Ⅳ'!B16","v":304},2.0866222801839522E-2,null,"12_7年～8年未満",171,null,"12_7年～8年未満",13,null,null,"12_7年～8年未満"]
["8年～9年未満",{"$f":"IFERROR(VLOOKUP($Q18,在院期間＿65歳以上[#All],2,FALSE),0)","v":154},1.7523896222121076E-2,{"$f":"IFERROR(VLOOKUP($Q18,在院期間＿65歳以上＿寛解・院内寛解[#All],2,FALSE),0)","v":9},9.74025974025974E-3,null,{"$f":"'２-Ⅳ'!B17","v":316},2.1689889491385818E-2,null,"13_8年～9年未満",154,null,"13_8年～9年未満",9,null,null,"13_8年～9年未満"]
["9年～10年未満",{"$f":"IFERROR(VLOOKUP($Q19,在院期間＿65歳以上[#All],2,FALSE),0)","v":139},1.5817023213472916E-2,{"$f":"IFERROR(VLOOKUP($Q19,在院期間＿65歳以上＿寛解・院内寛解[#All],2,FALSE),0)","v":7},7.575757575757576E-3,null,{"$f":"'２-Ⅳ'!B18","v":244},1.6747889354108036E-2,null,"14_9年～10年未満",139,null,"14_9年～10年未満",7,null,null,"14_9年～10年未満"]
["10年～20年未満",{"$f":"IFERROR(VLOOKUP($Q20,在院期間＿65歳以上[#All],2,FALSE),0)","v":692},7.8743741465634953E-2,{"$f":"IFERROR(VLOOKUP($Q20,在院期間＿65歳以上＿寛解・院内寛解[#All],2,FALSE),0)","v":38},4.1125541125541128E-2,null,{"$f":"'２-Ⅳ'!B19","v":1308},8.977966916054636E-2,null,"15_10年～20年未満",692,null,"15_10年～20年未満",38,null,null,"15_10年～20年未満"]
["20年以上",{"$f":"IFERROR(VLOOKUP($Q21,在院期間＿65歳以上[#All],2,FALSE),0)","v":497},5.6554392353208922E-2,{"$f":"IFERROR(VLOOKUP($Q21,在院期間＿65歳以上＿寛解・院内寛解[#All],2,FALSE),0)","v":29},3.1385281385281384E-2,null,{"$f":"'２-Ⅳ'!B20","v":777},5.3332418148122729E-2,null,"16_ 20年以上",497,null,"16_ 20年以上",29,null,null,"16_ 20年以上"]
["　総計",{"$f":"SUM(B6:B21)","v":8788},{"$f":"SUM(C6:C21)","v":0.99999999999999989},924,{"$f":"SUM(E6:E21)","v":1},null,{"$f":"SUM(G6:G21)","v":14569},{"$f":"SUM(H6:H21)","v":1}]
["1年未満（再掲）",{"$f":"SUM(B6:B9)","v":3671},0.41772872098315883,{"$f":"SUM(D6:D9)","v":572},{"$f":"IFERROR(D23/D$22,\"-\")","v":0.61904761904761907},null,{"$f":"SUM(G6:G9)","v":6437},0.44182854005079281]
["1年以上5年未満（再掲）",{"$f":"SUM(B10:B14)","v":2853},0.32464724624487939,{"$f":"SUM(D10:D14)","v":222},{"$f":"IFERROR(D24/D$22,\"-\")","v":0.24025974025974026},null,{"$f":"SUM(G10:G14)","v":4178},0.28677328574370237]
["5年以上10年未満（再掲）",{"$f":"SUM(B15:B19)","v":1075},0.12232589895311789,{"$f":"SUM(D15:D19)","v":63},6.8181818181818177E-2,null,{"$f":"SUM(G15:G19)","v":1869},0.12828608689683574]
["10年以上（再掲）",{"$f":"SUM(B20:B21)","v":1189},0.13529813381884387,{"$f":"SUM(D20:D21)","v":67},7.2510822510822512E-2,null,{"$f":"SUM(G20:G21)","v":2085},0.14311208730866909]

{"sheet":"４-Ⅴ","index":16,"n_rows":25,"n_cols":6,"rows_kept":25,"cut":false,"hidden":false,"merged":[[3,4,3,5],[14,4,14,5]]}
["【状態像区分（65歳以上在院患者）】"]
[]
["〔全在院期間〕"]
[null,null,null,null,"(再掲：患者全体)"]
[null,"人数","割合",null,"人数","割合"]
["寛解",157,{"$f":"IFERROR(B6/B$12,\"-\")","v":1.7865270823850705E-2},null,{"$f":"'２-Ⅴ'!B5","v":328},{"$f":"IFERROR(E6/E$12,\"-\")","v":2.2513556180932117E-2}]
["院内寛解",767,{"$f":"IFERROR(B7/B$12,\"-\")","v":8.7278106508875741E-2},null,{"$f":"'２-Ⅴ'!B6","v":1436},{"$f":"IFERROR(E7/E$12,\"-\")","v":9.8565447182373533E-2}]
["軽度",1558,0.17728720983158852,null,{"$f":"'２-Ⅴ'!B7","v":2711},0.18608003294666758]
["中等度",3779,0.43001820664542556,null,{"$f":"'２-Ⅴ'!B8","v":5984},0.41073512252042005]
["重度",2154,0.24510696404187529,null,{"$f":"'２-Ⅴ'!B9","v":3467},0.23797103438808428]
["最重度",373,4.2444242148384159E-2,null,{"$f":"'２-Ⅴ'!B10","v":643},4.4134806781522408E-2]
["　総計",{"$f":"SUM(B6:B11)","v":8788},{"$f":"SUM(C6:C11)","v":1},null,{"$f":"SUM(E6:E11)","v":14569},{"$f":"SUM(F6:F11)","v":1}]
[]
["〔1年以上在院患者〕"]
[null,null,null,null,"(再掲：患者全体)"]
[null,"人数","割合",null,"人数","割合"]
["寛解",47,{"$f":"IFERROR(B17/B$23,\"-\")","v":9.1850693765878448E-3},null,{"$f":"'３-Ⅳ'!B5","v":77},{"$f":"IFERROR(E17/E$23,\"-\")","v":9.4687653713723553E-3}]
["院内寛解",305,{"$f":"IFERROR(B18/B$23,\"-\")","v":5.9605237443814733E-2},null,{"$f":"'３-Ⅳ'!B6","v":472},{"$f":"IFERROR(E18/E$23,\"-\")","v":5.804230201672405E-2}]
["軽度",851,0.16630838381864374,null,{"$f":"'３-Ⅳ'!B7","v":1294},0.15912444663059519]
["中等度",2445,0.47781903459058039,null,{"$f":"'３-Ⅳ'!B8","v":3801},0.46741269060501722]
["重度",1264,0.24701973812780925,null,{"$f":"'３-Ⅳ'!B9","v":2106},0.25897688145597642]
["最重度",205,4.0062536642564005E-2,null,{"$f":"'３-Ⅳ'!B10","v":382},4.6974913920314804E-2]
["　総計",{"$f":"SUM(B17:B22)","v":5117},{"$f":"SUM(C17:C22)","v":1},null,{"$f":"SUM(E17:E22)","v":8132},{"$f":"SUM(F17:F22)","v":1}]
[]
[null,"こちらのシートは直接入力です。"]

{"sheet":"４-Ⅵ","index":17,"n_rows":43,"n_cols":11,"rows_kept":43,"cut":false,"hidden":false,"merged":[[18,3,18,4],[18,9,18,10],[2,3,2,4],[2,9,2,10],[17,6,17,10],[17,0,17,4],[10,3,10,4],[10,9,10,10]]}
["【退院予定の有無（65歳以上在院患者）】"]
["〔全状態像〕",null,null,null,null,null,"〔寛解・院内寛解群〕"]
[null,null,null,"(再掲：患者全体)",null,null,null,null,null,"(再掲：患者全体)"]
[null,"人数","割合","人数","割合",null,null,"人数","割合","人数","割合"]
["病状（主症状）が落ち着き、入院によらない形で治療ができるまで回復",1442,{"$f":"IFERROR(B5/B$8,\"-\")","v":0.16408739189804278},{"$f":"'２-Ⅵ'!B5","v":2188},{"$f":"IFERROR(D5/D$8,\"-\")","v":0.15018189306060814},null,"病状（主症状）が落ち着き、入院によらない形で治療ができるまで回復",385,{"$f":"IFERROR(H5/H$8,\"-\")","v":0.41666666666666669},{"$f":"'２-Ⅵ'!H5","v":636},{"$f":"IFERROR(J5/J$8,\"-\")","v":0.36054421768707484}]
["病状（主症状）が不安定で入院による治療が必要",6615,{"$f":"IFERROR(B6/B$8,\"-\")","v":0.75273099681383704},{"$f":"'２-Ⅵ'!B6","v":10815},{"$f":"IFERROR(D6/D$8,\"-\")","v":0.74232960395360015},null,"病状（主症状）が不安定で入院による治療が必要",195,{"$f":"IFERROR(H6/H$8,\"-\")","v":0.21103896103896103},{"$f":"'２-Ⅵ'!H6","v":362},{"$f":"IFERROR(J6/J$8,\"-\")","v":0.20521541950113378}]
["退院予定",731,8.3181611288120169E-2,{"$f":"'２-Ⅵ'!B7","v":1566},0.10748850298579175,null,"退院予定",344,0.37229437229437229,{"$f":"'２-Ⅵ'!H7","v":766},0.4342403628117914]
["　総計",{"$f":"SUM(B5:B7)","v":8788},{"$f":"SUM(C5:C7)","v":1},{"$f":"SUM(D5:D7)","v":14569},{"$f":"SUM(E5:E7)","v":1},null,"　総計",{"$f":"SUM(H5:H7)","v":924},{"$f":"SUM(I5:I7)","v":1},{"$f":"SUM(J5:J7)","v":1764},{"$f":"SUM(K5:K7)","v":1}]
[]
["〔全状態像〕",null,null,null,null,null,"〔寛解・院内寛解群〕"]
[null,null,null,"(再掲：患者全体)",null,null,null,null,null,"(再掲：患者全体)"]
[null,"人数","割合","人数","割合",null,null,"人数","割合","人数","割合"]
["退院阻害要因がある  ",1336,{"$f":"IFERROR(B13/B$15,\"-\")","v":0.92649098474341196},{"$f":"'２-Ⅵ'!B14","v":1956},{"$f":"IFERROR(D13/D$15,\"-\")","v":0.89396709323583179},null,"退院阻害要因がある  ",357,{"$f":"IFERROR(H13/H$15,\"-\")","v":0.92727272727272725},{"$f":"'２-Ⅵ'!H14","v":560},{"$f":"IFERROR(J13/J$15,\"-\")","v":0.88050314465408808}]
["退院阻害要因はない",106,{"$f":"IFERROR(B14/B$15,\"-\")","v":7.3509015256588067E-2},{"$f":"'２-Ⅵ'!B15","v":232},{"$f":"IFERROR(D14/D$15,\"-\")","v":0.10603290676416818},null,"退院阻害要因はない",28,{"$f":"IFERROR(H14/H$15,\"-\")","v":7.2727272727272724E-2},{"$f":"'２-Ⅵ'!H15","v":76},{"$f":"IFERROR(J14/J$15,\"-\")","v":0.11949685534591195}]
["　総計",{"$f":"SUM(B13:B14)","v":1442},{"$f":"SUM(C13:C14)","v":1},{"$f":"SUM(D13:D14)","v":2188},{"$f":"SUM(E13:E14)","v":1},null,"　総計",{"$f":"SUM(H13:H14)","v":385},{"$f":"SUM(I13:I14)","v":1},{"$f":"SUM(J13:J14)","v":636},{"$f":"SUM(K13:K14)","v":1}]
[]
["【退院阻害要因（複数回答）】"]
["割合には「退院阻害要因がある」それぞれの人数に対する割合を表示しています。",null,null,null,null,null,"割合には「退院阻害要因がある」それぞれの人数に対する割合を表示しています。"]
[null,null,null,"(再掲：患者全体)",null,null,null,null,null,"(再掲：患者全体)"]
[null,"人数","割合","人数","割合",null,null,"人数","割合","人数","割合"]
["病状は落ち着いているが、ときどき不安定な病状が見られ、そのことが退院を阻害する要因になっている",406,{"$f":"IFERROR(B21/B$13,\"-\")","v":0.30389221556886226},{"$f":"'２-Ⅵ'!B23","v":660},{"$f":"IFERROR(D21/D$13,\"-\")","v":0.33742331288343558},null,"病状は落ち着いているが、ときどき不安定な病状が見られ、そのことが退院を阻害する要因になっている",89,{"$f":"IFERROR(H21/H$13,\"-\")","v":0.24929971988795518},{"$f":"'２-Ⅵ'!H23","v":163},{"$f":"IFERROR(J21/J$13,\"-\")","v":0.29107142857142859}]
["病識がなく通院服薬の中断が予測される",337,{"$f":"IFERROR(B22/B$13,\"-\")","v":0.2522455089820359},{"$f":"'２-Ⅵ'!B24","v":509},{"$f":"IFERROR(D22/D$13,\"-\")","v":0.2602249488752556},null,"病識がなく通院服薬の中断が予測される",68,{"$f":"IFERROR(H22/H$13,\"-\")","v":0.19047619047619047},{"$f":"'２-Ⅵ'!H24","v":103},{"$f":"IFERROR(J22/J$13,\"-\")","v":0.18392857142857144}]
["反社会的行動が予測される",34,2.5449101796407185E-2,{"$f":"'２-Ⅵ'!B25","v":82},4.1922290388548056E-2,null,"反社会的行動が予測される",7,1.9607843137254902E-2,{"$f":"'２-Ⅵ'!H25","v":13},2.3214285714285715E-2]
["退院意欲が乏しい",526,0.39371257485029942,{"$f":"'２-Ⅵ'!B26","v":726},0.37116564417177916,null,"退院意欲が乏しい",135,0.37815126050420167,{"$f":"'２-Ⅵ'!H26","v":196},0.35]
["現実認識が乏しい",505,0.37799401197604793,{"$f":"'２-Ⅵ'!B27","v":737},0.37678936605316976,null,"現実認識が乏しい",102,0.2857142857142857,{"$f":"'２-Ⅵ'!H27","v":151},0.26964285714285713]
["退院による環境変化への不安が強い",310,0.23203592814371257,{"$f":"'２-Ⅵ'!B28","v":499},0.2551124744376278,null,"退院による環境変化への不安が強い",90,0.25210084033613445,{"$f":"'２-Ⅵ'!H28","v":146},0.26071428571428573]
["援助者との対人関係がもてない",84,6.2874251497005984E-2,{"$f":"'２-Ⅵ'!B29","v":151},7.7198364008179962E-2,null,"援助者との対人関係がもてない",9,2.5210084033613446E-2,{"$f":"'２-Ⅵ'!H29","v":21},3.7499999999999999E-2]
["家事（食事・洗濯・金銭管理など）ができない",406,0.30389221556886226,{"$f":"'２-Ⅵ'!B30","v":579},0.29601226993865032,null,"家事（食事・洗濯・金銭管理など）ができない",92,0.25770308123249297,{"$f":"'２-Ⅵ'!H30","v":133},0.23749999999999999]
["家族がいない、本人をサポートする機能が実質ない",201,0.15044910179640719,{"$f":"'２-Ⅵ'!B31","v":317},0.16206543967280163,null,"家族がいない、本人をサポートする機能が実質ない",61,0.17086834733893558,{"$f":"'２-Ⅵ'!H31","v":90},0.16071428571428573]
["家族が退院に反対している",303,0.22679640718562874,{"$f":"'２-Ⅵ'!B32","v":420},0.21472392638036811,null,"家族が退院に反対している",82,0.22969187675070027,{"$f":"'２-Ⅵ'!H32","v":120},0.21428571428571427]
["住まいの確保ができない",416,0.31137724550898205,{"$f":"'２-Ⅵ'!B33","v":615},0.31441717791411045,null,"住まいの確保ができない",115,0.32212885154061627,{"$f":"'２-Ⅵ'!H33","v":183},0.32678571428571429]
["生活費の確保ができない",81,6.0628742514970059E-2,{"$f":"'２-Ⅵ'!B34","v":114},5.8282208588957052E-2,null,"生活費の確保ができない",20,5.6022408963585436E-2,{"$f":"'２-Ⅵ'!H34","v":33},5.8928571428571427E-2]
["日常生活を支える制度がない",92,6.8862275449101798E-2,{"$f":"'２-Ⅵ'!B35","v":132},6.7484662576687116E-2,null,"日常生活を支える制度がない",18,5.0420168067226892E-2,{"$f":"'２-Ⅵ'!H35","v":24},4.2857142857142858E-2]
["救急診療体制がない",1,7.4850299401197609E-4,{"$f":"'２-Ⅵ'!B36","v":5},2.5562372188139061E-3,null,"救急診療体制がない",0,0,{"$f":"'２-Ⅵ'!H36","v":1},1.7857142857142857E-3]
["退院に向けてサポートする人的資源が乏しい",97,7.260479041916168E-2,{"$f":"'２-Ⅵ'!B37","v":146},7.4642126789366048E-2,null,"退院に向けてサポートする人的資源が乏しい",25,7.0028011204481794E-2,{"$f":"'２-Ⅵ'!H37","v":46},8.2142857142857142E-2]
["退院後サポート・マネジメントする人的資源が乏しい",68,5.089820359281437E-2,{"$f":"'２-Ⅵ'!B38","v":110},5.6237218813905927E-2,null,"退院後サポート・マネジメントする人的資源が乏しい",21,5.8823529411764705E-2,{"$f":"'２-Ⅵ'!H38","v":36},6.4285714285714279E-2]
["住所地と入院先の距離があり支援体制がとりにくい",20,1.4970059880239521E-2,{"$f":"'２-Ⅵ'!B39","v":30},1.5337423312883436E-2,null,"住所地と入院先の距離があり支援体制がとりにくい",8,2.2408963585434174E-2,{"$f":"'２-Ⅵ'!H39","v":11},1.9642857142857142E-2]
["身体的機能や状態を原因としたADLの低下がある",287,0.21482035928143711,{"$f":"'２-Ⅵ'!B40","v":331},{"$f":"IFERROR(D38/D$13,\"-\")","v":0.16922290388548059},null,"身体的機能や状態を原因としたADLの低下がある",47,0.13165266106442577,{"$f":"'２-Ⅵ'!H40","v":53},{"$f":"IFERROR(J38/J$13,\"-\")","v":9.464285714285714E-2}]
["身体合併症の程度が重いなど身体面のフォローが必要であり、地域での生活が困難",186,0.13922155688622753,{"$f":"'２-Ⅵ'!B41","v":211},0.10787321063394684,null,"身体合併症の程度が重いなど身体面のフォローが必要であり、地域での生活が困難",13,3.6414565826330535E-2,{"$f":"'２-Ⅵ'!H41","v":17},3.0357142857142857E-2]
["その他の退院阻害要因がある",26,1.9461077844311378E-2,{"$f":"'２-Ⅵ'!B42","v":44},2.2494887525562373E-2,null,"その他の退院阻害要因がある",10,2.8011204481792718E-2,{"$f":"'２-Ⅵ'!H42","v":18},3.214285714285714E-2]
[]
[]
["こちらのシートは直接入力です。"]

{"sheet":"5-Ⅰ①","index":18,"n_rows":67,"n_cols":15,"rows_kept":67,"cut":false,"hidden":false,"merged":[[46,1,46,5],[42,2,42,5],[45,2,45,5],[11,2,11,5],[35,1,36,1],[35,2,35,5],[36,2,36,3],[36,4,36,5],[1,1,2,1],[1,2,1,5],[2,2,2,3],[2,4,2,5],[12,1,12,5]]}
[null,"【退院阻害要因×年齢階層】",null,null,null,null,null,"データ貼り付け箇所"]
[null,"退院予定の有無","年齢"]
[null,null,"65歳未満",null,"65歳以上",null,"合計","行ラベル","65歳以上","65歳未満",null,null,null,"65歳未満","65歳以上"]
[null,"病状（主症状）が落ち着き、入院によらない形で治療ができるまで回復",{"$f":"IFERROR(INDEX(退院予定有無×年齢階層[#All],MATCH($M4,退院予定有無×年齢階層[[#All],[行ラベル]],0),MATCH($N$3,退院予定有無×年齢階層[#Headers],0)),0)","v":746},{"$f":"IFERROR(C4/C$7,\"-\")","v":0.12904341809375541},{"$f":"IFERROR(INDEX(退院予定有無×年齢階層[#All],MATCH($M4,退院予定有無×年齢階層[[#All],[行ラベル]],0),MATCH($O$3,退院予定有無×年齢階層[#Headers],0)),0)","v":1442},{"$f":"IFERROR(E4/E$7,\"-\")","v":0.16408739189804278},{"$f":"C4+E4","v":2188},97,1442,746,null,null,97]
[null,"病状（主症状）が不安定で入院による治療が必要",{"$f":"IFERROR(INDEX(退院予定有無×年齢階層[#All],MATCH($M5,退院予定有無×年齢階層[[#All],[行ラベル]],0),MATCH($N$3,退院予定有無×年齢階層[#Headers],0)),0)","v":4200},{"$f":"IFERROR(C5/C$7,\"-\")","v":0.72651790347690715},{"$f":"IFERROR(INDEX(退院予定有無×年齢階層[#All],MATCH($M5,退院予定有無×年齢階層[[#All],[行ラベル]],0),MATCH($O$3,退院予定有無×年齢階層[#Headers],0)),0)","v":6615},{"$f":"IFERROR(E5/E$7,\"-\")","v":0.75273099681383704},{"$f":"C5+E5","v":10815},98,6615,4200,null,null,98]
[null,"退院予定",{"$f":"IFERROR(INDEX(退院予定有無×年齢階層[#All],MATCH($M6,退院予定有無×年齢階層[[#All],[行ラベル]],0),MATCH($N$3,退院予定有無×年齢階層[#Headers],0)),0)","v":835},{"$f":"IFERROR(C6/C$7,\"-\")","v":0.1444386784293375},{"$f":"IFERROR(INDEX(退院予定有無×年齢階層[#All],MATCH($M6,退院予定有無×年齢階層[[#All],[行ラベル]],0),MATCH($O$3,退院予定有無×年齢階層[#Headers],0)),0)","v":731},{"$f":"IFERROR(E6/E$7,\"-\")","v":8.3181611288120169E-2},{"$f":"C6+E6","v":1566},99,731,835,null,null,99]
[null,"　総計",{"$f":"SUM(C4:C6)","v":5781},1,8788,1,{"$f":"C7+E7","v":14569}]
[]
[null,"退院阻害要因",null,null,null,null,null,"行ラベル","65歳以上","65歳未満"]
[null,"退院阻害要因がある",{"$f":"IFERROR(INDEX(阻害要因有無×年齢階層[#All],MATCH($M10,阻害要因有無×年齢階層[[#All],[行ラベル]],0),MATCH($N$3,阻害要因有無×年齢階層[#Headers],0)),0)","v":620},{"$f":"IFERROR(C10/C$4,\"-\")","v":0.83109919571045576},{"$f":"IFERROR(INDEX(阻害要因有無×年齢階層[#All],MATCH($M10,阻害要因有無×年齢階層[[#All],[行ラベル]],0),MATCH($O$3,阻害要因有無×年齢階層[#Headers],0)),0)","v":1336},{"$f":"IFERROR(E10/E$4,\"-\")","v":0.92649098474341196},{"$f":"C10+E10","v":1956},91,1336,620,null,null,91]
[null,"退院阻害要因はない",{"$f":"IFERROR(INDEX(阻害要因有無×年齢階層[#All],MATCH($M11,阻害要因有無×年齢階層[[#All],[行ラベル]],0),MATCH($N$3,阻害要因有無×年齢階層[#Headers],0)),0)","v":126},{"$f":"IFERROR(C11/C$4,\"-\")","v":0.16890080428954424},{"$f":"IFERROR(INDEX(阻害要因有無×年齢階層[#All],MATCH($M11,阻害要因有無×年齢階層[[#All],[行ラベル]],0),MATCH($O$3,阻害要因有無×年齢階層[#Headers],0)),0)","v":106},{"$f":"IFERROR(E11/E$4,\"-\")","v":7.3509015256588067E-2},{"$f":"C11+E11","v":232},90,106,126,null,null,90]
[null,"　＜複数回答＞"]
[null,"割合には「退院阻害要因がある」それぞれの人数に対する割合を表示しています。",null,null,null,null,null,"値","65歳以上","65歳未満"]
[null,"病状は落ち着いているが、ときどき不安定な病状が見られ、そのことが退院を阻害する要因になっている",{"$f":"IFERROR(INDEX(阻害要因×年齢階層[#All],MATCH($M14,阻害要因×年齢階層[[#All],[値]],0),MATCH($N$3,阻害要因×年齢階層[#Headers],0)),0)","v":254},{"$f":"IFERROR(C14/C$10,\"-\")","v":0.4096774193548387},{"$f":"IFERROR(INDEX(阻害要因×年齢階層[#All],MATCH($M14,阻害要因×年齢階層[[#All],[値]],0),MATCH($O$3,阻害要因×年齢階層[#Headers],0)),0)","v":406},{"$f":"IFERROR(E14/E$10,\"-\")","v":0.30389221556886226},{"$f":"SUM(C14,E14)","v":660},"合計 / 病状は落ち着いているが、ときどき不安定な病状が見られ、そのことが退院を阻害する要因になっている",406,254,null,null,"合計 / 病状は落ち着いているが、ときどき不安定な病状が見られ、そのことが退院を阻害する要因になっている"]
[null,"病識がなく通院服薬の中断が予測される",{"$f":"IFERROR(INDEX(阻害要因×年齢階層[#All],MATCH($M15,阻害要因×年齢階層[[#All],[値]],0),MATCH($N$3,阻害要因×年齢階層[#Headers],0)),0)","v":172},0.27741935483870966,{"$f":"IFERROR(INDEX(阻害要因×年齢階層[#All],MATCH($M15,阻害要因×年齢階層[[#All],[値]],0),MATCH($O$3,阻害要因×年齢階層[#Headers],0)),0)","v":337},0.2522455089820359,{"$f":"SUM(C15,E15)","v":509},"合計 / 病識がなく通院服薬の中断が予測される",337,172,null,null,"合計 / 病識がなく通院服薬の中断が予測される"]
[null,"反社会的行動が予測される",{"$f":"IFERROR(INDEX(阻害要因×年齢階層[#All],MATCH($M16,阻害要因×年齢階層[[#All],[値]],0),MATCH($N$3,阻害要因×年齢階層[#Headers],0)),0)","v":48},7.7419354838709681E-2,{"$f":"IFERROR(INDEX(阻害要因×年齢階層[#All],MATCH($M16,阻害要因×年齢階層[[#All],[値]],0),MATCH($O$3,阻害要因×年齢階層[#Headers],0)),0)","v":34},2.5449101796407185E-2,82,"合計 / 反社会的行動が予測される",34,48,null,null,"合計 / 反社会的行動が予測される"]
[null,"退院意欲が乏しい",{"$f":"IFERROR(INDEX(阻害要因×年齢階層[#All],MATCH($M17,阻害要因×年齢階層[[#All],[値]],0),MATCH($N$3,阻害要因×年齢階層[#Headers],0)),0)","v":200},0.32258064516129031,{"$f":"IFERROR(INDEX(阻害要因×年齢階層[#All],MATCH($M17,阻害要因×年齢階層[[#All],[値]],0),MATCH($O$3,阻害要因×年齢階層[#Headers],0)),0)","v":526},0.39371257485029942,726,"合計 / 退院意欲が乏しい",526,200,null,null,"合計 / 退院意欲が乏しい"]
[null,"現実認識が乏しい",{"$f":"IFERROR(INDEX(阻害要因×年齢階層[#All],MATCH($M18,阻害要因×年齢階層[[#All],[値]],0),MATCH($N$3,阻害要因×年齢階層[#Headers],0)),0)","v":232},0.37419354838709679,{"$f":"IFERROR(INDEX(阻害要因×年齢階層[#All],MATCH($M18,阻害要因×年齢階層[[#All],[値]],0),MATCH($O$3,阻害要因×年齢階層[#Headers],0)),0)","v":505},0.37799401197604793,737,"合計 / 現実認識が乏しい",505,232,null,null,"合計 / 現実認識が乏しい"]
[null,"退院による環境変化への不安が強い",{"$f":"IFERROR(INDEX(阻害要因×年齢階層[#All],MATCH($M19,阻害要因×年齢階層[[#All],[値]],0),MATCH($N$3,阻害要因×年齢階層[#Headers],0)),0)","v":189},0.30483870967741933,{"$f":"IFERROR(INDEX(阻害要因×年齢階層[#All],MATCH($M19,阻害要因×年齢階層[[#All],[値]],0),MATCH($O$3,阻害要因×年齢階層[#Headers],0)),0)","v":310},0.23203592814371257,499,"合計 / 退院による環境変化への不安が強い",310,189,null,null,"合計 / 退院による環境変化への不安が強い"]
[null,"援助者との対人関係がもてない",{"$f":"IFERROR(INDEX(阻害要因×年齢階層[#All],MATCH($M20,阻害要因×年齢階層[[#All],[値]],0),MATCH($N$3,阻害要因×年齢階層[#Headers],0)),0)","v":67},0.10806451612903226,{"$f":"IFERROR(INDEX(阻害要因×年齢階層[#All],MATCH($M20,阻害要因×年齢階層[[#All],[値]],0),MATCH($O$3,阻害要因×年齢階層[#Headers],0)),0)","v":84},6.2874251497005984E-2,151,"合計 / 援助者との対人関係がもてない",84,67,null,null,"合計 / 援助者との対人関係がもてない"]
[null,"家事（食事・洗濯・金銭管理など）ができない",{"$f":"IFERROR(INDEX(阻害要因×年齢階層[#All],MATCH($M21,阻害要因×年齢階層[[#All],[値]],0),MATCH($N$3,阻害要因×年齢階層[#Headers],0)),0)","v":173},{"$f":"IFERROR(C21/C$10,\"-\")","v":0.27903225806451615},{"$f":"IFERROR(INDEX(阻害要因×年齢階層[#All],MATCH($M21,阻害要因×年齢階層[[#All],[値]],0),MATCH($O$3,阻害要因×年齢階層[#Headers],0)),0)","v":406},0.30389221556886226,579,"合計 / 家事（食事,洗濯,金銭管理など）ができない",406,173,null,null,"合計 / 家事（食事,洗濯,金銭管理など）ができない"]
[null,"家族がいない、本人をサポートする機能が実質ない",{"$f":"IFERROR(INDEX(阻害要因×年齢階層[#All],MATCH($M22,阻害要因×年齢階層[[#All],[値]],0),MATCH($N$3,阻害要因×年齢階層[#Headers],0)),0)","v":116},0.18709677419354839,{"$f":"IFERROR(INDEX(阻害要因×年齢階層[#All],MATCH($M22,阻害要因×年齢階層[[#All],[値]],0),MATCH($O$3,阻害要因×年齢階層[#Headers],0)),0)","v":201},0.15044910179640719,317,"合計 / 家族がいない、本人をサポートする機能が実質ない",201,116,null,null,"合計 / 家族がいない、本人をサポートする機能が実質ない"]
[null,"家族から退院に反対がある",{"$f":"IFERROR(INDEX(阻害要因×年齢階層[#All],MATCH($M23,阻害要因×年齢階層[[#All],[値]],0),MATCH($N$3,阻害要因×年齢階層[#Headers],0)),0)","v":117},0.18870967741935485,{"$f":"IFERROR(INDEX(阻害要因×年齢階層[#All],MATCH($M23,阻害要因×年齢階層[[#All],[値]],0),MATCH($O$3,阻害要因×年齢階層[#Headers],0)),0)","v":303},0.22679640718562874,420,"合計 / 家族から退院に反対がある",303,117,null,null,"合計 / 家族から退院に反対がある"]
[null,"住まいの確保ができない",{"$f":"IFERROR(INDEX(阻害要因×年齢階層[#All],MATCH($M24,阻害要因×年齢階層[[#All],[値]],0),MATCH($N$3,阻害要因×年齢階層[#Headers],0)),0)","v":199},0.32096774193548389,{"$f":"IFERROR(INDEX(阻害要因×年齢階層[#All],MATCH($M24,阻害要因×年齢階層[[#All],[値]],0),MATCH($O$3,阻害要因×年齢階層[#Headers],0)),0)","v":416},0.31137724550898205,615,"合計 / 住まいの確保ができない",416,199,null,null,"合計 / 住まいの確保ができない"]
[null,"生活費の確保ができない",{"$f":"IFERROR(INDEX(阻害要因×年齢階層[#All],MATCH($M25,阻害要因×年齢階層[[#All],[値]],0),MATCH($N$3,阻害要因×年齢階層[#Headers],0)),0)","v":33},5.32258064516129E-2,{"$f":"IFERROR(INDEX(阻害要因×年齢階層[#All],MATCH($M25,阻害要因×年齢階層[[#All],[値]],0),MATCH($O$3,阻害要因×年齢階層[#Headers],0)),0)","v":81},6.0628742514970059E-2,114,"合計 / 生活費の確保ができない",81,33,null,null,"合計 / 生活費の確保ができない"]
[null,"日常生活を支える制度がない",{"$f":"IFERROR(INDEX(阻害要因×年齢階層[#All],MATCH($M26,阻害要因×年齢階層[[#All],[値]],0),MATCH($N$3,阻害要因×年齢階層[#Headers],0)),0)","v":40},6.4516129032258063E-2,{"$f":"IFERROR(INDEX(阻害要因×年齢階層[#All],MATCH($M26,阻害要因×年齢階層[[#All],[値]],0),MATCH($O$3,阻害要因×年齢階層[#Headers],0)),0)","v":92},6.8862275449101798E-2,132,"合計 / 日常生活を支える制度がない",92,40,null,null,"合計 / 日常生活を支える制度がない"]
[null,"救急診療体制がない",{"$f":"IFERROR(INDEX(阻害要因×年齢階層[#All],MATCH($M27,阻害要因×年齢階層[[#All],[値]],0),MATCH($N$3,阻害要因×年齢階層[#Headers],0)),0)","v":4},6.4516129032258064E-3,{"$f":"IFERROR(INDEX(阻害要因×年齢階層[#All],MATCH($M27,阻害要因×年齢階層[[#All],[値]],0),MATCH($O$3,阻害要因×年齢階層[#Headers],0)),0)","v":1},7.4850299401197609E-4,5,"合計 / 救急診療体制がない",1,4,null,null,"合計 / 救急診療体制がない"]
[null,"退院に向けてサポートする人的資源が乏しい",{"$f":"IFERROR(INDEX(阻害要因×年齢階層[#All],MATCH($M28,阻害要因×年齢階層[[#All],[値]],0),MATCH($N$3,阻害要因×年齢階層[#Headers],0)),0)","v":49},7.9032258064516123E-2,{"$f":"IFERROR(INDEX(阻害要因×年齢階層[#All],MATCH($M28,阻害要因×年齢階層[[#All],[値]],0),MATCH($O$3,阻害要因×年齢階層[#Headers],0)),0)","v":97},7.260479041916168E-2,146,"合計 / 退院に向けてサポートする人的資源が乏しい",97,49,null,null,"合計 / 退院に向けてサポートする人的資源が乏しい"]
[null,"退院後サポート・マネジメントする人的資源が乏しい",{"$f":"IFERROR(INDEX(阻害要因×年齢階層[#All],MATCH($M29,阻害要因×年齢階層[[#All],[値]],0),MATCH($N$3,阻害要因×年齢階層[#Headers],0)),0)","v":42},6.7741935483870974E-2,{"$f":"IFERROR(INDEX(阻害要因×年齢階層[#All],MATCH($M29,阻害要因×年齢階層[[#All],[値]],0),MATCH($O$3,阻害要因×年齢階層[#Headers],0)),0)","v":68},5.089820359281437E-2,110,"合計 / 退院後サポート・マネジメントする人的資源が乏しい",68,42,null,null,"合計 / 退院後サポート・マネジメントする人的資源が乏しい"]
[null,"住所地と入院先の距離があり支援体制をとりにくい",{"$f":"IFERROR(INDEX(阻害要因×年齢階層[#All],MATCH($M30,阻害要因×年齢階層[[#All],[値]],0),MATCH($N$3,阻害要因×年齢階層[#Headers],0)),0)","v":10},1.6129032258064516E-2,{"$f":"IFERROR(INDEX(阻害要因×年齢階層[#All],MATCH($M30,阻害要因×年齢階層[[#All],[値]],0),MATCH($O$3,阻害要因×年齢階層[#Headers],0)),0)","v":20},1.4970059880239521E-2,30,"合計 / 住所地と入院先の距離があり支援体制をとりにくい",20,10,null,null,"合計 / 住所地と入院先の距離があり支援体制をとりにくい"]
[null,"身体的機能や状態を原因としたADLの低下がある",{"$f":"IFERROR(INDEX(阻害要因×年齢階層[#All],MATCH($M31,阻害要因×年齢階層[[#All],[値]],0),MATCH($N$3,阻害要因×年齢階層[#Headers],0)),0)","v":44},{"$f":"IFERROR(C31/C$10,\"-\")","v":7.0967741935483872E-2},{"$f":"IFERROR(INDEX(阻害要因×年齢階層[#All],MATCH($M31,阻害要因×年齢階層[[#All],[値]],0),MATCH($O$3,阻害要因×年齢階層[#Headers],0)),0)","v":287},{"$f":"IFERROR(E31/E$10,\"-\")","v":0.21482035928143711},331,"合計 / 身体的機能や状態を原因としたADLの低下がある",287,44,null,null,"合計 / 身体的機能や状態を原因としたADLの低下がある"]
[null,"身体合併症の程度が重いなど身体面のフォローが必要であり、地域での生活が困難",{"$f":"IFERROR(INDEX(阻害要因×年齢階層[#All],MATCH($M32,阻害要因×年齢階層[[#All],[値]],0),MATCH($N$3,阻害要因×年齢階層[#Headers],0)),0)","v":25},4.0322580645161289E-2,{"$f":"IFERROR(INDEX(阻害要因×年齢階層[#All],MATCH($M32,阻害要因×年齢階層[[#All],[値]],0),MATCH($O$3,阻害要因×年齢階層[#Headers],0)),0)","v":186},0.13922155688622753,211,"合計 / 身体合併症の程度が重いなど身体面のフォローが必要であり、地域での生活が困難",186,25,null,null,"合計 / 身体合併症の程度が重いなど身体面のフォローが必要であり、地域での生活が困難"]
[null,"その他の退院阻害要因がある",{"$f":"IFERROR(INDEX(阻害要因×年齢階層[#All],MATCH($M33,阻害要因×年齢階層[[#All],[値]],0),MATCH($N$3,阻害要因×年齢階層[#Headers],0)),0)","v":18},2.903225806451613E-2,{"$f":"IFERROR(INDEX(阻害要因×年齢階層[#All],MATCH($M33,阻害要因×年齢階層[[#All],[値]],0),MATCH($O$3,阻害要因×年齢階層[#Headers],0)),0)","v":26},1.9461077844311378E-2,44,"合計 / その他の退院阻害要因がある",26,18,null,null,"合計 / その他の退院阻害要因がある"]
[]
[null,"【退院阻害要因×年齢階層】〔寛解・院内寛解群〕"]
[null,"退院予定の有無","年齢階層",null,null,null,null,"データ貼り付け箇所","寛解・院内寛解群"]
[null,null,"65歳未満",null,"65歳以上",null,null,"行ラベル","65歳以上","65歳未満"]
[null,"病状（主症状）が落ち着き、入院によらない形で治療ができるまで回復",{"$f":"IFERROR(INDEX(退院予定有無×年齢階層＿寛解・院内寛解[#All],MATCH($M4,退院予定有無×年齢階層＿寛解・院内寛解[[#All],[行ラベル]],0),MATCH($N$3,退院予定有無×年齢階層＿寛解・院内寛解[#Headers],0)),0)","v":251},{"$f":"IFERROR(C38/C$41,\"-\")","v":0.2988095238095238},{"$f":"IFERROR(INDEX(退院予定有無×年齢階層＿寛解・院内寛解[#All],MATCH($M4,退院予定有無×年齢階層＿寛解・院内寛解[[#All],[行ラベル]],0),MATCH($O$3,退院予定有無×年齢階層＿寛解・院内寛解[#Headers],0)),0)","v":385},{"$f":"IFERROR(E38/E$41,\"-\")","v":0.41666666666666669},{"$f":"SUM(C38,E38)","v":636},97,385,251]
[null,"病状（主症状）が不安定で入院による治療が必要",{"$f":"IFERROR(INDEX(退院予定有無×年齢階層＿寛解・院内寛解[#All],MATCH($M5,退院予定有無×年齢階層＿寛解・院内寛解[[#All],[行ラベル]],0),MATCH($N$3,退院予定有無×年齢階層＿寛解・院内寛解[#Headers],0)),0)","v":167},{"$f":"IFERROR(C39/C$41,\"-\")","v":0.1988095238095238},{"$f":"IFERROR(INDEX(退院予定有無×年齢階層＿寛解・院内寛解[#All],MATCH($M5,退院予定有無×年齢階層＿寛解・院内寛解[[#All],[行ラベル]],0),MATCH($O$3,退院予定有無×年齢階層＿寛解・院内寛解[#Headers],0)),0)","v":195},{"$f":"IFERROR(E39/E$41,\"-\")","v":0.21103896103896103},{"$f":"SUM(C39,E39)","v":362},98,195,167]
[null,"退院予定",{"$f":"IFERROR(INDEX(退院予定有無×年齢階層＿寛解・院内寛解[#All],MATCH($M6,退院予定有無×年齢階層＿寛解・院内寛解[[#All],[行ラベル]],0),MATCH($N$3,退院予定有無×年齢階層＿寛解・院内寛解[#Headers],0)),0)","v":422},{"$f":"IFERROR(C40/C$41,\"-\")","v":0.50238095238095237},{"$f":"IFERROR(INDEX(退院予定有無×年齢階層＿寛解・院内寛解[#All],MATCH($M6,退院予定有無×年齢階層＿寛解・院内寛解[[#All],[行ラベル]],0),MATCH($O$3,退院予定有無×年齢階層＿寛解・院内寛解[#Headers],0)),0)","v":344},{"$f":"IFERROR(E40/E$41,\"-\")","v":0.37229437229437229},{"$f":"SUM(C40,E40,K39)","v":766},99,344,422]
[null,"　総計",{"$f":"SUM(C38:C40)","v":840},1,{"$f":"SUM(E38:E40)","v":924},1,1764]
[]
[null,"退院阻害要因",null,null,null,null,null,"行ラベル","65歳以上","65歳未満"]
[null,"退院阻害要因がある",{"$f":"IFERROR(INDEX(阻害要因有無×年齢階層＿寛解・院内寛解[#All],MATCH($M10,阻害要因有無×年齢階層＿寛解・院内寛解[[#All],[行ラベル]],0),MATCH($N$3,阻害要因有無×年齢階層＿寛解・院内寛解[#Headers],0)),0)","v":203},{"$f":"IFERROR(C44/C$38,\"-\")","v":0.80876494023904377},{"$f":"IFERROR(INDEX(阻害要因有無×年齢階層＿寛解・院内寛解[#All],MATCH($M10,阻害要因有無×年齢階層＿寛解・院内寛解[[#All],[行ラベル]],0),MATCH($O$3,阻害要因有無×年齢階層＿寛解・院内寛解[#Headers],0)),0)","v":357},{"$f":"IFERROR(E44/E$38,\"-\")","v":0.92727272727272725},{"$f":"SUM(C44,E44)","v":560},91,357,203]
[null,"退院阻害要因はない",{"$f":"IFERROR(INDEX(阻害要因有無×年齢階層＿寛解・院内寛解[#All],MATCH($M11,阻害要因有無×年齢階層＿寛解・院内寛解[[#All],[行ラベル]],0),MATCH($N$3,阻害要因有無×年齢階層＿寛解・院内寛解[#Headers],0)),0)","v":48},{"$f":"IFERROR(C45/C$38,\"-\")","v":0.19123505976095617},{"$f":"IFERROR(INDEX(阻害要因有無×年齢階層＿寛解・院内寛解[#All],MATCH($M11,阻害要因有無×年齢階層＿寛解・院内寛解[[#All],[行ラベル]],0),MATCH($O$3,阻害要因有無×年齢階層＿寛解・院内寛解[#Headers],0)),0)","v":28},{"$f":"IFERROR(E45/E$38,\"-\")","v":7.2727272727272724E-2},{"$f":"SUM(C45,E45)","v":76},90,28,48]
[null,"　＜複数回答＞"]
[null,"割合には「退院阻害要因がある」それぞれの人数に対する割合を表示しています。",null,null,null,null,{"$f":"SUM(C48,E48)","v":163},"値","65歳以上","65歳未満"]
[null,"病状は落ち着いているが、ときどき不安定な病状が見られ、そのことが退院を阻害する要因になっている",{"$f":"IFERROR(INDEX(阻害要因×年齢階層＿寛解・院内寛解[#All],MATCH($M14,阻害要因×年齢階層＿寛解・院内寛解[[#All],[値]],0),MATCH($N$3,阻害要因×年齢階層＿寛解・院内寛解[#Headers],0)),0)","v":74},{"$f":"IFERROR(C48/C$44,\"-\")","v":0.3645320197044335},{"$f":"IFERROR(INDEX(阻害要因×年齢階層＿寛解・院内寛解[#All],MATCH($M14,阻害要因×年齢階層＿寛解・院内寛解[[#All],[値]],0),MATCH($O$3,阻害要因×年齢階層＿寛解・院内寛解[#Headers],0)),0)","v":89},{"$f":"IFERROR(E48/E$44,\"-\")","v":0.24929971988795518},103,"合計 / 病状は落ち着いているが、ときどき不安定な病状が見られ、そのことが退院を阻害する要因になっている",89,74]
[null,"病識がなく通院服薬の中断が予測される",{"$f":"IFERROR(INDEX(阻害要因×年齢階層＿寛解・院内寛解[#All],MATCH($M15,阻害要因×年齢階層＿寛解・院内寛解[[#All],[値]],0),MATCH($N$3,阻害要因×年齢階層＿寛解・院内寛解[#Headers],0)),0)","v":35},0.17241379310344829,{"$f":"IFERROR(INDEX(阻害要因×年齢階層＿寛解・院内寛解[#All],MATCH($M15,阻害要因×年齢階層＿寛解・院内寛解[[#All],[値]],0),MATCH($O$3,阻害要因×年齢階層＿寛解・院内寛解[#Headers],0)),0)","v":68},0.19047619047619047,13,"合計 / 病識がなく通院服薬の中断が予測される",68,35]
[null,"反社会的行動が予測される",{"$f":"IFERROR(INDEX(阻害要因×年齢階層＿寛解・院内寛解[#All],MATCH($M16,阻害要因×年齢階層＿寛解・院内寛解[[#All],[値]],0),MATCH($N$3,阻害要因×年齢階層＿寛解・院内寛解[#Headers],0)),0)","v":6},2.9556650246305417E-2,{"$f":"IFERROR(INDEX(阻害要因×年齢階層＿寛解・院内寛解[#All],MATCH($M16,阻害要因×年齢階層＿寛解・院内寛解[[#All],[値]],0),MATCH($O$3,阻害要因×年齢階層＿寛解・院内寛解[#Headers],0)),0)","v":7},1.9607843137254902E-2,196,"合計 / 反社会的行動が予測される",7,6]
[null,"退院意欲が乏しい",{"$f":"IFERROR(INDEX(阻害要因×年齢階層＿寛解・院内寛解[#All],MATCH($M17,阻害要因×年齢階層＿寛解・院内寛解[[#All],[値]],0),MATCH($N$3,阻害要因×年齢階層＿寛解・院内寛解[#Headers],0)),0)","v":61},0.30049261083743845,{"$f":"IFERROR(INDEX(阻害要因×年齢階層＿寛解・院内寛解[#All],MATCH($M17,阻害要因×年齢階層＿寛解・院内寛解[[#All],[値]],0),MATCH($O$3,阻害要因×年齢階層＿寛解・院内寛解[#Headers],0)),0)","v":135},0.37815126050420167,151,"合計 / 退院意欲が乏しい",135,61]
[null,"現実認識が乏しい",{"$f":"IFERROR(INDEX(阻害要因×年齢階層＿寛解・院内寛解[#All],MATCH($M18,阻害要因×年齢階層＿寛解・院内寛解[[#All],[値]],0),MATCH($N$3,阻害要因×年齢階層＿寛解・院内寛解[#Headers],0)),0)","v":49},0.2413793103448276,{"$f":"IFERROR(INDEX(阻害要因×年齢階層＿寛解・院内寛解[#All],MATCH($M18,阻害要因×年齢階層＿寛解・院内寛解[[#All],[値]],0),MATCH($O$3,阻害要因×年齢階層＿寛解・院内寛解[#Headers],0)),0)","v":102},0.2857142857142857,146,"合計 / 現実認識が乏しい",102,49]
[null,"退院による環境変化への不安が強い",{"$f":"IFERROR(INDEX(阻害要因×年齢階層＿寛解・院内寛解[#All],MATCH($M19,阻害要因×年齢階層＿寛解・院内寛解[[#All],[値]],0),MATCH($N$3,阻害要因×年齢階層＿寛解・院内寛解[#Headers],0)),0)","v":56},0.27586206896551724,{"$f":"IFERROR(INDEX(阻害要因×年齢階層＿寛解・院内寛解[#All],MATCH($M19,阻害要因×年齢階層＿寛解・院内寛解[[#All],[値]],0),MATCH($O$3,阻害要因×年齢階層＿寛解・院内寛解[#Headers],0)),0)","v":90},0.25210084033613445,21,"合計 / 退院による環境変化への不安が強い",90,56]
[null,"援助者との対人関係がもてない",{"$f":"IFERROR(INDEX(阻害要因×年齢階層＿寛解・院内寛解[#All],MATCH($M20,阻害要因×年齢階層＿寛解・院内寛解[[#All],[値]],0),MATCH($N$3,阻害要因×年齢階層＿寛解・院内寛解[#Headers],0)),0)","v":12},5.9113300492610835E-2,{"$f":"IFERROR(INDEX(阻害要因×年齢階層＿寛解・院内寛解[#All],MATCH($M20,阻害要因×年齢階層＿寛解・院内寛解[[#All],[値]],0),MATCH($O$3,阻害要因×年齢階層＿寛解・院内寛解[#Headers],0)),0)","v":9},2.5210084033613446E-2,133,"合計 / 援助者との対人関係がもてない",9,12]
[null,"家事（食事・洗濯・金銭管理など）ができない",{"$f":"IFERROR(INDEX(阻害要因×年齢階層＿寛解・院内寛解[#All],MATCH($M21,阻害要因×年齢階層＿寛解・院内寛解[[#All],[値]],0),MATCH($N$3,阻害要因×年齢階層＿寛解・院内寛解[#Headers],0)),0)","v":41},0.2019704433497537,{"$f":"IFERROR(INDEX(阻害要因×年齢階層＿寛解・院内寛解[#All],MATCH($M21,阻害要因×年齢階層＿寛解・院内寛解[[#All],[値]],0),MATCH($O$3,阻害要因×年齢階層＿寛解・院内寛解[#Headers],0)),0)","v":92},0.25770308123249297,90,"合計 / 家事（食事,洗濯,金銭管理など）ができない",92,41]
[null,"家族がいない、本人をサポートする機能が実質ない",{"$f":"IFERROR(INDEX(阻害要因×年齢階層＿寛解・院内寛解[#All],MATCH($M22,阻害要因×年齢階層＿寛解・院内寛解[[#All],[値]],0),MATCH($N$3,阻害要因×年齢階層＿寛解・院内寛解[#Headers],0)),0)","v":29},0.14285714285714285,{"$f":"IFERROR(INDEX(阻害要因×年齢階層＿寛解・院内寛解[#All],MATCH($M22,阻害要因×年齢階層＿寛解・院内寛解[[#All],[値]],0),MATCH($O$3,阻害要因×年齢階層＿寛解・院内寛解[#Headers],0)),0)","v":61},0.17086834733893558,120,"合計 / 家族がいない、本人をサポートする機能が実質ない",61,29]
[null,"家族から退院に反対がある",{"$f":"IFERROR(INDEX(阻害要因×年齢階層＿寛解・院内寛解[#All],MATCH($M23,阻害要因×年齢階層＿寛解・院内寛解[[#All],[値]],0),MATCH($N$3,阻害要因×年齢階層＿寛解・院内寛解[#Headers],0)),0)","v":38},0.18719211822660098,{"$f":"IFERROR(INDEX(阻害要因×年齢階層＿寛解・院内寛解[#All],MATCH($M23,阻害要因×年齢階層＿寛解・院内寛解[[#All],[値]],0),MATCH($O$3,阻害要因×年齢階層＿寛解・院内寛解[#Headers],0)),0)","v":82},0.22969187675070027,183,"合計 / 家族から退院に反対がある",82,38]
[null,"住まいの確保ができない",{"$f":"IFERROR(INDEX(阻害要因×年齢階層＿寛解・院内寛解[#All],MATCH($M24,阻害要因×年齢階層＿寛解・院内寛解[[#All],[値]],0),MATCH($N$3,阻害要因×年齢階層＿寛解・院内寛解[#Headers],0)),0)","v":68},0.33497536945812806,{"$f":"IFERROR(INDEX(阻害要因×年齢階層＿寛解・院内寛解[#All],MATCH($M24,阻害要因×年齢階層＿寛解・院内寛解[[#All],[値]],0),MATCH($O$3,阻害要因×年齢階層＿寛解・院内寛解[#Headers],0)),0)","v":115},0.32212885154061627,33,"合計 / 住まいの確保ができない",115,68]
[null,"生活費の確保ができない",{"$f":"IFERROR(INDEX(阻害要因×年齢階層＿寛解・院内寛解[#All],MATCH($M25,阻害要因×年齢階層＿寛解・院内寛解[[#All],[値]],0),MATCH($N$3,阻害要因×年齢階層＿寛解・院内寛解[#Headers],0)),0)","v":13},6.4039408866995079E-2,{"$f":"IFERROR(INDEX(阻害要因×年齢階層＿寛解・院内寛解[#All],MATCH($M25,阻害要因×年齢階層＿寛解・院内寛解[[#All],[値]],0),MATCH($O$3,阻害要因×年齢階層＿寛解・院内寛解[#Headers],0)),0)","v":20},5.6022408963585436E-2,24,"合計 / 生活費の確保ができない",20,13]
[null,"日常生活を支える制度がない",{"$f":"IFERROR(INDEX(阻害要因×年齢階層＿寛解・院内寛解[#All],MATCH($M26,阻害要因×年齢階層＿寛解・院内寛解[[#All],[値]],0),MATCH($N$3,阻害要因×年齢階層＿寛解・院内寛解[#Headers],0)),0)","v":6},2.9556650246305417E-2,{"$f":"IFERROR(INDEX(阻害要因×年齢階層＿寛解・院内寛解[#All],MATCH($M26,阻害要因×年齢階層＿寛解・院内寛解[[#All],[値]],0),MATCH($O$3,阻害要因×年齢階層＿寛解・院内寛解[#Headers],0)),0)","v":18},5.0420168067226892E-2,1,"合計 / 日常生活を支える制度がない",18,6]
[null,"救急診療体制がない",{"$f":"IFERROR(INDEX(阻害要因×年齢階層＿寛解・院内寛解[#All],MATCH($M27,阻害要因×年齢階層＿寛解・院内寛解[[#All],[値]],0),MATCH($N$3,阻害要因×年齢階層＿寛解・院内寛解[#Headers],0)),0)","v":1},4.9261083743842365E-3,{"$f":"IFERROR(INDEX(阻害要因×年齢階層＿寛解・院内寛解[#All],MATCH($M27,阻害要因×年齢階層＿寛解・院内寛解[[#All],[値]],0),MATCH($O$3,阻害要因×年齢階層＿寛解・院内寛解[#Headers],0)),0)","v":0},0,46,"合計 / 救急診療体制がない",0,1]
[null,"退院に向けてサポートする人的資源が乏しい",{"$f":"IFERROR(INDEX(阻害要因×年齢階層＿寛解・院内寛解[#All],MATCH($M28,阻害要因×年齢階層＿寛解・院内寛解[[#All],[値]],0),MATCH($N$3,阻害要因×年齢階層＿寛解・院内寛解[#Headers],0)),0)","v":21},0.10344827586206896,{"$f":"IFERROR(INDEX(阻害要因×年齢階層＿寛解・院内寛解[#All],MATCH($M28,阻害要因×年齢階層＿寛解・院内寛解[[#All],[値]],0),MATCH($O$3,阻害要因×年齢階層＿寛解・院内寛解[#Headers],0)),0)","v":25},7.0028011204481794E-2,36,"合計 / 退院に向けてサポートする人的資源が乏しい",25,21]
[null,"退院後サポート・マネジメントする人的資源が乏しい",{"$f":"IFERROR(INDEX(阻害要因×年齢階層＿寛解・院内寛解[#All],MATCH($M29,阻害要因×年齢階層＿寛解・院内寛解[[#All],[値]],0),MATCH($N$3,阻害要因×年齢階層＿寛解・院内寛解[#Headers],0)),0)","v":15},7.3891625615763554E-2,{"$f":"IFERROR(INDEX(阻害要因×年齢階層＿寛解・院内寛解[#All],MATCH($M29,阻害要因×年齢階層＿寛解・院内寛解[[#All],[値]],0),MATCH($O$3,阻害要因×年齢階層＿寛解・院内寛解[#Headers],0)),0)","v":21},5.8823529411764705E-2,11,"合計 / 退院後サポート・マネジメントする人的資源が乏しい",21,15]
[null,"住所地と入院先の距離があり支援体制をとりにくい",{"$f":"IFERROR(INDEX(阻害要因×年齢階層＿寛解・院内寛解[#All],MATCH($M30,阻害要因×年齢階層＿寛解・院内寛解[[#All],[値]],0),MATCH($N$3,阻害要因×年齢階層＿寛解・院内寛解[#Headers],0)),0)","v":3},1.4778325123152709E-2,{"$f":"IFERROR(INDEX(阻害要因×年齢階層＿寛解・院内寛解[#All],MATCH($M30,阻害要因×年齢階層＿寛解・院内寛解[[#All],[値]],0),MATCH($O$3,阻害要因×年齢階層＿寛解・院内寛解[#Headers],0)),0)","v":8},2.2408963585434174E-2,{"$f":"SUM(C67,E67)","v":18},"合計 / 住所地と入院先の距離があり支援体制をとりにくい",8,3]
[null,"身体的機能や状態を原因としたADLの低下がある",{"$f":"IFERROR(INDEX(阻害要因×年齢階層＿寛解・院内寛解[#All],MATCH($M31,阻害要因×年齢階層＿寛解・院内寛解[[#All],[値]],0),MATCH($N$3,阻害要因×年齢階層＿寛解・院内寛解[#Headers],0)),0)","v":6},{"$f":"IFERROR(C65/C$44,\"-\")","v":2.9556650246305417E-2},{"$f":"IFERROR(INDEX(阻害要因×年齢階層＿寛解・院内寛解[#All],MATCH($M31,阻害要因×年齢階層＿寛解・院内寛解[[#All],[値]],0),MATCH($O$3,阻害要因×年齢階層＿寛解・院内寛解[#Headers],0)),0)","v":47},{"$f":"IFERROR(E65/E$44,\"-\")","v":0.13165266106442577},{"$f":"SUM(C68,E68)","v":0},"合計 / 身体的機能や状態を原因としたADLの低下がある",47,6]
[null,"身体合併症の程度が重いなど身体面のフォローが必要であり、地域での生活が困難",{"$f":"IFERROR(INDEX(阻害要因×年齢階層＿寛解・院内寛解[#All],MATCH($M32,阻害要因×年齢階層＿寛解・院内寛解[[#All],[値]],0),MATCH($N$3,阻害要因×年齢階層＿寛解・院内寛解[#Headers],0)),0)","v":4},1.9704433497536946E-2,{"$f":"IFERROR(INDEX(阻害要因×年齢階層＿寛解・院内寛解[#All],MATCH($M32,阻害要因×年齢階層＿寛解・院内寛解[[#All],[値]],0),MATCH($O$3,阻害要因×年齢階層＿寛解・院内寛解[#Headers],0)),0)","v":13},3.6414565826330535E-2,0,"合計 / 身体合併症の程度が重いなど身体面のフォローが必要であり、地域での生活が困難",13,4]
[null,"その他の退院阻害要因がある",{"$f":"IFERROR(INDEX(阻害要因×年齢階層＿寛解・院内寛解[#All],MATCH($M33,阻害要因×年齢階層＿寛解・院内寛解[[#All],[値]],0),MATCH($N$3,阻害要因×年齢階層＿寛解・院内寛解[#Headers],0)),0)","v":8},3.9408866995073892E-2,{"$f":"IFERROR(INDEX(阻害要因×年齢階層＿寛解・院内寛解[#All],MATCH($M33,阻害要因×年齢階層＿寛解・院内寛解[[#All],[値]],0),MATCH($O$3,阻害要因×年齢階層＿寛解・院内寛解[#Headers],0)),0)","v":10},2.8011204481792718E-2,0,"合計 / その他の退院阻害要因がある",10,8]

{"sheet":"５-Ⅰ②","index":19,"n_rows":68,"n_cols":51,"rows_kept":68,"cut":false,"hidden":false,"merged":[[46,1,46,9],[45,2,45,9],[42,2,42,9],[1,1,2,1],[1,2,1,9],[2,2,2,3],[2,4,2,5],[35,1,36,1],[2,6,2,7],[2,8,2,9],[36,6,36,7],[36,8,36,9],[35,2,35,9],[36,2,36,3],[36,4,36,5],[8,2,8,9],[11,2,11,9],[12,1,12,9]]}
[null,"【退院阻害要因×在院期間区分】"]
[null,"退院予定の有無","在院期間区分",null,null,null,null,null,null,null,null,"データ貼り付け箇所"]
[null,null,"1年未満",null,"1年以上5年未満",null,"5年以上10年未満",null,"10年以上",null,null,"行ラベル","01_1ヶ月未満","02_1ヶ月～3ヶ月未満","03_3ヶ月～6ヶ月未満","04_6ヶ月～1年未満","05_1年～1年6ヶ月未満","06_1年6ヶ月～2年未満","07_2年～3年未満","08_3年～4年未満","09_4年～5年未満","10_5年～6年未満","11_6年～7年未満","12_7年～8年未満","13_8年～9年未満","14_9年～10年未満","15_10年～20年未満","16_ 20年以上"]
[null,"病状（主症状）が落ち着き、入院によらない形で治療ができるまで回復",{"$f":"IFERROR(INDEX(退院予定有無×在院期間区分[#All],MATCH($AI5,退院予定有無×在院期間区分[[#All],[行ラベル]],0),MATCH($AJ$4,退院予定有無×在院期間区分[#Headers],0)),)+IFERROR(INDEX(退院予定有無×在院期間区分[#All],MATCH($AI5,退院予定有無×在院期間区分[[#All],[行ラベル]],0),MATCH($AK$4,退院予定有無×在院期間区分[#Headers],0)),0)+IFERROR(INDEX(退院予定有無×在院期間区分[#All],MATCH($AI5,退院予定有無×在院期間区分[[#All],[行ラベル]],0),MATCH($AL$4,退院予定有無×在院期間区分[#Headers],0)),0)+IFERROR(INDEX(退院予定有無×在院期間区分[#All],MATCH($AI5,退院予定有無×在院期間区分[[#All],[行ラベル]],0),MATCH($AM$4,退院予定有無×在院期間区分[#Headers],0)),0)","v":863},{"$f":"IFERROR(C4/C$7,\"-\")","v":0.13406866552741961},{"$f":"IFERROR(INDEX(退院予定有無×在院期間区分[#All],MATCH($AI5,退院予定有無×在院期間区分[[#All],[行ラベル]],0),MATCH($AN$4,退院予定有無×在院期間区分[#Headers],0)),0)+IFERROR(INDEX(退院予定有無×在院期間区分[#All],MATCH($AI5,退院予定有無×在院期間区分[[#All],[行ラベル]],0),MATCH($AO$4,退院予定有無×在院期間区分[#Headers],0)),0)+IFERROR(INDEX(退院予定有無×在院期間区分[#All],MATCH($AI5,退院予定有無×在院期間区分[[#All],[行ラベル]],0),MATCH($AP$4,退院予定有無×在院期間区分[#Headers],0)),0)+IFERROR(INDEX(退院予定有無×在院期間区分[#All],MATCH($AI5,退院予定有無×在院期間区分[[#All],[行ラベル]],0),MATCH($AQ$4,退院予定有無×在院期間区分[#Headers],0)),0)+IFERROR(INDEX(退院予定有無×在院期間区分[#All],MATCH($AI5,退院予定有無×在院期間区分[[#All],[行ラベル]],0),MATCH($AR$4,退院予定有無×在院期間区分[#Headers],0)),0)","v":693},{"$f":"IFERROR(E4/E$7,\"-\")","v":0.16586883676400191},{"$f":"IFERROR(INDEX(退院予定有無×在院期間区分[#All],MATCH($AI5,退院予定有無×在院期間区分[[#All],[行ラベル]],0),MATCH($AS$4,退院予定有無×在院期間区分[#Headers],0))+INDEX(退院予定有無×在院期間区分[#All],MATCH($AI5,退院予定有無×在院期間区分[[#All],[行ラベル]],0),MATCH($AT$4,退院予定有無×在院期間区分[#Headers],0)),0)+IFERROR(INDEX(退院予定有無×在院期間区分[#All],MATCH($AI5,退院予定有無×在院期間区分[[#All],[行ラベル]],0),MATCH($AU$4,退院予定有無×在院期間区分[#Headers],0)),0)+IFERROR(INDEX(退院予定有無×在院期間区分[#All],MATCH($AI5,退院予定有無×在院期間区分[[#All],[行ラベル]],0),MATCH($AV$4,退院予定有無×在院期間区分[#Headers],0)),0)+IFERROR(INDEX(退院予定有無×在院期間区分[#All],MATCH($AI5,退院予定有無×在院期間区分[[#All],[行ラベル]],0),MATCH($AW$4,退院予定有無×在院期間区分[#Headers],0)),0)","v":302},{"$f":"IFERROR(G4/G$7,\"-\")","v":0.16158373461744249},{"$f":"IFERROR(INDEX(退院予定有無×在院期間区分[#All],MATCH($AI5,退院予定有無×在院期間区分[[#All],[行ラベル]],0),MATCH($AX$4,退院予定有無×在院期間区分[#Headers],0)),0)+IFERROR(INDEX(退院予定有無×在院期間区分[#All],MATCH($AI5,退院予定有無×在院期間区分[[#All],[行ラベル]],0),MATCH($AY$4,退院予定有無×在院期間区分[#Headers],0)),0)","v":330},{"$f":"IFERROR(I4/I$7,\"-\")","v":0.15827338129496402},{"$f":"C4+E4+G4+I4","v":2188},98,1186,1293,816,941,635,585,840,722,544,470,362,238,262,198,1078,645,null,null,null,null,null,null,null,"01_1ヶ月未満","02_1ヶ月～3ヶ月未満","03_3ヶ月～6ヶ月未満","04_6ヶ月～1年未満","05_1年～1年6ヶ月未満","06_1年6ヶ月～2年未満","07_2年～3年未満","08_3年～4年未満","09_4年～5年未満","10_5年～6年未満","11_6年～7年未満","12_7年～8年未満","13_8年～9年未満","14_9年～10年未満","15_10年～20年未満","16_ 20年以上"]
[null,"病状（主症状）が不安定で入院による治療が必要",{"$f":"IFERROR(INDEX(退院予定有無×在院期間区分[#All],MATCH($AI6,退院予定有無×在院期間区分[[#All],[行ラベル]],0),MATCH($AJ$4,退院予定有無×在院期間区分[#Headers],0)),)+IFERROR(INDEX(退院予定有無×在院期間区分[#All],MATCH($AI6,退院予定有無×在院期間区分[[#All],[行ラベル]],0),MATCH($AK$4,退院予定有無×在院期間区分[#Headers],0)),0)+IFERROR(INDEX(退院予定有無×在院期間区分[#All],MATCH($AI6,退院予定有無×在院期間区分[[#All],[行ラベル]],0),MATCH($AL$4,退院予定有無×在院期間区分[#Headers],0)),0)+IFERROR(INDEX(退院予定有無×在院期間区分[#All],MATCH($AI6,退院予定有無×在院期間区分[[#All],[行ラベル]],0),MATCH($AM$4,退院予定有無×在院期間区分[#Headers],0)),0)","v":4236},{"$f":"IFERROR(C5/C$7,\"-\")","v":0.65807052974988345},{"$f":"IFERROR(INDEX(退院予定有無×在院期間区分[#All],MATCH($AI6,退院予定有無×在院期間区分[[#All],[行ラベル]],0),MATCH($AN$4,退院予定有無×在院期間区分[#Headers],0)),0)+IFERROR(INDEX(退院予定有無×在院期間区分[#All],MATCH($AI6,退院予定有無×在院期間区分[[#All],[行ラベル]],0),MATCH($AO$4,退院予定有無×在院期間区分[#Headers],0)),0)+IFERROR(INDEX(退院予定有無×在院期間区分[#All],MATCH($AI6,退院予定有無×在院期間区分[[#All],[行ラベル]],0),MATCH($AP$4,退院予定有無×在院期間区分[#Headers],0)),0)+IFERROR(INDEX(退院予定有無×在院期間区分[#All],MATCH($AI6,退院予定有無×在院期間区分[[#All],[行ラベル]],0),MATCH($AQ$4,退院予定有無×在院期間区分[#Headers],0)),0)+IFERROR(INDEX(退院予定有無×在院期間区分[#All],MATCH($AI6,退院予定有無×在院期間区分[[#All],[行ラベル]],0),MATCH($AR$4,退院予定有無×在院期間区分[#Headers],0)),0)","v":3326},{"$f":"IFERROR(E5/E$7,\"-\")","v":0.79607467687888944},{"$f":"IFERROR(INDEX(退院予定有無×在院期間区分[#All],MATCH($AI6,退院予定有無×在院期間区分[[#All],[行ラベル]],0),MATCH($AS$4,退院予定有無×在院期間区分[#Headers],0))+INDEX(退院予定有無×在院期間区分[#All],MATCH($AI6,退院予定有無×在院期間区分[[#All],[行ラベル]],0),MATCH($AT$4,退院予定有無×在院期間区分[#Headers],0)),0)+IFERROR(INDEX(退院予定有無×在院期間区分[#All],MATCH($AI6,退院予定有無×在院期間区分[[#All],[行ラベル]],0),MATCH($AU$4,退院予定有無×在院期間区分[#Headers],0)),0)+IFERROR(INDEX(退院予定有無×在院期間区分[#All],MATCH($AI6,退院予定有無×在院期間区分[[#All],[行ラベル]],0),MATCH($AV$4,退院予定有無×在院期間区分[#Headers],0)),0)+IFERROR(INDEX(退院予定有無×在院期間区分[#All],MATCH($AI6,退院予定有無×在院期間区分[[#All],[行ラベル]],0),MATCH($AW$4,退院予定有無×在院期間区分[#Headers],0)),0)","v":1530},{"$f":"IFERROR(G5/G$7,\"-\")","v":0.8186195826645265},{"$f":"IFERROR(INDEX(退院予定有無×在院期間区分[#All],MATCH($AI6,退院予定有無×在院期間区分[[#All],[行ラベル]],0),MATCH($AX$4,退院予定有無×在院期間区分[#Headers],0)),0)+IFERROR(INDEX(退院予定有無×在院期間区分[#All],MATCH($AI6,退院予定有無×在院期間区分[[#All],[行ラベル]],0),MATCH($AY$4,退院予定有無×在院期間区分[#Headers],0)),0)","v":1723},{"$f":"IFERROR(I5/I$7,\"-\")","v":0.826378896882494},{"$f":"C5+E5+G5+I5","v":10815},97,173,267,197,226,146,120,170,139,118,89,62,59,49,43,208,122,null,null,null,null,null,null,97]
[null,"退院予定",{"$f":"IFERROR(INDEX(退院予定有無×在院期間区分[#All],MATCH($AI7,退院予定有無×在院期間区分[[#All],[行ラベル]],0),MATCH($AJ$4,退院予定有無×在院期間区分[#Headers],0)),)+IFERROR(INDEX(退院予定有無×在院期間区分[#All],MATCH($AI7,退院予定有無×在院期間区分[[#All],[行ラベル]],0),MATCH($AK$4,退院予定有無×在院期間区分[#Headers],0)),0)+IFERROR(INDEX(退院予定有無×在院期間区分[#All],MATCH($AI7,退院予定有無×在院期間区分[[#All],[行ラベル]],0),MATCH($AL$4,退院予定有無×在院期間区分[#Headers],0)),0)+IFERROR(INDEX(退院予定有無×在院期間区分[#All],MATCH($AI7,退院予定有無×在院期間区分[[#All],[行ラベル]],0),MATCH($AM$4,退院予定有無×在院期間区分[#Headers],0)),0)","v":1338},{"$f":"IFERROR(C6/C$7,\"-\")","v":0.20786080472269691},{"$f":"IFERROR(INDEX(退院予定有無×在院期間区分[#All],MATCH($AI7,退院予定有無×在院期間区分[[#All],[行ラベル]],0),MATCH($AN$4,退院予定有無×在院期間区分[#Headers],0)),0)+IFERROR(INDEX(退院予定有無×在院期間区分[#All],MATCH($AI7,退院予定有無×在院期間区分[[#All],[行ラベル]],0),MATCH($AO$4,退院予定有無×在院期間区分[#Headers],0)),0)+IFERROR(INDEX(退院予定有無×在院期間区分[#All],MATCH($AI7,退院予定有無×在院期間区分[[#All],[行ラベル]],0),MATCH($AP$4,退院予定有無×在院期間区分[#Headers],0)),0)+IFERROR(INDEX(退院予定有無×在院期間区分[#All],MATCH($AI7,退院予定有無×在院期間区分[[#All],[行ラベル]],0),MATCH($AQ$4,退院予定有無×在院期間区分[#Headers],0)),0)+IFERROR(INDEX(退院予定有無×在院期間区分[#All],MATCH($AI7,退院予定有無×在院期間区分[[#All],[行ラベル]],0),MATCH($AR$4,退院予定有無×在院期間区分[#Headers],0)),0)","v":159},{"$f":"IFERROR(E6/E$7,\"-\")","v":3.8056486357108663E-2},{"$f":"IFERROR(INDEX(退院予定有無×在院期間区分[#All],MATCH($AI7,退院予定有無×在院期間区分[[#All],[行ラベル]],0),MATCH($AS$4,退院予定有無×在院期間区分[#Headers],0))+INDEX(退院予定有無×在院期間区分[#All],MATCH($AI7,退院予定有無×在院期間区分[[#All],[行ラベル]],0),MATCH($AT$4,退院予定有無×在院期間区分[#Headers],0)),0)+IFERROR(INDEX(退院予定有無×在院期間区分[#All],MATCH($AI7,退院予定有無×在院期間区分[[#All],[行ラベル]],0),MATCH($AU$4,退院予定有無×在院期間区分[#Headers],0)),0)+IFERROR(INDEX(退院予定有無×在院期間区分[#All],MATCH($AI7,退院予定有無×在院期間区分[[#All],[行ラベル]],0),MATCH($AV$4,退院予定有無×在院期間区分[#Headers],0)),0)+IFERROR(INDEX(退院予定有無×在院期間区分[#All],MATCH($AI7,退院予定有無×在院期間区分[[#All],[行ラベル]],0),MATCH($AW$4,退院予定有無×在院期間区分[#Headers],0)),0)","v":37},{"$f":"IFERROR(G6/G$7,\"-\")","v":1.9796682718031033E-2},{"$f":"IFERROR(INDEX(退院予定有無×在院期間区分[#All],MATCH($AI7,退院予定有無×在院期間区分[[#All],[行ラベル]],0),MATCH($AX$4,退院予定有無×在院期間区分[#Headers],0)),0)+IFERROR(INDEX(退院予定有無×在院期間区分[#All],MATCH($AI7,退院予定有無×在院期間区分[[#All],[行ラベル]],0),MATCH($AY$4,退院予定有無×在院期間区分[#Headers],0)),0)","v":32},{"$f":"IFERROR(I6/I$7,\"-\")","v":1.5347721822541967E-2},{"$f":"C6+E6+G6+I6","v":1566},99,458,575,195,110,58,23,31,33,14,15,7,7,5,3,22,10,null,null,null,null,null,null,98]
[null,"　総計",{"$f":"SUM(C4:C6)","v":6437},1,4178,1,1869,1,2085,1,{"$f":"C7+E7+G7+I7","v":14569},null,null,null,null,null,null,null,null,null,null,null,null,null,null,null,null,null,null,null,null,null,null,null,99]
[]
[null,"退院阻害要因",null,null,null,null,null,null,null,null,null,"行ラベル","01_1ヶ月未満","02_1ヶ月～3ヶ月未満","03_3ヶ月～6ヶ月未満","04_6ヶ月～1年未満","05_1年～1年6ヶ月未満","06_1年6ヶ月～2年未満","07_2年～3年未満","08_3年～4年未満","09_4年～5年未満","10_5年～6年未満","11_6年～7年未満","12_7年～8年未満","13_8年～9年未満","14_9年～10年未満","15_10年～20年未満","16_ 20年以上"]
[null,"退院阻害要因がある",{"$f":"IFERROR(INDEX(阻害要因有無×在院期間区分[#All],MATCH($AI11,阻害要因有無×在院期間区分[[#All],[行ラベル]],0),MATCH($AJ$4,阻害要因有無×在院期間区分[#Headers],0)),0)+IFERROR(INDEX(阻害要因有無×在院期間区分[#All],MATCH($AI11,阻害要因有無×在院期間区分[[#All],[行ラベル]],0),MATCH($AK$4,阻害要因有無×在院期間区分[#Headers],0)),0)+IFERROR(INDEX(阻害要因有無×在院期間区分[#All],MATCH($AI11,阻害要因有無×在院期間区分[[#All],[行ラベル]],0),MATCH($AL$4,阻害要因有無×在院期間区分[#Headers],0)),0)+IFERROR(INDEX(阻害要因有無×在院期間区分[#All],MATCH($AI11,阻害要因有無×在院期間区分[[#All],[行ラベル]],0),MATCH($AM$4,阻害要因有無×在院期間区分[#Headers],0)),0)","v":665},{"$f":"IFERROR(C10/C$4,\"-\")","v":0.7705677867902665},{"$f":"IFERROR(INDEX(阻害要因有無×在院期間区分[#All],MATCH($AI11,阻害要因有無×在院期間区分[[#All],[行ラベル]],0),MATCH($AN$4,阻害要因有無×在院期間区分[#Headers],0)),0)+IFERROR(INDEX(阻害要因有無×在院期間区分[#All],MATCH($AI11,阻害要因有無×在院期間区分[[#All],[行ラベル]],0),MATCH($AO$4,阻害要因有無×在院期間区分[#Headers],0)),0)+IFERROR(INDEX(阻害要因有無×在院期間区分[#All],MATCH($AI11,阻害要因有無×在院期間区分[[#All],[行ラベル]],0),MATCH($AP$4,阻害要因有無×在院期間区分[#Headers],0)),0)+IFERROR(INDEX(阻害要因有無×在院期間区分[#All],MATCH($AI11,阻害要因有無×在院期間区分[[#All],[行ラベル]],0),MATCH($AQ$4,阻害要因有無×在院期間区分[#Headers],0)),0)+IFERROR(INDEX(阻害要因有無×在院期間区分[#All],MATCH($AI11,阻害要因有無×在院期間区分[[#All],[行ラベル]],0),MATCH($AR$4,阻害要因有無×在院期間区分[#Headers],0)),0)","v":673},{"$f":"IFERROR(E10/E$4,\"-\")","v":0.97113997113997119},{"$f":"IFERROR(INDEX(阻害要因有無×在院期間区分[#All],MATCH($AI11,阻害要因有無×在院期間区分[[#All],[行ラベル]],0),MATCH($AS$4,阻害要因有無×在院期間区分[#Headers],0)),0)+IFERROR(INDEX(阻害要因有無×在院期間区分[#All],MATCH($AI11,阻害要因有無×在院期間区分[[#All],[行ラベル]],0),MATCH($AT$4,阻害要因有無×在院期間区分[#Headers],0)),0)+IFERROR(INDEX(阻害要因有無×在院期間区分[#All],MATCH($AI11,阻害要因有無×在院期間区分[[#All],[行ラベル]],0),MATCH($AU$4,阻害要因有無×在院期間区分[#Headers],0)),0)+IFERROR(INDEX(阻害要因有無×在院期間区分[#All],MATCH($AI11,阻害要因有無×在院期間区分[[#All],[行ラベル]],0),MATCH($AV$4,阻害要因有無×在院期間区分[#Headers],0)),0)+IFERROR(INDEX(阻害要因有無×在院期間区分[#All],MATCH($AI11,阻害要因有無×在院期間区分[[#All],[行ラベル]],0),MATCH($AW$4,阻害要因有無×在院期間区分[#Headers],0)),0)","v":293},{"$f":"IFERROR(G10/G$4,\"-\")","v":0.9701986754966887},{"$f":"IFERROR(INDEX(阻害要因有無×在院期間区分[#All],MATCH($AI11,阻害要因有無×在院期間区分[[#All],[行ラベル]],0),MATCH($AX$4,阻害要因有無×在院期間区分[#Headers],0)),0)+IFERROR(INDEX(阻害要因有無×在院期間区分[#All],MATCH($AI11,阻害要因有無×在院期間区分[[#All],[行ラベル]],0),MATCH($AY$4,阻害要因有無×在院期間区分[#Headers],0)),0)","v":325},{"$f":"IFERROR(I10/I$4,\"-\")","v":0.98484848484848486},{"$f":"C10+E10+G10+I10","v":1956},91,108,190,167,200,143,118,164,133,115,86,61,57,47,42,204,121]
[null,"退院阻害要因はない",{"$f":"IFERROR(INDEX(阻害要因有無×在院期間区分[#All],MATCH($AI12,阻害要因有無×在院期間区分[[#All],[行ラベル]],0),MATCH($AJ$4,阻害要因有無×在院期間区分[#Headers],0)),0)+IFERROR(INDEX(阻害要因有無×在院期間区分[#All],MATCH($AI12,阻害要因有無×在院期間区分[[#All],[行ラベル]],0),MATCH($AK$4,阻害要因有無×在院期間区分[#Headers],0)),0)+IFERROR(INDEX(阻害要因有無×在院期間区分[#All],MATCH($AI12,阻害要因有無×在院期間区分[[#All],[行ラベル]],0),MATCH($AL$4,阻害要因有無×在院期間区分[#Headers],0)),0)+IFERROR(INDEX(阻害要因有無×在院期間区分[#All],MATCH($AI12,阻害要因有無×在院期間区分[[#All],[行ラベル]],0),MATCH($AM$4,阻害要因有無×在院期間区分[#Headers],0)),0)","v":198},{"$f":"IFERROR(C11/C$4,\"-\")","v":0.22943221320973348},{"$f":"IFERROR(INDEX(阻害要因有無×在院期間区分[#All],MATCH($AI12,阻害要因有無×在院期間区分[[#All],[行ラベル]],0),MATCH($AN$4,阻害要因有無×在院期間区分[#Headers],0)),0)+IFERROR(INDEX(阻害要因有無×在院期間区分[#All],MATCH($AI12,阻害要因有無×在院期間区分[[#All],[行ラベル]],0),MATCH($AO$4,阻害要因有無×在院期間区分[#Headers],0)),0)+IFERROR(INDEX(阻害要因有無×在院期間区分[#All],MATCH($AI12,阻害要因有無×在院期間区分[[#All],[行ラベル]],0),MATCH($AP$4,阻害要因有無×在院期間区分[#Headers],0)),0)+IFERROR(INDEX(阻害要因有無×在院期間区分[#All],MATCH($AI12,阻害要因有無×在院期間区分[[#All],[行ラベル]],0),MATCH($AQ$4,阻害要因有無×在院期間区分[#Headers],0)),0)+IFERROR(INDEX(阻害要因有無×在院期間区分[#All],MATCH($AI12,阻害要因有無×在院期間区分[[#All],[行ラベル]],0),MATCH($AR$4,阻害要因有無×在院期間区分[#Headers],0)),0)","v":20},{"$f":"IFERROR(E11/E$4,\"-\")","v":2.886002886002886E-2},{"$f":"IFERROR(INDEX(阻害要因有無×在院期間区分[#All],MATCH($AI12,阻害要因有無×在院期間区分[[#All],[行ラベル]],0),MATCH($AS$4,阻害要因有無×在院期間区分[#Headers],0)),0)+IFERROR(INDEX(阻害要因有無×在院期間区分[#All],MATCH($AI12,阻害要因有無×在院期間区分[[#All],[行ラベル]],0),MATCH($AT$4,阻害要因有無×在院期間区分[#Headers],0)),0)+IFERROR(INDEX(阻害要因有無×在院期間区分[#All],MATCH($AI12,阻害要因有無×在院期間区分[[#All],[行ラベル]],0),MATCH($AU$4,阻害要因有無×在院期間区分[#Headers],0)),0)+IFERROR(INDEX(阻害要因有無×在院期間区分[#All],MATCH($AI12,阻害要因有無×在院期間区分[[#All],[行ラベル]],0),MATCH($AV$4,阻害要因有無×在院期間区分[#Headers],0)),0)+IFERROR(INDEX(阻害要因有無×在院期間区分[#All],MATCH($AI12,阻害要因有無×在院期間区分[[#All],[行ラベル]],0),MATCH($AW$4,阻害要因有無×在院期間区分[#Headers],0)),0)","v":9},{"$f":"IFERROR(G11/G$4,\"-\")","v":2.9801324503311258E-2},{"$f":"IFERROR(INDEX(阻害要因有無×在院期間区分[#All],MATCH($AI12,阻害要因有無×在院期間区分[[#All],[行ラベル]],0),MATCH($AX$4,阻害要因有無×在院期間区分[#Headers],0)),0)+IFERROR(INDEX(阻害要因有無×在院期間区分[#All],MATCH($AI12,阻害要因有無×在院期間区分[[#All],[行ラベル]],0),MATCH($AY$4,阻害要因有無×在院期間区分[#Headers],0)),0)","v":5},{"$f":"IFERROR(I11/I$4,\"-\")","v":1.5151515151515152E-2},{"$f":"C11+E11+G11+I11","v":232},90,65,77,30,26,3,2,6,6,3,3,1,2,2,1,4,1,null,null,null,null,null,null,91]
[null,"　＜複数回答＞",null,null,null,null,null,null,null,null,null,null,1641,1868,1010,1050,692,606,871,754,558,485,369,244,267,201,1097,654,null,null,null,null,null,null,90]
[null,"割合には「退院阻害要因がある」それぞれの人数に対する割合を表示しています。",null,null,null,null,null,null,null,null,null,"値","01_1ヶ月未満","02_1ヶ月～3ヶ月未満","03_3ヶ月～6ヶ月未満","04_6ヶ月～1年未満","05_1年～1年6ヶ月未満","06_1年6ヶ月～2年未満","07_2年～3年未満","08_3年～4年未満","09_4年～5年未満","10_5年～6年未満","11_6年～7年未満","12_7年～8年未満","13_8年～9年未満","14_9年～10年未満","15_10年～20年未満","16_ 20年以上"]
[null,"病状は落ち着いているが、ときどき不安定な病状が見られ、そのことが退院を阻害する要因になっている",{"$f":"IFERROR(INDEX(阻害要因×在院期間区分[#All],MATCH($AI15,阻害要因×在院期間区分[[#All],[値]],0),MATCH($AJ$4,阻害要因×在院期間区分[#Headers],0)),0)+IFERROR(INDEX(阻害要因×在院期間区分[#All],MATCH($AI15,阻害要因×在院期間区分[[#All],[値]],0),MATCH($AK$4,阻害要因×在院期間区分[#Headers],0)),0)+IFERROR(INDEX(阻害要因×在院期間区分[#All],MATCH($AI15,阻害要因×在院期間区分[[#All],[値]],0),MATCH($AL$4,阻害要因×在院期間区分[#Headers],0)),0)+IFERROR(INDEX(阻害要因×在院期間区分[#All],MATCH($AI15,阻害要因×在院期間区分[[#All],[値]],0),MATCH($AM$4,阻害要因×在院期間区分[#Headers],0)),0)","v":221},{"$f":"IFERROR(C14/C$10,\"-\")","v":0.3323308270676692},{"$f":"IFERROR(INDEX(阻害要因×在院期間区分[#All],MATCH($AI15,阻害要因×在院期間区分[[#All],[値]],0),MATCH($AN$4,阻害要因×在院期間区分[#Headers],0)),0)+IFERROR(INDEX(阻害要因×在院期間区分[#All],MATCH($AI15,阻害要因×在院期間区分[[#All],[値]],0),MATCH($AO$4,阻害要因×在院期間区分[#Headers],0)),0)+IFERROR(INDEX(阻害要因×在院期間区分[#All],MATCH($AI15,阻害要因×在院期間区分[[#All],[値]],0),MATCH($AP$4,阻害要因×在院期間区分[#Headers],0)),0)+IFERROR(INDEX(阻害要因×在院期間区分[#All],MATCH($AI15,阻害要因×在院期間区分[[#All],[値]],0),MATCH($AQ$4,阻害要因×在院期間区分[#Headers],0)),0)+IFERROR(INDEX(阻害要因×在院期間区分[#All],MATCH($AI15,阻害要因×在院期間区分[[#All],[値]],0),MATCH($AR$4,阻害要因×在院期間区分[#Headers],0)),0)","v":225},{"$f":"IFERROR(E14/E$10,\"-\")","v":0.33432392273402672},{"$f":"IFERROR(INDEX(阻害要因×在院期間区分[#All],MATCH($AI15,阻害要因×在院期間区分[[#All],[値]],0),MATCH($AS$4,阻害要因×在院期間区分[#Headers],0)),0)+IFERROR(INDEX(阻害要因×在院期間区分[#All],MATCH($AI15,阻害要因×在院期間区分[[#All],[値]],0),MATCH($AT$4,阻害要因×在院期間区分[#Headers],0)),0)+IFERROR(INDEX(阻害要因×在院期間区分[#All],MATCH($AI15,阻害要因×在院期間区分[[#All],[値]],0),MATCH($AU$4,阻害要因×在院期間区分[#Headers],0)),0)+IFERROR(INDEX(阻害要因×在院期間区分[#All],MATCH($AI15,阻害要因×在院期間区分[[#All],[値]],0),MATCH($AV$4,阻害要因×在院期間区分[#Headers],0)),0)+IFERROR(INDEX(阻害要因×在院期間区分[#All],MATCH($AI15,阻害要因×在院期間区分[[#All],[値]],0),MATCH($AW$4,阻害要因×在院期間区分[#Headers],0)),0)","v":112},{"$f":"IFERROR(G14/G$10,\"-\")","v":0.38225255972696248},{"$f":"IFERROR(INDEX(阻害要因×在院期間区分[#All],MATCH($AI15,阻害要因×在院期間区分[[#All],[値]],0),MATCH($AX$4,阻害要因×在院期間区分[#Headers],0)),0)+IFERROR(INDEX(阻害要因×在院期間区分[#All],MATCH($AI15,阻害要因×在院期間区分[[#All],[値]],0),MATCH($AY$4,阻害要因×在院期間区分[#Headers],0)),0)","v":102},{"$f":"IFERROR(I14/I$10,\"-\")","v":0.31384615384615383},{"$f":"C14+E14+G14+I14","v":660},"合計 / 病状は落ち着いているが、ときどき不安定な病状が見られ、そのことが退院を阻害する要因になっている",37,66,55,63,42,45,56,40,42,31,23,19,20,19,71,31]
[null,"病識がなく通院服薬の中断が予測される",{"$f":"IFERROR(INDEX(阻害要因×在院期間区分[#All],MATCH($AI16,阻害要因×在院期間区分[[#All],[値]],0),MATCH($AJ$4,阻害要因×在院期間区分[#Headers],0)),0)+IFERROR(INDEX(阻害要因×在院期間区分[#All],MATCH($AI16,阻害要因×在院期間区分[[#All],[値]],0),MATCH($AK$4,阻害要因×在院期間区分[#Headers],0)),0)+IFERROR(INDEX(阻害要因×在院期間区分[#All],MATCH($AI16,阻害要因×在院期間区分[[#All],[値]],0),MATCH($AL$4,阻害要因×在院期間区分[#Headers],0)),0)+IFERROR(INDEX(阻害要因×在院期間区分[#All],MATCH($AI16,阻害要因×在院期間区分[[#All],[値]],0),MATCH($AM$4,阻害要因×在院期間区分[#Headers],0)),0)","v":162},0.24360902255639097,{"$f":"IFERROR(INDEX(阻害要因×在院期間区分[#All],MATCH($AI16,阻害要因×在院期間区分[[#All],[値]],0),MATCH($AN$4,阻害要因×在院期間区分[#Headers],0)),0)+IFERROR(INDEX(阻害要因×在院期間区分[#All],MATCH($AI16,阻害要因×在院期間区分[[#All],[値]],0),MATCH($AO$4,阻害要因×在院期間区分[#Headers],0)),0)+IFERROR(INDEX(阻害要因×在院期間区分[#All],MATCH($AI16,阻害要因×在院期間区分[[#All],[値]],0),MATCH($AP$4,阻害要因×在院期間区分[#Headers],0)),0)+IFERROR(INDEX(阻害要因×在院期間区分[#All],MATCH($AI16,阻害要因×在院期間区分[[#All],[値]],0),MATCH($AQ$4,阻害要因×在院期間区分[#Headers],0)),0)+IFERROR(INDEX(阻害要因×在院期間区分[#All],MATCH($AI16,阻害要因×在院期間区分[[#All],[値]],0),MATCH($AR$4,阻害要因×在院期間区分[#Headers],0)),0)","v":182},0.27043090638930162,{"$f":"IFERROR(INDEX(阻害要因×在院期間区分[#All],MATCH($AI16,阻害要因×在院期間区分[[#All],[値]],0),MATCH($AS$4,阻害要因×在院期間区分[#Headers],0)),0)+IFERROR(INDEX(阻害要因×在院期間区分[#All],MATCH($AI16,阻害要因×在院期間区分[[#All],[値]],0),MATCH($AT$4,阻害要因×在院期間区分[#Headers],0)),0)+IFERROR(INDEX(阻害要因×在院期間区分[#All],MATCH($AI16,阻害要因×在院期間区分[[#All],[値]],0),MATCH($AU$4,阻害要因×在院期間区分[#Headers],0)),0)+IFERROR(INDEX(阻害要因×在院期間区分[#All],MATCH($AI16,阻害要因×在院期間区分[[#All],[値]],0),MATCH($AV$4,阻害要因×在院期間区分[#Headers],0)),0)+IFERROR(INDEX(阻害要因×在院期間区分[#All],MATCH($AI16,阻害要因×在院期間区分[[#All],[値]],0),MATCH($AW$4,阻害要因×在院期間区分[#Headers],0)),0)","v":78},0.26621160409556316,{"$f":"IFERROR(INDEX(阻害要因×在院期間区分[#All],MATCH($AI16,阻害要因×在院期間区分[[#All],[値]],0),MATCH($AX$4,阻害要因×在院期間区分[#Headers],0)),0)+IFERROR(INDEX(阻害要因×在院期間区分[#All],MATCH($AI16,阻害要因×在院期間区分[[#All],[値]],0),MATCH($AY$4,阻害要因×在院期間区分[#Headers],0)),0)","v":87},0.26769230769230767,{"$f":"SUM(C15,E15,G15,I15)","v":509},"合計 / 病識がなく通院服薬の中断が予測される",20,43,42,57,34,37,41,36,34,20,13,17,15,13,56,31,null,null,null,null,null,null,"合計 / 病状は落ち着いているが、ときどき不安定な病状が見られ、そのことが退院を阻害する要因になっている"]
[null,"反社会的行動が予測される",{"$f":"IFERROR(INDEX(阻害要因×在院期間区分[#All],MATCH($AI17,阻害要因×在院期間区分[[#All],[値]],0),MATCH($AJ$4,阻害要因×在院期間区分[#Headers],0)),0)+IFERROR(INDEX(阻害要因×在院期間区分[#All],MATCH($AI17,阻害要因×在院期間区分[[#All],[値]],0),MATCH($AK$4,阻害要因×在院期間区分[#Headers],0)),0)+IFERROR(INDEX(阻害要因×在院期間区分[#All],MATCH($AI17,阻害要因×在院期間区分[[#All],[値]],0),MATCH($AL$4,阻害要因×在院期間区分[#Headers],0)),0)+IFERROR(INDEX(阻害要因×在院期間区分[#All],MATCH($AI17,阻害要因×在院期間区分[[#All],[値]],0),MATCH($AM$4,阻害要因×在院期間区分[#Headers],0)),0)","v":29},4.3609022556390979E-2,{"$f":"IFERROR(INDEX(阻害要因×在院期間区分[#All],MATCH($AI17,阻害要因×在院期間区分[[#All],[値]],0),MATCH($AN$4,阻害要因×在院期間区分[#Headers],0)),0)+IFERROR(INDEX(阻害要因×在院期間区分[#All],MATCH($AI17,阻害要因×在院期間区分[[#All],[値]],0),MATCH($AO$4,阻害要因×在院期間区分[#Headers],0)),0)+IFERROR(INDEX(阻害要因×在院期間区分[#All],MATCH($AI17,阻害要因×在院期間区分[[#All],[値]],0),MATCH($AP$4,阻害要因×在院期間区分[#Headers],0)),0)+IFERROR(INDEX(阻害要因×在院期間区分[#All],MATCH($AI17,阻害要因×在院期間区分[[#All],[値]],0),MATCH($AQ$4,阻害要因×在院期間区分[#Headers],0)),0)+IFERROR(INDEX(阻害要因×在院期間区分[#All],MATCH($AI17,阻害要因×在院期間区分[[#All],[値]],0),MATCH($AR$4,阻害要因×在院期間区分[#Headers],0)),0)","v":26},3.8632986627043092E-2,{"$f":"IFERROR(INDEX(阻害要因×在院期間区分[#All],MATCH($AI17,阻害要因×在院期間区分[[#All],[値]],0),MATCH($AS$4,阻害要因×在院期間区分[#Headers],0)),0)+IFERROR(INDEX(阻害要因×在院期間区分[#All],MATCH($AI17,阻害要因×在院期間区分[[#All],[値]],0),MATCH($AT$4,阻害要因×在院期間区分[#Headers],0)),0)+IFERROR(INDEX(阻害要因×在院期間区分[#All],MATCH($AI17,阻害要因×在院期間区分[[#All],[値]],0),MATCH($AU$4,阻害要因×在院期間区分[#Headers],0)),0)+IFERROR(INDEX(阻害要因×在院期間区分[#All],MATCH($AI17,阻害要因×在院期間区分[[#All],[値]],0),MATCH($AV$4,阻害要因×在院期間区分[#Headers],0)),0)+IFERROR(INDEX(阻害要因×在院期間区分[#All],MATCH($AI17,阻害要因×在院期間区分[[#All],[値]],0),MATCH($AW$4,阻害要因×在院期間区分[#Headers],0)),0)","v":17},5.8020477815699661E-2,{"$f":"IFERROR(INDEX(阻害要因×在院期間区分[#All],MATCH($AI17,阻害要因×在院期間区分[[#All],[値]],0),MATCH($AX$4,阻害要因×在院期間区分[#Headers],0)),0)+IFERROR(INDEX(阻害要因×在院期間区分[#All],MATCH($AI17,阻害要因×在院期間区分[[#All],[値]],0),MATCH($AY$4,阻害要因×在院期間区分[#Headers],0)),0)","v":10},3.0769230769230771E-2,82,"合計 / 反社会的行動が予測される",8,8,3,10,6,4,5,4,7,7,2,3,4,1,8,2,null,null,null,null,null,null,"合計 / 病識がなく通院服薬の中断が予測される"]
[null,"退院意欲が乏しい",{"$f":"IFERROR(INDEX(阻害要因×在院期間区分[#All],MATCH($AI18,阻害要因×在院期間区分[[#All],[値]],0),MATCH($AJ$4,阻害要因×在院期間区分[#Headers],0)),0)+IFERROR(INDEX(阻害要因×在院期間区分[#All],MATCH($AI18,阻害要因×在院期間区分[[#All],[値]],0),MATCH($AK$4,阻害要因×在院期間区分[#Headers],0)),0)+IFERROR(INDEX(阻害要因×在院期間区分[#All],MATCH($AI18,阻害要因×在院期間区分[[#All],[値]],0),MATCH($AL$4,阻害要因×在院期間区分[#Headers],0)),0)+IFERROR(INDEX(阻害要因×在院期間区分[#All],MATCH($AI18,阻害要因×在院期間区分[[#All],[値]],0),MATCH($AM$4,阻害要因×在院期間区分[#Headers],0)),0)","v":151},0.22706766917293233,{"$f":"IFERROR(INDEX(阻害要因×在院期間区分[#All],MATCH($AI18,阻害要因×在院期間区分[[#All],[値]],0),MATCH($AN$4,阻害要因×在院期間区分[#Headers],0)),0)+IFERROR(INDEX(阻害要因×在院期間区分[#All],MATCH($AI18,阻害要因×在院期間区分[[#All],[値]],0),MATCH($AO$4,阻害要因×在院期間区分[#Headers],0)),0)+IFERROR(INDEX(阻害要因×在院期間区分[#All],MATCH($AI18,阻害要因×在院期間区分[[#All],[値]],0),MATCH($AP$4,阻害要因×在院期間区分[#Headers],0)),0)+IFERROR(INDEX(阻害要因×在院期間区分[#All],MATCH($AI18,阻害要因×在院期間区分[[#All],[値]],0),MATCH($AQ$4,阻害要因×在院期間区分[#Headers],0)),0)+IFERROR(INDEX(阻害要因×在院期間区分[#All],MATCH($AI18,阻害要因×在院期間区分[[#All],[値]],0),MATCH($AR$4,阻害要因×在院期間区分[#Headers],0)),0)","v":269},0.399702823179792,{"$f":"IFERROR(INDEX(阻害要因×在院期間区分[#All],MATCH($AI18,阻害要因×在院期間区分[[#All],[値]],0),MATCH($AS$4,阻害要因×在院期間区分[#Headers],0)),0)+IFERROR(INDEX(阻害要因×在院期間区分[#All],MATCH($AI18,阻害要因×在院期間区分[[#All],[値]],0),MATCH($AT$4,阻害要因×在院期間区分[#Headers],0)),0)+IFERROR(INDEX(阻害要因×在院期間区分[#All],MATCH($AI18,阻害要因×在院期間区分[[#All],[値]],0),MATCH($AU$4,阻害要因×在院期間区分[#Headers],0)),0)+IFERROR(INDEX(阻害要因×在院期間区分[#All],MATCH($AI18,阻害要因×在院期間区分[[#All],[値]],0),MATCH($AV$4,阻害要因×在院期間区分[#Headers],0)),0)+IFERROR(INDEX(阻害要因×在院期間区分[#All],MATCH($AI18,阻害要因×在院期間区分[[#All],[値]],0),MATCH($AW$4,阻害要因×在院期間区分[#Headers],0)),0)","v":127},0.43344709897610922,{"$f":"IFERROR(INDEX(阻害要因×在院期間区分[#All],MATCH($AI18,阻害要因×在院期間区分[[#All],[値]],0),MATCH($AX$4,阻害要因×在院期間区分[#Headers],0)),0)+IFERROR(INDEX(阻害要因×在院期間区分[#All],MATCH($AI18,阻害要因×在院期間区分[[#All],[値]],0),MATCH($AY$4,阻害要因×在院期間区分[#Headers],0)),0)","v":179},0.55076923076923079,726,"合計 / 退院意欲が乏しい",19,27,40,65,49,49,70,55,46,30,29,25,19,24,112,67,null,null,null,null,null,null,"合計 / 反社会的行動が予測される"]
[null,"現実認識が乏しい",{"$f":"IFERROR(INDEX(阻害要因×在院期間区分[#All],MATCH($AI19,阻害要因×在院期間区分[[#All],[値]],0),MATCH($AJ$4,阻害要因×在院期間区分[#Headers],0)),0)+IFERROR(INDEX(阻害要因×在院期間区分[#All],MATCH($AI19,阻害要因×在院期間区分[[#All],[値]],0),MATCH($AK$4,阻害要因×在院期間区分[#Headers],0)),0)+IFERROR(INDEX(阻害要因×在院期間区分[#All],MATCH($AI19,阻害要因×在院期間区分[[#All],[値]],0),MATCH($AL$4,阻害要因×在院期間区分[#Headers],0)),0)+IFERROR(INDEX(阻害要因×在院期間区分[#All],MATCH($AI19,阻害要因×在院期間区分[[#All],[値]],0),MATCH($AM$4,阻害要因×在院期間区分[#Headers],0)),0)","v":217},0.32631578947368423,{"$f":"IFERROR(INDEX(阻害要因×在院期間区分[#All],MATCH($AI19,阻害要因×在院期間区分[[#All],[値]],0),MATCH($AN$4,阻害要因×在院期間区分[#Headers],0)),0)+IFERROR(INDEX(阻害要因×在院期間区分[#All],MATCH($AI19,阻害要因×在院期間区分[[#All],[値]],0),MATCH($AO$4,阻害要因×在院期間区分[#Headers],0)),0)+IFERROR(INDEX(阻害要因×在院期間区分[#All],MATCH($AI19,阻害要因×在院期間区分[[#All],[値]],0),MATCH($AP$4,阻害要因×在院期間区分[#Headers],0)),0)+IFERROR(INDEX(阻害要因×在院期間区分[#All],MATCH($AI19,阻害要因×在院期間区分[[#All],[値]],0),MATCH($AQ$4,阻害要因×在院期間区分[#Headers],0)),0)+IFERROR(INDEX(阻害要因×在院期間区分[#All],MATCH($AI19,阻害要因×在院期間区分[[#All],[値]],0),MATCH($AR$4,阻害要因×在院期間区分[#Headers],0)),0)","v":259},0.38484398216939081,{"$f":"IFERROR(INDEX(阻害要因×在院期間区分[#All],MATCH($AI19,阻害要因×在院期間区分[[#All],[値]],0),MATCH($AS$4,阻害要因×在院期間区分[#Headers],0)),0)+IFERROR(INDEX(阻害要因×在院期間区分[#All],MATCH($AI19,阻害要因×在院期間区分[[#All],[値]],0),MATCH($AT$4,阻害要因×在院期間区分[#Headers],0)),0)+IFERROR(INDEX(阻害要因×在院期間区分[#All],MATCH($AI19,阻害要因×在院期間区分[[#All],[値]],0),MATCH($AU$4,阻害要因×在院期間区分[#Headers],0)),0)+IFERROR(INDEX(阻害要因×在院期間区分[#All],MATCH($AI19,阻害要因×在院期間区分[[#All],[値]],0),MATCH($AV$4,阻害要因×在院期間区分[#Headers],0)),0)+IFERROR(INDEX(阻害要因×在院期間区分[#All],MATCH($AI19,阻害要因×在院期間区分[[#All],[値]],0),MATCH($AW$4,阻害要因×在院期間区分[#Headers],0)),0)","v":116},0.39590443686006827,{"$f":"IFERROR(INDEX(阻害要因×在院期間区分[#All],MATCH($AI19,阻害要因×在院期間区分[[#All],[値]],0),MATCH($AX$4,阻害要因×在院期間区分[#Headers],0)),0)+IFERROR(INDEX(阻害要因×在院期間区分[#All],MATCH($AI19,阻害要因×在院期間区分[[#All],[値]],0),MATCH($AY$4,阻害要因×在院期間区分[#Headers],0)),0)","v":145},0.44615384615384618,737,"合計 / 現実認識が乏しい",32,60,60,65,54,44,56,55,50,35,21,26,20,14,86,59,null,null,null,null,null,null,"合計 / 退院意欲が乏しい"]
[null,"退院による環境変化への不安が強い",{"$f":"IFERROR(INDEX(阻害要因×在院期間区分[#All],MATCH($AI20,阻害要因×在院期間区分[[#All],[値]],0),MATCH($AJ$4,阻害要因×在院期間区分[#Headers],0)),0)+IFERROR(INDEX(阻害要因×在院期間区分[#All],MATCH($AI20,阻害要因×在院期間区分[[#All],[値]],0),MATCH($AK$4,阻害要因×在院期間区分[#Headers],0)),0)+IFERROR(INDEX(阻害要因×在院期間区分[#All],MATCH($AI20,阻害要因×在院期間区分[[#All],[値]],0),MATCH($AL$4,阻害要因×在院期間区分[#Headers],0)),0)+IFERROR(INDEX(阻害要因×在院期間区分[#All],MATCH($AI20,阻害要因×在院期間区分[[#All],[値]],0),MATCH($AM$4,阻害要因×在院期間区分[#Headers],0)),0)","v":133},0.2,{"$f":"IFERROR(INDEX(阻害要因×在院期間区分[#All],MATCH($AI20,阻害要因×在院期間区分[[#All],[値]],0),MATCH($AN$4,阻害要因×在院期間区分[#Headers],0)),0)+IFERROR(INDEX(阻害要因×在院期間区分[#All],MATCH($AI20,阻害要因×在院期間区分[[#All],[値]],0),MATCH($AO$4,阻害要因×在院期間区分[#Headers],0)),0)+IFERROR(INDEX(阻害要因×在院期間区分[#All],MATCH($AI20,阻害要因×在院期間区分[[#All],[値]],0),MATCH($AP$4,阻害要因×在院期間区分[#Headers],0)),0)+IFERROR(INDEX(阻害要因×在院期間区分[#All],MATCH($AI20,阻害要因×在院期間区分[[#All],[値]],0),MATCH($AQ$4,阻害要因×在院期間区分[#Headers],0)),0)+IFERROR(INDEX(阻害要因×在院期間区分[#All],MATCH($AI20,阻害要因×在院期間区分[[#All],[値]],0),MATCH($AR$4,阻害要因×在院期間区分[#Headers],0)),0)","v":151},0.22436849925705796,{"$f":"IFERROR(INDEX(阻害要因×在院期間区分[#All],MATCH($AI20,阻害要因×在院期間区分[[#All],[値]],0),MATCH($AS$4,阻害要因×在院期間区分[#Headers],0)),0)+IFERROR(INDEX(阻害要因×在院期間区分[#All],MATCH($AI20,阻害要因×在院期間区分[[#All],[値]],0),MATCH($AT$4,阻害要因×在院期間区分[#Headers],0)),0)+IFERROR(INDEX(阻害要因×在院期間区分[#All],MATCH($AI20,阻害要因×在院期間区分[[#All],[値]],0),MATCH($AU$4,阻害要因×在院期間区分[#Headers],0)),0)+IFERROR(INDEX(阻害要因×在院期間区分[#All],MATCH($AI20,阻害要因×在院期間区分[[#All],[値]],0),MATCH($AV$4,阻害要因×在院期間区分[#Headers],0)),0)+IFERROR(INDEX(阻害要因×在院期間区分[#All],MATCH($AI20,阻害要因×在院期間区分[[#All],[値]],0),MATCH($AW$4,阻害要因×在院期間区分[#Headers],0)),0)","v":95},0.32423208191126279,{"$f":"IFERROR(INDEX(阻害要因×在院期間区分[#All],MATCH($AI20,阻害要因×在院期間区分[[#All],[値]],0),MATCH($AX$4,阻害要因×在院期間区分[#Headers],0)),0)+IFERROR(INDEX(阻害要因×在院期間区分[#All],MATCH($AI20,阻害要因×在院期間区分[[#All],[値]],0),MATCH($AY$4,阻害要因×在院期間区分[#Headers],0)),0)","v":120},0.36923076923076925,499,"合計 / 退院による環境変化への不安が強い",22,31,37,43,32,28,37,24,30,23,23,22,12,15,76,44,null,null,null,null,null,null,"合計 / 現実認識が乏しい"]
[null,"援助者との対人関係がもてない",{"$f":"IFERROR(INDEX(阻害要因×在院期間区分[#All],MATCH($AI21,阻害要因×在院期間区分[[#All],[値]],0),MATCH($AJ$4,阻害要因×在院期間区分[#Headers],0)),0)+IFERROR(INDEX(阻害要因×在院期間区分[#All],MATCH($AI21,阻害要因×在院期間区分[[#All],[値]],0),MATCH($AK$4,阻害要因×在院期間区分[#Headers],0)),0)+IFERROR(INDEX(阻害要因×在院期間区分[#All],MATCH($AI21,阻害要因×在院期間区分[[#All],[値]],0),MATCH($AL$4,阻害要因×在院期間区分[#Headers],0)),0)+IFERROR(INDEX(阻害要因×在院期間区分[#All],MATCH($AI21,阻害要因×在院期間区分[[#All],[値]],0),MATCH($AM$4,阻害要因×在院期間区分[#Headers],0)),0)","v":39},5.8646616541353384E-2,{"$f":"IFERROR(INDEX(阻害要因×在院期間区分[#All],MATCH($AI21,阻害要因×在院期間区分[[#All],[値]],0),MATCH($AN$4,阻害要因×在院期間区分[#Headers],0)),0)+IFERROR(INDEX(阻害要因×在院期間区分[#All],MATCH($AI21,阻害要因×在院期間区分[[#All],[値]],0),MATCH($AO$4,阻害要因×在院期間区分[#Headers],0)),0)+IFERROR(INDEX(阻害要因×在院期間区分[#All],MATCH($AI21,阻害要因×在院期間区分[[#All],[値]],0),MATCH($AP$4,阻害要因×在院期間区分[#Headers],0)),0)+IFERROR(INDEX(阻害要因×在院期間区分[#All],MATCH($AI21,阻害要因×在院期間区分[[#All],[値]],0),MATCH($AQ$4,阻害要因×在院期間区分[#Headers],0)),0)+IFERROR(INDEX(阻害要因×在院期間区分[#All],MATCH($AI21,阻害要因×在院期間区分[[#All],[値]],0),MATCH($AR$4,阻害要因×在院期間区分[#Headers],0)),0)","v":58},8.6181277860326894E-2,{"$f":"IFERROR(INDEX(阻害要因×在院期間区分[#All],MATCH($AI21,阻害要因×在院期間区分[[#All],[値]],0),MATCH($AS$4,阻害要因×在院期間区分[#Headers],0)),0)+IFERROR(INDEX(阻害要因×在院期間区分[#All],MATCH($AI21,阻害要因×在院期間区分[[#All],[値]],0),MATCH($AT$4,阻害要因×在院期間区分[#Headers],0)),0)+IFERROR(INDEX(阻害要因×在院期間区分[#All],MATCH($AI21,阻害要因×在院期間区分[[#All],[値]],0),MATCH($AU$4,阻害要因×在院期間区分[#Headers],0)),0)+IFERROR(INDEX(阻害要因×在院期間区分[#All],MATCH($AI21,阻害要因×在院期間区分[[#All],[値]],0),MATCH($AV$4,阻害要因×在院期間区分[#Headers],0)),0)+IFERROR(INDEX(阻害要因×在院期間区分[#All],MATCH($AI21,阻害要因×在院期間区分[[#All],[値]],0),MATCH($AW$4,阻害要因×在院期間区分[#Headers],0)),0)","v":27},9.2150170648464161E-2,{"$f":"IFERROR(INDEX(阻害要因×在院期間区分[#All],MATCH($AI21,阻害要因×在院期間区分[[#All],[値]],0),MATCH($AX$4,阻害要因×在院期間区分[#Headers],0)),0)+IFERROR(INDEX(阻害要因×在院期間区分[#All],MATCH($AI21,阻害要因×在院期間区分[[#All],[値]],0),MATCH($AY$4,阻害要因×在院期間区分[#Headers],0)),0)","v":27},8.3076923076923076E-2,151,"合計 / 援助者との対人関係がもてない",11,14,6,8,11,9,14,11,13,10,5,4,3,5,19,8,null,null,null,null,null,null,"合計 / 退院による環境変化への不安が強い"]
[null,"家事（食事・洗濯・金銭管理など）ができない",{"$f":"IFERROR(INDEX(阻害要因×在院期間区分[#All],MATCH($AI22,阻害要因×在院期間区分[[#All],[値]],0),MATCH($AJ$4,阻害要因×在院期間区分[#Headers],0)),0)+IFERROR(INDEX(阻害要因×在院期間区分[#All],MATCH($AI22,阻害要因×在院期間区分[[#All],[値]],0),MATCH($AK$4,阻害要因×在院期間区分[#Headers],0)),0)+IFERROR(INDEX(阻害要因×在院期間区分[#All],MATCH($AI22,阻害要因×在院期間区分[[#All],[値]],0),MATCH($AL$4,阻害要因×在院期間区分[#Headers],0)),0)+IFERROR(INDEX(阻害要因×在院期間区分[#All],MATCH($AI22,阻害要因×在院期間区分[[#All],[値]],0),MATCH($AM$4,阻害要因×在院期間区分[#Headers],0)),0)","v":192},0.28872180451127821,{"$f":"IFERROR(INDEX(阻害要因×在院期間区分[#All],MATCH($AI22,阻害要因×在院期間区分[[#All],[値]],0),MATCH($AN$4,阻害要因×在院期間区分[#Headers],0)),0)+IFERROR(INDEX(阻害要因×在院期間区分[#All],MATCH($AI22,阻害要因×在院期間区分[[#All],[値]],0),MATCH($AO$4,阻害要因×在院期間区分[#Headers],0)),0)+IFERROR(INDEX(阻害要因×在院期間区分[#All],MATCH($AI22,阻害要因×在院期間区分[[#All],[値]],0),MATCH($AP$4,阻害要因×在院期間区分[#Headers],0)),0)+IFERROR(INDEX(阻害要因×在院期間区分[#All],MATCH($AI22,阻害要因×在院期間区分[[#All],[値]],0),MATCH($AQ$4,阻害要因×在院期間区分[#Headers],0)),0)+IFERROR(INDEX(阻害要因×在院期間区分[#All],MATCH($AI22,阻害要因×在院期間区分[[#All],[値]],0),MATCH($AR$4,阻害要因×在院期間区分[#Headers],0)),0)","v":209},0.31054977711738485,{"$f":"IFERROR(INDEX(阻害要因×在院期間区分[#All],MATCH($AI22,阻害要因×在院期間区分[[#All],[値]],0),MATCH($AS$4,阻害要因×在院期間区分[#Headers],0)),0)+IFERROR(INDEX(阻害要因×在院期間区分[#All],MATCH($AI22,阻害要因×在院期間区分[[#All],[値]],0),MATCH($AT$4,阻害要因×在院期間区分[#Headers],0)),0)+IFERROR(INDEX(阻害要因×在院期間区分[#All],MATCH($AI22,阻害要因×在院期間区分[[#All],[値]],0),MATCH($AU$4,阻害要因×在院期間区分[#Headers],0)),0)+IFERROR(INDEX(阻害要因×在院期間区分[#All],MATCH($AI22,阻害要因×在院期間区分[[#All],[値]],0),MATCH($AV$4,阻害要因×在院期間区分[#Headers],0)),0)+IFERROR(INDEX(阻害要因×在院期間区分[#All],MATCH($AI22,阻害要因×在院期間区分[[#All],[値]],0),MATCH($AW$4,阻害要因×在院期間区分[#Headers],0)),0)","v":90},0.30716723549488056,{"$f":"IFERROR(INDEX(阻害要因×在院期間区分[#All],MATCH($AI22,阻害要因×在院期間区分[[#All],[値]],0),MATCH($AX$4,阻害要因×在院期間区分[#Headers],0)),0)+IFERROR(INDEX(阻害要因×在院期間区分[#All],MATCH($AI22,阻害要因×在院期間区分[[#All],[値]],0),MATCH($AY$4,阻害要因×在院期間区分[#Headers],0)),0)","v":88},0.27076923076923076,579,"合計 / 家事（食事,洗濯,金銭管理など）ができない",22,52,52,66,43,43,52,39,32,23,21,19,17,10,59,29,null,null,null,null,null,null,"合計 / 援助者との対人関係がもてない"]
[null,"家族がいない、本人をサポートする機能が実質ない",{"$f":"IFERROR(INDEX(阻害要因×在院期間区分[#All],MATCH($AI23,阻害要因×在院期間区分[[#All],[値]],0),MATCH($AJ$4,阻害要因×在院期間区分[#Headers],0)),0)+IFERROR(INDEX(阻害要因×在院期間区分[#All],MATCH($AI23,阻害要因×在院期間区分[[#All],[値]],0),MATCH($AK$4,阻害要因×在院期間区分[#Headers],0)),0)+IFERROR(INDEX(阻害要因×在院期間区分[#All],MATCH($AI23,阻害要因×在院期間区分[[#All],[値]],0),MATCH($AL$4,阻害要因×在院期間区分[#Headers],0)),0)+IFERROR(INDEX(阻害要因×在院期間区分[#All],MATCH($AI23,阻害要因×在院期間区分[[#All],[値]],0),MATCH($AM$4,阻害要因×在院期間区分[#Headers],0)),0)","v":86},0.1293233082706767,{"$f":"IFERROR(INDEX(阻害要因×在院期間区分[#All],MATCH($AI23,阻害要因×在院期間区分[[#All],[値]],0),MATCH($AN$4,阻害要因×在院期間区分[#Headers],0)),0)+IFERROR(INDEX(阻害要因×在院期間区分[#All],MATCH($AI23,阻害要因×在院期間区分[[#All],[値]],0),MATCH($AO$4,阻害要因×在院期間区分[#Headers],0)),0)+IFERROR(INDEX(阻害要因×在院期間区分[#All],MATCH($AI23,阻害要因×在院期間区分[[#All],[値]],0),MATCH($AP$4,阻害要因×在院期間区分[#Headers],0)),0)+IFERROR(INDEX(阻害要因×在院期間区分[#All],MATCH($AI23,阻害要因×在院期間区分[[#All],[値]],0),MATCH($AQ$4,阻害要因×在院期間区分[#Headers],0)),0)+IFERROR(INDEX(阻害要因×在院期間区分[#All],MATCH($AI23,阻害要因×在院期間区分[[#All],[値]],0),MATCH($AR$4,阻害要因×在院期間区分[#Headers],0)),0)","v":104},0.15453194650817237,{"$f":"IFERROR(INDEX(阻害要因×在院期間区分[#All],MATCH($AI23,阻害要因×在院期間区分[[#All],[値]],0),MATCH($AS$4,阻害要因×在院期間区分[#Headers],0)),0)+IFERROR(INDEX(阻害要因×在院期間区分[#All],MATCH($AI23,阻害要因×在院期間区分[[#All],[値]],0),MATCH($AT$4,阻害要因×在院期間区分[#Headers],0)),0)+IFERROR(INDEX(阻害要因×在院期間区分[#All],MATCH($AI23,阻害要因×在院期間区分[[#All],[値]],0),MATCH($AU$4,阻害要因×在院期間区分[#Headers],0)),0)+IFERROR(INDEX(阻害要因×在院期間区分[#All],MATCH($AI23,阻害要因×在院期間区分[[#All],[値]],0),MATCH($AV$4,阻害要因×在院期間区分[#Headers],0)),0)+IFERROR(INDEX(阻害要因×在院期間区分[#All],MATCH($AI23,阻害要因×在院期間区分[[#All],[値]],0),MATCH($AW$4,阻害要因×在院期間区分[#Headers],0)),0)","v":63},0.21501706484641639,{"$f":"IFERROR(INDEX(阻害要因×在院期間区分[#All],MATCH($AI23,阻害要因×在院期間区分[[#All],[値]],0),MATCH($AX$4,阻害要因×在院期間区分[#Headers],0)),0)+IFERROR(INDEX(阻害要因×在院期間区分[#All],MATCH($AI23,阻害要因×在院期間区分[[#All],[値]],0),MATCH($AY$4,阻害要因×在院期間区分[#Headers],0)),0)","v":64},0.19692307692307692,317,"合計 / 家族がいない、本人をサポートする機能が実質ない",10,27,22,27,24,15,23,22,20,25,8,15,11,4,39,25,null,null,null,null,null,null,"合計 / 家事（食事,洗濯,金銭管理など）ができない"]
[null,"家族が退院に反対している",{"$f":"IFERROR(INDEX(阻害要因×在院期間区分[#All],MATCH($AI24,阻害要因×在院期間区分[[#All],[値]],0),MATCH($AJ$4,阻害要因×在院期間区分[#Headers],0)),0)+IFERROR(INDEX(阻害要因×在院期間区分[#All],MATCH($AI24,阻害要因×在院期間区分[[#All],[値]],0),MATCH($AK$4,阻害要因×在院期間区分[#Headers],0)),0)+IFERROR(INDEX(阻害要因×在院期間区分[#All],MATCH($AI24,阻害要因×在院期間区分[[#All],[値]],0),MATCH($AL$4,阻害要因×在院期間区分[#Headers],0)),0)+IFERROR(INDEX(阻害要因×在院期間区分[#All],MATCH($AI24,阻害要因×在院期間区分[[#All],[値]],0),MATCH($AM$4,阻害要因×在院期間区分[#Headers],0)),0)","v":111},0.16691729323308271,{"$f":"IFERROR(INDEX(阻害要因×在院期間区分[#All],MATCH($AI24,阻害要因×在院期間区分[[#All],[値]],0),MATCH($AN$4,阻害要因×在院期間区分[#Headers],0)),0)+IFERROR(INDEX(阻害要因×在院期間区分[#All],MATCH($AI24,阻害要因×在院期間区分[[#All],[値]],0),MATCH($AO$4,阻害要因×在院期間区分[#Headers],0)),0)+IFERROR(INDEX(阻害要因×在院期間区分[#All],MATCH($AI24,阻害要因×在院期間区分[[#All],[値]],0),MATCH($AP$4,阻害要因×在院期間区分[#Headers],0)),0)+IFERROR(INDEX(阻害要因×在院期間区分[#All],MATCH($AI24,阻害要因×在院期間区分[[#All],[値]],0),MATCH($AQ$4,阻害要因×在院期間区分[#Headers],0)),0)+IFERROR(INDEX(阻害要因×在院期間区分[#All],MATCH($AI24,阻害要因×在院期間区分[[#All],[値]],0),MATCH($AR$4,阻害要因×在院期間区分[#Headers],0)),0)","v":170},0.2526002971768202,{"$f":"IFERROR(INDEX(阻害要因×在院期間区分[#All],MATCH($AI24,阻害要因×在院期間区分[[#All],[値]],0),MATCH($AS$4,阻害要因×在院期間区分[#Headers],0)),0)+IFERROR(INDEX(阻害要因×在院期間区分[#All],MATCH($AI24,阻害要因×在院期間区分[[#All],[値]],0),MATCH($AT$4,阻害要因×在院期間区分[#Headers],0)),0)+IFERROR(INDEX(阻害要因×在院期間区分[#All],MATCH($AI24,阻害要因×在院期間区分[[#All],[値]],0),MATCH($AU$4,阻害要因×在院期間区分[#Headers],0)),0)+IFERROR(INDEX(阻害要因×在院期間区分[#All],MATCH($AI24,阻害要因×在院期間区分[[#All],[値]],0),MATCH($AV$4,阻害要因×在院期間区分[#Headers],0)),0)+IFERROR(INDEX(阻害要因×在院期間区分[#All],MATCH($AI24,阻害要因×在院期間区分[[#All],[値]],0),MATCH($AW$4,阻害要因×在院期間区分[#Headers],0)),0)","v":74},0.25255972696245732,{"$f":"IFERROR(INDEX(阻害要因×在院期間区分[#All],MATCH($AI24,阻害要因×在院期間区分[[#All],[値]],0),MATCH($AX$4,阻害要因×在院期間区分[#Headers],0)),0)+IFERROR(INDEX(阻害要因×在院期間区分[#All],MATCH($AI24,阻害要因×在院期間区分[[#All],[値]],0),MATCH($AY$4,阻害要因×在院期間区分[#Headers],0)),0)","v":65},0.2,420,"合計 / 家族から退院に反対がある",18,23,28,42,33,31,42,36,28,20,18,11,17,8,46,19,null,null,null,null,null,null,"合計 / 家族がいない、本人をサポートする機能が実質ない"]
[null,"住まいの確保ができない",{"$f":"IFERROR(INDEX(阻害要因×在院期間区分[#All],MATCH($AI25,阻害要因×在院期間区分[[#All],[値]],0),MATCH($AJ$4,阻害要因×在院期間区分[#Headers],0)),0)+IFERROR(INDEX(阻害要因×在院期間区分[#All],MATCH($AI25,阻害要因×在院期間区分[[#All],[値]],0),MATCH($AK$4,阻害要因×在院期間区分[#Headers],0)),0)+IFERROR(INDEX(阻害要因×在院期間区分[#All],MATCH($AI25,阻害要因×在院期間区分[[#All],[値]],0),MATCH($AL$4,阻害要因×在院期間区分[#Headers],0)),0)+IFERROR(INDEX(阻害要因×在院期間区分[#All],MATCH($AI25,阻害要因×在院期間区分[[#All],[値]],0),MATCH($AM$4,阻害要因×在院期間区分[#Headers],0)),0)","v":258},0.38796992481203008,{"$f":"IFERROR(INDEX(阻害要因×在院期間区分[#All],MATCH($AI25,阻害要因×在院期間区分[[#All],[値]],0),MATCH($AN$4,阻害要因×在院期間区分[#Headers],0)),0)+IFERROR(INDEX(阻害要因×在院期間区分[#All],MATCH($AI25,阻害要因×在院期間区分[[#All],[値]],0),MATCH($AO$4,阻害要因×在院期間区分[#Headers],0)),0)+IFERROR(INDEX(阻害要因×在院期間区分[#All],MATCH($AI25,阻害要因×在院期間区分[[#All],[値]],0),MATCH($AP$4,阻害要因×在院期間区分[#Headers],0)),0)+IFERROR(INDEX(阻害要因×在院期間区分[#All],MATCH($AI25,阻害要因×在院期間区分[[#All],[値]],0),MATCH($AQ$4,阻害要因×在院期間区分[#Headers],0)),0)+IFERROR(INDEX(阻害要因×在院期間区分[#All],MATCH($AI25,阻害要因×在院期間区分[[#All],[値]],0),MATCH($AR$4,阻害要因×在院期間区分[#Headers],0)),0)","v":207},0.30757800891530462,{"$f":"IFERROR(INDEX(阻害要因×在院期間区分[#All],MATCH($AI25,阻害要因×在院期間区分[[#All],[値]],0),MATCH($AS$4,阻害要因×在院期間区分[#Headers],0)),0)+IFERROR(INDEX(阻害要因×在院期間区分[#All],MATCH($AI25,阻害要因×在院期間区分[[#All],[値]],0),MATCH($AT$4,阻害要因×在院期間区分[#Headers],0)),0)+IFERROR(INDEX(阻害要因×在院期間区分[#All],MATCH($AI25,阻害要因×在院期間区分[[#All],[値]],0),MATCH($AU$4,阻害要因×在院期間区分[#Headers],0)),0)+IFERROR(INDEX(阻害要因×在院期間区分[#All],MATCH($AI25,阻害要因×在院期間区分[[#All],[値]],0),MATCH($AV$4,阻害要因×在院期間区分[#Headers],0)),0)+IFERROR(INDEX(阻害要因×在院期間区分[#All],MATCH($AI25,阻害要因×在院期間区分[[#All],[値]],0),MATCH($AW$4,阻害要因×在院期間区分[#Headers],0)),0)","v":86},0.29351535836177473,{"$f":"IFERROR(INDEX(阻害要因×在院期間区分[#All],MATCH($AI25,阻害要因×在院期間区分[[#All],[値]],0),MATCH($AX$4,阻害要因×在院期間区分[#Headers],0)),0)+IFERROR(INDEX(阻害要因×在院期間区分[#All],MATCH($AI25,阻害要因×在院期間区分[[#All],[値]],0),MATCH($AY$4,阻害要因×在院期間区分[#Headers],0)),0)","v":64},0.19692307692307692,615,"合計 / 住まいの確保ができない",38,81,73,66,45,36,52,41,33,26,10,23,15,12,45,19,null,null,null,null,null,null,"合計 / 家族から退院に反対がある"]
[null,"生活費の確保ができない",{"$f":"IFERROR(INDEX(阻害要因×在院期間区分[#All],MATCH($AI26,阻害要因×在院期間区分[[#All],[値]],0),MATCH($AJ$4,阻害要因×在院期間区分[#Headers],0)),0)+IFERROR(INDEX(阻害要因×在院期間区分[#All],MATCH($AI26,阻害要因×在院期間区分[[#All],[値]],0),MATCH($AK$4,阻害要因×在院期間区分[#Headers],0)),0)+IFERROR(INDEX(阻害要因×在院期間区分[#All],MATCH($AI26,阻害要因×在院期間区分[[#All],[値]],0),MATCH($AL$4,阻害要因×在院期間区分[#Headers],0)),0)+IFERROR(INDEX(阻害要因×在院期間区分[#All],MATCH($AI26,阻害要因×在院期間区分[[#All],[値]],0),MATCH($AM$4,阻害要因×在院期間区分[#Headers],0)),0)","v":43},6.4661654135338351E-2,{"$f":"IFERROR(INDEX(阻害要因×在院期間区分[#All],MATCH($AI26,阻害要因×在院期間区分[[#All],[値]],0),MATCH($AN$4,阻害要因×在院期間区分[#Headers],0)),0)+IFERROR(INDEX(阻害要因×在院期間区分[#All],MATCH($AI26,阻害要因×在院期間区分[[#All],[値]],0),MATCH($AO$4,阻害要因×在院期間区分[#Headers],0)),0)+IFERROR(INDEX(阻害要因×在院期間区分[#All],MATCH($AI26,阻害要因×在院期間区分[[#All],[値]],0),MATCH($AP$4,阻害要因×在院期間区分[#Headers],0)),0)+IFERROR(INDEX(阻害要因×在院期間区分[#All],MATCH($AI26,阻害要因×在院期間区分[[#All],[値]],0),MATCH($AQ$4,阻害要因×在院期間区分[#Headers],0)),0)+IFERROR(INDEX(阻害要因×在院期間区分[#All],MATCH($AI26,阻害要因×在院期間区分[[#All],[値]],0),MATCH($AR$4,阻害要因×在院期間区分[#Headers],0)),0)","v":40},5.9435364041604752E-2,{"$f":"IFERROR(INDEX(阻害要因×在院期間区分[#All],MATCH($AI26,阻害要因×在院期間区分[[#All],[値]],0),MATCH($AS$4,阻害要因×在院期間区分[#Headers],0)),0)+IFERROR(INDEX(阻害要因×在院期間区分[#All],MATCH($AI26,阻害要因×在院期間区分[[#All],[値]],0),MATCH($AT$4,阻害要因×在院期間区分[#Headers],0)),0)+IFERROR(INDEX(阻害要因×在院期間区分[#All],MATCH($AI26,阻害要因×在院期間区分[[#All],[値]],0),MATCH($AU$4,阻害要因×在院期間区分[#Headers],0)),0)+IFERROR(INDEX(阻害要因×在院期間区分[#All],MATCH($AI26,阻害要因×在院期間区分[[#All],[値]],0),MATCH($AV$4,阻害要因×在院期間区分[#Headers],0)),0)+IFERROR(INDEX(阻害要因×在院期間区分[#All],MATCH($AI26,阻害要因×在院期間区分[[#All],[値]],0),MATCH($AW$4,阻害要因×在院期間区分[#Headers],0)),0)","v":23},7.8498293515358364E-2,{"$f":"IFERROR(INDEX(阻害要因×在院期間区分[#All],MATCH($AI26,阻害要因×在院期間区分[[#All],[値]],0),MATCH($AX$4,阻害要因×在院期間区分[#Headers],0)),0)+IFERROR(INDEX(阻害要因×在院期間区分[#All],MATCH($AI26,阻害要因×在院期間区分[[#All],[値]],0),MATCH($AY$4,阻害要因×在院期間区分[#Headers],0)),0)","v":8},2.4615384615384615E-2,114,"合計 / 生活費の確保ができない",8,11,6,18,12,8,10,8,2,8,3,5,5,2,6,2,null,null,null,null,null,null,"合計 / 住まいの確保ができない"]
[null,"日常生活を支える制度がない",{"$f":"IFERROR(INDEX(阻害要因×在院期間区分[#All],MATCH($AI27,阻害要因×在院期間区分[[#All],[値]],0),MATCH($AJ$4,阻害要因×在院期間区分[#Headers],0)),0)+IFERROR(INDEX(阻害要因×在院期間区分[#All],MATCH($AI27,阻害要因×在院期間区分[[#All],[値]],0),MATCH($AK$4,阻害要因×在院期間区分[#Headers],0)),0)+IFERROR(INDEX(阻害要因×在院期間区分[#All],MATCH($AI27,阻害要因×在院期間区分[[#All],[値]],0),MATCH($AL$4,阻害要因×在院期間区分[#Headers],0)),0)+IFERROR(INDEX(阻害要因×在院期間区分[#All],MATCH($AI27,阻害要因×在院期間区分[[#All],[値]],0),MATCH($AM$4,阻害要因×在院期間区分[#Headers],0)),0)","v":53},7.9699248120300756E-2,{"$f":"IFERROR(INDEX(阻害要因×在院期間区分[#All],MATCH($AI27,阻害要因×在院期間区分[[#All],[値]],0),MATCH($AN$4,阻害要因×在院期間区分[#Headers],0)),0)+IFERROR(INDEX(阻害要因×在院期間区分[#All],MATCH($AI27,阻害要因×在院期間区分[[#All],[値]],0),MATCH($AO$4,阻害要因×在院期間区分[#Headers],0)),0)+IFERROR(INDEX(阻害要因×在院期間区分[#All],MATCH($AI27,阻害要因×在院期間区分[[#All],[値]],0),MATCH($AP$4,阻害要因×在院期間区分[#Headers],0)),0)+IFERROR(INDEX(阻害要因×在院期間区分[#All],MATCH($AI27,阻害要因×在院期間区分[[#All],[値]],0),MATCH($AQ$4,阻害要因×在院期間区分[#Headers],0)),0)+IFERROR(INDEX(阻害要因×在院期間区分[#All],MATCH($AI27,阻害要因×在院期間区分[[#All],[値]],0),MATCH($AR$4,阻害要因×在院期間区分[#Headers],0)),0)","v":40},5.9435364041604752E-2,{"$f":"IFERROR(INDEX(阻害要因×在院期間区分[#All],MATCH($AI27,阻害要因×在院期間区分[[#All],[値]],0),MATCH($AS$4,阻害要因×在院期間区分[#Headers],0)),0)+IFERROR(INDEX(阻害要因×在院期間区分[#All],MATCH($AI27,阻害要因×在院期間区分[[#All],[値]],0),MATCH($AT$4,阻害要因×在院期間区分[#Headers],0)),0)+IFERROR(INDEX(阻害要因×在院期間区分[#All],MATCH($AI27,阻害要因×在院期間区分[[#All],[値]],0),MATCH($AU$4,阻害要因×在院期間区分[#Headers],0)),0)+IFERROR(INDEX(阻害要因×在院期間区分[#All],MATCH($AI27,阻害要因×在院期間区分[[#All],[値]],0),MATCH($AV$4,阻害要因×在院期間区分[#Headers],0)),0)+IFERROR(INDEX(阻害要因×在院期間区分[#All],MATCH($AI27,阻害要因×在院期間区分[[#All],[値]],0),MATCH($AW$4,阻害要因×在院期間区分[#Headers],0)),0)","v":20},6.8259385665529013E-2,{"$f":"IFERROR(INDEX(阻害要因×在院期間区分[#All],MATCH($AI27,阻害要因×在院期間区分[[#All],[値]],0),MATCH($AX$4,阻害要因×在院期間区分[#Headers],0)),0)+IFERROR(INDEX(阻害要因×在院期間区分[#All],MATCH($AI27,阻害要因×在院期間区分[[#All],[値]],0),MATCH($AY$4,阻害要因×在院期間区分[#Headers],0)),0)","v":19},5.8461538461538461E-2,132,"合計 / 日常生活を支える制度がない",12,18,10,13,8,2,11,12,7,5,4,4,5,2,12,7,null,null,null,null,null,null,"合計 / 生活費の確保ができない"]
[null,"救急診療体制がない",{"$f":"IFERROR(INDEX(阻害要因×在院期間区分[#All],MATCH($AI28,阻害要因×在院期間区分[[#All],[値]],0),MATCH($AJ$4,阻害要因×在院期間区分[#Headers],0)),0)+IFERROR(INDEX(阻害要因×在院期間区分[#All],MATCH($AI28,阻害要因×在院期間区分[[#All],[値]],0),MATCH($AK$4,阻害要因×在院期間区分[#Headers],0)),0)+IFERROR(INDEX(阻害要因×在院期間区分[#All],MATCH($AI28,阻害要因×在院期間区分[[#All],[値]],0),MATCH($AL$4,阻害要因×在院期間区分[#Headers],0)),0)+IFERROR(INDEX(阻害要因×在院期間区分[#All],MATCH($AI28,阻害要因×在院期間区分[[#All],[値]],0),MATCH($AM$4,阻害要因×在院期間区分[#Headers],0)),0)","v":0},0,{"$f":"IFERROR(INDEX(阻害要因×在院期間区分[#All],MATCH($AI28,阻害要因×在院期間区分[[#All],[値]],0),MATCH($AN$4,阻害要因×在院期間区分[#Headers],0)),0)+IFERROR(INDEX(阻害要因×在院期間区分[#All],MATCH($AI28,阻害要因×在院期間区分[[#All],[値]],0),MATCH($AO$4,阻害要因×在院期間区分[#Headers],0)),0)+IFERROR(INDEX(阻害要因×在院期間区分[#All],MATCH($AI28,阻害要因×在院期間区分[[#All],[値]],0),MATCH($AP$4,阻害要因×在院期間区分[#Headers],0)),0)+IFERROR(INDEX(阻害要因×在院期間区分[#All],MATCH($AI28,阻害要因×在院期間区分[[#All],[値]],0),MATCH($AQ$4,阻害要因×在院期間区分[#Headers],0)),0)+IFERROR(INDEX(阻害要因×在院期間区分[#All],MATCH($AI28,阻害要因×在院期間区分[[#All],[値]],0),MATCH($AR$4,阻害要因×在院期間区分[#Headers],0)),0)","v":2},2.9717682020802376E-3,{"$f":"IFERROR(INDEX(阻害要因×在院期間区分[#All],MATCH($AI28,阻害要因×在院期間区分[[#All],[値]],0),MATCH($AS$4,阻害要因×在院期間区分[#Headers],0)),0)+IFERROR(INDEX(阻害要因×在院期間区分[#All],MATCH($AI28,阻害要因×在院期間区分[[#All],[値]],0),MATCH($AT$4,阻害要因×在院期間区分[#Headers],0)),0)+IFERROR(INDEX(阻害要因×在院期間区分[#All],MATCH($AI28,阻害要因×在院期間区分[[#All],[値]],0),MATCH($AU$4,阻害要因×在院期間区分[#Headers],0)),0)+IFERROR(INDEX(阻害要因×在院期間区分[#All],MATCH($AI28,阻害要因×在院期間区分[[#All],[値]],0),MATCH($AV$4,阻害要因×在院期間区分[#Headers],0)),0)+IFERROR(INDEX(阻害要因×在院期間区分[#All],MATCH($AI28,阻害要因×在院期間区分[[#All],[値]],0),MATCH($AW$4,阻害要因×在院期間区分[#Headers],0)),0)","v":2},6.8259385665529011E-3,{"$f":"IFERROR(INDEX(阻害要因×在院期間区分[#All],MATCH($AI28,阻害要因×在院期間区分[[#All],[値]],0),MATCH($AX$4,阻害要因×在院期間区分[#Headers],0)),0)+IFERROR(INDEX(阻害要因×在院期間区分[#All],MATCH($AI28,阻害要因×在院期間区分[[#All],[値]],0),MATCH($AY$4,阻害要因×在院期間区分[#Headers],0)),0)","v":1},3.0769230769230769E-3,5,"合計 / 救急診療体制がない",0,0,0,0,1,0,1,0,0,0,0,1,1,0,1,0,null,null,null,null,null,null,"合計 / 日常生活を支える制度がない"]
[null,"退院に向けてサポートする人的資源が乏しい",{"$f":"IFERROR(INDEX(阻害要因×在院期間区分[#All],MATCH($AI29,阻害要因×在院期間区分[[#All],[値]],0),MATCH($AJ$4,阻害要因×在院期間区分[#Headers],0)),0)+IFERROR(INDEX(阻害要因×在院期間区分[#All],MATCH($AI29,阻害要因×在院期間区分[[#All],[値]],0),MATCH($AK$4,阻害要因×在院期間区分[#Headers],0)),0)+IFERROR(INDEX(阻害要因×在院期間区分[#All],MATCH($AI29,阻害要因×在院期間区分[[#All],[値]],0),MATCH($AL$4,阻害要因×在院期間区分[#Headers],0)),0)+IFERROR(INDEX(阻害要因×在院期間区分[#All],MATCH($AI29,阻害要因×在院期間区分[[#All],[値]],0),MATCH($AM$4,阻害要因×在院期間区分[#Headers],0)),0)","v":39},5.8646616541353384E-2,{"$f":"IFERROR(INDEX(阻害要因×在院期間区分[#All],MATCH($AI29,阻害要因×在院期間区分[[#All],[値]],0),MATCH($AN$4,阻害要因×在院期間区分[#Headers],0)),0)+IFERROR(INDEX(阻害要因×在院期間区分[#All],MATCH($AI29,阻害要因×在院期間区分[[#All],[値]],0),MATCH($AO$4,阻害要因×在院期間区分[#Headers],0)),0)+IFERROR(INDEX(阻害要因×在院期間区分[#All],MATCH($AI29,阻害要因×在院期間区分[[#All],[値]],0),MATCH($AP$4,阻害要因×在院期間区分[#Headers],0)),0)+IFERROR(INDEX(阻害要因×在院期間区分[#All],MATCH($AI29,阻害要因×在院期間区分[[#All],[値]],0),MATCH($AQ$4,阻害要因×在院期間区分[#Headers],0)),0)+IFERROR(INDEX(阻害要因×在院期間区分[#All],MATCH($AI29,阻害要因×在院期間区分[[#All],[値]],0),MATCH($AR$4,阻害要因×在院期間区分[#Headers],0)),0)","v":58},8.6181277860326894E-2,{"$f":"IFERROR(INDEX(阻害要因×在院期間区分[#All],MATCH($AI29,阻害要因×在院期間区分[[#All],[値]],0),MATCH($AS$4,阻害要因×在院期間区分[#Headers],0)),0)+IFERROR(INDEX(阻害要因×在院期間区分[#All],MATCH($AI29,阻害要因×在院期間区分[[#All],[値]],0),MATCH($AT$4,阻害要因×在院期間区分[#Headers],0)),0)+IFERROR(INDEX(阻害要因×在院期間区分[#All],MATCH($AI29,阻害要因×在院期間区分[[#All],[値]],0),MATCH($AU$4,阻害要因×在院期間区分[#Headers],0)),0)+IFERROR(INDEX(阻害要因×在院期間区分[#All],MATCH($AI29,阻害要因×在院期間区分[[#All],[値]],0),MATCH($AV$4,阻害要因×在院期間区分[#Headers],0)),0)+IFERROR(INDEX(阻害要因×在院期間区分[#All],MATCH($AI29,阻害要因×在院期間区分[[#All],[値]],0),MATCH($AW$4,阻害要因×在院期間区分[#Headers],0)),0)","v":26},8.8737201365187715E-2,{"$f":"IFERROR(INDEX(阻害要因×在院期間区分[#All],MATCH($AI29,阻害要因×在院期間区分[[#All],[値]],0),MATCH($AX$4,阻害要因×在院期間区分[#Headers],0)),0)+IFERROR(INDEX(阻害要因×在院期間区分[#All],MATCH($AI29,阻害要因×在院期間区分[[#All],[値]],0),MATCH($AY$4,阻害要因×在院期間区分[#Headers],0)),0)","v":23},7.0769230769230765E-2,146,"合計 / 退院に向けてサポートする人的資源が乏しい",7,13,8,11,9,9,15,11,14,9,2,7,3,5,19,4,null,null,null,null,null,null,"合計 / 救急診療体制がない"]
[null,"退院後サポート・マネジメントする人的資源が乏しい",{"$f":"IFERROR(INDEX(阻害要因×在院期間区分[#All],MATCH($AI30,阻害要因×在院期間区分[[#All],[値]],0),MATCH($AJ$4,阻害要因×在院期間区分[#Headers],0)),0)+IFERROR(INDEX(阻害要因×在院期間区分[#All],MATCH($AI30,阻害要因×在院期間区分[[#All],[値]],0),MATCH($AK$4,阻害要因×在院期間区分[#Headers],0)),0)+IFERROR(INDEX(阻害要因×在院期間区分[#All],MATCH($AI30,阻害要因×在院期間区分[[#All],[値]],0),MATCH($AL$4,阻害要因×在院期間区分[#Headers],0)),0)+IFERROR(INDEX(阻害要因×在院期間区分[#All],MATCH($AI30,阻害要因×在院期間区分[[#All],[値]],0),MATCH($AM$4,阻害要因×在院期間区分[#Headers],0)),0)","v":34},5.1127819548872182E-2,{"$f":"IFERROR(INDEX(阻害要因×在院期間区分[#All],MATCH($AI30,阻害要因×在院期間区分[[#All],[値]],0),MATCH($AN$4,阻害要因×在院期間区分[#Headers],0)),0)+IFERROR(INDEX(阻害要因×在院期間区分[#All],MATCH($AI30,阻害要因×在院期間区分[[#All],[値]],0),MATCH($AO$4,阻害要因×在院期間区分[#Headers],0)),0)+IFERROR(INDEX(阻害要因×在院期間区分[#All],MATCH($AI30,阻害要因×在院期間区分[[#All],[値]],0),MATCH($AP$4,阻害要因×在院期間区分[#Headers],0)),0)+IFERROR(INDEX(阻害要因×在院期間区分[#All],MATCH($AI30,阻害要因×在院期間区分[[#All],[値]],0),MATCH($AQ$4,阻害要因×在院期間区分[#Headers],0)),0)+IFERROR(INDEX(阻害要因×在院期間区分[#All],MATCH($AI30,阻害要因×在院期間区分[[#All],[値]],0),MATCH($AR$4,阻害要因×在院期間区分[#Headers],0)),0)","v":34},5.0520059435364043E-2,{"$f":"IFERROR(INDEX(阻害要因×在院期間区分[#All],MATCH($AI30,阻害要因×在院期間区分[[#All],[値]],0),MATCH($AS$4,阻害要因×在院期間区分[#Headers],0)),0)+IFERROR(INDEX(阻害要因×在院期間区分[#All],MATCH($AI30,阻害要因×在院期間区分[[#All],[値]],0),MATCH($AT$4,阻害要因×在院期間区分[#Headers],0)),0)+IFERROR(INDEX(阻害要因×在院期間区分[#All],MATCH($AI30,阻害要因×在院期間区分[[#All],[値]],0),MATCH($AU$4,阻害要因×在院期間区分[#Headers],0)),0)+IFERROR(INDEX(阻害要因×在院期間区分[#All],MATCH($AI30,阻害要因×在院期間区分[[#All],[値]],0),MATCH($AV$4,阻害要因×在院期間区分[#Headers],0)),0)+IFERROR(INDEX(阻害要因×在院期間区分[#All],MATCH($AI30,阻害要因×在院期間区分[[#All],[値]],0),MATCH($AW$4,阻害要因×在院期間区分[#Headers],0)),0)","v":16},5.4607508532423209E-2,{"$f":"IFERROR(INDEX(阻害要因×在院期間区分[#All],MATCH($AI30,阻害要因×在院期間区分[[#All],[値]],0),MATCH($AX$4,阻害要因×在院期間区分[#Headers],0)),0)+IFERROR(INDEX(阻害要因×在院期間区分[#All],MATCH($AI30,阻害要因×在院期間区分[[#All],[値]],0),MATCH($AY$4,阻害要因×在院期間区分[#Headers],0)),0)","v":26},0.08,110,"合計 / 退院後サポート・マネジメントする人的資源が乏しい",2,14,6,12,9,7,6,6,6,6,2,3,2,3,14,12,null,null,null,null,null,null,"合計 / 退院に向けてサポートする人的資源が乏しい"]
[null,"住所地と入院先の距離があり支援体制がとりにくい",{"$f":"IFERROR(INDEX(阻害要因×在院期間区分[#All],MATCH($AI31,阻害要因×在院期間区分[[#All],[値]],0),MATCH($AJ$4,阻害要因×在院期間区分[#Headers],0)),0)+IFERROR(INDEX(阻害要因×在院期間区分[#All],MATCH($AI31,阻害要因×在院期間区分[[#All],[値]],0),MATCH($AK$4,阻害要因×在院期間区分[#Headers],0)),0)+IFERROR(INDEX(阻害要因×在院期間区分[#All],MATCH($AI31,阻害要因×在院期間区分[[#All],[値]],0),MATCH($AL$4,阻害要因×在院期間区分[#Headers],0)),0)+IFERROR(INDEX(阻害要因×在院期間区分[#All],MATCH($AI31,阻害要因×在院期間区分[[#All],[値]],0),MATCH($AM$4,阻害要因×在院期間区分[#Headers],0)),0)","v":12},1.8045112781954888E-2,{"$f":"IFERROR(INDEX(阻害要因×在院期間区分[#All],MATCH($AI31,阻害要因×在院期間区分[[#All],[値]],0),MATCH($AN$4,阻害要因×在院期間区分[#Headers],0)),0)+IFERROR(INDEX(阻害要因×在院期間区分[#All],MATCH($AI31,阻害要因×在院期間区分[[#All],[値]],0),MATCH($AO$4,阻害要因×在院期間区分[#Headers],0)),0)+IFERROR(INDEX(阻害要因×在院期間区分[#All],MATCH($AI31,阻害要因×在院期間区分[[#All],[値]],0),MATCH($AP$4,阻害要因×在院期間区分[#Headers],0)),0)+IFERROR(INDEX(阻害要因×在院期間区分[#All],MATCH($AI31,阻害要因×在院期間区分[[#All],[値]],0),MATCH($AQ$4,阻害要因×在院期間区分[#Headers],0)),0)+IFERROR(INDEX(阻害要因×在院期間区分[#All],MATCH($AI31,阻害要因×在院期間区分[[#All],[値]],0),MATCH($AR$4,阻害要因×在院期間区分[#Headers],0)),0)","v":10},1.4858841010401188E-2,{"$f":"IFERROR(INDEX(阻害要因×在院期間区分[#All],MATCH($AI31,阻害要因×在院期間区分[[#All],[値]],0),MATCH($AS$4,阻害要因×在院期間区分[#Headers],0)),0)+IFERROR(INDEX(阻害要因×在院期間区分[#All],MATCH($AI31,阻害要因×在院期間区分[[#All],[値]],0),MATCH($AT$4,阻害要因×在院期間区分[#Headers],0)),0)+IFERROR(INDEX(阻害要因×在院期間区分[#All],MATCH($AI31,阻害要因×在院期間区分[[#All],[値]],0),MATCH($AU$4,阻害要因×在院期間区分[#Headers],0)),0)+IFERROR(INDEX(阻害要因×在院期間区分[#All],MATCH($AI31,阻害要因×在院期間区分[[#All],[値]],0),MATCH($AV$4,阻害要因×在院期間区分[#Headers],0)),0)+IFERROR(INDEX(阻害要因×在院期間区分[#All],MATCH($AI31,阻害要因×在院期間区分[[#All],[値]],0),MATCH($AW$4,阻害要因×在院期間区分[#Headers],0)),0)","v":4},1.3651877133105802E-2,{"$f":"IFERROR(INDEX(阻害要因×在院期間区分[#All],MATCH($AI31,阻害要因×在院期間区分[[#All],[値]],0),MATCH($AX$4,阻害要因×在院期間区分[#Headers],0)),0)+IFERROR(INDEX(阻害要因×在院期間区分[#All],MATCH($AI31,阻害要因×在院期間区分[[#All],[値]],0),MATCH($AY$4,阻害要因×在院期間区分[#Headers],0)),0)","v":4},1.2307692307692308E-2,{"$f":"SUM(C30,E30,G30,I30)","v":30},"合計 / 住所地と入院先の距離があり支援体制をとりにくい",3,3,2,4,4,0,1,1,4,0,1,2,0,1,2,2,null,null,null,null,null,null,"合計 / 退院後サポート・マネジメントする人的資源が乏しい"]
[null,"身体的機能や状態を原因としたADLの低下がある",{"$f":"IFERROR(INDEX(阻害要因×在院期間区分[#All],MATCH($AI32,阻害要因×在院期間区分[[#All],[値]],0),MATCH($AJ$4,阻害要因×在院期間区分[#Headers],0)),0)+IFERROR(INDEX(阻害要因×在院期間区分[#All],MATCH($AI32,阻害要因×在院期間区分[[#All],[値]],0),MATCH($AK$4,阻害要因×在院期間区分[#Headers],0)),0)+IFERROR(INDEX(阻害要因×在院期間区分[#All],MATCH($AI32,阻害要因×在院期間区分[[#All],[値]],0),MATCH($AL$4,阻害要因×在院期間区分[#Headers],0)),0)+IFERROR(INDEX(阻害要因×在院期間区分[#All],MATCH($AI32,阻害要因×在院期間区分[[#All],[値]],0),MATCH($AM$4,阻害要因×在院期間区分[#Headers],0)),0)","v":115},{"$f":"IFERROR(C31/C$10,\"-\")","v":0.17293233082706766},{"$f":"IFERROR(INDEX(阻害要因×在院期間区分[#All],MATCH($AI32,阻害要因×在院期間区分[[#All],[値]],0),MATCH($AN$4,阻害要因×在院期間区分[#Headers],0)),0)+IFERROR(INDEX(阻害要因×在院期間区分[#All],MATCH($AI32,阻害要因×在院期間区分[[#All],[値]],0),MATCH($AO$4,阻害要因×在院期間区分[#Headers],0)),0)+IFERROR(INDEX(阻害要因×在院期間区分[#All],MATCH($AI32,阻害要因×在院期間区分[[#All],[値]],0),MATCH($AP$4,阻害要因×在院期間区分[#Headers],0)),0)+IFERROR(INDEX(阻害要因×在院期間区分[#All],MATCH($AI32,阻害要因×在院期間区分[[#All],[値]],0),MATCH($AQ$4,阻害要因×在院期間区分[#Headers],0)),0)+IFERROR(INDEX(阻害要因×在院期間区分[#All],MATCH($AI32,阻害要因×在院期間区分[[#All],[値]],0),MATCH($AR$4,阻害要因×在院期間区分[#Headers],0)),0)","v":124},{"$f":"IFERROR(E31/E$10,\"-\")","v":0.18424962852897475},{"$f":"IFERROR(INDEX(阻害要因×在院期間区分[#All],MATCH($AI32,阻害要因×在院期間区分[[#All],[値]],0),MATCH($AS$4,阻害要因×在院期間区分[#Headers],0)),0)+IFERROR(INDEX(阻害要因×在院期間区分[#All],MATCH($AI32,阻害要因×在院期間区分[[#All],[値]],0),MATCH($AT$4,阻害要因×在院期間区分[#Headers],0)),0)+IFERROR(INDEX(阻害要因×在院期間区分[#All],MATCH($AI32,阻害要因×在院期間区分[[#All],[値]],0),MATCH($AU$4,阻害要因×在院期間区分[#Headers],0)),0)+IFERROR(INDEX(阻害要因×在院期間区分[#All],MATCH($AI32,阻害要因×在院期間区分[[#All],[値]],0),MATCH($AV$4,阻害要因×在院期間区分[#Headers],0)),0)+IFERROR(INDEX(阻害要因×在院期間区分[#All],MATCH($AI32,阻害要因×在院期間区分[[#All],[値]],0),MATCH($AW$4,阻害要因×在院期間区分[#Headers],0)),0)","v":42},{"$f":"IFERROR(G31/G$10,\"-\")","v":0.14334470989761092},{"$f":"IFERROR(INDEX(阻害要因×在院期間区分[#All],MATCH($AI32,阻害要因×在院期間区分[[#All],[値]],0),MATCH($AX$4,阻害要因×在院期間区分[#Headers],0)),0)+IFERROR(INDEX(阻害要因×在院期間区分[#All],MATCH($AI32,阻害要因×在院期間区分[[#All],[値]],0),MATCH($AY$4,阻害要因×在院期間区分[#Headers],0)),0)","v":50},{"$f":"IFERROR(I31/I$10,\"-\")","v":0.15384615384615385},{"$f":"SUM(C31,E31,G31,I31)","v":331},"合計 / 身体的機能や状態を原因としたADLの低下がある",21,34,29,31,34,24,33,18,15,13,10,9,7,3,26,24,null,null,null,null,null,null,"合計 / 住所地と入院先の距離があり支援体制をとりにくい"]
[null,"身体合併症の程度が重いなど身体面のフォローが必要であり、地域での生活が困難",{"$f":"IFERROR(INDEX(阻害要因×在院期間区分[#All],MATCH($AI33,阻害要因×在院期間区分[[#All],[値]],0),MATCH($AJ$4,阻害要因×在院期間区分[#Headers],0)),0)+IFERROR(INDEX(阻害要因×在院期間区分[#All],MATCH($AI33,阻害要因×在院期間区分[[#All],[値]],0),MATCH($AK$4,阻害要因×在院期間区分[#Headers],0)),0)+IFERROR(INDEX(阻害要因×在院期間区分[#All],MATCH($AI33,阻害要因×在院期間区分[[#All],[値]],0),MATCH($AL$4,阻害要因×在院期間区分[#Headers],0)),0)+IFERROR(INDEX(阻害要因×在院期間区分[#All],MATCH($AI33,阻害要因×在院期間区分[[#All],[値]],0),MATCH($AM$4,阻害要因×在院期間区分[#Headers],0)),0)","v":76},0.11428571428571428,{"$f":"IFERROR(INDEX(阻害要因×在院期間区分[#All],MATCH($AI33,阻害要因×在院期間区分[[#All],[値]],0),MATCH($AN$4,阻害要因×在院期間区分[#Headers],0)),0)+IFERROR(INDEX(阻害要因×在院期間区分[#All],MATCH($AI33,阻害要因×在院期間区分[[#All],[値]],0),MATCH($AO$4,阻害要因×在院期間区分[#Headers],0)),0)+IFERROR(INDEX(阻害要因×在院期間区分[#All],MATCH($AI33,阻害要因×在院期間区分[[#All],[値]],0),MATCH($AP$4,阻害要因×在院期間区分[#Headers],0)),0)+IFERROR(INDEX(阻害要因×在院期間区分[#All],MATCH($AI33,阻害要因×在院期間区分[[#All],[値]],0),MATCH($AQ$4,阻害要因×在院期間区分[#Headers],0)),0)+IFERROR(INDEX(阻害要因×在院期間区分[#All],MATCH($AI33,阻害要因×在院期間区分[[#All],[値]],0),MATCH($AR$4,阻害要因×在院期間区分[#Headers],0)),0)","v":68},0.10104011887072809,{"$f":"IFERROR(INDEX(阻害要因×在院期間区分[#All],MATCH($AI33,阻害要因×在院期間区分[[#All],[値]],0),MATCH($AS$4,阻害要因×在院期間区分[#Headers],0)),0)+IFERROR(INDEX(阻害要因×在院期間区分[#All],MATCH($AI33,阻害要因×在院期間区分[[#All],[値]],0),MATCH($AT$4,阻害要因×在院期間区分[#Headers],0)),0)+IFERROR(INDEX(阻害要因×在院期間区分[#All],MATCH($AI33,阻害要因×在院期間区分[[#All],[値]],0),MATCH($AU$4,阻害要因×在院期間区分[#Headers],0)),0)+IFERROR(INDEX(阻害要因×在院期間区分[#All],MATCH($AI33,阻害要因×在院期間区分[[#All],[値]],0),MATCH($AV$4,阻害要因×在院期間区分[#Headers],0)),0)+IFERROR(INDEX(阻害要因×在院期間区分[#All],MATCH($AI33,阻害要因×在院期間区分[[#All],[値]],0),MATCH($AW$4,阻害要因×在院期間区分[#Headers],0)),0)","v":30},0.10238907849829351,{"$f":"IFERROR(INDEX(阻害要因×在院期間区分[#All],MATCH($AI33,阻害要因×在院期間区分[[#All],[値]],0),MATCH($AX$4,阻害要因×在院期間区分[#Headers],0)),0)+IFERROR(INDEX(阻害要因×在院期間区分[#All],MATCH($AI33,阻害要因×在院期間区分[[#All],[値]],0),MATCH($AY$4,阻害要因×在院期間区分[#Headers],0)),0)","v":37},0.11384615384615385,211,"合計 / 身体合併症の程度が重いなど身体面のフォローが必要であり、地域での生活が困難",16,18,13,29,19,15,21,7,6,11,8,5,3,3,18,19,null,null,null,null,null,null,"合計 / 身体的機能や状態を原因としたADLの低下がある"]
[null,"その他の退院阻害要因がある",{"$f":"IFERROR(INDEX(阻害要因×在院期間区分[#All],MATCH($AI34,阻害要因×在院期間区分[[#All],[値]],0),MATCH($AJ$4,阻害要因×在院期間区分[#Headers],0)),0)+IFERROR(INDEX(阻害要因×在院期間区分[#All],MATCH($AI34,阻害要因×在院期間区分[[#All],[値]],0),MATCH($AK$4,阻害要因×在院期間区分[#Headers],0)),0)+IFERROR(INDEX(阻害要因×在院期間区分[#All],MATCH($AI34,阻害要因×在院期間区分[[#All],[値]],0),MATCH($AL$4,阻害要因×在院期間区分[#Headers],0)),0)+IFERROR(INDEX(阻害要因×在院期間区分[#All],MATCH($AI34,阻害要因×在院期間区分[[#All],[値]],0),MATCH($AM$4,阻害要因×在院期間区分[#Headers],0)),0)","v":28},4.2105263157894736E-2,{"$f":"IFERROR(INDEX(阻害要因×在院期間区分[#All],MATCH($AI34,阻害要因×在院期間区分[[#All],[値]],0),MATCH($AN$4,阻害要因×在院期間区分[#Headers],0)),0)+IFERROR(INDEX(阻害要因×在院期間区分[#All],MATCH($AI34,阻害要因×在院期間区分[[#All],[値]],0),MATCH($AO$4,阻害要因×在院期間区分[#Headers],0)),0)+IFERROR(INDEX(阻害要因×在院期間区分[#All],MATCH($AI34,阻害要因×在院期間区分[[#All],[値]],0),MATCH($AP$4,阻害要因×在院期間区分[#Headers],0)),0)+IFERROR(INDEX(阻害要因×在院期間区分[#All],MATCH($AI34,阻害要因×在院期間区分[[#All],[値]],0),MATCH($AQ$4,阻害要因×在院期間区分[#Headers],0)),0)+IFERROR(INDEX(阻害要因×在院期間区分[#All],MATCH($AI34,阻害要因×在院期間区分[[#All],[値]],0),MATCH($AR$4,阻害要因×在院期間区分[#Headers],0)),0)","v":10},1.4858841010401188E-2,{"$f":"IFERROR(INDEX(阻害要因×在院期間区分[#All],MATCH($AI34,阻害要因×在院期間区分[[#All],[値]],0),MATCH($AS$4,阻害要因×在院期間区分[#Headers],0)),0)+IFERROR(INDEX(阻害要因×在院期間区分[#All],MATCH($AI34,阻害要因×在院期間区分[[#All],[値]],0),MATCH($AT$4,阻害要因×在院期間区分[#Headers],0)),0)+IFERROR(INDEX(阻害要因×在院期間区分[#All],MATCH($AI34,阻害要因×在院期間区分[[#All],[値]],0),MATCH($AU$4,阻害要因×在院期間区分[#Headers],0)),0)+IFERROR(INDEX(阻害要因×在院期間区分[#All],MATCH($AI34,阻害要因×在院期間区分[[#All],[値]],0),MATCH($AV$4,阻害要因×在院期間区分[#Headers],0)),0)+IFERROR(INDEX(阻害要因×在院期間区分[#All],MATCH($AI34,阻害要因×在院期間区分[[#All],[値]],0),MATCH($AW$4,阻害要因×在院期間区分[#Headers],0)),0)","v":4},1.3651877133105802E-2,{"$f":"IFERROR(INDEX(阻害要因×在院期間区分[#All],MATCH($AI34,阻害要因×在院期間区分[[#All],[値]],0),MATCH($AX$4,阻害要因×在院期間区分[#Headers],0)),0)+IFERROR(INDEX(阻害要因×在院期間区分[#All],MATCH($AI34,阻害要因×在院期間区分[[#All],[値]],0),MATCH($AY$4,阻害要因×在院期間区分[#Headers],0)),0)","v":2},6.1538461538461538E-3,44,"合計 / その他の退院阻害要因がある",4,7,8,9,3,1,3,2,1,0,0,1,2,1,2,0,null,null,null,null,null,null,"合計 / 身体合併症の程度が重いなど身体面のフォローが必要であり、地域での生活が困難"]
[null,null,null,null,null,null,null,null,null,null,null,null,null,null,null,null,null,null,null,null,null,null,null,null,null,null,null,null,null,null,null,null,null,null,"合計 / その他の退院阻害要因がある"]
[null,"【退院阻害要因×在院期間区分】〔寛解・院内寛解群〕"]
[null,"退院予定の有無","在院期間区分",null,null,null,null,null,null,null,null,"データ貼り付け箇所"]
[null,null,"1年未満",null,"1年以上5年未満",null,"5年以上10年未満",null,"10年以上",null,null,"行ラベル","01_1ヶ月未満","02_1ヶ月～3ヶ月未満","03_3ヶ月～6ヶ月未満","04_6ヶ月～1年未満","05_1年～1年6ヶ月未満","06_1年6ヶ月～2年未満","07_2年～3年未満","08_3年～4年未満","09_4年～5年未満","10_5年～6年未満","11_6年～7年未満","12_7年～8年未満","13_8年～9年未満","14_9年～10年未満","15_10年～20年未満","16_ 20年以上"]
[null,"病状（主症状）が落ち着き、入院によらない形で治療ができるまで回復",{"$f":"IFERROR(INDEX(退院予定有無×在院期間区分＿寛解・院内寛解[#All],MATCH($AI39,退院予定有無×在院期間区分＿寛解・院内寛解[[#All],[行ラベル]],0),MATCH($AJ$4,退院予定有無×在院期間区分＿寛解・院内寛解[#Headers],0)),0)+IFERROR(INDEX(退院予定有無×在院期間区分＿寛解・院内寛解[#All],MATCH($AI39,退院予定有無×在院期間区分＿寛解・院内寛解[[#All],[行ラベル]],0),MATCH($AK$4,退院予定有無×在院期間区分＿寛解・院内寛解[#Headers],0)),0)+IFERROR(INDEX(退院予定有無×在院期間区分＿寛解・院内寛解[#All],MATCH($AI39,退院予定有無×在院期間区分＿寛解・院内寛解[[#All],[行ラベル]],0),MATCH($AL$4,退院予定有無×在院期間区分＿寛解・院内寛解[#Headers],0)),0)+IFERROR(INDEX(退院予定有無×在院期間区分＿寛解・院内寛解[#All],MATCH($AI39,退院予定有無×在院期間区分＿寛解・院内寛解[[#All],[行ラベル]],0),MATCH($AM$4,退院予定有無×在院期間区分＿寛解・院内寛解[#Headers],0)),0)","v":291},{"$f":"IFERROR(C38/C$41,\"-\")","v":0.23950617283950618},{"$f":"IFERROR(INDEX(退院予定有無×在院期間区分＿寛解・院内寛解[#All],MATCH($AI39,退院予定有無×在院期間区分＿寛解・院内寛解[[#All],[行ラベル]],0),MATCH($AN$4,退院予定有無×在院期間区分＿寛解・院内寛解[#Headers],0)),0)+IFERROR(INDEX(退院予定有無×在院期間区分＿寛解・院内寛解[#All],MATCH($AI39,退院予定有無×在院期間区分＿寛解・院内寛解[[#All],[行ラベル]],0),MATCH($AO$4,退院予定有無×在院期間区分＿寛解・院内寛解[#Headers],0)),0)+IFERROR(INDEX(退院予定有無×在院期間区分＿寛解・院内寛解[#All],MATCH($AI39,退院予定有無×在院期間区分＿寛解・院内寛解[[#All],[行ラベル]],0),MATCH($AP$4,退院予定有無×在院期間区分＿寛解・院内寛解[#Headers],0)),0)+IFERROR(INDEX(退院予定有無×在院期間区分＿寛解・院内寛解[#All],MATCH($AI39,退院予定有無×在院期間区分＿寛解・院内寛解[[#All],[行ラベル]],0),MATCH($AQ$4,退院予定有無×在院期間区分＿寛解・院内寛解[#Headers],0)),0)+IFERROR(INDEX(退院予定有無×在院期間区分＿寛解・院内寛解[#All],MATCH($AI39,退院予定有無×在院期間区分＿寛解・院内寛解[[#All],[行ラベル]],0),MATCH($AR$4,退院予定有無×在院期間区分＿寛解・院内寛解[#Headers],0)),0)","v":197},{"$f":"IFERROR(E38/E$41,\"-\")","v":0.58982035928143717},{"$f":"IFERROR(INDEX(退院予定有無×在院期間区分＿寛解・院内寛解[#All],MATCH($AI39,退院予定有無×在院期間区分＿寛解・院内寛解[[#All],[行ラベル]],0),MATCH($AS$4,退院予定有無×在院期間区分＿寛解・院内寛解[#Headers],0)),0)+IFERROR(INDEX(退院予定有無×在院期間区分＿寛解・院内寛解[#All],MATCH($AI39,退院予定有無×在院期間区分＿寛解・院内寛解[[#All],[行ラベル]],0),MATCH($AT$4,退院予定有無×在院期間区分＿寛解・院内寛解[#Headers],0)),0)+IFERROR(INDEX(退院予定有無×在院期間区分＿寛解・院内寛解[#All],MATCH($AI39,退院予定有無×在院期間区分＿寛解・院内寛解[[#All],[行ラベル]],0),MATCH($AU$4,退院予定有無×在院期間区分＿寛解・院内寛解[#Headers],0)),0)+IFERROR(INDEX(退院予定有無×在院期間区分＿寛解・院内寛解[#All],MATCH($AI39,退院予定有無×在院期間区分＿寛解・院内寛解[[#All],[行ラベル]],0),MATCH($AV$4,退院予定有無×在院期間区分＿寛解・院内寛解[#Headers],0)),0)+IFERROR(INDEX(退院予定有無×在院期間区分＿寛解・院内寛解[#All],MATCH($AI39,退院予定有無×在院期間区分＿寛解・院内寛解[[#All],[行ラベル]],0),MATCH($AW$4,退院予定有無×在院期間区分＿寛解・院内寛解[#Headers],0)),0)","v":67},{"$f":"IFERROR(G38/G$41,\"-\")","v":0.68367346938775508},{"$f":"IFERROR(INDEX(退院予定有無×在院期間区分＿寛解・院内寛解[#All],MATCH($AI39,退院予定有無×在院期間区分＿寛解・院内寛解[[#All],[行ラベル]],0),MATCH($AX$4,退院予定有無×在院期間区分＿寛解・院内寛解[#Headers],0)),0)+IFERROR(INDEX(退院予定有無×在院期間区分＿寛解・院内寛解[#All],MATCH($AI39,退院予定有無×在院期間区分＿寛解・院内寛解[[#All],[行ラベル]],0),MATCH($AY$4,退院予定有無×在院期間区分＿寛解・院内寛解[#Headers],0)),0)","v":81},{"$f":"IFERROR(I38/I$41,\"-\")","v":0.69230769230769229},{"$f":"SUM(C38,E38,G38,I38)","v":636},98,94,107,35,23,10,10,17,20,9,2,6,3,1,2,14,9]
[null,"病状（主症状）が不安定で入院による治療が必要",{"$f":"IFERROR(INDEX(退院予定有無×在院期間区分＿寛解・院内寛解[#All],MATCH($AI40,退院予定有無×在院期間区分＿寛解・院内寛解[[#All],[行ラベル]],0),MATCH($AJ$4,退院予定有無×在院期間区分＿寛解・院内寛解[#Headers],0)),0)+IFERROR(INDEX(退院予定有無×在院期間区分＿寛解・院内寛解[#All],MATCH($AI40,退院予定有無×在院期間区分＿寛解・院内寛解[[#All],[行ラベル]],0),MATCH($AK$4,退院予定有無×在院期間区分＿寛解・院内寛解[#Headers],0)),0)+IFERROR(INDEX(退院予定有無×在院期間区分＿寛解・院内寛解[#All],MATCH($AI40,退院予定有無×在院期間区分＿寛解・院内寛解[[#All],[行ラベル]],0),MATCH($AL$4,退院予定有無×在院期間区分＿寛解・院内寛解[#Headers],0)),0)+IFERROR(INDEX(退院予定有無×在院期間区分＿寛解・院内寛解[#All],MATCH($AI40,退院予定有無×在院期間区分＿寛解・院内寛解[[#All],[行ラベル]],0),MATCH($AM$4,退院予定有無×在院期間区分＿寛解・院内寛解[#Headers],0)),0)","v":259},{"$f":"IFERROR(C39/C$41,\"-\")","v":0.21316872427983538},{"$f":"IFERROR(INDEX(退院予定有無×在院期間区分＿寛解・院内寛解[#All],MATCH($AI40,退院予定有無×在院期間区分＿寛解・院内寛解[[#All],[行ラベル]],0),MATCH($AN$4,退院予定有無×在院期間区分＿寛解・院内寛解[#Headers],0)),0)+IFERROR(INDEX(退院予定有無×在院期間区分＿寛解・院内寛解[#All],MATCH($AI40,退院予定有無×在院期間区分＿寛解・院内寛解[[#All],[行ラベル]],0),MATCH($AO$4,退院予定有無×在院期間区分＿寛解・院内寛解[#Headers],0)),0)+IFERROR(INDEX(退院予定有無×在院期間区分＿寛解・院内寛解[#All],MATCH($AI40,退院予定有無×在院期間区分＿寛解・院内寛解[[#All],[行ラベル]],0),MATCH($AP$4,退院予定有無×在院期間区分＿寛解・院内寛解[#Headers],0)),0)+IFERROR(INDEX(退院予定有無×在院期間区分＿寛解・院内寛解[#All],MATCH($AI40,退院予定有無×在院期間区分＿寛解・院内寛解[[#All],[行ラベル]],0),MATCH($AQ$4,退院予定有無×在院期間区分＿寛解・院内寛解[#Headers],0)),0)+IFERROR(INDEX(退院予定有無×在院期間区分＿寛解・院内寛解[#All],MATCH($AI40,退院予定有無×在院期間区分＿寛解・院内寛解[[#All],[行ラベル]],0),MATCH($AR$4,退院予定有無×在院期間区分＿寛解・院内寛解[#Headers],0)),0)","v":66},{"$f":"IFERROR(E39/E$41,\"-\")","v":0.19760479041916168},{"$f":"IFERROR(INDEX(退院予定有無×在院期間区分＿寛解・院内寛解[#All],MATCH($AI40,退院予定有無×在院期間区分＿寛解・院内寛解[[#All],[行ラベル]],0),MATCH($AS$4,退院予定有無×在院期間区分＿寛解・院内寛解[#Headers],0)),0)+IFERROR(INDEX(退院予定有無×在院期間区分＿寛解・院内寛解[#All],MATCH($AI40,退院予定有無×在院期間区分＿寛解・院内寛解[[#All],[行ラベル]],0),MATCH($AT$4,退院予定有無×在院期間区分＿寛解・院内寛解[#Headers],0)),0)+IFERROR(INDEX(退院予定有無×在院期間区分＿寛解・院内寛解[#All],MATCH($AI40,退院予定有無×在院期間区分＿寛解・院内寛解[[#All],[行ラベル]],0),MATCH($AU$4,退院予定有無×在院期間区分＿寛解・院内寛解[#Headers],0)),0)+IFERROR(INDEX(退院予定有無×在院期間区分＿寛解・院内寛解[#All],MATCH($AI40,退院予定有無×在院期間区分＿寛解・院内寛解[[#All],[行ラベル]],0),MATCH($AV$4,退院予定有無×在院期間区分＿寛解・院内寛解[#Headers],0)),0)+IFERROR(INDEX(退院予定有無×在院期間区分＿寛解・院内寛解[#All],MATCH($AI40,退院予定有無×在院期間区分＿寛解・院内寛解[[#All],[行ラベル]],0),MATCH($AW$4,退院予定有無×在院期間区分＿寛解・院内寛解[#Headers],0)),0)","v":14},{"$f":"IFERROR(G39/G$41,\"-\")","v":0.14285714285714285},{"$f":"IFERROR(INDEX(退院予定有無×在院期間区分＿寛解・院内寛解[#All],MATCH($AI40,退院予定有無×在院期間区分＿寛解・院内寛解[[#All],[行ラベル]],0),MATCH($AX$4,退院予定有無×在院期間区分＿寛解・院内寛解[#Headers],0)),0)+IFERROR(INDEX(退院予定有無×在院期間区分＿寛解・院内寛解[#All],MATCH($AI40,退院予定有無×在院期間区分＿寛解・院内寛解[[#All],[行ラベル]],0),MATCH($AY$4,退院予定有無×在院期間区分＿寛解・院内寛解[#Headers],0)),0)","v":23},{"$f":"IFERROR(I39/I$41,\"-\")","v":0.19658119658119658},{"$f":"SUM(C39,E39,G39,I39)","v":362},97,50,102,66,73,44,39,42,38,34,16,16,15,12,8,50,31,null,null,null,null,null,null,97]
[null,"退院予定",{"$f":"IFERROR(INDEX(退院予定有無×在院期間区分＿寛解・院内寛解[#All],MATCH($AI41,退院予定有無×在院期間区分＿寛解・院内寛解[[#All],[行ラベル]],0),MATCH($AJ$4,退院予定有無×在院期間区分＿寛解・院内寛解[#Headers],0)),0)+IFERROR(INDEX(退院予定有無×在院期間区分＿寛解・院内寛解[#All],MATCH($AI41,退院予定有無×在院期間区分＿寛解・院内寛解[[#All],[行ラベル]],0),MATCH($AK$4,退院予定有無×在院期間区分＿寛解・院内寛解[#Headers],0)),0)+IFERROR(INDEX(退院予定有無×在院期間区分＿寛解・院内寛解[#All],MATCH($AI41,退院予定有無×在院期間区分＿寛解・院内寛解[[#All],[行ラベル]],0),MATCH($AL$4,退院予定有無×在院期間区分＿寛解・院内寛解[#Headers],0)),0)+IFERROR(INDEX(退院予定有無×在院期間区分＿寛解・院内寛解[#All],MATCH($AI41,退院予定有無×在院期間区分＿寛解・院内寛解[[#All],[行ラベル]],0),MATCH($AM$4,退院予定有無×在院期間区分＿寛解・院内寛解[#Headers],0)),0)","v":665},{"$f":"IFERROR(C40/C$41,\"-\")","v":0.54732510288065839},{"$f":"IFERROR(INDEX(退院予定有無×在院期間区分＿寛解・院内寛解[#All],MATCH($AI41,退院予定有無×在院期間区分＿寛解・院内寛解[[#All],[行ラベル]],0),MATCH($AN$4,退院予定有無×在院期間区分＿寛解・院内寛解[#Headers],0)),0)+IFERROR(INDEX(退院予定有無×在院期間区分＿寛解・院内寛解[#All],MATCH($AI41,退院予定有無×在院期間区分＿寛解・院内寛解[[#All],[行ラベル]],0),MATCH($AO$4,退院予定有無×在院期間区分＿寛解・院内寛解[#Headers],0)),0)+IFERROR(INDEX(退院予定有無×在院期間区分＿寛解・院内寛解[#All],MATCH($AI41,退院予定有無×在院期間区分＿寛解・院内寛解[[#All],[行ラベル]],0),MATCH($AP$4,退院予定有無×在院期間区分＿寛解・院内寛解[#Headers],0)),0)+IFERROR(INDEX(退院予定有無×在院期間区分＿寛解・院内寛解[#All],MATCH($AI41,退院予定有無×在院期間区分＿寛解・院内寛解[[#All],[行ラベル]],0),MATCH($AQ$4,退院予定有無×在院期間区分＿寛解・院内寛解[#Headers],0)),0)+IFERROR(INDEX(退院予定有無×在院期間区分＿寛解・院内寛解[#All],MATCH($AI41,退院予定有無×在院期間区分＿寛解・院内寛解[[#All],[行ラベル]],0),MATCH($AR$4,退院予定有無×在院期間区分＿寛解・院内寛解[#Headers],0)),0)","v":71},{"$f":"IFERROR(E40/E$41,\"-\")","v":0.21257485029940121},{"$f":"IFERROR(INDEX(退院予定有無×在院期間区分＿寛解・院内寛解[#All],MATCH($AI41,退院予定有無×在院期間区分＿寛解・院内寛解[[#All],[行ラベル]],0),MATCH($AS$4,退院予定有無×在院期間区分＿寛解・院内寛解[#Headers],0)),0)+IFERROR(INDEX(退院予定有無×在院期間区分＿寛解・院内寛解[#All],MATCH($AI41,退院予定有無×在院期間区分＿寛解・院内寛解[[#All],[行ラベル]],0),MATCH($AT$4,退院予定有無×在院期間区分＿寛解・院内寛解[#Headers],0)),0)+IFERROR(INDEX(退院予定有無×在院期間区分＿寛解・院内寛解[#All],MATCH($AI41,退院予定有無×在院期間区分＿寛解・院内寛解[[#All],[行ラベル]],0),MATCH($AU$4,退院予定有無×在院期間区分＿寛解・院内寛解[#Headers],0)),0)+IFERROR(INDEX(退院予定有無×在院期間区分＿寛解・院内寛解[#All],MATCH($AI41,退院予定有無×在院期間区分＿寛解・院内寛解[[#All],[行ラベル]],0),MATCH($AV$4,退院予定有無×在院期間区分＿寛解・院内寛解[#Headers],0)),0)+IFERROR(INDEX(退院予定有無×在院期間区分＿寛解・院内寛解[#All],MATCH($AI41,退院予定有無×在院期間区分＿寛解・院内寛解[[#All],[行ラベル]],0),MATCH($AW$4,退院予定有無×在院期間区分＿寛解・院内寛解[#Headers],0)),0)","v":17},{"$f":"IFERROR(G40/G$41,\"-\")","v":0.17346938775510204},{"$f":"IFERROR(INDEX(退院予定有無×在院期間区分＿寛解・院内寛解[#All],MATCH($AI41,退院予定有無×在院期間区分＿寛解・院内寛解[[#All],[行ラベル]],0),MATCH($AX$4,退院予定有無×在院期間区分＿寛解・院内寛解[#Headers],0)),0)+IFERROR(INDEX(退院予定有無×在院期間区分＿寛解・院内寛解[#All],MATCH($AI41,退院予定有無×在院期間区分＿寛解・院内寛解[[#All],[行ラベル]],0),MATCH($AY$4,退院予定有無×在院期間区分＿寛解・院内寛解[#Headers],0)),0)","v":13},{"$f":"IFERROR(I40/I$41,\"-\")","v":0.1111111111111111},{"$f":"SUM(C40,E40,G40,I40)","v":766},99,241,282,87,55,27,10,13,14,7,6,6,2,3,0,9,4,null,null,null,null,null,null,98]
[null,"　総計",{"$f":"SUM(C38:C40)","v":1215},1,334,1,98,0.99999999999999989,117,1,{"$f":"SUM(C41,E41,G41,I41)","v":1764},null,null,null,null,null,null,null,null,null,null,null,null,null,null,null,null,null,null,null,null,null,null,null,99]
[]
[null,"退院阻害要因",null,null,null,null,null,null,null,null,null,"行ラベル","01_1ヶ月未満","02_1ヶ月～3ヶ月未満","03_3ヶ月～6ヶ月未満","04_6ヶ月～1年未満","05_1年～1年6ヶ月未満","06_1年6ヶ月～2年未満","07_2年～3年未満","08_3年～4年未満","09_4年～5年未満","10_5年～6年未満","11_6年～7年未満","12_7年～8年未満","13_8年～9年未満","14_9年～10年未満","15_10年～20年未満","16_ 20年以上"]
[null,"退院阻害要因がある",{"$f":"IFERROR(INDEX(阻害要因有無×在院期間区分＿寛解・院内寛解[#All],MATCH($AI45,阻害要因有無×在院期間区分＿寛解・院内寛解[[#All],[行ラベル]],0),MATCH($AJ$4,阻害要因有無×在院期間区分＿寛解・院内寛解[#Headers],0)),0)+IFERROR(INDEX(阻害要因有無×在院期間区分＿寛解・院内寛解[#All],MATCH($AI45,阻害要因有無×在院期間区分＿寛解・院内寛解[[#All],[行ラベル]],0),MATCH($AK$4,阻害要因有無×在院期間区分＿寛解・院内寛解[#Headers],0)),0)+IFERROR(INDEX(阻害要因有無×在院期間区分＿寛解・院内寛解[#All],MATCH($AI45,阻害要因有無×在院期間区分＿寛解・院内寛解[[#All],[行ラベル]],0),MATCH($AL$4,阻害要因有無×在院期間区分＿寛解・院内寛解[#Headers],0)),0)+IFERROR(INDEX(阻害要因有無×在院期間区分＿寛解・院内寛解[#All],MATCH($AI45,阻害要因有無×在院期間区分＿寛解・院内寛解[[#All],[行ラベル]],0),MATCH($AM$4,阻害要因有無×在院期間区分＿寛解・院内寛解[#Headers],0)),0)","v":227},{"$f":"IFERROR(C44/C$38,\"-\")","v":0.78006872852233677},{"$f":"IFERROR(INDEX(阻害要因有無×在院期間区分＿寛解・院内寛解[#All],MATCH($AI45,阻害要因有無×在院期間区分＿寛解・院内寛解[[#All],[行ラベル]],0),MATCH($AN$4,阻害要因有無×在院期間区分＿寛解・院内寛解[#Headers],0)),0)+IFERROR(INDEX(阻害要因有無×在院期間区分＿寛解・院内寛解[#All],MATCH($AI45,阻害要因有無×在院期間区分＿寛解・院内寛解[[#All],[行ラベル]],0),MATCH($AO$4,阻害要因有無×在院期間区分＿寛解・院内寛解[#Headers],0)),0)+IFERROR(INDEX(阻害要因有無×在院期間区分＿寛解・院内寛解[#All],MATCH($AI45,阻害要因有無×在院期間区分＿寛解・院内寛解[[#All],[行ラベル]],0),MATCH($AP$4,阻害要因有無×在院期間区分＿寛解・院内寛解[#Headers],0)),0)+IFERROR(INDEX(阻害要因有無×在院期間区分＿寛解・院内寛解[#All],MATCH($AI45,阻害要因有無×在院期間区分＿寛解・院内寛解[[#All],[行ラベル]],0),MATCH($AQ$4,阻害要因有無×在院期間区分＿寛解・院内寛解[#Headers],0)),0)+IFERROR(INDEX(阻害要因有無×在院期間区分＿寛解・院内寛解[#All],MATCH($AI45,阻害要因有無×在院期間区分＿寛解・院内寛解[[#All],[行ラベル]],0),MATCH($AR$4,阻害要因有無×在院期間区分＿寛解・院内寛解[#Headers],0)),0)","v":190},{"$f":"IFERROR(E44/E$38,\"-\")","v":0.96446700507614214},{"$f":"IFERROR(INDEX(阻害要因有無×在院期間区分＿寛解・院内寛解[#All],MATCH($AI45,阻害要因有無×在院期間区分＿寛解・院内寛解[[#All],[行ラベル]],0),MATCH($AS$4,阻害要因有無×在院期間区分＿寛解・院内寛解[#Headers],0)),0)+IFERROR(INDEX(阻害要因有無×在院期間区分＿寛解・院内寛解[#All],MATCH($AI45,阻害要因有無×在院期間区分＿寛解・院内寛解[[#All],[行ラベル]],0),MATCH($AT$4,阻害要因有無×在院期間区分＿寛解・院内寛解[#Headers],0)),0)+IFERROR(INDEX(阻害要因有無×在院期間区分＿寛解・院内寛解[#All],MATCH($AI45,阻害要因有無×在院期間区分＿寛解・院内寛解[[#All],[行ラベル]],0),MATCH($AU$4,阻害要因有無×在院期間区分＿寛解・院内寛解[#Headers],0)),0)+IFERROR(INDEX(阻害要因有無×在院期間区分＿寛解・院内寛解[#All],MATCH($AI45,阻害要因有無×在院期間区分＿寛解・院内寛解[[#All],[行ラベル]],0),MATCH($AV$4,阻害要因有無×在院期間区分＿寛解・院内寛解[#Headers],0)),0)+IFERROR(INDEX(阻害要因有無×在院期間区分＿寛解・院内寛解[#All],MATCH($AI45,阻害要因有無×在院期間区分＿寛解・院内寛解[[#All],[行ラベル]],0),MATCH($AW$4,阻害要因有無×在院期間区分＿寛解・院内寛解[#Headers],0)),0)","v":65},{"$f":"IFERROR(G44/G$38,\"-\")","v":0.97014925373134331},{"$f":"IFERROR(INDEX(阻害要因有無×在院期間区分＿寛解・院内寛解[#All],MATCH($AI45,阻害要因有無×在院期間区分＿寛解・院内寛解[[#All],[行ラベル]],0),MATCH($AX$4,阻害要因有無×在院期間区分＿寛解・院内寛解[#Headers],0)),0)+IFERROR(INDEX(阻害要因有無×在院期間区分＿寛解・院内寛解[#All],MATCH($AI45,阻害要因有無×在院期間区分＿寛解・院内寛解[[#All],[行ラベル]],0),MATCH($AY$4,阻害要因有無×在院期間区分＿寛解・院内寛解[#Headers],0)),0)","v":78},{"$f":"IFERROR(I44/I$38,\"-\")","v":0.96296296296296291},{"$f":"SUM(C44,E44,G44,I44)","v":560},91,38,67,60,62,42,38,40,38,32,16,15,15,11,8,47,31]
[null,"退院阻害要因はない",{"$f":"IFERROR(INDEX(阻害要因有無×在院期間区分＿寛解・院内寛解[#All],MATCH($AI46,阻害要因有無×在院期間区分＿寛解・院内寛解[[#All],[行ラベル]],0),MATCH($AJ$4,阻害要因有無×在院期間区分＿寛解・院内寛解[#Headers],0)),0)+IFERROR(INDEX(阻害要因有無×在院期間区分＿寛解・院内寛解[#All],MATCH($AI46,阻害要因有無×在院期間区分＿寛解・院内寛解[[#All],[行ラベル]],0),MATCH($AK$4,阻害要因有無×在院期間区分＿寛解・院内寛解[#Headers],0)),0)+IFERROR(INDEX(阻害要因有無×在院期間区分＿寛解・院内寛解[#All],MATCH($AI46,阻害要因有無×在院期間区分＿寛解・院内寛解[[#All],[行ラベル]],0),MATCH($AL$4,阻害要因有無×在院期間区分＿寛解・院内寛解[#Headers],0)),0)+IFERROR(INDEX(阻害要因有無×在院期間区分＿寛解・院内寛解[#All],MATCH($AI46,阻害要因有無×在院期間区分＿寛解・院内寛解[[#All],[行ラベル]],0),MATCH($AM$4,阻害要因有無×在院期間区分＿寛解・院内寛解[#Headers],0)),0)","v":64},{"$f":"IFERROR(C45/C$38,\"-\")","v":0.21993127147766323},{"$f":"IFERROR(INDEX(阻害要因有無×在院期間区分＿寛解・院内寛解[#All],MATCH($AI46,阻害要因有無×在院期間区分＿寛解・院内寛解[[#All],[行ラベル]],0),MATCH($AN$4,阻害要因有無×在院期間区分＿寛解・院内寛解[#Headers],0)),0)+IFERROR(INDEX(阻害要因有無×在院期間区分＿寛解・院内寛解[#All],MATCH($AI46,阻害要因有無×在院期間区分＿寛解・院内寛解[[#All],[行ラベル]],0),MATCH($AO$4,阻害要因有無×在院期間区分＿寛解・院内寛解[#Headers],0)),0)+IFERROR(INDEX(阻害要因有無×在院期間区分＿寛解・院内寛解[#All],MATCH($AI46,阻害要因有無×在院期間区分＿寛解・院内寛解[[#All],[行ラベル]],0),MATCH($AP$4,阻害要因有無×在院期間区分＿寛解・院内寛解[#Headers],0)),0)+IFERROR(INDEX(阻害要因有無×在院期間区分＿寛解・院内寛解[#All],MATCH($AI46,阻害要因有無×在院期間区分＿寛解・院内寛解[[#All],[行ラベル]],0),MATCH($AQ$4,阻害要因有無×在院期間区分＿寛解・院内寛解[#Headers],0)),0)+IFERROR(INDEX(阻害要因有無×在院期間区分＿寛解・院内寛解[#All],MATCH($AI46,阻害要因有無×在院期間区分＿寛解・院内寛解[[#All],[行ラベル]],0),MATCH($AR$4,阻害要因有無×在院期間区分＿寛解・院内寛解[#Headers],0)),0)","v":7},{"$f":"IFERROR(E45/E$38,\"-\")","v":3.553299492385787E-2},{"$f":"IFERROR(INDEX(阻害要因有無×在院期間区分＿寛解・院内寛解[#All],MATCH($AI46,阻害要因有無×在院期間区分＿寛解・院内寛解[[#All],[行ラベル]],0),MATCH($AS$4,阻害要因有無×在院期間区分＿寛解・院内寛解[#Headers],0)),0)+IFERROR(INDEX(阻害要因有無×在院期間区分＿寛解・院内寛解[#All],MATCH($AI46,阻害要因有無×在院期間区分＿寛解・院内寛解[[#All],[行ラベル]],0),MATCH($AT$4,阻害要因有無×在院期間区分＿寛解・院内寛解[#Headers],0)),0)+IFERROR(INDEX(阻害要因有無×在院期間区分＿寛解・院内寛解[#All],MATCH($AI46,阻害要因有無×在院期間区分＿寛解・院内寛解[[#All],[行ラベル]],0),MATCH($AU$4,阻害要因有無×在院期間区分＿寛解・院内寛解[#Headers],0)),0)+IFERROR(INDEX(阻害要因有無×在院期間区分＿寛解・院内寛解[#All],MATCH($AI46,阻害要因有無×在院期間区分＿寛解・院内寛解[[#All],[行ラベル]],0),MATCH($AV$4,阻害要因有無×在院期間区分＿寛解・院内寛解[#Headers],0)),0)+IFERROR(INDEX(阻害要因有無×在院期間区分＿寛解・院内寛解[#All],MATCH($AI46,阻害要因有無×在院期間区分＿寛解・院内寛解[[#All],[行ラベル]],0),MATCH($AW$4,阻害要因有無×在院期間区分＿寛解・院内寛解[#Headers],0)),0)","v":2},{"$f":"IFERROR(G45/G$38,\"-\")","v":2.9850746268656716E-2},{"$f":"IFERROR(INDEX(阻害要因有無×在院期間区分＿寛解・院内寛解[#All],MATCH($AI46,阻害要因有無×在院期間区分＿寛解・院内寛解[[#All],[行ラベル]],0),MATCH($AX$4,阻害要因有無×在院期間区分＿寛解・院内寛解[#Headers],0)),0)+IFERROR(INDEX(阻害要因有無×在院期間区分＿寛解・院内寛解[#All],MATCH($AI46,阻害要因有無×在院期間区分＿寛解・院内寛解[[#All],[行ラベル]],0),MATCH($AY$4,阻害要因有無×在院期間区分＿寛解・院内寛解[#Headers],0)),0)","v":3},{"$f":"IFERROR(I45/I$38,\"-\")","v":3.7037037037037035E-2},{"$f":"SUM(C45,E45,G45,I45)","v":76},90,12,35,6,11,2,1,2,0,2,0,1,0,1,0,3,0,null,null,null,null,null,null,91]
[null,"　＜複数回答＞",null,null,null,null,null,null,null,null,null,null,334,389,122,77,37,19,30,33,16,8,12,5,4,2,23,13,null,null,null,null,null,null,90]
[null,"割合には「退院阻害要因がある」それぞれの人数に対する割合を表示しています。",null,null,null,null,null,null,null,null,{"$f":"SUM(C48,E48,G48,I48)","v":163},"値","01_1ヶ月未満","02_1ヶ月～3ヶ月未満","03_3ヶ月～6ヶ月未満","04_6ヶ月～1年未満","05_1年～1年6ヶ月未満","06_1年6ヶ月～2年未満","07_2年～3年未満","08_3年～4年未満","09_4年～5年未満","10_5年～6年未満","11_6年～7年未満","12_7年～8年未満","13_8年～9年未満","14_9年～10年未満","15_10年～20年未満","16_ 20年以上"]
[null,"病状は落ち着いているが、ときどき不安定な病状が見られ、そのことが退院を阻害する要因になっている",{"$f":"IFERROR(INDEX(阻害要因×在院期間区分＿寛解・院内寛解[#All],MATCH($AI49,阻害要因×在院期間区分＿寛解・院内寛解[[#All],[値]],0),MATCH($AJ$4,阻害要因×在院期間区分＿寛解・院内寛解[#Headers],0)),0)+IFERROR(INDEX(阻害要因×在院期間区分＿寛解・院内寛解[#All],MATCH($AI49,阻害要因×在院期間区分＿寛解・院内寛解[[#All],[値]],0),MATCH($AK$4,阻害要因×在院期間区分＿寛解・院内寛解[#Headers],0)),0)+IFERROR(INDEX(阻害要因×在院期間区分＿寛解・院内寛解[#All],MATCH($AI49,阻害要因×在院期間区分＿寛解・院内寛解[[#All],[値]],0),MATCH($AL$4,阻害要因×在院期間区分＿寛解・院内寛解[#Headers],0)),0)+IFERROR(INDEX(阻害要因×在院期間区分＿寛解・院内寛解[#All],MATCH($AI49,阻害要因×在院期間区分＿寛解・院内寛解[[#All],[値]],0),MATCH($AM$4,阻害要因×在院期間区分＿寛解・院内寛解[#Headers],0)),0)","v":73},{"$f":"IFERROR(C48/C$44,\"-\")","v":0.32158590308370044},{"$f":"IFERROR(INDEX(阻害要因×在院期間区分＿寛解・院内寛解[#All],MATCH($AI49,阻害要因×在院期間区分＿寛解・院内寛解[[#All],[値]],0),MATCH($AN$4,阻害要因×在院期間区分＿寛解・院内寛解[#Headers],0)),0)+IFERROR(INDEX(阻害要因×在院期間区分＿寛解・院内寛解[#All],MATCH($AI49,阻害要因×在院期間区分＿寛解・院内寛解[[#All],[値]],0),MATCH($AO$4,阻害要因×在院期間区分＿寛解・院内寛解[#Headers],0)),0)+IFERROR(INDEX(阻害要因×在院期間区分＿寛解・院内寛解[#All],MATCH($AI49,阻害要因×在院期間区分＿寛解・院内寛解[[#All],[値]],0),MATCH($AP$4,阻害要因×在院期間区分＿寛解・院内寛解[#Headers],0)),0)+IFERROR(INDEX(阻害要因×在院期間区分＿寛解・院内寛解[#All],MATCH($AI49,阻害要因×在院期間区分＿寛解・院内寛解[[#All],[値]],0),MATCH($AQ$4,阻害要因×在院期間区分＿寛解・院内寛解[#Headers],0)),0)+IFERROR(INDEX(阻害要因×在院期間区分＿寛解・院内寛解[#All],MATCH($AI49,阻害要因×在院期間区分＿寛解・院内寛解[[#All],[値]],0),MATCH($AR$4,阻害要因×在院期間区分＿寛解・院内寛解[#Headers],0)),0)","v":50},{"$f":"IFERROR(E48/E$44,\"-\")","v":0.26315789473684209},{"$f":"IFERROR(INDEX(阻害要因×在院期間区分＿寛解・院内寛解[#All],MATCH($AI49,阻害要因×在院期間区分＿寛解・院内寛解[[#All],[値]],0),MATCH($AS$4,阻害要因×在院期間区分＿寛解・院内寛解[#Headers],0)),0)+IFERROR(INDEX(阻害要因×在院期間区分＿寛解・院内寛解[#All],MATCH($AI49,阻害要因×在院期間区分＿寛解・院内寛解[[#All],[値]],0),MATCH($AT$4,阻害要因×在院期間区分＿寛解・院内寛解[#Headers],0)),0)+IFERROR(INDEX(阻害要因×在院期間区分＿寛解・院内寛解[#All],MATCH($AI49,阻害要因×在院期間区分＿寛解・院内寛解[[#All],[値]],0),MATCH($AU$4,阻害要因×在院期間区分＿寛解・院内寛解[#Headers],0)),0)+IFERROR(INDEX(阻害要因×在院期間区分＿寛解・院内寛解[#All],MATCH($AI49,阻害要因×在院期間区分＿寛解・院内寛解[[#All],[値]],0),MATCH($AV$4,阻害要因×在院期間区分＿寛解・院内寛解[#Headers],0)),0)+IFERROR(INDEX(阻害要因×在院期間区分＿寛解・院内寛解[#All],MATCH($AI49,阻害要因×在院期間区分＿寛解・院内寛解[[#All],[値]],0),MATCH($AW$4,阻害要因×在院期間区分＿寛解・院内寛解[#Headers],0)),0)","v":21},{"$f":"IFERROR(G48/G$44,\"-\")","v":0.32307692307692309},{"$f":"IFERROR(INDEX(阻害要因×在院期間区分＿寛解・院内寛解[#All],MATCH($AI49,阻害要因×在院期間区分＿寛解・院内寛解[[#All],[値]],0),MATCH($AX$4,阻害要因×在院期間区分＿寛解・院内寛解[#Headers],0)),0)+IFERROR(INDEX(阻害要因×在院期間区分＿寛解・院内寛解[#All],MATCH($AI49,阻害要因×在院期間区分＿寛解・院内寛解[[#All],[値]],0),MATCH($AY$4,阻害要因×在院期間区分＿寛解・院内寛解[#Headers],0)),0)","v":19},{"$f":"IFERROR(I48/I$44,\"-\")","v":0.24358974358974358},{"$f":"SUM(C48,E48,G48,I48)","v":163},"合計 / 病状は落ち着いているが、ときどき不安定な病状が見られ、そのことが退院を阻害する要因になっている",14,23,22,14,10,14,9,8,9,5,6,6,3,1,11,8]
[null,"病識がなく通院服薬の中断が予測される",{"$f":"IFERROR(INDEX(阻害要因×在院期間区分＿寛解・院内寛解[#All],MATCH($AI50,阻害要因×在院期間区分＿寛解・院内寛解[[#All],[値]],0),MATCH($AJ$4,阻害要因×在院期間区分＿寛解・院内寛解[#Headers],0)),0)+IFERROR(INDEX(阻害要因×在院期間区分＿寛解・院内寛解[#All],MATCH($AI50,阻害要因×在院期間区分＿寛解・院内寛解[[#All],[値]],0),MATCH($AK$4,阻害要因×在院期間区分＿寛解・院内寛解[#Headers],0)),0)+IFERROR(INDEX(阻害要因×在院期間区分＿寛解・院内寛解[#All],MATCH($AI50,阻害要因×在院期間区分＿寛解・院内寛解[[#All],[値]],0),MATCH($AL$4,阻害要因×在院期間区分＿寛解・院内寛解[#Headers],0)),0)+IFERROR(INDEX(阻害要因×在院期間区分＿寛解・院内寛解[#All],MATCH($AI50,阻害要因×在院期間区分＿寛解・院内寛解[[#All],[値]],0),MATCH($AM$4,阻害要因×在院期間区分＿寛解・院内寛解[#Headers],0)),0)","v":46},0.20264317180616739,{"$f":"IFERROR(INDEX(阻害要因×在院期間区分＿寛解・院内寛解[#All],MATCH($AI50,阻害要因×在院期間区分＿寛解・院内寛解[[#All],[値]],0),MATCH($AN$4,阻害要因×在院期間区分＿寛解・院内寛解[#Headers],0)),0)+IFERROR(INDEX(阻害要因×在院期間区分＿寛解・院内寛解[#All],MATCH($AI50,阻害要因×在院期間区分＿寛解・院内寛解[[#All],[値]],0),MATCH($AO$4,阻害要因×在院期間区分＿寛解・院内寛解[#Headers],0)),0)+IFERROR(INDEX(阻害要因×在院期間区分＿寛解・院内寛解[#All],MATCH($AI50,阻害要因×在院期間区分＿寛解・院内寛解[[#All],[値]],0),MATCH($AP$4,阻害要因×在院期間区分＿寛解・院内寛解[#Headers],0)),0)+IFERROR(INDEX(阻害要因×在院期間区分＿寛解・院内寛解[#All],MATCH($AI50,阻害要因×在院期間区分＿寛解・院内寛解[[#All],[値]],0),MATCH($AQ$4,阻害要因×在院期間区分＿寛解・院内寛解[#Headers],0)),0)+IFERROR(INDEX(阻害要因×在院期間区分＿寛解・院内寛解[#All],MATCH($AI50,阻害要因×在院期間区分＿寛解・院内寛解[[#All],[値]],0),MATCH($AR$4,阻害要因×在院期間区分＿寛解・院内寛解[#Headers],0)),0)","v":39},0.20526315789473684,{"$f":"IFERROR(INDEX(阻害要因×在院期間区分＿寛解・院内寛解[#All],MATCH($AI50,阻害要因×在院期間区分＿寛解・院内寛解[[#All],[値]],0),MATCH($AS$4,阻害要因×在院期間区分＿寛解・院内寛解[#Headers],0)),0)+IFERROR(INDEX(阻害要因×在院期間区分＿寛解・院内寛解[#All],MATCH($AI50,阻害要因×在院期間区分＿寛解・院内寛解[[#All],[値]],0),MATCH($AT$4,阻害要因×在院期間区分＿寛解・院内寛解[#Headers],0)),0)+IFERROR(INDEX(阻害要因×在院期間区分＿寛解・院内寛解[#All],MATCH($AI50,阻害要因×在院期間区分＿寛解・院内寛解[[#All],[値]],0),MATCH($AU$4,阻害要因×在院期間区分＿寛解・院内寛解[#Headers],0)),0)+IFERROR(INDEX(阻害要因×在院期間区分＿寛解・院内寛解[#All],MATCH($AI50,阻害要因×在院期間区分＿寛解・院内寛解[[#All],[値]],0),MATCH($AV$4,阻害要因×在院期間区分＿寛解・院内寛解[#Headers],0)),0)+IFERROR(INDEX(阻害要因×在院期間区分＿寛解・院内寛解[#All],MATCH($AI50,阻害要因×在院期間区分＿寛解・院内寛解[[#All],[値]],0),MATCH($AW$4,阻害要因×在院期間区分＿寛解・院内寛解[#Headers],0)),0)","v":8},0.12307692307692308,{"$f":"IFERROR(INDEX(阻害要因×在院期間区分＿寛解・院内寛解[#All],MATCH($AI50,阻害要因×在院期間区分＿寛解・院内寛解[[#All],[値]],0),MATCH($AX$4,阻害要因×在院期間区分＿寛解・院内寛解[#Headers],0)),0)+IFERROR(INDEX(阻害要因×在院期間区分＿寛解・院内寛解[#All],MATCH($AI50,阻害要因×在院期間区分＿寛解・院内寛解[[#All],[値]],0),MATCH($AY$4,阻害要因×在院期間区分＿寛解・院内寛解[#Headers],0)),0)","v":10},0.12820512820512819,{"$f":"SUM(C49,E49,G49,I49)","v":103},"合計 / 病識がなく通院服薬の中断が予測される",5,12,10,19,7,11,7,7,7,2,3,2,0,1,3,7,null,null,null,null,null,null,"合計 / 病状は落ち着いているが、ときどき不安定な病状が見られ、そのことが退院を阻害する要因になっている"]
[null,"反社会的行動が予測される",{"$f":"IFERROR(INDEX(阻害要因×在院期間区分＿寛解・院内寛解[#All],MATCH($AI51,阻害要因×在院期間区分＿寛解・院内寛解[[#All],[値]],0),MATCH($AJ$4,阻害要因×在院期間区分＿寛解・院内寛解[#Headers],0)),0)+IFERROR(INDEX(阻害要因×在院期間区分＿寛解・院内寛解[#All],MATCH($AI51,阻害要因×在院期間区分＿寛解・院内寛解[[#All],[値]],0),MATCH($AK$4,阻害要因×在院期間区分＿寛解・院内寛解[#Headers],0)),0)+IFERROR(INDEX(阻害要因×在院期間区分＿寛解・院内寛解[#All],MATCH($AI51,阻害要因×在院期間区分＿寛解・院内寛解[[#All],[値]],0),MATCH($AL$4,阻害要因×在院期間区分＿寛解・院内寛解[#Headers],0)),0)+IFERROR(INDEX(阻害要因×在院期間区分＿寛解・院内寛解[#All],MATCH($AI51,阻害要因×在院期間区分＿寛解・院内寛解[[#All],[値]],0),MATCH($AM$4,阻害要因×在院期間区分＿寛解・院内寛解[#Headers],0)),0)","v":7},3.0837004405286344E-2,{"$f":"IFERROR(INDEX(阻害要因×在院期間区分＿寛解・院内寛解[#All],MATCH($AI51,阻害要因×在院期間区分＿寛解・院内寛解[[#All],[値]],0),MATCH($AN$4,阻害要因×在院期間区分＿寛解・院内寛解[#Headers],0)),0)+IFERROR(INDEX(阻害要因×在院期間区分＿寛解・院内寛解[#All],MATCH($AI51,阻害要因×在院期間区分＿寛解・院内寛解[[#All],[値]],0),MATCH($AO$4,阻害要因×在院期間区分＿寛解・院内寛解[#Headers],0)),0)+IFERROR(INDEX(阻害要因×在院期間区分＿寛解・院内寛解[#All],MATCH($AI51,阻害要因×在院期間区分＿寛解・院内寛解[[#All],[値]],0),MATCH($AP$4,阻害要因×在院期間区分＿寛解・院内寛解[#Headers],0)),0)+IFERROR(INDEX(阻害要因×在院期間区分＿寛解・院内寛解[#All],MATCH($AI51,阻害要因×在院期間区分＿寛解・院内寛解[[#All],[値]],0),MATCH($AQ$4,阻害要因×在院期間区分＿寛解・院内寛解[#Headers],0)),0)+IFERROR(INDEX(阻害要因×在院期間区分＿寛解・院内寛解[#All],MATCH($AI51,阻害要因×在院期間区分＿寛解・院内寛解[[#All],[値]],0),MATCH($AR$4,阻害要因×在院期間区分＿寛解・院内寛解[#Headers],0)),0)","v":4},2.1052631578947368E-2,{"$f":"IFERROR(INDEX(阻害要因×在院期間区分＿寛解・院内寛解[#All],MATCH($AI51,阻害要因×在院期間区分＿寛解・院内寛解[[#All],[値]],0),MATCH($AS$4,阻害要因×在院期間区分＿寛解・院内寛解[#Headers],0)),0)+IFERROR(INDEX(阻害要因×在院期間区分＿寛解・院内寛解[#All],MATCH($AI51,阻害要因×在院期間区分＿寛解・院内寛解[[#All],[値]],0),MATCH($AT$4,阻害要因×在院期間区分＿寛解・院内寛解[#Headers],0)),0)+IFERROR(INDEX(阻害要因×在院期間区分＿寛解・院内寛解[#All],MATCH($AI51,阻害要因×在院期間区分＿寛解・院内寛解[[#All],[値]],0),MATCH($AU$4,阻害要因×在院期間区分＿寛解・院内寛解[#Headers],0)),0)+IFERROR(INDEX(阻害要因×在院期間区分＿寛解・院内寛解[#All],MATCH($AI51,阻害要因×在院期間区分＿寛解・院内寛解[[#All],[値]],0),MATCH($AV$4,阻害要因×在院期間区分＿寛解・院内寛解[#Headers],0)),0)+IFERROR(INDEX(阻害要因×在院期間区分＿寛解・院内寛解[#All],MATCH($AI51,阻害要因×在院期間区分＿寛解・院内寛解[[#All],[値]],0),MATCH($AW$4,阻害要因×在院期間区分＿寛解・院内寛解[#Headers],0)),0)","v":2},3.0769230769230771E-2,{"$f":"IFERROR(INDEX(阻害要因×在院期間区分＿寛解・院内寛解[#All],MATCH($AI51,阻害要因×在院期間区分＿寛解・院内寛解[[#All],[値]],0),MATCH($AX$4,阻害要因×在院期間区分＿寛解・院内寛解[#Headers],0)),0)+IFERROR(INDEX(阻害要因×在院期間区分＿寛解・院内寛解[#All],MATCH($AI51,阻害要因×在院期間区分＿寛解・院内寛解[[#All],[値]],0),MATCH($AY$4,阻害要因×在院期間区分＿寛解・院内寛解[#Headers],0)),0)","v":0},0,13,"合計 / 反社会的行動が予測される",1,2,0,4,1,2,0,0,1,1,0,0,1,0,0,0,null,null,null,null,null,null,"合計 / 病識がなく通院服薬の中断が予測される"]
[null,"退院意欲が乏しい",{"$f":"IFERROR(INDEX(阻害要因×在院期間区分＿寛解・院内寛解[#All],MATCH($AI52,阻害要因×在院期間区分＿寛解・院内寛解[[#All],[値]],0),MATCH($AJ$4,阻害要因×在院期間区分＿寛解・院内寛解[#Headers],0)),0)+IFERROR(INDEX(阻害要因×在院期間区分＿寛解・院内寛解[#All],MATCH($AI52,阻害要因×在院期間区分＿寛解・院内寛解[[#All],[値]],0),MATCH($AK$4,阻害要因×在院期間区分＿寛解・院内寛解[#Headers],0)),0)+IFERROR(INDEX(阻害要因×在院期間区分＿寛解・院内寛解[#All],MATCH($AI52,阻害要因×在院期間区分＿寛解・院内寛解[[#All],[値]],0),MATCH($AL$4,阻害要因×在院期間区分＿寛解・院内寛解[#Headers],0)),0)+IFERROR(INDEX(阻害要因×在院期間区分＿寛解・院内寛解[#All],MATCH($AI52,阻害要因×在院期間区分＿寛解・院内寛解[[#All],[値]],0),MATCH($AM$4,阻害要因×在院期間区分＿寛解・院内寛解[#Headers],0)),0)","v":45},0.19823788546255505,{"$f":"IFERROR(INDEX(阻害要因×在院期間区分＿寛解・院内寛解[#All],MATCH($AI52,阻害要因×在院期間区分＿寛解・院内寛解[[#All],[値]],0),MATCH($AN$4,阻害要因×在院期間区分＿寛解・院内寛解[#Headers],0)),0)+IFERROR(INDEX(阻害要因×在院期間区分＿寛解・院内寛解[#All],MATCH($AI52,阻害要因×在院期間区分＿寛解・院内寛解[[#All],[値]],0),MATCH($AO$4,阻害要因×在院期間区分＿寛解・院内寛解[#Headers],0)),0)+IFERROR(INDEX(阻害要因×在院期間区分＿寛解・院内寛解[#All],MATCH($AI52,阻害要因×在院期間区分＿寛解・院内寛解[[#All],[値]],0),MATCH($AP$4,阻害要因×在院期間区分＿寛解・院内寛解[#Headers],0)),0)+IFERROR(INDEX(阻害要因×在院期間区分＿寛解・院内寛解[#All],MATCH($AI52,阻害要因×在院期間区分＿寛解・院内寛解[[#All],[値]],0),MATCH($AQ$4,阻害要因×在院期間区分＿寛解・院内寛解[#Headers],0)),0)+IFERROR(INDEX(阻害要因×在院期間区分＿寛解・院内寛解[#All],MATCH($AI52,阻害要因×在院期間区分＿寛解・院内寛解[[#All],[値]],0),MATCH($AR$4,阻害要因×在院期間区分＿寛解・院内寛解[#Headers],0)),0)","v":74},0.38947368421052631,{"$f":"IFERROR(INDEX(阻害要因×在院期間区分＿寛解・院内寛解[#All],MATCH($AI52,阻害要因×在院期間区分＿寛解・院内寛解[[#All],[値]],0),MATCH($AS$4,阻害要因×在院期間区分＿寛解・院内寛解[#Headers],0)),0)+IFERROR(INDEX(阻害要因×在院期間区分＿寛解・院内寛解[#All],MATCH($AI52,阻害要因×在院期間区分＿寛解・院内寛解[[#All],[値]],0),MATCH($AT$4,阻害要因×在院期間区分＿寛解・院内寛解[#Headers],0)),0)+IFERROR(INDEX(阻害要因×在院期間区分＿寛解・院内寛解[#All],MATCH($AI52,阻害要因×在院期間区分＿寛解・院内寛解[[#All],[値]],0),MATCH($AU$4,阻害要因×在院期間区分＿寛解・院内寛解[#Headers],0)),0)+IFERROR(INDEX(阻害要因×在院期間区分＿寛解・院内寛解[#All],MATCH($AI52,阻害要因×在院期間区分＿寛解・院内寛解[[#All],[値]],0),MATCH($AV$4,阻害要因×在院期間区分＿寛解・院内寛解[#Headers],0)),0)+IFERROR(INDEX(阻害要因×在院期間区分＿寛解・院内寛解[#All],MATCH($AI52,阻害要因×在院期間区分＿寛解・院内寛解[[#All],[値]],0),MATCH($AW$4,阻害要因×在院期間区分＿寛解・院内寛解[#Headers],0)),0)","v":32},0.49230769230769234,{"$f":"IFERROR(INDEX(阻害要因×在院期間区分＿寛解・院内寛解[#All],MATCH($AI52,阻害要因×在院期間区分＿寛解・院内寛解[[#All],[値]],0),MATCH($AX$4,阻害要因×在院期間区分＿寛解・院内寛解[#Headers],0)),0)+IFERROR(INDEX(阻害要因×在院期間区分＿寛解・院内寛解[#All],MATCH($AI52,阻害要因×在院期間区分＿寛解・院内寛解[[#All],[値]],0),MATCH($AY$4,阻害要因×在院期間区分＿寛解・院内寛解[#Headers],0)),0)","v":45},0.57692307692307687,196,"合計 / 退院意欲が乏しい",5,10,11,19,13,13,24,11,13,9,10,5,5,3,27,18,null,null,null,null,null,null,"合計 / 反社会的行動が予測される"]
[null,"現実認識が乏しい",{"$f":"IFERROR(INDEX(阻害要因×在院期間区分＿寛解・院内寛解[#All],MATCH($AI53,阻害要因×在院期間区分＿寛解・院内寛解[[#All],[値]],0),MATCH($AJ$4,阻害要因×在院期間区分＿寛解・院内寛解[#Headers],0)),0)+IFERROR(INDEX(阻害要因×在院期間区分＿寛解・院内寛解[#All],MATCH($AI53,阻害要因×在院期間区分＿寛解・院内寛解[[#All],[値]],0),MATCH($AK$4,阻害要因×在院期間区分＿寛解・院内寛解[#Headers],0)),0)+IFERROR(INDEX(阻害要因×在院期間区分＿寛解・院内寛解[#All],MATCH($AI53,阻害要因×在院期間区分＿寛解・院内寛解[[#All],[値]],0),MATCH($AL$4,阻害要因×在院期間区分＿寛解・院内寛解[#Headers],0)),0)+IFERROR(INDEX(阻害要因×在院期間区分＿寛解・院内寛解[#All],MATCH($AI53,阻害要因×在院期間区分＿寛解・院内寛解[[#All],[値]],0),MATCH($AM$4,阻害要因×在院期間区分＿寛解・院内寛解[#Headers],0)),0)","v":56},0.24669603524229075,{"$f":"IFERROR(INDEX(阻害要因×在院期間区分＿寛解・院内寛解[#All],MATCH($AI53,阻害要因×在院期間区分＿寛解・院内寛解[[#All],[値]],0),MATCH($AN$4,阻害要因×在院期間区分＿寛解・院内寛解[#Headers],0)),0)+IFERROR(INDEX(阻害要因×在院期間区分＿寛解・院内寛解[#All],MATCH($AI53,阻害要因×在院期間区分＿寛解・院内寛解[[#All],[値]],0),MATCH($AO$4,阻害要因×在院期間区分＿寛解・院内寛解[#Headers],0)),0)+IFERROR(INDEX(阻害要因×在院期間区分＿寛解・院内寛解[#All],MATCH($AI53,阻害要因×在院期間区分＿寛解・院内寛解[[#All],[値]],0),MATCH($AP$4,阻害要因×在院期間区分＿寛解・院内寛解[#Headers],0)),0)+IFERROR(INDEX(阻害要因×在院期間区分＿寛解・院内寛解[#All],MATCH($AI53,阻害要因×在院期間区分＿寛解・院内寛解[[#All],[値]],0),MATCH($AQ$4,阻害要因×在院期間区分＿寛解・院内寛解[#Headers],0)),0)+IFERROR(INDEX(阻害要因×在院期間区分＿寛解・院内寛解[#All],MATCH($AI53,阻害要因×在院期間区分＿寛解・院内寛解[[#All],[値]],0),MATCH($AR$4,阻害要因×在院期間区分＿寛解・院内寛解[#Headers],0)),0)","v":46},0.24210526315789474,{"$f":"IFERROR(INDEX(阻害要因×在院期間区分＿寛解・院内寛解[#All],MATCH($AI53,阻害要因×在院期間区分＿寛解・院内寛解[[#All],[値]],0),MATCH($AS$4,阻害要因×在院期間区分＿寛解・院内寛解[#Headers],0)),0)+IFERROR(INDEX(阻害要因×在院期間区分＿寛解・院内寛解[#All],MATCH($AI53,阻害要因×在院期間区分＿寛解・院内寛解[[#All],[値]],0),MATCH($AT$4,阻害要因×在院期間区分＿寛解・院内寛解[#Headers],0)),0)+IFERROR(INDEX(阻害要因×在院期間区分＿寛解・院内寛解[#All],MATCH($AI53,阻害要因×在院期間区分＿寛解・院内寛解[[#All],[値]],0),MATCH($AU$4,阻害要因×在院期間区分＿寛解・院内寛解[#Headers],0)),0)+IFERROR(INDEX(阻害要因×在院期間区分＿寛解・院内寛解[#All],MATCH($AI53,阻害要因×在院期間区分＿寛解・院内寛解[[#All],[値]],0),MATCH($AV$4,阻害要因×在院期間区分＿寛解・院内寛解[#Headers],0)),0)+IFERROR(INDEX(阻害要因×在院期間区分＿寛解・院内寛解[#All],MATCH($AI53,阻害要因×在院期間区分＿寛解・院内寛解[[#All],[値]],0),MATCH($AW$4,阻害要因×在院期間区分＿寛解・院内寛解[#Headers],0)),0)","v":22},0.33846153846153848,{"$f":"IFERROR(INDEX(阻害要因×在院期間区分＿寛解・院内寛解[#All],MATCH($AI53,阻害要因×在院期間区分＿寛解・院内寛解[[#All],[値]],0),MATCH($AX$4,阻害要因×在院期間区分＿寛解・院内寛解[#Headers],0)),0)+IFERROR(INDEX(阻害要因×在院期間区分＿寛解・院内寛解[#All],MATCH($AI53,阻害要因×在院期間区分＿寛解・院内寛解[[#All],[値]],0),MATCH($AY$4,阻害要因×在院期間区分＿寛解・院内寛解[#Headers],0)),0)","v":27},0.34615384615384615,151,"合計 / 現実認識が乏しい",7,19,14,16,11,9,8,9,9,10,5,4,2,1,15,12,null,null,null,null,null,null,"合計 / 退院意欲が乏しい"]
[null,"退院による環境変化への不安が強い",{"$f":"IFERROR(INDEX(阻害要因×在院期間区分＿寛解・院内寛解[#All],MATCH($AI54,阻害要因×在院期間区分＿寛解・院内寛解[[#All],[値]],0),MATCH($AJ$4,阻害要因×在院期間区分＿寛解・院内寛解[#Headers],0)),0)+IFERROR(INDEX(阻害要因×在院期間区分＿寛解・院内寛解[#All],MATCH($AI54,阻害要因×在院期間区分＿寛解・院内寛解[[#All],[値]],0),MATCH($AK$4,阻害要因×在院期間区分＿寛解・院内寛解[#Headers],0)),0)+IFERROR(INDEX(阻害要因×在院期間区分＿寛解・院内寛解[#All],MATCH($AI54,阻害要因×在院期間区分＿寛解・院内寛解[[#All],[値]],0),MATCH($AL$4,阻害要因×在院期間区分＿寛解・院内寛解[#Headers],0)),0)+IFERROR(INDEX(阻害要因×在院期間区分＿寛解・院内寛解[#All],MATCH($AI54,阻害要因×在院期間区分＿寛解・院内寛解[[#All],[値]],0),MATCH($AM$4,阻害要因×在院期間区分＿寛解・院内寛解[#Headers],0)),0)","v":56},0.24669603524229075,{"$f":"IFERROR(INDEX(阻害要因×在院期間区分＿寛解・院内寛解[#All],MATCH($AI54,阻害要因×在院期間区分＿寛解・院内寛解[[#All],[値]],0),MATCH($AN$4,阻害要因×在院期間区分＿寛解・院内寛解[#Headers],0)),0)+IFERROR(INDEX(阻害要因×在院期間区分＿寛解・院内寛解[#All],MATCH($AI54,阻害要因×在院期間区分＿寛解・院内寛解[[#All],[値]],0),MATCH($AO$4,阻害要因×在院期間区分＿寛解・院内寛解[#Headers],0)),0)+IFERROR(INDEX(阻害要因×在院期間区分＿寛解・院内寛解[#All],MATCH($AI54,阻害要因×在院期間区分＿寛解・院内寛解[[#All],[値]],0),MATCH($AP$4,阻害要因×在院期間区分＿寛解・院内寛解[#Headers],0)),0)+IFERROR(INDEX(阻害要因×在院期間区分＿寛解・院内寛解[#All],MATCH($AI54,阻害要因×在院期間区分＿寛解・院内寛解[[#All],[値]],0),MATCH($AQ$4,阻害要因×在院期間区分＿寛解・院内寛解[#Headers],0)),0)+IFERROR(INDEX(阻害要因×在院期間区分＿寛解・院内寛解[#All],MATCH($AI54,阻害要因×在院期間区分＿寛解・院内寛解[[#All],[値]],0),MATCH($AR$4,阻害要因×在院期間区分＿寛解・院内寛解[#Headers],0)),0)","v":43},0.22631578947368422,{"$f":"IFERROR(INDEX(阻害要因×在院期間区分＿寛解・院内寛解[#All],MATCH($AI54,阻害要因×在院期間区分＿寛解・院内寛解[[#All],[値]],0),MATCH($AS$4,阻害要因×在院期間区分＿寛解・院内寛解[#Headers],0)),0)+IFERROR(INDEX(阻害要因×在院期間区分＿寛解・院内寛解[#All],MATCH($AI54,阻害要因×在院期間区分＿寛解・院内寛解[[#All],[値]],0),MATCH($AT$4,阻害要因×在院期間区分＿寛解・院内寛解[#Headers],0)),0)+IFERROR(INDEX(阻害要因×在院期間区分＿寛解・院内寛解[#All],MATCH($AI54,阻害要因×在院期間区分＿寛解・院内寛解[[#All],[値]],0),MATCH($AU$4,阻害要因×在院期間区分＿寛解・院内寛解[#Headers],0)),0)+IFERROR(INDEX(阻害要因×在院期間区分＿寛解・院内寛解[#All],MATCH($AI54,阻害要因×在院期間区分＿寛解・院内寛解[[#All],[値]],0),MATCH($AV$4,阻害要因×在院期間区分＿寛解・院内寛解[#Headers],0)),0)+IFERROR(INDEX(阻害要因×在院期間区分＿寛解・院内寛解[#All],MATCH($AI54,阻害要因×在院期間区分＿寛解・院内寛解[[#All],[値]],0),MATCH($AW$4,阻害要因×在院期間区分＿寛解・院内寛解[#Headers],0)),0)","v":20},0.30769230769230771,{"$f":"IFERROR(INDEX(阻害要因×在院期間区分＿寛解・院内寛解[#All],MATCH($AI54,阻害要因×在院期間区分＿寛解・院内寛解[[#All],[値]],0),MATCH($AX$4,阻害要因×在院期間区分＿寛解・院内寛解[#Headers],0)),0)+IFERROR(INDEX(阻害要因×在院期間区分＿寛解・院内寛解[#All],MATCH($AI54,阻害要因×在院期間区分＿寛解・院内寛解[[#All],[値]],0),MATCH($AY$4,阻害要因×在院期間区分＿寛解・院内寛解[#Headers],0)),0)","v":27},0.34615384615384615,146,"合計 / 退院による環境変化への不安が強い",10,13,17,16,12,8,10,3,10,5,7,5,2,1,14,13,null,null,null,null,null,null,"合計 / 現実認識が乏しい"]
[null,"援助者との対人関係がもてない",{"$f":"IFERROR(INDEX(阻害要因×在院期間区分＿寛解・院内寛解[#All],MATCH($AI55,阻害要因×在院期間区分＿寛解・院内寛解[[#All],[値]],0),MATCH($AJ$4,阻害要因×在院期間区分＿寛解・院内寛解[#Headers],0)),0)+IFERROR(INDEX(阻害要因×在院期間区分＿寛解・院内寛解[#All],MATCH($AI55,阻害要因×在院期間区分＿寛解・院内寛解[[#All],[値]],0),MATCH($AK$4,阻害要因×在院期間区分＿寛解・院内寛解[#Headers],0)),0)+IFERROR(INDEX(阻害要因×在院期間区分＿寛解・院内寛解[#All],MATCH($AI55,阻害要因×在院期間区分＿寛解・院内寛解[[#All],[値]],0),MATCH($AL$4,阻害要因×在院期間区分＿寛解・院内寛解[#Headers],0)),0)+IFERROR(INDEX(阻害要因×在院期間区分＿寛解・院内寛解[#All],MATCH($AI55,阻害要因×在院期間区分＿寛解・院内寛解[[#All],[値]],0),MATCH($AM$4,阻害要因×在院期間区分＿寛解・院内寛解[#Headers],0)),0)","v":9},3.9647577092511016E-2,{"$f":"IFERROR(INDEX(阻害要因×在院期間区分＿寛解・院内寛解[#All],MATCH($AI55,阻害要因×在院期間区分＿寛解・院内寛解[[#All],[値]],0),MATCH($AN$4,阻害要因×在院期間区分＿寛解・院内寛解[#Headers],0)),0)+IFERROR(INDEX(阻害要因×在院期間区分＿寛解・院内寛解[#All],MATCH($AI55,阻害要因×在院期間区分＿寛解・院内寛解[[#All],[値]],0),MATCH($AO$4,阻害要因×在院期間区分＿寛解・院内寛解[#Headers],0)),0)+IFERROR(INDEX(阻害要因×在院期間区分＿寛解・院内寛解[#All],MATCH($AI55,阻害要因×在院期間区分＿寛解・院内寛解[[#All],[値]],0),MATCH($AP$4,阻害要因×在院期間区分＿寛解・院内寛解[#Headers],0)),0)+IFERROR(INDEX(阻害要因×在院期間区分＿寛解・院内寛解[#All],MATCH($AI55,阻害要因×在院期間区分＿寛解・院内寛解[[#All],[値]],0),MATCH($AQ$4,阻害要因×在院期間区分＿寛解・院内寛解[#Headers],0)),0)+IFERROR(INDEX(阻害要因×在院期間区分＿寛解・院内寛解[#All],MATCH($AI55,阻害要因×在院期間区分＿寛解・院内寛解[[#All],[値]],0),MATCH($AR$4,阻害要因×在院期間区分＿寛解・院内寛解[#Headers],0)),0)","v":8},4.2105263157894736E-2,{"$f":"IFERROR(INDEX(阻害要因×在院期間区分＿寛解・院内寛解[#All],MATCH($AI55,阻害要因×在院期間区分＿寛解・院内寛解[[#All],[値]],0),MATCH($AS$4,阻害要因×在院期間区分＿寛解・院内寛解[#Headers],0)),0)+IFERROR(INDEX(阻害要因×在院期間区分＿寛解・院内寛解[#All],MATCH($AI55,阻害要因×在院期間区分＿寛解・院内寛解[[#All],[値]],0),MATCH($AT$4,阻害要因×在院期間区分＿寛解・院内寛解[#Headers],0)),0)+IFERROR(INDEX(阻害要因×在院期間区分＿寛解・院内寛解[#All],MATCH($AI55,阻害要因×在院期間区分＿寛解・院内寛解[[#All],[値]],0),MATCH($AU$4,阻害要因×在院期間区分＿寛解・院内寛解[#Headers],0)),0)+IFERROR(INDEX(阻害要因×在院期間区分＿寛解・院内寛解[#All],MATCH($AI55,阻害要因×在院期間区分＿寛解・院内寛解[[#All],[値]],0),MATCH($AV$4,阻害要因×在院期間区分＿寛解・院内寛解[#Headers],0)),0)+IFERROR(INDEX(阻害要因×在院期間区分＿寛解・院内寛解[#All],MATCH($AI55,阻害要因×在院期間区分＿寛解・院内寛解[[#All],[値]],0),MATCH($AW$4,阻害要因×在院期間区分＿寛解・院内寛解[#Headers],0)),0)","v":2},3.0769230769230771E-2,{"$f":"IFERROR(INDEX(阻害要因×在院期間区分＿寛解・院内寛解[#All],MATCH($AI55,阻害要因×在院期間区分＿寛解・院内寛解[[#All],[値]],0),MATCH($AX$4,阻害要因×在院期間区分＿寛解・院内寛解[#Headers],0)),0)+IFERROR(INDEX(阻害要因×在院期間区分＿寛解・院内寛解[#All],MATCH($AI55,阻害要因×在院期間区分＿寛解・院内寛解[[#All],[値]],0),MATCH($AY$4,阻害要因×在院期間区分＿寛解・院内寛解[#Headers],0)),0)","v":2},2.564102564102564E-2,21,"合計 / 援助者との対人関係がもてない",3,3,2,1,2,2,0,2,2,1,0,1,0,0,1,1,null,null,null,null,null,null,"合計 / 退院による環境変化への不安が強い"]
[null,"家事（食事・洗濯・金銭管理など）ができない",{"$f":"IFERROR(INDEX(阻害要因×在院期間区分＿寛解・院内寛解[#All],MATCH($AI56,阻害要因×在院期間区分＿寛解・院内寛解[[#All],[値]],0),MATCH($AJ$4,阻害要因×在院期間区分＿寛解・院内寛解[#Headers],0)),0)+IFERROR(INDEX(阻害要因×在院期間区分＿寛解・院内寛解[#All],MATCH($AI56,阻害要因×在院期間区分＿寛解・院内寛解[[#All],[値]],0),MATCH($AK$4,阻害要因×在院期間区分＿寛解・院内寛解[#Headers],0)),0)+IFERROR(INDEX(阻害要因×在院期間区分＿寛解・院内寛解[#All],MATCH($AI56,阻害要因×在院期間区分＿寛解・院内寛解[[#All],[値]],0),MATCH($AL$4,阻害要因×在院期間区分＿寛解・院内寛解[#Headers],0)),0)+IFERROR(INDEX(阻害要因×在院期間区分＿寛解・院内寛解[#All],MATCH($AI56,阻害要因×在院期間区分＿寛解・院内寛解[[#All],[値]],0),MATCH($AM$4,阻害要因×在院期間区分＿寛解・院内寛解[#Headers],0)),0)","v":50},0.22026431718061673,{"$f":"IFERROR(INDEX(阻害要因×在院期間区分＿寛解・院内寛解[#All],MATCH($AI56,阻害要因×在院期間区分＿寛解・院内寛解[[#All],[値]],0),MATCH($AN$4,阻害要因×在院期間区分＿寛解・院内寛解[#Headers],0)),0)+IFERROR(INDEX(阻害要因×在院期間区分＿寛解・院内寛解[#All],MATCH($AI56,阻害要因×在院期間区分＿寛解・院内寛解[[#All],[値]],0),MATCH($AO$4,阻害要因×在院期間区分＿寛解・院内寛解[#Headers],0)),0)+IFERROR(INDEX(阻害要因×在院期間区分＿寛解・院内寛解[#All],MATCH($AI56,阻害要因×在院期間区分＿寛解・院内寛解[[#All],[値]],0),MATCH($AP$4,阻害要因×在院期間区分＿寛解・院内寛解[#Headers],0)),0)+IFERROR(INDEX(阻害要因×在院期間区分＿寛解・院内寛解[#All],MATCH($AI56,阻害要因×在院期間区分＿寛解・院内寛解[[#All],[値]],0),MATCH($AQ$4,阻害要因×在院期間区分＿寛解・院内寛解[#Headers],0)),0)+IFERROR(INDEX(阻害要因×在院期間区分＿寛解・院内寛解[#All],MATCH($AI56,阻害要因×在院期間区分＿寛解・院内寛解[[#All],[値]],0),MATCH($AR$4,阻害要因×在院期間区分＿寛解・院内寛解[#Headers],0)),0)","v":49},0.25789473684210529,{"$f":"IFERROR(INDEX(阻害要因×在院期間区分＿寛解・院内寛解[#All],MATCH($AI56,阻害要因×在院期間区分＿寛解・院内寛解[[#All],[値]],0),MATCH($AS$4,阻害要因×在院期間区分＿寛解・院内寛解[#Headers],0)),0)+IFERROR(INDEX(阻害要因×在院期間区分＿寛解・院内寛解[#All],MATCH($AI56,阻害要因×在院期間区分＿寛解・院内寛解[[#All],[値]],0),MATCH($AT$4,阻害要因×在院期間区分＿寛解・院内寛解[#Headers],0)),0)+IFERROR(INDEX(阻害要因×在院期間区分＿寛解・院内寛解[#All],MATCH($AI56,阻害要因×在院期間区分＿寛解・院内寛解[[#All],[値]],0),MATCH($AU$4,阻害要因×在院期間区分＿寛解・院内寛解[#Headers],0)),0)+IFERROR(INDEX(阻害要因×在院期間区分＿寛解・院内寛解[#All],MATCH($AI56,阻害要因×在院期間区分＿寛解・院内寛解[[#All],[値]],0),MATCH($AV$4,阻害要因×在院期間区分＿寛解・院内寛解[#Headers],0)),0)+IFERROR(INDEX(阻害要因×在院期間区分＿寛解・院内寛解[#All],MATCH($AI56,阻害要因×在院期間区分＿寛解・院内寛解[[#All],[値]],0),MATCH($AW$4,阻害要因×在院期間区分＿寛解・院内寛解[#Headers],0)),0)","v":19},0.29230769230769232,{"$f":"IFERROR(INDEX(阻害要因×在院期間区分＿寛解・院内寛解[#All],MATCH($AI56,阻害要因×在院期間区分＿寛解・院内寛解[[#All],[値]],0),MATCH($AX$4,阻害要因×在院期間区分＿寛解・院内寛解[#Headers],0)),0)+IFERROR(INDEX(阻害要因×在院期間区分＿寛解・院内寛解[#All],MATCH($AI56,阻害要因×在院期間区分＿寛解・院内寛解[[#All],[値]],0),MATCH($AY$4,阻害要因×在院期間区分＿寛解・院内寛解[#Headers],0)),0)","v":15},0.19230769230769232,133,"合計 / 家事（食事,洗濯,金銭管理など）ができない",4,16,14,16,13,10,13,7,6,5,6,5,2,1,6,9,null,null,null,null,null,null,"合計 / 援助者との対人関係がもてない"]
[null,"家族がいない、本人をサポートする機能が実質ない",{"$f":"IFERROR(INDEX(阻害要因×在院期間区分＿寛解・院内寛解[#All],MATCH($AI57,阻害要因×在院期間区分＿寛解・院内寛解[[#All],[値]],0),MATCH($AJ$4,阻害要因×在院期間区分＿寛解・院内寛解[#Headers],0)),0)+IFERROR(INDEX(阻害要因×在院期間区分＿寛解・院内寛解[#All],MATCH($AI57,阻害要因×在院期間区分＿寛解・院内寛解[[#All],[値]],0),MATCH($AK$4,阻害要因×在院期間区分＿寛解・院内寛解[#Headers],0)),0)+IFERROR(INDEX(阻害要因×在院期間区分＿寛解・院内寛解[#All],MATCH($AI57,阻害要因×在院期間区分＿寛解・院内寛解[[#All],[値]],0),MATCH($AL$4,阻害要因×在院期間区分＿寛解・院内寛解[#Headers],0)),0)+IFERROR(INDEX(阻害要因×在院期間区分＿寛解・院内寛解[#All],MATCH($AI57,阻害要因×在院期間区分＿寛解・院内寛解[[#All],[値]],0),MATCH($AM$4,阻害要因×在院期間区分＿寛解・院内寛解[#Headers],0)),0)","v":38},0.16740088105726872,{"$f":"IFERROR(INDEX(阻害要因×在院期間区分＿寛解・院内寛解[#All],MATCH($AI57,阻害要因×在院期間区分＿寛解・院内寛解[[#All],[値]],0),MATCH($AN$4,阻害要因×在院期間区分＿寛解・院内寛解[#Headers],0)),0)+IFERROR(INDEX(阻害要因×在院期間区分＿寛解・院内寛解[#All],MATCH($AI57,阻害要因×在院期間区分＿寛解・院内寛解[[#All],[値]],0),MATCH($AO$4,阻害要因×在院期間区分＿寛解・院内寛解[#Headers],0)),0)+IFERROR(INDEX(阻害要因×在院期間区分＿寛解・院内寛解[#All],MATCH($AI57,阻害要因×在院期間区分＿寛解・院内寛解[[#All],[値]],0),MATCH($AP$4,阻害要因×在院期間区分＿寛解・院内寛解[#Headers],0)),0)+IFERROR(INDEX(阻害要因×在院期間区分＿寛解・院内寛解[#All],MATCH($AI57,阻害要因×在院期間区分＿寛解・院内寛解[[#All],[値]],0),MATCH($AQ$4,阻害要因×在院期間区分＿寛解・院内寛解[#Headers],0)),0)+IFERROR(INDEX(阻害要因×在院期間区分＿寛解・院内寛解[#All],MATCH($AI57,阻害要因×在院期間区分＿寛解・院内寛解[[#All],[値]],0),MATCH($AR$4,阻害要因×在院期間区分＿寛解・院内寛解[#Headers],0)),0)","v":24},0.12631578947368421,{"$f":"IFERROR(INDEX(阻害要因×在院期間区分＿寛解・院内寛解[#All],MATCH($AI57,阻害要因×在院期間区分＿寛解・院内寛解[[#All],[値]],0),MATCH($AS$4,阻害要因×在院期間区分＿寛解・院内寛解[#Headers],0)),0)+IFERROR(INDEX(阻害要因×在院期間区分＿寛解・院内寛解[#All],MATCH($AI57,阻害要因×在院期間区分＿寛解・院内寛解[[#All],[値]],0),MATCH($AT$4,阻害要因×在院期間区分＿寛解・院内寛解[#Headers],0)),0)+IFERROR(INDEX(阻害要因×在院期間区分＿寛解・院内寛解[#All],MATCH($AI57,阻害要因×在院期間区分＿寛解・院内寛解[[#All],[値]],0),MATCH($AU$4,阻害要因×在院期間区分＿寛解・院内寛解[#Headers],0)),0)+IFERROR(INDEX(阻害要因×在院期間区分＿寛解・院内寛解[#All],MATCH($AI57,阻害要因×在院期間区分＿寛解・院内寛解[[#All],[値]],0),MATCH($AV$4,阻害要因×在院期間区分＿寛解・院内寛解[#Headers],0)),0)+IFERROR(INDEX(阻害要因×在院期間区分＿寛解・院内寛解[#All],MATCH($AI57,阻害要因×在院期間区分＿寛解・院内寛解[[#All],[値]],0),MATCH($AW$4,阻害要因×在院期間区分＿寛解・院内寛解[#Headers],0)),0)","v":13},0.2,{"$f":"IFERROR(INDEX(阻害要因×在院期間区分＿寛解・院内寛解[#All],MATCH($AI57,阻害要因×在院期間区分＿寛解・院内寛解[[#All],[値]],0),MATCH($AX$4,阻害要因×在院期間区分＿寛解・院内寛解[#Headers],0)),0)+IFERROR(INDEX(阻害要因×在院期間区分＿寛解・院内寛解[#All],MATCH($AI57,阻害要因×在院期間区分＿寛解・院内寛解[[#All],[値]],0),MATCH($AY$4,阻害要因×在院期間区分＿寛解・院内寛解[#Headers],0)),0)","v":15},0.19230769230769232,90,"合計 / 家族がいない、本人をサポートする機能が実質ない",6,12,10,10,8,3,5,5,3,4,1,4,3,1,5,10,null,null,null,null,null,null,"合計 / 家事（食事,洗濯,金銭管理など）ができない"]
[null,"家族が退院に反対している",{"$f":"IFERROR(INDEX(阻害要因×在院期間区分＿寛解・院内寛解[#All],MATCH($AI58,阻害要因×在院期間区分＿寛解・院内寛解[[#All],[値]],0),MATCH($AJ$4,阻害要因×在院期間区分＿寛解・院内寛解[#Headers],0)),0)+IFERROR(INDEX(阻害要因×在院期間区分＿寛解・院内寛解[#All],MATCH($AI58,阻害要因×在院期間区分＿寛解・院内寛解[[#All],[値]],0),MATCH($AK$4,阻害要因×在院期間区分＿寛解・院内寛解[#Headers],0)),0)+IFERROR(INDEX(阻害要因×在院期間区分＿寛解・院内寛解[#All],MATCH($AI58,阻害要因×在院期間区分＿寛解・院内寛解[[#All],[値]],0),MATCH($AL$4,阻害要因×在院期間区分＿寛解・院内寛解[#Headers],0)),0)+IFERROR(INDEX(阻害要因×在院期間区分＿寛解・院内寛解[#All],MATCH($AI58,阻害要因×在院期間区分＿寛解・院内寛解[[#All],[値]],0),MATCH($AM$4,阻害要因×在院期間区分＿寛解・院内寛解[#Headers],0)),0)","v":41},0.18061674008810572,{"$f":"IFERROR(INDEX(阻害要因×在院期間区分＿寛解・院内寛解[#All],MATCH($AI58,阻害要因×在院期間区分＿寛解・院内寛解[[#All],[値]],0),MATCH($AN$4,阻害要因×在院期間区分＿寛解・院内寛解[#Headers],0)),0)+IFERROR(INDEX(阻害要因×在院期間区分＿寛解・院内寛解[#All],MATCH($AI58,阻害要因×在院期間区分＿寛解・院内寛解[[#All],[値]],0),MATCH($AO$4,阻害要因×在院期間区分＿寛解・院内寛解[#Headers],0)),0)+IFERROR(INDEX(阻害要因×在院期間区分＿寛解・院内寛解[#All],MATCH($AI58,阻害要因×在院期間区分＿寛解・院内寛解[[#All],[値]],0),MATCH($AP$4,阻害要因×在院期間区分＿寛解・院内寛解[#Headers],0)),0)+IFERROR(INDEX(阻害要因×在院期間区分＿寛解・院内寛解[#All],MATCH($AI58,阻害要因×在院期間区分＿寛解・院内寛解[[#All],[値]],0),MATCH($AQ$4,阻害要因×在院期間区分＿寛解・院内寛解[#Headers],0)),0)+IFERROR(INDEX(阻害要因×在院期間区分＿寛解・院内寛解[#All],MATCH($AI58,阻害要因×在院期間区分＿寛解・院内寛解[[#All],[値]],0),MATCH($AR$4,阻害要因×在院期間区分＿寛解・院内寛解[#Headers],0)),0)","v":44},0.23157894736842105,{"$f":"IFERROR(INDEX(阻害要因×在院期間区分＿寛解・院内寛解[#All],MATCH($AI58,阻害要因×在院期間区分＿寛解・院内寛解[[#All],[値]],0),MATCH($AS$4,阻害要因×在院期間区分＿寛解・院内寛解[#Headers],0)),0)+IFERROR(INDEX(阻害要因×在院期間区分＿寛解・院内寛解[#All],MATCH($AI58,阻害要因×在院期間区分＿寛解・院内寛解[[#All],[値]],0),MATCH($AT$4,阻害要因×在院期間区分＿寛解・院内寛解[#Headers],0)),0)+IFERROR(INDEX(阻害要因×在院期間区分＿寛解・院内寛解[#All],MATCH($AI58,阻害要因×在院期間区分＿寛解・院内寛解[[#All],[値]],0),MATCH($AU$4,阻害要因×在院期間区分＿寛解・院内寛解[#Headers],0)),0)+IFERROR(INDEX(阻害要因×在院期間区分＿寛解・院内寛解[#All],MATCH($AI58,阻害要因×在院期間区分＿寛解・院内寛解[[#All],[値]],0),MATCH($AV$4,阻害要因×在院期間区分＿寛解・院内寛解[#Headers],0)),0)+IFERROR(INDEX(阻害要因×在院期間区分＿寛解・院内寛解[#All],MATCH($AI58,阻害要因×在院期間区分＿寛解・院内寛解[[#All],[値]],0),MATCH($AW$4,阻害要因×在院期間区分＿寛解・院内寛解[#Headers],0)),0)","v":18},0.27692307692307694,{"$f":"IFERROR(INDEX(阻害要因×在院期間区分＿寛解・院内寛解[#All],MATCH($AI58,阻害要因×在院期間区分＿寛解・院内寛解[[#All],[値]],0),MATCH($AX$4,阻害要因×在院期間区分＿寛解・院内寛解[#Headers],0)),0)+IFERROR(INDEX(阻害要因×在院期間区分＿寛解・院内寛解[#All],MATCH($AI58,阻害要因×在院期間区分＿寛解・院内寛解[[#All],[値]],0),MATCH($AY$4,阻害要因×在院期間区分＿寛解・院内寛解[#Headers],0)),0)","v":17},0.21794871794871795,120,"合計 / 家族から退院に反対がある",7,6,13,15,11,3,8,12,10,3,7,2,4,2,11,6,null,null,null,null,null,null,"合計 / 家族がいない、本人をサポートする機能が実質ない"]
[null,"住まいの確保ができない",{"$f":"IFERROR(INDEX(阻害要因×在院期間区分＿寛解・院内寛解[#All],MATCH($AI59,阻害要因×在院期間区分＿寛解・院内寛解[[#All],[値]],0),MATCH($AJ$4,阻害要因×在院期間区分＿寛解・院内寛解[#Headers],0)),0)+IFERROR(INDEX(阻害要因×在院期間区分＿寛解・院内寛解[#All],MATCH($AI59,阻害要因×在院期間区分＿寛解・院内寛解[[#All],[値]],0),MATCH($AK$4,阻害要因×在院期間区分＿寛解・院内寛解[#Headers],0)),0)+IFERROR(INDEX(阻害要因×在院期間区分＿寛解・院内寛解[#All],MATCH($AI59,阻害要因×在院期間区分＿寛解・院内寛解[[#All],[値]],0),MATCH($AL$4,阻害要因×在院期間区分＿寛解・院内寛解[#Headers],0)),0)+IFERROR(INDEX(阻害要因×在院期間区分＿寛解・院内寛解[#All],MATCH($AI59,阻害要因×在院期間区分＿寛解・院内寛解[[#All],[値]],0),MATCH($AM$4,阻害要因×在院期間区分＿寛解・院内寛解[#Headers],0)),0)","v":91},0.40088105726872247,{"$f":"IFERROR(INDEX(阻害要因×在院期間区分＿寛解・院内寛解[#All],MATCH($AI59,阻害要因×在院期間区分＿寛解・院内寛解[[#All],[値]],0),MATCH($AN$4,阻害要因×在院期間区分＿寛解・院内寛解[#Headers],0)),0)+IFERROR(INDEX(阻害要因×在院期間区分＿寛解・院内寛解[#All],MATCH($AI59,阻害要因×在院期間区分＿寛解・院内寛解[[#All],[値]],0),MATCH($AO$4,阻害要因×在院期間区分＿寛解・院内寛解[#Headers],0)),0)+IFERROR(INDEX(阻害要因×在院期間区分＿寛解・院内寛解[#All],MATCH($AI59,阻害要因×在院期間区分＿寛解・院内寛解[[#All],[値]],0),MATCH($AP$4,阻害要因×在院期間区分＿寛解・院内寛解[#Headers],0)),0)+IFERROR(INDEX(阻害要因×在院期間区分＿寛解・院内寛解[#All],MATCH($AI59,阻害要因×在院期間区分＿寛解・院内寛解[[#All],[値]],0),MATCH($AQ$4,阻害要因×在院期間区分＿寛解・院内寛解[#Headers],0)),0)+IFERROR(INDEX(阻害要因×在院期間区分＿寛解・院内寛解[#All],MATCH($AI59,阻害要因×在院期間区分＿寛解・院内寛解[[#All],[値]],0),MATCH($AR$4,阻害要因×在院期間区分＿寛解・院内寛解[#Headers],0)),0)","v":57},0.3,{"$f":"IFERROR(INDEX(阻害要因×在院期間区分＿寛解・院内寛解[#All],MATCH($AI59,阻害要因×在院期間区分＿寛解・院内寛解[[#All],[値]],0),MATCH($AS$4,阻害要因×在院期間区分＿寛解・院内寛解[#Headers],0)),0)+IFERROR(INDEX(阻害要因×在院期間区分＿寛解・院内寛解[#All],MATCH($AI59,阻害要因×在院期間区分＿寛解・院内寛解[[#All],[値]],0),MATCH($AT$4,阻害要因×在院期間区分＿寛解・院内寛解[#Headers],0)),0)+IFERROR(INDEX(阻害要因×在院期間区分＿寛解・院内寛解[#All],MATCH($AI59,阻害要因×在院期間区分＿寛解・院内寛解[[#All],[値]],0),MATCH($AU$4,阻害要因×在院期間区分＿寛解・院内寛解[#Headers],0)),0)+IFERROR(INDEX(阻害要因×在院期間区分＿寛解・院内寛解[#All],MATCH($AI59,阻害要因×在院期間区分＿寛解・院内寛解[[#All],[値]],0),MATCH($AV$4,阻害要因×在院期間区分＿寛解・院内寛解[#Headers],0)),0)+IFERROR(INDEX(阻害要因×在院期間区分＿寛解・院内寛解[#All],MATCH($AI59,阻害要因×在院期間区分＿寛解・院内寛解[[#All],[値]],0),MATCH($AW$4,阻害要因×在院期間区分＿寛解・院内寛解[#Headers],0)),0)","v":20},0.30769230769230771,{"$f":"IFERROR(INDEX(阻害要因×在院期間区分＿寛解・院内寛解[#All],MATCH($AI59,阻害要因×在院期間区分＿寛解・院内寛解[[#All],[値]],0),MATCH($AX$4,阻害要因×在院期間区分＿寛解・院内寛解[#Headers],0)),0)+IFERROR(INDEX(阻害要因×在院期間区分＿寛解・院内寛解[#All],MATCH($AI59,阻害要因×在院期間区分＿寛解・院内寛解[[#All],[値]],0),MATCH($AY$4,阻害要因×在院期間区分＿寛解・院内寛解[#Headers],0)),0)","v":15},0.19230769230769232,183,"合計 / 住まいの確保ができない",13,27,28,23,15,7,13,13,9,3,3,8,1,5,7,8,null,null,null,null,null,null,"合計 / 家族から退院に反対がある"]
[null,"生活費の確保ができない",{"$f":"IFERROR(INDEX(阻害要因×在院期間区分＿寛解・院内寛解[#All],MATCH($AI60,阻害要因×在院期間区分＿寛解・院内寛解[[#All],[値]],0),MATCH($AJ$4,阻害要因×在院期間区分＿寛解・院内寛解[#Headers],0)),0)+IFERROR(INDEX(阻害要因×在院期間区分＿寛解・院内寛解[#All],MATCH($AI60,阻害要因×在院期間区分＿寛解・院内寛解[[#All],[値]],0),MATCH($AK$4,阻害要因×在院期間区分＿寛解・院内寛解[#Headers],0)),0)+IFERROR(INDEX(阻害要因×在院期間区分＿寛解・院内寛解[#All],MATCH($AI60,阻害要因×在院期間区分＿寛解・院内寛解[[#All],[値]],0),MATCH($AL$4,阻害要因×在院期間区分＿寛解・院内寛解[#Headers],0)),0)+IFERROR(INDEX(阻害要因×在院期間区分＿寛解・院内寛解[#All],MATCH($AI60,阻害要因×在院期間区分＿寛解・院内寛解[[#All],[値]],0),MATCH($AM$4,阻害要因×在院期間区分＿寛解・院内寛解[#Headers],0)),0)","v":15},6.6079295154185022E-2,{"$f":"IFERROR(INDEX(阻害要因×在院期間区分＿寛解・院内寛解[#All],MATCH($AI60,阻害要因×在院期間区分＿寛解・院内寛解[[#All],[値]],0),MATCH($AN$4,阻害要因×在院期間区分＿寛解・院内寛解[#Headers],0)),0)+IFERROR(INDEX(阻害要因×在院期間区分＿寛解・院内寛解[#All],MATCH($AI60,阻害要因×在院期間区分＿寛解・院内寛解[[#All],[値]],0),MATCH($AO$4,阻害要因×在院期間区分＿寛解・院内寛解[#Headers],0)),0)+IFERROR(INDEX(阻害要因×在院期間区分＿寛解・院内寛解[#All],MATCH($AI60,阻害要因×在院期間区分＿寛解・院内寛解[[#All],[値]],0),MATCH($AP$4,阻害要因×在院期間区分＿寛解・院内寛解[#Headers],0)),0)+IFERROR(INDEX(阻害要因×在院期間区分＿寛解・院内寛解[#All],MATCH($AI60,阻害要因×在院期間区分＿寛解・院内寛解[[#All],[値]],0),MATCH($AQ$4,阻害要因×在院期間区分＿寛解・院内寛解[#Headers],0)),0)+IFERROR(INDEX(阻害要因×在院期間区分＿寛解・院内寛解[#All],MATCH($AI60,阻害要因×在院期間区分＿寛解・院内寛解[[#All],[値]],0),MATCH($AR$4,阻害要因×在院期間区分＿寛解・院内寛解[#Headers],0)),0)","v":8},4.2105263157894736E-2,{"$f":"IFERROR(INDEX(阻害要因×在院期間区分＿寛解・院内寛解[#All],MATCH($AI60,阻害要因×在院期間区分＿寛解・院内寛解[[#All],[値]],0),MATCH($AS$4,阻害要因×在院期間区分＿寛解・院内寛解[#Headers],0)),0)+IFERROR(INDEX(阻害要因×在院期間区分＿寛解・院内寛解[#All],MATCH($AI60,阻害要因×在院期間区分＿寛解・院内寛解[[#All],[値]],0),MATCH($AT$4,阻害要因×在院期間区分＿寛解・院内寛解[#Headers],0)),0)+IFERROR(INDEX(阻害要因×在院期間区分＿寛解・院内寛解[#All],MATCH($AI60,阻害要因×在院期間区分＿寛解・院内寛解[[#All],[値]],0),MATCH($AU$4,阻害要因×在院期間区分＿寛解・院内寛解[#Headers],0)),0)+IFERROR(INDEX(阻害要因×在院期間区分＿寛解・院内寛解[#All],MATCH($AI60,阻害要因×在院期間区分＿寛解・院内寛解[[#All],[値]],0),MATCH($AV$4,阻害要因×在院期間区分＿寛解・院内寛解[#Headers],0)),0)+IFERROR(INDEX(阻害要因×在院期間区分＿寛解・院内寛解[#All],MATCH($AI60,阻害要因×在院期間区分＿寛解・院内寛解[[#All],[値]],0),MATCH($AW$4,阻害要因×在院期間区分＿寛解・院内寛解[#Headers],0)),0)","v":7},0.1076923076923077,{"$f":"IFERROR(INDEX(阻害要因×在院期間区分＿寛解・院内寛解[#All],MATCH($AI60,阻害要因×在院期間区分＿寛解・院内寛解[[#All],[値]],0),MATCH($AX$4,阻害要因×在院期間区分＿寛解・院内寛解[#Headers],0)),0)+IFERROR(INDEX(阻害要因×在院期間区分＿寛解・院内寛解[#All],MATCH($AI60,阻害要因×在院期間区分＿寛解・院内寛解[[#All],[値]],0),MATCH($AY$4,阻害要因×在院期間区分＿寛解・院内寛解[#Headers],0)),0)","v":3},3.8461538461538464E-2,33,"合計 / 生活費の確保ができない",1,5,3,6,4,0,2,2,0,1,0,3,2,1,1,2,null,null,null,null,null,null,"合計 / 住まいの確保ができない"]
[null,"日常生活を支える制度がない",{"$f":"IFERROR(INDEX(阻害要因×在院期間区分＿寛解・院内寛解[#All],MATCH($AI61,阻害要因×在院期間区分＿寛解・院内寛解[[#All],[値]],0),MATCH($AJ$4,阻害要因×在院期間区分＿寛解・院内寛解[#Headers],0)),0)+IFERROR(INDEX(阻害要因×在院期間区分＿寛解・院内寛解[#All],MATCH($AI61,阻害要因×在院期間区分＿寛解・院内寛解[[#All],[値]],0),MATCH($AK$4,阻害要因×在院期間区分＿寛解・院内寛解[#Headers],0)),0)+IFERROR(INDEX(阻害要因×在院期間区分＿寛解・院内寛解[#All],MATCH($AI61,阻害要因×在院期間区分＿寛解・院内寛解[[#All],[値]],0),MATCH($AL$4,阻害要因×在院期間区分＿寛解・院内寛解[#Headers],0)),0)+IFERROR(INDEX(阻害要因×在院期間区分＿寛解・院内寛解[#All],MATCH($AI61,阻害要因×在院期間区分＿寛解・院内寛解[[#All],[値]],0),MATCH($AM$4,阻害要因×在院期間区分＿寛解・院内寛解[#Headers],0)),0)","v":10},4.405286343612335E-2,{"$f":"IFERROR(INDEX(阻害要因×在院期間区分＿寛解・院内寛解[#All],MATCH($AI61,阻害要因×在院期間区分＿寛解・院内寛解[[#All],[値]],0),MATCH($AN$4,阻害要因×在院期間区分＿寛解・院内寛解[#Headers],0)),0)+IFERROR(INDEX(阻害要因×在院期間区分＿寛解・院内寛解[#All],MATCH($AI61,阻害要因×在院期間区分＿寛解・院内寛解[[#All],[値]],0),MATCH($AO$4,阻害要因×在院期間区分＿寛解・院内寛解[#Headers],0)),0)+IFERROR(INDEX(阻害要因×在院期間区分＿寛解・院内寛解[#All],MATCH($AI61,阻害要因×在院期間区分＿寛解・院内寛解[[#All],[値]],0),MATCH($AP$4,阻害要因×在院期間区分＿寛解・院内寛解[#Headers],0)),0)+IFERROR(INDEX(阻害要因×在院期間区分＿寛解・院内寛解[#All],MATCH($AI61,阻害要因×在院期間区分＿寛解・院内寛解[[#All],[値]],0),MATCH($AQ$4,阻害要因×在院期間区分＿寛解・院内寛解[#Headers],0)),0)+IFERROR(INDEX(阻害要因×在院期間区分＿寛解・院内寛解[#All],MATCH($AI61,阻害要因×在院期間区分＿寛解・院内寛解[[#All],[値]],0),MATCH($AR$4,阻害要因×在院期間区分＿寛解・院内寛解[#Headers],0)),0)","v":6},3.1578947368421054E-2,{"$f":"IFERROR(INDEX(阻害要因×在院期間区分＿寛解・院内寛解[#All],MATCH($AI61,阻害要因×在院期間区分＿寛解・院内寛解[[#All],[値]],0),MATCH($AS$4,阻害要因×在院期間区分＿寛解・院内寛解[#Headers],0)),0)+IFERROR(INDEX(阻害要因×在院期間区分＿寛解・院内寛解[#All],MATCH($AI61,阻害要因×在院期間区分＿寛解・院内寛解[[#All],[値]],0),MATCH($AT$4,阻害要因×在院期間区分＿寛解・院内寛解[#Headers],0)),0)+IFERROR(INDEX(阻害要因×在院期間区分＿寛解・院内寛解[#All],MATCH($AI61,阻害要因×在院期間区分＿寛解・院内寛解[[#All],[値]],0),MATCH($AU$4,阻害要因×在院期間区分＿寛解・院内寛解[#Headers],0)),0)+IFERROR(INDEX(阻害要因×在院期間区分＿寛解・院内寛解[#All],MATCH($AI61,阻害要因×在院期間区分＿寛解・院内寛解[[#All],[値]],0),MATCH($AV$4,阻害要因×在院期間区分＿寛解・院内寛解[#Headers],0)),0)+IFERROR(INDEX(阻害要因×在院期間区分＿寛解・院内寛解[#All],MATCH($AI61,阻害要因×在院期間区分＿寛解・院内寛解[[#All],[値]],0),MATCH($AW$4,阻害要因×在院期間区分＿寛解・院内寛解[#Headers],0)),0)","v":6},9.2307692307692313E-2,{"$f":"IFERROR(INDEX(阻害要因×在院期間区分＿寛解・院内寛解[#All],MATCH($AI61,阻害要因×在院期間区分＿寛解・院内寛解[[#All],[値]],0),MATCH($AX$4,阻害要因×在院期間区分＿寛解・院内寛解[#Headers],0)),0)+IFERROR(INDEX(阻害要因×在院期間区分＿寛解・院内寛解[#All],MATCH($AI61,阻害要因×在院期間区分＿寛解・院内寛解[[#All],[値]],0),MATCH($AY$4,阻害要因×在院期間区分＿寛解・院内寛解[#Headers],0)),0)","v":2},2.564102564102564E-2,24,"合計 / 日常生活を支える制度がない",2,3,3,2,1,1,1,2,1,1,1,2,2,0,1,1,null,null,null,null,null,null,"合計 / 生活費の確保ができない"]
[null,"救急診療体制がない",{"$f":"IFERROR(INDEX(阻害要因×在院期間区分＿寛解・院内寛解[#All],MATCH($AI62,阻害要因×在院期間区分＿寛解・院内寛解[[#All],[値]],0),MATCH($AJ$4,阻害要因×在院期間区分＿寛解・院内寛解[#Headers],0)),0)+IFERROR(INDEX(阻害要因×在院期間区分＿寛解・院内寛解[#All],MATCH($AI62,阻害要因×在院期間区分＿寛解・院内寛解[[#All],[値]],0),MATCH($AK$4,阻害要因×在院期間区分＿寛解・院内寛解[#Headers],0)),0)+IFERROR(INDEX(阻害要因×在院期間区分＿寛解・院内寛解[#All],MATCH($AI62,阻害要因×在院期間区分＿寛解・院内寛解[[#All],[値]],0),MATCH($AL$4,阻害要因×在院期間区分＿寛解・院内寛解[#Headers],0)),0)+IFERROR(INDEX(阻害要因×在院期間区分＿寛解・院内寛解[#All],MATCH($AI62,阻害要因×在院期間区分＿寛解・院内寛解[[#All],[値]],0),MATCH($AM$4,阻害要因×在院期間区分＿寛解・院内寛解[#Headers],0)),0)","v":0},0,{"$f":"IFERROR(INDEX(阻害要因×在院期間区分＿寛解・院内寛解[#All],MATCH($AI62,阻害要因×在院期間区分＿寛解・院内寛解[[#All],[値]],0),MATCH($AN$4,阻害要因×在院期間区分＿寛解・院内寛解[#Headers],0)),0)+IFERROR(INDEX(阻害要因×在院期間区分＿寛解・院内寛解[#All],MATCH($AI62,阻害要因×在院期間区分＿寛解・院内寛解[[#All],[値]],0),MATCH($AO$4,阻害要因×在院期間区分＿寛解・院内寛解[#Headers],0)),0)+IFERROR(INDEX(阻害要因×在院期間区分＿寛解・院内寛解[#All],MATCH($AI62,阻害要因×在院期間区分＿寛解・院内寛解[[#All],[値]],0),MATCH($AP$4,阻害要因×在院期間区分＿寛解・院内寛解[#Headers],0)),0)+IFERROR(INDEX(阻害要因×在院期間区分＿寛解・院内寛解[#All],MATCH($AI62,阻害要因×在院期間区分＿寛解・院内寛解[[#All],[値]],0),MATCH($AQ$4,阻害要因×在院期間区分＿寛解・院内寛解[#Headers],0)),0)+IFERROR(INDEX(阻害要因×在院期間区分＿寛解・院内寛解[#All],MATCH($AI62,阻害要因×在院期間区分＿寛解・院内寛解[[#All],[値]],0),MATCH($AR$4,阻害要因×在院期間区分＿寛解・院内寛解[#Headers],0)),0)","v":1},5.263157894736842E-3,{"$f":"IFERROR(INDEX(阻害要因×在院期間区分＿寛解・院内寛解[#All],MATCH($AI62,阻害要因×在院期間区分＿寛解・院内寛解[[#All],[値]],0),MATCH($AS$4,阻害要因×在院期間区分＿寛解・院内寛解[#Headers],0)),0)+IFERROR(INDEX(阻害要因×在院期間区分＿寛解・院内寛解[#All],MATCH($AI62,阻害要因×在院期間区分＿寛解・院内寛解[[#All],[値]],0),MATCH($AT$4,阻害要因×在院期間区分＿寛解・院内寛解[#Headers],0)),0)+IFERROR(INDEX(阻害要因×在院期間区分＿寛解・院内寛解[#All],MATCH($AI62,阻害要因×在院期間区分＿寛解・院内寛解[[#All],[値]],0),MATCH($AU$4,阻害要因×在院期間区分＿寛解・院内寛解[#Headers],0)),0)+IFERROR(INDEX(阻害要因×在院期間区分＿寛解・院内寛解[#All],MATCH($AI62,阻害要因×在院期間区分＿寛解・院内寛解[[#All],[値]],0),MATCH($AV$4,阻害要因×在院期間区分＿寛解・院内寛解[#Headers],0)),0)+IFERROR(INDEX(阻害要因×在院期間区分＿寛解・院内寛解[#All],MATCH($AI62,阻害要因×在院期間区分＿寛解・院内寛解[[#All],[値]],0),MATCH($AW$4,阻害要因×在院期間区分＿寛解・院内寛解[#Headers],0)),0)","v":0},0,{"$f":"IFERROR(INDEX(阻害要因×在院期間区分＿寛解・院内寛解[#All],MATCH($AI62,阻害要因×在院期間区分＿寛解・院内寛解[[#All],[値]],0),MATCH($AX$4,阻害要因×在院期間区分＿寛解・院内寛解[#Headers],0)),0)+IFERROR(INDEX(阻害要因×在院期間区分＿寛解・院内寛解[#All],MATCH($AI62,阻害要因×在院期間区分＿寛解・院内寛解[[#All],[値]],0),MATCH($AY$4,阻害要因×在院期間区分＿寛解・院内寛解[#Headers],0)),0)","v":0},0,1,"合計 / 救急診療体制がない",0,0,0,0,0,0,1,0,0,0,0,0,0,0,0,0,null,null,null,null,null,null,"合計 / 日常生活を支える制度がない"]
[null,"退院に向けてサポートする人的資源が乏しい",{"$f":"IFERROR(INDEX(阻害要因×在院期間区分＿寛解・院内寛解[#All],MATCH($AI63,阻害要因×在院期間区分＿寛解・院内寛解[[#All],[値]],0),MATCH($AJ$4,阻害要因×在院期間区分＿寛解・院内寛解[#Headers],0)),0)+IFERROR(INDEX(阻害要因×在院期間区分＿寛解・院内寛解[#All],MATCH($AI63,阻害要因×在院期間区分＿寛解・院内寛解[[#All],[値]],0),MATCH($AK$4,阻害要因×在院期間区分＿寛解・院内寛解[#Headers],0)),0)+IFERROR(INDEX(阻害要因×在院期間区分＿寛解・院内寛解[#All],MATCH($AI63,阻害要因×在院期間区分＿寛解・院内寛解[[#All],[値]],0),MATCH($AL$4,阻害要因×在院期間区分＿寛解・院内寛解[#Headers],0)),0)+IFERROR(INDEX(阻害要因×在院期間区分＿寛解・院内寛解[#All],MATCH($AI63,阻害要因×在院期間区分＿寛解・院内寛解[[#All],[値]],0),MATCH($AM$4,阻害要因×在院期間区分＿寛解・院内寛解[#Headers],0)),0)","v":17},7.4889867841409691E-2,{"$f":"IFERROR(INDEX(阻害要因×在院期間区分＿寛解・院内寛解[#All],MATCH($AI63,阻害要因×在院期間区分＿寛解・院内寛解[[#All],[値]],0),MATCH($AN$4,阻害要因×在院期間区分＿寛解・院内寛解[#Headers],0)),0)+IFERROR(INDEX(阻害要因×在院期間区分＿寛解・院内寛解[#All],MATCH($AI63,阻害要因×在院期間区分＿寛解・院内寛解[[#All],[値]],0),MATCH($AO$4,阻害要因×在院期間区分＿寛解・院内寛解[#Headers],0)),0)+IFERROR(INDEX(阻害要因×在院期間区分＿寛解・院内寛解[#All],MATCH($AI63,阻害要因×在院期間区分＿寛解・院内寛解[[#All],[値]],0),MATCH($AP$4,阻害要因×在院期間区分＿寛解・院内寛解[#Headers],0)),0)+IFERROR(INDEX(阻害要因×在院期間区分＿寛解・院内寛解[#All],MATCH($AI63,阻害要因×在院期間区分＿寛解・院内寛解[[#All],[値]],0),MATCH($AQ$4,阻害要因×在院期間区分＿寛解・院内寛解[#Headers],0)),0)+IFERROR(INDEX(阻害要因×在院期間区分＿寛解・院内寛解[#All],MATCH($AI63,阻害要因×在院期間区分＿寛解・院内寛解[[#All],[値]],0),MATCH($AR$4,阻害要因×在院期間区分＿寛解・院内寛解[#Headers],0)),0)","v":16},8.4210526315789472E-2,{"$f":"IFERROR(INDEX(阻害要因×在院期間区分＿寛解・院内寛解[#All],MATCH($AI63,阻害要因×在院期間区分＿寛解・院内寛解[[#All],[値]],0),MATCH($AS$4,阻害要因×在院期間区分＿寛解・院内寛解[#Headers],0)),0)+IFERROR(INDEX(阻害要因×在院期間区分＿寛解・院内寛解[#All],MATCH($AI63,阻害要因×在院期間区分＿寛解・院内寛解[[#All],[値]],0),MATCH($AT$4,阻害要因×在院期間区分＿寛解・院内寛解[#Headers],0)),0)+IFERROR(INDEX(阻害要因×在院期間区分＿寛解・院内寛解[#All],MATCH($AI63,阻害要因×在院期間区分＿寛解・院内寛解[[#All],[値]],0),MATCH($AU$4,阻害要因×在院期間区分＿寛解・院内寛解[#Headers],0)),0)+IFERROR(INDEX(阻害要因×在院期間区分＿寛解・院内寛解[#All],MATCH($AI63,阻害要因×在院期間区分＿寛解・院内寛解[[#All],[値]],0),MATCH($AV$4,阻害要因×在院期間区分＿寛解・院内寛解[#Headers],0)),0)+IFERROR(INDEX(阻害要因×在院期間区分＿寛解・院内寛解[#All],MATCH($AI63,阻害要因×在院期間区分＿寛解・院内寛解[[#All],[値]],0),MATCH($AW$4,阻害要因×在院期間区分＿寛解・院内寛解[#Headers],0)),0)","v":6},9.2307692307692313E-2,{"$f":"IFERROR(INDEX(阻害要因×在院期間区分＿寛解・院内寛解[#All],MATCH($AI63,阻害要因×在院期間区分＿寛解・院内寛解[[#All],[値]],0),MATCH($AX$4,阻害要因×在院期間区分＿寛解・院内寛解[#Headers],0)),0)+IFERROR(INDEX(阻害要因×在院期間区分＿寛解・院内寛解[#All],MATCH($AI63,阻害要因×在院期間区分＿寛解・院内寛解[[#All],[値]],0),MATCH($AY$4,阻害要因×在院期間区分＿寛解・院内寛解[#Headers],0)),0)","v":7},8.9743589743589744E-2,46,"合計 / 退院に向けてサポートする人的資源が乏しい",5,7,1,4,2,4,4,3,3,1,1,3,0,1,6,1,null,null,null,null,null,null,"合計 / 救急診療体制がない"]
[null,"退院後サポート・マネジメントする人的資源が乏しい",{"$f":"IFERROR(INDEX(阻害要因×在院期間区分＿寛解・院内寛解[#All],MATCH($AI64,阻害要因×在院期間区分＿寛解・院内寛解[[#All],[値]],0),MATCH($AJ$4,阻害要因×在院期間区分＿寛解・院内寛解[#Headers],0)),0)+IFERROR(INDEX(阻害要因×在院期間区分＿寛解・院内寛解[#All],MATCH($AI64,阻害要因×在院期間区分＿寛解・院内寛解[[#All],[値]],0),MATCH($AK$4,阻害要因×在院期間区分＿寛解・院内寛解[#Headers],0)),0)+IFERROR(INDEX(阻害要因×在院期間区分＿寛解・院内寛解[#All],MATCH($AI64,阻害要因×在院期間区分＿寛解・院内寛解[[#All],[値]],0),MATCH($AL$4,阻害要因×在院期間区分＿寛解・院内寛解[#Headers],0)),0)+IFERROR(INDEX(阻害要因×在院期間区分＿寛解・院内寛解[#All],MATCH($AI64,阻害要因×在院期間区分＿寛解・院内寛解[[#All],[値]],0),MATCH($AM$4,阻害要因×在院期間区分＿寛解・院内寛解[#Headers],0)),0)","v":17},7.4889867841409691E-2,{"$f":"IFERROR(INDEX(阻害要因×在院期間区分＿寛解・院内寛解[#All],MATCH($AI64,阻害要因×在院期間区分＿寛解・院内寛解[[#All],[値]],0),MATCH($AN$4,阻害要因×在院期間区分＿寛解・院内寛解[#Headers],0)),0)+IFERROR(INDEX(阻害要因×在院期間区分＿寛解・院内寛解[#All],MATCH($AI64,阻害要因×在院期間区分＿寛解・院内寛解[[#All],[値]],0),MATCH($AO$4,阻害要因×在院期間区分＿寛解・院内寛解[#Headers],0)),0)+IFERROR(INDEX(阻害要因×在院期間区分＿寛解・院内寛解[#All],MATCH($AI64,阻害要因×在院期間区分＿寛解・院内寛解[[#All],[値]],0),MATCH($AP$4,阻害要因×在院期間区分＿寛解・院内寛解[#Headers],0)),0)+IFERROR(INDEX(阻害要因×在院期間区分＿寛解・院内寛解[#All],MATCH($AI64,阻害要因×在院期間区分＿寛解・院内寛解[[#All],[値]],0),MATCH($AQ$4,阻害要因×在院期間区分＿寛解・院内寛解[#Headers],0)),0)+IFERROR(INDEX(阻害要因×在院期間区分＿寛解・院内寛解[#All],MATCH($AI64,阻害要因×在院期間区分＿寛解・院内寛解[[#All],[値]],0),MATCH($AR$4,阻害要因×在院期間区分＿寛解・院内寛解[#Headers],0)),0)","v":10},5.2631578947368418E-2,{"$f":"IFERROR(INDEX(阻害要因×在院期間区分＿寛解・院内寛解[#All],MATCH($AI64,阻害要因×在院期間区分＿寛解・院内寛解[[#All],[値]],0),MATCH($AS$4,阻害要因×在院期間区分＿寛解・院内寛解[#Headers],0)),0)+IFERROR(INDEX(阻害要因×在院期間区分＿寛解・院内寛解[#All],MATCH($AI64,阻害要因×在院期間区分＿寛解・院内寛解[[#All],[値]],0),MATCH($AT$4,阻害要因×在院期間区分＿寛解・院内寛解[#Headers],0)),0)+IFERROR(INDEX(阻害要因×在院期間区分＿寛解・院内寛解[#All],MATCH($AI64,阻害要因×在院期間区分＿寛解・院内寛解[[#All],[値]],0),MATCH($AU$4,阻害要因×在院期間区分＿寛解・院内寛解[#Headers],0)),0)+IFERROR(INDEX(阻害要因×在院期間区分＿寛解・院内寛解[#All],MATCH($AI64,阻害要因×在院期間区分＿寛解・院内寛解[[#All],[値]],0),MATCH($AV$4,阻害要因×在院期間区分＿寛解・院内寛解[#Headers],0)),0)+IFERROR(INDEX(阻害要因×在院期間区分＿寛解・院内寛解[#All],MATCH($AI64,阻害要因×在院期間区分＿寛解・院内寛解[[#All],[値]],0),MATCH($AW$4,阻害要因×在院期間区分＿寛解・院内寛解[#Headers],0)),0)","v":4},6.1538461538461542E-2,{"$f":"IFERROR(INDEX(阻害要因×在院期間区分＿寛解・院内寛解[#All],MATCH($AI64,阻害要因×在院期間区分＿寛解・院内寛解[[#All],[値]],0),MATCH($AX$4,阻害要因×在院期間区分＿寛解・院内寛解[#Headers],0)),0)+IFERROR(INDEX(阻害要因×在院期間区分＿寛解・院内寛解[#All],MATCH($AI64,阻害要因×在院期間区分＿寛解・院内寛解[[#All],[値]],0),MATCH($AY$4,阻害要因×在院期間区分＿寛解・院内寛解[#Headers],0)),0)","v":5},6.4102564102564097E-2,36,"合計 / 退院後サポート・マネジメントする人的資源が乏しい",1,7,3,6,3,2,2,1,2,2,0,0,1,1,3,2,null,null,null,null,null,null,"合計 / 退院に向けてサポートする人的資源が乏しい"]
[null,"住所地と入院先の距離があり支援体制がとりにくい",{"$f":"IFERROR(INDEX(阻害要因×在院期間区分＿寛解・院内寛解[#All],MATCH($AI65,阻害要因×在院期間区分＿寛解・院内寛解[[#All],[値]],0),MATCH($AJ$4,阻害要因×在院期間区分＿寛解・院内寛解[#Headers],0)),0)+IFERROR(INDEX(阻害要因×在院期間区分＿寛解・院内寛解[#All],MATCH($AI65,阻害要因×在院期間区分＿寛解・院内寛解[[#All],[値]],0),MATCH($AK$4,阻害要因×在院期間区分＿寛解・院内寛解[#Headers],0)),0)+IFERROR(INDEX(阻害要因×在院期間区分＿寛解・院内寛解[#All],MATCH($AI65,阻害要因×在院期間区分＿寛解・院内寛解[[#All],[値]],0),MATCH($AL$4,阻害要因×在院期間区分＿寛解・院内寛解[#Headers],0)),0)+IFERROR(INDEX(阻害要因×在院期間区分＿寛解・院内寛解[#All],MATCH($AI65,阻害要因×在院期間区分＿寛解・院内寛解[[#All],[値]],0),MATCH($AM$4,阻害要因×在院期間区分＿寛解・院内寛解[#Headers],0)),0)","v":5},2.2026431718061675E-2,{"$f":"IFERROR(INDEX(阻害要因×在院期間区分＿寛解・院内寛解[#All],MATCH($AI65,阻害要因×在院期間区分＿寛解・院内寛解[[#All],[値]],0),MATCH($AN$4,阻害要因×在院期間区分＿寛解・院内寛解[#Headers],0)),0)+IFERROR(INDEX(阻害要因×在院期間区分＿寛解・院内寛解[#All],MATCH($AI65,阻害要因×在院期間区分＿寛解・院内寛解[[#All],[値]],0),MATCH($AO$4,阻害要因×在院期間区分＿寛解・院内寛解[#Headers],0)),0)+IFERROR(INDEX(阻害要因×在院期間区分＿寛解・院内寛解[#All],MATCH($AI65,阻害要因×在院期間区分＿寛解・院内寛解[[#All],[値]],0),MATCH($AP$4,阻害要因×在院期間区分＿寛解・院内寛解[#Headers],0)),0)+IFERROR(INDEX(阻害要因×在院期間区分＿寛解・院内寛解[#All],MATCH($AI65,阻害要因×在院期間区分＿寛解・院内寛解[[#All],[値]],0),MATCH($AQ$4,阻害要因×在院期間区分＿寛解・院内寛解[#Headers],0)),0)+IFERROR(INDEX(阻害要因×在院期間区分＿寛解・院内寛解[#All],MATCH($AI65,阻害要因×在院期間区分＿寛解・院内寛解[[#All],[値]],0),MATCH($AR$4,阻害要因×在院期間区分＿寛解・院内寛解[#Headers],0)),0)","v":5},2.6315789473684209E-2,{"$f":"IFERROR(INDEX(阻害要因×在院期間区分＿寛解・院内寛解[#All],MATCH($AI65,阻害要因×在院期間区分＿寛解・院内寛解[[#All],[値]],0),MATCH($AS$4,阻害要因×在院期間区分＿寛解・院内寛解[#Headers],0)),0)+IFERROR(INDEX(阻害要因×在院期間区分＿寛解・院内寛解[#All],MATCH($AI65,阻害要因×在院期間区分＿寛解・院内寛解[[#All],[値]],0),MATCH($AT$4,阻害要因×在院期間区分＿寛解・院内寛解[#Headers],0)),0)+IFERROR(INDEX(阻害要因×在院期間区分＿寛解・院内寛解[#All],MATCH($AI65,阻害要因×在院期間区分＿寛解・院内寛解[[#All],[値]],0),MATCH($AU$4,阻害要因×在院期間区分＿寛解・院内寛解[#Headers],0)),0)+IFERROR(INDEX(阻害要因×在院期間区分＿寛解・院内寛解[#All],MATCH($AI65,阻害要因×在院期間区分＿寛解・院内寛解[[#All],[値]],0),MATCH($AV$4,阻害要因×在院期間区分＿寛解・院内寛解[#Headers],0)),0)+IFERROR(INDEX(阻害要因×在院期間区分＿寛解・院内寛解[#All],MATCH($AI65,阻害要因×在院期間区分＿寛解・院内寛解[[#All],[値]],0),MATCH($AW$4,阻害要因×在院期間区分＿寛解・院内寛解[#Headers],0)),0)","v":1},1.5384615384615385E-2,{"$f":"IFERROR(INDEX(阻害要因×在院期間区分＿寛解・院内寛解[#All],MATCH($AI65,阻害要因×在院期間区分＿寛解・院内寛解[[#All],[値]],0),MATCH($AX$4,阻害要因×在院期間区分＿寛解・院内寛解[#Headers],0)),0)+IFERROR(INDEX(阻害要因×在院期間区分＿寛解・院内寛解[#All],MATCH($AI65,阻害要因×在院期間区分＿寛解・院内寛解[[#All],[値]],0),MATCH($AY$4,阻害要因×在院期間区分＿寛解・院内寛解[#Headers],0)),0)","v":0},0,11,"合計 / 住所地と入院先の距離があり支援体制をとりにくい",0,1,0,4,1,0,1,1,2,0,0,1,0,0,0,0,null,null,null,null,null,null,"合計 / 退院後サポート・マネジメントする人的資源が乏しい"]
[null,"身体的機能や状態を原因としたADLの低下がある",{"$f":"IFERROR(INDEX(阻害要因×在院期間区分＿寛解・院内寛解[#All],MATCH($AI66,阻害要因×在院期間区分＿寛解・院内寛解[[#All],[値]],0),MATCH($AJ$4,阻害要因×在院期間区分＿寛解・院内寛解[#Headers],0)),0)+IFERROR(INDEX(阻害要因×在院期間区分＿寛解・院内寛解[#All],MATCH($AI66,阻害要因×在院期間区分＿寛解・院内寛解[[#All],[値]],0),MATCH($AK$4,阻害要因×在院期間区分＿寛解・院内寛解[#Headers],0)),0)+IFERROR(INDEX(阻害要因×在院期間区分＿寛解・院内寛解[#All],MATCH($AI66,阻害要因×在院期間区分＿寛解・院内寛解[[#All],[値]],0),MATCH($AL$4,阻害要因×在院期間区分＿寛解・院内寛解[#Headers],0)),0)+IFERROR(INDEX(阻害要因×在院期間区分＿寛解・院内寛解[#All],MATCH($AI66,阻害要因×在院期間区分＿寛解・院内寛解[[#All],[値]],0),MATCH($AM$4,阻害要因×在院期間区分＿寛解・院内寛解[#Headers],0)),0)","v":22},{"$f":"IFERROR(C65/C$44,\"-\")","v":9.6916299559471369E-2},{"$f":"IFERROR(INDEX(阻害要因×在院期間区分＿寛解・院内寛解[#All],MATCH($AI66,阻害要因×在院期間区分＿寛解・院内寛解[[#All],[値]],0),MATCH($AN$4,阻害要因×在院期間区分＿寛解・院内寛解[#Headers],0)),0)+IFERROR(INDEX(阻害要因×在院期間区分＿寛解・院内寛解[#All],MATCH($AI66,阻害要因×在院期間区分＿寛解・院内寛解[[#All],[値]],0),MATCH($AO$4,阻害要因×在院期間区分＿寛解・院内寛解[#Headers],0)),0)+IFERROR(INDEX(阻害要因×在院期間区分＿寛解・院内寛解[#All],MATCH($AI66,阻害要因×在院期間区分＿寛解・院内寛解[[#All],[値]],0),MATCH($AP$4,阻害要因×在院期間区分＿寛解・院内寛解[#Headers],0)),0)+IFERROR(INDEX(阻害要因×在院期間区分＿寛解・院内寛解[#All],MATCH($AI66,阻害要因×在院期間区分＿寛解・院内寛解[[#All],[値]],0),MATCH($AQ$4,阻害要因×在院期間区分＿寛解・院内寛解[#Headers],0)),0)+IFERROR(INDEX(阻害要因×在院期間区分＿寛解・院内寛解[#All],MATCH($AI66,阻害要因×在院期間区分＿寛解・院内寛解[[#All],[値]],0),MATCH($AR$4,阻害要因×在院期間区分＿寛解・院内寛解[#Headers],0)),0)","v":19},{"$f":"IFERROR(E65/E$44,\"-\")","v":0.1},{"$f":"IFERROR(INDEX(阻害要因×在院期間区分＿寛解・院内寛解[#All],MATCH($AI66,阻害要因×在院期間区分＿寛解・院内寛解[[#All],[値]],0),MATCH($AS$4,阻害要因×在院期間区分＿寛解・院内寛解[#Headers],0)),0)+IFERROR(INDEX(阻害要因×在院期間区分＿寛解・院内寛解[#All],MATCH($AI66,阻害要因×在院期間区分＿寛解・院内寛解[[#All],[値]],0),MATCH($AT$4,阻害要因×在院期間区分＿寛解・院内寛解[#Headers],0)),0)+IFERROR(INDEX(阻害要因×在院期間区分＿寛解・院内寛解[#All],MATCH($AI66,阻害要因×在院期間区分＿寛解・院内寛解[[#All],[値]],0),MATCH($AU$4,阻害要因×在院期間区分＿寛解・院内寛解[#Headers],0)),0)+IFERROR(INDEX(阻害要因×在院期間区分＿寛解・院内寛解[#All],MATCH($AI66,阻害要因×在院期間区分＿寛解・院内寛解[[#All],[値]],0),MATCH($AV$4,阻害要因×在院期間区分＿寛解・院内寛解[#Headers],0)),0)+IFERROR(INDEX(阻害要因×在院期間区分＿寛解・院内寛解[#All],MATCH($AI66,阻害要因×在院期間区分＿寛解・院内寛解[[#All],[値]],0),MATCH($AW$4,阻害要因×在院期間区分＿寛解・院内寛解[#Headers],0)),0)","v":7},{"$f":"IFERROR(G65/G$44,\"-\")","v":0.1076923076923077},{"$f":"IFERROR(INDEX(阻害要因×在院期間区分＿寛解・院内寛解[#All],MATCH($AI66,阻害要因×在院期間区分＿寛解・院内寛解[[#All],[値]],0),MATCH($AX$4,阻害要因×在院期間区分＿寛解・院内寛解[#Headers],0)),0)+IFERROR(INDEX(阻害要因×在院期間区分＿寛解・院内寛解[#All],MATCH($AI66,阻害要因×在院期間区分＿寛解・院内寛解[[#All],[値]],0),MATCH($AY$4,阻害要因×在院期間区分＿寛解・院内寛解[#Headers],0)),0)","v":5},{"$f":"IFERROR(I65/I$44,\"-\")","v":6.4102564102564097E-2},53,"合計 / 身体的機能や状態を原因としたADLの低下がある",4,8,6,4,7,4,3,2,3,1,3,2,1,0,3,2,null,null,null,null,null,null,"合計 / 住所地と入院先の距離があり支援体制をとりにくい"]
[null,"身体合併症の程度が重いなど身体面のフォローが必要であり、地域での生活が困難",{"$f":"IFERROR(INDEX(阻害要因×在院期間区分＿寛解・院内寛解[#All],MATCH($AI67,阻害要因×在院期間区分＿寛解・院内寛解[[#All],[値]],0),MATCH($AJ$4,阻害要因×在院期間区分＿寛解・院内寛解[#Headers],0)),0)+IFERROR(INDEX(阻害要因×在院期間区分＿寛解・院内寛解[#All],MATCH($AI67,阻害要因×在院期間区分＿寛解・院内寛解[[#All],[値]],0),MATCH($AK$4,阻害要因×在院期間区分＿寛解・院内寛解[#Headers],0)),0)+IFERROR(INDEX(阻害要因×在院期間区分＿寛解・院内寛解[#All],MATCH($AI67,阻害要因×在院期間区分＿寛解・院内寛解[[#All],[値]],0),MATCH($AL$4,阻害要因×在院期間区分＿寛解・院内寛解[#Headers],0)),0)+IFERROR(INDEX(阻害要因×在院期間区分＿寛解・院内寛解[#All],MATCH($AI67,阻害要因×在院期間区分＿寛解・院内寛解[[#All],[値]],0),MATCH($AM$4,阻害要因×在院期間区分＿寛解・院内寛解[#Headers],0)),0)","v":10},4.405286343612335E-2,{"$f":"IFERROR(INDEX(阻害要因×在院期間区分＿寛解・院内寛解[#All],MATCH($AI67,阻害要因×在院期間区分＿寛解・院内寛解[[#All],[値]],0),MATCH($AN$4,阻害要因×在院期間区分＿寛解・院内寛解[#Headers],0)),0)+IFERROR(INDEX(阻害要因×在院期間区分＿寛解・院内寛解[#All],MATCH($AI67,阻害要因×在院期間区分＿寛解・院内寛解[[#All],[値]],0),MATCH($AO$4,阻害要因×在院期間区分＿寛解・院内寛解[#Headers],0)),0)+IFERROR(INDEX(阻害要因×在院期間区分＿寛解・院内寛解[#All],MATCH($AI67,阻害要因×在院期間区分＿寛解・院内寛解[[#All],[値]],0),MATCH($AP$4,阻害要因×在院期間区分＿寛解・院内寛解[#Headers],0)),0)+IFERROR(INDEX(阻害要因×在院期間区分＿寛解・院内寛解[#All],MATCH($AI67,阻害要因×在院期間区分＿寛解・院内寛解[[#All],[値]],0),MATCH($AQ$4,阻害要因×在院期間区分＿寛解・院内寛解[#Headers],0)),0)+IFERROR(INDEX(阻害要因×在院期間区分＿寛解・院内寛解[#All],MATCH($AI67,阻害要因×在院期間区分＿寛解・院内寛解[[#All],[値]],0),MATCH($AR$4,阻害要因×在院期間区分＿寛解・院内寛解[#Headers],0)),0)","v":5},2.6315789473684209E-2,{"$f":"IFERROR(INDEX(阻害要因×在院期間区分＿寛解・院内寛解[#All],MATCH($AI67,阻害要因×在院期間区分＿寛解・院内寛解[[#All],[値]],0),MATCH($AS$4,阻害要因×在院期間区分＿寛解・院内寛解[#Headers],0)),0)+IFERROR(INDEX(阻害要因×在院期間区分＿寛解・院内寛解[#All],MATCH($AI67,阻害要因×在院期間区分＿寛解・院内寛解[[#All],[値]],0),MATCH($AT$4,阻害要因×在院期間区分＿寛解・院内寛解[#Headers],0)),0)+IFERROR(INDEX(阻害要因×在院期間区分＿寛解・院内寛解[#All],MATCH($AI67,阻害要因×在院期間区分＿寛解・院内寛解[[#All],[値]],0),MATCH($AU$4,阻害要因×在院期間区分＿寛解・院内寛解[#Headers],0)),0)+IFERROR(INDEX(阻害要因×在院期間区分＿寛解・院内寛解[#All],MATCH($AI67,阻害要因×在院期間区分＿寛解・院内寛解[[#All],[値]],0),MATCH($AV$4,阻害要因×在院期間区分＿寛解・院内寛解[#Headers],0)),0)+IFERROR(INDEX(阻害要因×在院期間区分＿寛解・院内寛解[#All],MATCH($AI67,阻害要因×在院期間区分＿寛解・院内寛解[[#All],[値]],0),MATCH($AW$4,阻害要因×在院期間区分＿寛解・院内寛解[#Headers],0)),0)","v":0},0,{"$f":"IFERROR(INDEX(阻害要因×在院期間区分＿寛解・院内寛解[#All],MATCH($AI67,阻害要因×在院期間区分＿寛解・院内寛解[[#All],[値]],0),MATCH($AX$4,阻害要因×在院期間区分＿寛解・院内寛解[#Headers],0)),0)+IFERROR(INDEX(阻害要因×在院期間区分＿寛解・院内寛解[#All],MATCH($AI67,阻害要因×在院期間区分＿寛解・院内寛解[[#All],[値]],0),MATCH($AY$4,阻害要因×在院期間区分＿寛解・院内寛解[#Headers],0)),0)","v":2},2.564102564102564E-2,17,"合計 / 身体合併症の程度が重いなど身体面のフォローが必要であり、地域での生活が困難",3,2,2,3,1,3,1,0,0,0,0,0,0,0,1,1,null,null,null,null,null,null,"合計 / 身体的機能や状態を原因としたADLの低下がある"]
[null,"その他の退院阻害要因がある",{"$f":"IFERROR(INDEX(阻害要因×在院期間区分＿寛解・院内寛解[#All],MATCH($AI68,阻害要因×在院期間区分＿寛解・院内寛解[[#All],[値]],0),MATCH($AJ$4,阻害要因×在院期間区分＿寛解・院内寛解[#Headers],0)),0)+IFERROR(INDEX(阻害要因×在院期間区分＿寛解・院内寛解[#All],MATCH($AI68,阻害要因×在院期間区分＿寛解・院内寛解[[#All],[値]],0),MATCH($AK$4,阻害要因×在院期間区分＿寛解・院内寛解[#Headers],0)),0)+IFERROR(INDEX(阻害要因×在院期間区分＿寛解・院内寛解[#All],MATCH($AI68,阻害要因×在院期間区分＿寛解・院内寛解[[#All],[値]],0),MATCH($AL$4,阻害要因×在院期間区分＿寛解・院内寛解[#Headers],0)),0)+IFERROR(INDEX(阻害要因×在院期間区分＿寛解・院内寛解[#All],MATCH($AI68,阻害要因×在院期間区分＿寛解・院内寛解[[#All],[値]],0),MATCH($AM$4,阻害要因×在院期間区分＿寛解・院内寛解[#Headers],0)),0)","v":14},6.1674008810572688E-2,{"$f":"IFERROR(INDEX(阻害要因×在院期間区分＿寛解・院内寛解[#All],MATCH($AI68,阻害要因×在院期間区分＿寛解・院内寛解[[#All],[値]],0),MATCH($AN$4,阻害要因×在院期間区分＿寛解・院内寛解[#Headers],0)),0)+IFERROR(INDEX(阻害要因×在院期間区分＿寛解・院内寛解[#All],MATCH($AI68,阻害要因×在院期間区分＿寛解・院内寛解[[#All],[値]],0),MATCH($AO$4,阻害要因×在院期間区分＿寛解・院内寛解[#Headers],0)),0)+IFERROR(INDEX(阻害要因×在院期間区分＿寛解・院内寛解[#All],MATCH($AI68,阻害要因×在院期間区分＿寛解・院内寛解[[#All],[値]],0),MATCH($AP$4,阻害要因×在院期間区分＿寛解・院内寛解[#Headers],0)),0)+IFERROR(INDEX(阻害要因×在院期間区分＿寛解・院内寛解[#All],MATCH($AI68,阻害要因×在院期間区分＿寛解・院内寛解[[#All],[値]],0),MATCH($AQ$4,阻害要因×在院期間区分＿寛解・院内寛解[#Headers],0)),0)+IFERROR(INDEX(阻害要因×在院期間区分＿寛解・院内寛解[#All],MATCH($AI68,阻害要因×在院期間区分＿寛解・院内寛解[[#All],[値]],0),MATCH($AR$4,阻害要因×在院期間区分＿寛解・院内寛解[#Headers],0)),0)","v":2},1.0526315789473684E-2,{"$f":"IFERROR(INDEX(阻害要因×在院期間区分＿寛解・院内寛解[#All],MATCH($AI68,阻害要因×在院期間区分＿寛解・院内寛解[[#All],[値]],0),MATCH($AS$4,阻害要因×在院期間区分＿寛解・院内寛解[#Headers],0)),0)+IFERROR(INDEX(阻害要因×在院期間区分＿寛解・院内寛解[#All],MATCH($AI68,阻害要因×在院期間区分＿寛解・院内寛解[[#All],[値]],0),MATCH($AT$4,阻害要因×在院期間区分＿寛解・院内寛解[#Headers],0)),0)+IFERROR(INDEX(阻害要因×在院期間区分＿寛解・院内寛解[#All],MATCH($AI68,阻害要因×在院期間区分＿寛解・院内寛解[[#All],[値]],0),MATCH($AU$4,阻害要因×在院期間区分＿寛解・院内寛解[#Headers],0)),0)+IFERROR(INDEX(阻害要因×在院期間区分＿寛解・院内寛解[#All],MATCH($AI68,阻害要因×在院期間区分＿寛解・院内寛解[[#All],[値]],0),MATCH($AV$4,阻害要因×在院期間区分＿寛解・院内寛解[#Headers],0)),0)+IFERROR(INDEX(阻害要因×在院期間区分＿寛解・院内寛解[#All],MATCH($AI68,阻害要因×在院期間区分＿寛解・院内寛解[[#All],[値]],0),MATCH($AW$4,阻害要因×在院期間区分＿寛解・院内寛解[#Headers],0)),0)","v":1},1.5384615384615385E-2,{"$f":"IFERROR(INDEX(阻害要因×在院期間区分＿寛解・院内寛解[#All],MATCH($AI68,阻害要因×在院期間区分＿寛解・院内寛解[[#All],[値]],0),MATCH($AX$4,阻害要因×在院期間区分＿寛解・院内寛解[#Headers],0)),0)+IFERROR(INDEX(阻害要因×在院期間区分＿寛解・院内寛解[#All],MATCH($AI68,阻害要因×在院期間区分＿寛解・院内寛解[[#All],[値]],0),MATCH($AY$4,阻害要因×在院期間区分＿寛解・院内寛解[#Headers],0)),0)","v":1},1.282051282051282E-2,18,"合計 / その他の退院阻害要因がある",3,4,3,4,1,0,0,1,0,0,0,0,1,0,1,0,null,null,null,null,null,null,"合計 / 身体合併症の程度が重いなど身体面のフォローが必要であり、地域での生活が困難"]
[null,null,null,null,null,null,null,null,null,null,null,null,null,null,null,null,null,null,null,null,null,null,null,null,null,null,null,null,null,null,null,null,null,null,"合計 / その他の退院阻害要因がある"]

{"sheet":"５-Ⅰ③","index":20,"n_rows":69,"n_cols":52,"rows_kept":69,"cut":false,"hidden":false,"merged":[[12,2,12,9],[9,2,9,9],[1,1,3,1],[1,2,1,9],[3,2,3,3],[3,4,3,5],[2,2,2,5],[2,6,3,7],[2,8,3,9],[37,2,37,5],[37,6,38,7],[37,8,38,9],[13,1,13,9],[48,1,48,9],[44,2,44,9],[47,2,47,9],[36,1,38,1],[36,2,36,9],[38,2,38,3],[38,4,38,5]]}
[null,"【退院阻害要因×疾患名区分（F0,F2,F3）】"]
[null,"退院予定の有無","疾患名区分",null,null,null,null,null,null,null,null,"データ貼り付け箇所"]
[null,null,"症状性を含む器質性精神障害（F０）",null,null,null,"統合失調症、統合失調症型障害及び妄想性障害（F2）",null,"気分（感情）障害（F3）"]
[null,null,"アルツハイマー病型認知症及び血管性認知症（F00-F01）",null,"左記以外の症状性を含む器質性精神障害（F02-F09）",null,null,null,null,null,null,"行ラベル","F00アルツハイマー病型認知症","F01血管性認知症","F02-09上記以外の症状性を含む器質性精神障害","F10アルコール使用による精神及び行動の障害","アルコール覚せい剤を除く精神作用物質使用による精神及び行動の障害※","覚せい剤による精神及び行動の障害※","F2統合失調症、統合失調症型障害及び妄想性障害","F30‐31　躁病エピソード・双極性感情障害［躁うつ病］","F32-39　その他の気分障害","F4神経症性障害、ストレス関連障害及び身体表現性障害","F5生理的障害及び身体的要因に関連した行動症候群","F6成人のパーソナリティ及び行動の障害","F7精神遅滞〔知的障害〕","F8心理的発達の障害","F9小児期及び青年期に通常発症する行動及び情緒の障害及び特定不能の精神障害","その他","てんかん（F0に属さないものを計上する）","不明",null,null,null,null,null,"F00アルツハイマー病型認知症","F01血管性認知症","F02-09上記以外の症状性を含む器質性精神障害","F10アルコール使用による精神及び行動の障害","アルコール覚せい剤を除く精神作用物質使用による精神及び行動の障害※","覚せい剤による精神及び行動の障害※","F2統合失調症、統合失調症型障害及び妄想性障害","F30‐31　躁病エピソード・双極性感情障害［躁うつ病］","F32-39　その他の気分障害","F4神経症性障害、ストレス関連障害及び身体表現性障害","F5生理的障害及び身体的要因に関連した行動症候群","F6成人のパーソナリティ及び行動の障害","F7精神遅滞〔知的障害〕","F8心理的発達の障害","F9小児期及び青年期に通常発症する行動及び情緒の障害及び特定不能の精神障害","てんかん（F0に属さないものを計上する）","その他"]
[null,"病状（主症状）が落ち着き、入院によらない形で治療ができるまで回復",{"$f":"IFERROR(INDEX(退院予定有無×疾患名[#All],MATCH($AI5,退院予定有無×疾患名[[#All],[行ラベル]],0),MATCH($AJ$4,退院予定有無×疾患名[#Headers],0)),0)+IFERROR(INDEX(退院予定有無×疾患名[#All],MATCH($AI5,退院予定有無×疾患名[[#All],[行ラベル]],0),MATCH($AK$4,退院予定有無×疾患名[#Headers],0)),0)","v":350},{"$f":"IFERROR(C5/C$8,\"-\")","v":0.13866877971473851},{"$f":"IFERROR(INDEX(退院予定有無×疾患名[#All],MATCH($AI5,退院予定有無×疾患名[[#All],[行ラベル]],0),MATCH($AL$4,退院予定有無×疾患名[#Headers],0)),0)","v":270},{"$f":"IFERROR(E5/E$8,\"-\")","v":0.15725101921956902},{"$f":"IFERROR(INDEX(退院予定有無×疾患名[#All],MATCH($AI5,退院予定有無×疾患名[[#All],[行ラベル]],0),MATCH($AP$4,退院予定有無×疾患名[#Headers],0)),0)","v":1061},{"$f":"IFERROR(G5/G$8,\"-\")","v":0.15283779890521462},{"$f":"IFERROR(INDEX(退院予定有無×疾患名[#All],MATCH($AI5,退院予定有無×疾患名[[#All],[行ラベル]],0),MATCH($AQ$4,退院予定有無×疾患名[#Headers],0)),0)+IFERROR(INDEX(退院予定有無×疾患名[#All],MATCH($AI5,退院予定有無×疾患名[[#All],[行ラベル]],0),MATCH($AR$4,退院予定有無×疾患名[#Headers],0)),0)","v":237},{"$f":"IFERROR(I5/I$8,\"-\")","v":0.15602369980250164},{"$f":"C5+E5+G5+I5","v":1918},98,1684,268,1266,401,37,71,5367,512,488,147,39,22,228,111,39,100,0,1,null,null,null,null,97]
[null,"病状（主症状）が不安定で入院による治療が必要",{"$f":"IFERROR(INDEX(退院予定有無×疾患名[#All],MATCH($AI6,退院予定有無×疾患名[[#All],[行ラベル]],0),MATCH($AJ$4,退院予定有無×疾患名[#Headers],0)),0)+IFERROR(INDEX(退院予定有無×疾患名[#All],MATCH($AI6,退院予定有無×疾患名[[#All],[行ラベル]],0),MATCH($AK$4,退院予定有無×疾患名[#Headers],0)),0)","v":1952},{"$f":"IFERROR(C6/C$8,\"-\")","v":0.77337559429477021},{"$f":"IFERROR(INDEX(退院予定有無×疾患名[#All],MATCH($AI6,退院予定有無×疾患名[[#All],[行ラベル]],0),MATCH($AL$4,退院予定有無×疾患名[#Headers],0)),0)","v":1266},{"$f":"IFERROR(E6/E$8,\"-\")","v":0.73733255678509024},{"$f":"IFERROR(INDEX(退院予定有無×疾患名[#All],MATCH($AI6,退院予定有無×疾患名[[#All],[行ラベル]],0),MATCH($AP$4,退院予定有無×疾患名[#Headers],0)),0)","v":5367},{"$f":"IFERROR(G6/G$8,\"-\")","v":0.77312013828867765},{"$f":"IFERROR(INDEX(退院予定有無×疾患名[#All],MATCH($AI6,退院予定有無×疾患名[[#All],[行ラベル]],0),MATCH($AQ$4,退院予定有無×疾患名[#Headers],0)),0)+IFERROR(INDEX(退院予定有無×疾患名[#All],MATCH($AI6,退院予定有無×疾患名[[#All],[行ラベル]],0),MATCH($AR$4,退院予定有無×疾患名[#Headers],0)),0)","v":1000},{"$f":"IFERROR(I6/I$8,\"-\")","v":0.65832784726793947},{"$f":"C6+E6+G6+I6","v":9585},97,302,48,270,114,5,9,1061,105,132,36,5,9,37,22,8,22,0,0,null,null,null,null,98]
[null,"退院予定",{"$f":"IFERROR(INDEX(退院予定有無×疾患名[#All],MATCH($AI7,退院予定有無×疾患名[[#All],[行ラベル]],0),MATCH($AJ$4,退院予定有無×疾患名[#Headers],0)),0)+IFERROR(INDEX(退院予定有無×疾患名[#All],MATCH($AI7,退院予定有無×疾患名[[#All],[行ラベル]],0),MATCH($AK$4,退院予定有無×疾患名[#Headers],0)),0)","v":222},{"$f":"IFERROR(C7/C$8,\"-\")","v":8.7955625990491282E-2},{"$f":"IFERROR(INDEX(退院予定有無×疾患名[#All],MATCH($AI7,退院予定有無×疾患名[[#All],[行ラベル]],0),MATCH($AL$4,退院予定有無×疾患名[#Headers],0)),0)","v":181},{"$f":"IFERROR(E7/E$8,\"-\")","v":0.10541642399534071},{"$f":"IFERROR(INDEX(退院予定有無×疾患名[#All],MATCH($AI7,退院予定有無×疾患名[[#All],[行ラベル]],0),MATCH($AP$4,退院予定有無×疾患名[#Headers],0)),0)","v":514},{"$f":"IFERROR(G7/G$8,\"-\")","v":7.4042062806107756E-2},{"$f":"IFERROR(INDEX(退院予定有無×疾患名[#All],MATCH($AI7,退院予定有無×疾患名[[#All],[行ラベル]],0),MATCH($AQ$4,退院予定有無×疾患名[#Headers],0)),0)+IFERROR(INDEX(退院予定有無×疾患名[#All],MATCH($AI7,退院予定有無×疾患名[[#All],[行ラベル]],0),MATCH($AR$4,退院予定有無×疾患名[#Headers],0)),0)","v":282},{"$f":"IFERROR(I7/I$8,\"-\")","v":0.18564845292955892},{"$f":"C7+E7+G7+I7","v":1199},99,195,27,181,163,15,11,514,139,143,55,11,4,40,29,13,21,0,0,null,null,null,null,99]
[null,"　総計",{"$f":"SUM(C5:C7)","v":2524},1,1717,0.99999999999999989,6942,1,1519,1,{"$f":"C8+E8+G8+I8","v":12702}]
[]
[null,"退院阻害要因",null,null,null,null,null,null,null,null,null,"行ラベル","F00アルツハイマー病型認知症","F01血管性認知症","F02-09上記以外の症状性を含む器質性精神障害","F10アルコール使用による精神及び行動の障害","F2統合失調症、統合失調症型障害及び妄想性障害","F30‐31　躁病エピソード・双極性感情障害［躁うつ病］","F32-39　その他の気分障害","F4神経症性障害、ストレス関連障害及び身体表現性障害","F5生理的障害及び身体的要因に関連した行動症候群","F6成人のパーソナリティ及び行動の障害","F7精神遅滞〔知的障害〕","F8心理的発達の障害","F9小児期及び青年期に通常発症する行動及び情緒の障害及び特定不能の精神障害","アルコール覚せい剤を除く精神作用物質使用による精神及び行動の障害※","その他","てんかん（F0に属さないものを計上する）","覚せい剤による精神及び行動の障害※","不明"]
[null,"退院阻害要因がある",{"$f":"IFERROR(INDEX(阻害要因有無×疾患名[#All],MATCH($AI11,阻害要因有無×疾患名[[#All],[行ラベル]],0),MATCH($AJ$4,阻害要因有無×疾患名[#Headers],0)),0)+IFERROR(INDEX(阻害要因有無×疾患名[#All],MATCH($AI11,阻害要因有無×疾患名[[#All],[行ラベル]],0),MATCH($AK$4,阻害要因有無×疾患名[#Headers],0)),0)","v":320},{"$f":"IFERROR(C11/C$5,\"-\")","v":0.91428571428571426},{"$f":"IFERROR(INDEX(阻害要因有無×疾患名[#All],MATCH($AI11,阻害要因有無×疾患名[[#All],[行ラベル]],0),MATCH($AL$4,阻害要因有無×疾患名[#Headers],0)),0)","v":232},{"$f":"IFERROR(E11/E$5,\"-\")","v":0.85925925925925928},{"$f":"IFERROR(INDEX(阻害要因有無×疾患名[#All],MATCH($AI11,阻害要因有無×疾患名[[#All],[行ラベル]],0),MATCH($AP$4,阻害要因有無×疾患名[#Headers],0)),0)","v":982},{"$f":"IFERROR(G11/G$5,\"-\")","v":0.92554194156456171},{"$f":"IFERROR(INDEX(阻害要因有無×疾患名[#All],MATCH($AI11,阻害要因有無×疾患名[[#All],[行ラベル]],0),MATCH($AQ$4,阻害要因有無×疾患名[#Headers],0)),0)+IFERROR(INDEX(阻害要因有無×疾患名[#All],MATCH($AI11,阻害要因有無×疾患名[[#All],[行ラベル]],0),MATCH($AR$4,阻害要因有無×疾患名[#Headers],0)),0)","v":196},{"$f":"IFERROR(I11/I$5,\"-\")","v":0.8270042194092827},{"$f":"C11+E11+G11+I11","v":1730},91,274,46,232,102,982,88,108,28,3,7,29,19,3,4,20,3,8,0,null,null,null,null,91]
[null,"退院阻害要因はない",{"$f":"IFERROR(INDEX(阻害要因有無×疾患名[#All],MATCH($AI12,阻害要因有無×疾患名[[#All],[行ラベル]],0),MATCH($AJ$4,阻害要因有無×疾患名[#Headers],0)),0)+IFERROR(INDEX(阻害要因有無×疾患名[#All],MATCH($AI12,阻害要因有無×疾患名[[#All],[行ラベル]],0),MATCH($AK$4,阻害要因有無×疾患名[#Headers],0)),0)","v":30},{"$f":"IFERROR(C12/C$5,\"-\")","v":8.5714285714285715E-2},{"$f":"IFERROR(INDEX(阻害要因有無×疾患名[#All],MATCH($AI12,阻害要因有無×疾患名[[#All],[行ラベル]],0),MATCH($AL$4,阻害要因有無×疾患名[#Headers],0)),0)","v":38},{"$f":"IFERROR(E12/E$5,\"-\")","v":0.14074074074074075},{"$f":"IFERROR(INDEX(阻害要因有無×疾患名[#All],MATCH($AI12,阻害要因有無×疾患名[[#All],[行ラベル]],0),MATCH($AP$4,阻害要因有無×疾患名[#Headers],0)),0)","v":79},{"$f":"IFERROR(G12/G$5,\"-\")","v":7.4458058435438262E-2},{"$f":"IFERROR(INDEX(阻害要因有無×疾患名[#All],MATCH($AI12,阻害要因有無×疾患名[[#All],[行ラベル]],0),MATCH($AQ$4,阻害要因有無×疾患名[#Headers],0)),0)+IFERROR(INDEX(阻害要因有無×疾患名[#All],MATCH($AI12,阻害要因有無×疾患名[[#All],[行ラベル]],0),MATCH($AR$4,阻害要因有無×疾患名[#Headers],0)),0)","v":41},{"$f":"IFERROR(I12/I$5,\"-\")","v":0.1729957805907173},{"$f":"C12+E12+G12+I12","v":188},90,28,2,38,12,79,17,24,8,2,2,8,3,5,1,2,0,1,0,null,null,null,null,90]
[null,"　＜複数回答＞"]
[null,"割合には「退院阻害要因がある」それぞれの人数に対する割合を表示しています。",null,null,null,null,null,null,null,null,null,"値","(空白)","F2統合失調症、統合失調症型障害及び妄想性障害","F30‐31　躁病エピソード・双極性感情障害［躁うつ病］","F10アルコール使用による精神及び行動の障害","F32-39　その他の気分障害","F02-09上記以外の症状性を含む器質性精神障害","F00アルツハイマー病型認知症","F01血管性認知症","その他","F7精神遅滞〔知的障害〕","F4神経症性障害、ストレス関連障害及び身体表現性障害","F6成人のパーソナリティ及び行動の障害","アルコール覚せい剤を除く精神作用物質使用による精神及び行動の障害※","てんかん（F0に属さないものを計上する）","F8心理的発達の障害","F5生理的障害及び身体的要因に関連した行動症候群","F9小児期及び青年期に通常発症する行動及び情緒の障害及び特定不能の精神障害","覚せい剤による精神及び行動の障害※"]
[null,"病状は落ち着いているが、ときどき不安定な病状が見られ、そのことが退院を阻害する要因になっている",{"$f":"IFERROR(INDEX(阻害要因×疾患名[#All],MATCH($AI15,阻害要因×疾患名[[#All],[値]],0),MATCH($AJ$4,阻害要因×疾患名[#Headers],0)),0)+IFERROR(INDEX(阻害要因×疾患名[#All],MATCH($AI15,阻害要因×疾患名[[#All],[値]],0),MATCH($AK$4,阻害要因×疾患名[#Headers],0)),0)","v":96},{"$f":"IFERROR(C15/C$11,\"-\")","v":0.3},{"$f":"IFERROR(INDEX(阻害要因×疾患名[#All],MATCH($AI15,阻害要因×疾患名[[#All],[値]],0),MATCH($AL$4,阻害要因×疾患名[#Headers],0)),0)","v":66},{"$f":"IFERROR(E15/E$11,\"-\")","v":0.28448275862068967},{"$f":"IFERROR(INDEX(阻害要因×疾患名[#All],MATCH($AI15,阻害要因×疾患名[[#All],[値]],0),MATCH($AP$4,阻害要因×疾患名[#Headers],0)),0)","v":369},{"$f":"IFERROR(G15/G$11,\"-\")","v":0.37576374745417518},{"$f":"IFERROR(INDEX(阻害要因×疾患名[#All],MATCH($AI15,阻害要因×疾患名[[#All],[値]],0),MATCH($AQ$4,阻害要因×疾患名[#Headers],0)),0)+IFERROR(INDEX(阻害要因×疾患名[#All],MATCH($AI15,阻害要因×疾患名[[#All],[値]],0),MATCH($AR$4,阻害要因×疾患名[#Headers],0)),0)","v":59},{"$f":"IFERROR(I15/I$11,\"-\")","v":0.30102040816326531},{"$f":"C15+E15+G15+I15","v":590},"合計 / 病状は落ち着いているが、ときどき不安定な病状が見られ、そのことが退院を阻害する要因になっている",null,369,28,25,31,66,84,12,6,12,10,4,2,1,6,1,0,3,null,null,null,null,"合計 / 病状は落ち着いているが、ときどき不安定な病状が見られ、そのことが退院を阻害する要因になっている"]
[null,"病識がなく通院服薬の中断が予測される",{"$f":"IFERROR(INDEX(阻害要因×疾患名[#All],MATCH($AI16,阻害要因×疾患名[[#All],[値]],0),MATCH($AJ$4,阻害要因×疾患名[#Headers],0)),0)+IFERROR(INDEX(阻害要因×疾患名[#All],MATCH($AI16,阻害要因×疾患名[[#All],[値]],0),MATCH($AK$4,阻害要因×疾患名[#Headers],0)),0)","v":78},0.24374999999999999,{"$f":"IFERROR(INDEX(阻害要因×疾患名[#All],MATCH($AI16,阻害要因×疾患名[[#All],[値]],0),MATCH($AL$4,阻害要因×疾患名[#Headers],0)),0)","v":56},0.2413793103448276,{"$f":"IFERROR(INDEX(阻害要因×疾患名[#All],MATCH($AI16,阻害要因×疾患名[[#All],[値]],0),MATCH($AP$4,阻害要因×疾患名[#Headers],0)),0)","v":294},0.29938900203665986,{"$f":"IFERROR(INDEX(阻害要因×疾患名[#All],MATCH($AI16,阻害要因×疾患名[[#All],[値]],0),MATCH($AQ$4,阻害要因×疾患名[#Headers],0)),0)+IFERROR(INDEX(阻害要因×疾患名[#All],MATCH($AI16,阻害要因×疾患名[[#All],[値]],0),MATCH($AR$4,阻害要因×疾患名[#Headers],0)),0)","v":24},0.12244897959183673,{"$f":"C16+E16+G16+I16","v":452},"合計 / 病識がなく通院服薬の中断が予測される",null,294,15,32,9,56,72,6,4,5,3,2,3,0,5,0,0,3,null,null,null,null,"合計 / 病識がなく通院服薬の中断が予測される"]
[null,"反社会的行動が予測される",{"$f":"IFERROR(INDEX(阻害要因×疾患名[#All],MATCH($AI17,阻害要因×疾患名[[#All],[値]],0),MATCH($AJ$4,阻害要因×疾患名[#Headers],0)),0)+IFERROR(INDEX(阻害要因×疾患名[#All],MATCH($AI17,阻害要因×疾患名[[#All],[値]],0),MATCH($AK$4,阻害要因×疾患名[#Headers],0)),0)","v":3},9.3749999999999997E-3,{"$f":"IFERROR(INDEX(阻害要因×疾患名[#All],MATCH($AI17,阻害要因×疾患名[[#All],[値]],0),MATCH($AL$4,阻害要因×疾患名[#Headers],0)),0)","v":10},4.3103448275862072E-2,{"$f":"IFERROR(INDEX(阻害要因×疾患名[#All],MATCH($AI17,阻害要因×疾患名[[#All],[値]],0),MATCH($AP$4,阻害要因×疾患名[#Headers],0)),0)","v":41},4.1751527494908347E-2,{"$f":"IFERROR(INDEX(阻害要因×疾患名[#All],MATCH($AI17,阻害要因×疾患名[[#All],[値]],0),MATCH($AQ$4,阻害要因×疾患名[#Headers],0)),0)+IFERROR(INDEX(阻害要因×疾患名[#All],MATCH($AI17,阻害要因×疾患名[[#All],[値]],0),MATCH($AR$4,阻害要因×疾患名[#Headers],0)),0)","v":5},2.5510204081632654E-2,59,"合計 / 反社会的行動が予測される",null,41,3,7,2,10,2,1,1,7,0,2,1,0,2,0,0,3,null,null,null,null,"合計 / 反社会的行動が予測される"]
[null,"退院意欲が乏しい",{"$f":"IFERROR(INDEX(阻害要因×疾患名[#All],MATCH($AI18,阻害要因×疾患名[[#All],[値]],0),MATCH($AJ$4,阻害要因×疾患名[#Headers],0)),0)+IFERROR(INDEX(阻害要因×疾患名[#All],MATCH($AI18,阻害要因×疾患名[[#All],[値]],0),MATCH($AK$4,阻害要因×疾患名[#Headers],0)),0)","v":98},0.30625000000000002,{"$f":"IFERROR(INDEX(阻害要因×疾患名[#All],MATCH($AI18,阻害要因×疾患名[[#All],[値]],0),MATCH($AL$4,阻害要因×疾患名[#Headers],0)),0)","v":71},0.30603448275862066,{"$f":"IFERROR(INDEX(阻害要因×疾患名[#All],MATCH($AI18,阻害要因×疾患名[[#All],[値]],0),MATCH($AP$4,阻害要因×疾患名[#Headers],0)),0)","v":403},0.4103869653767821,{"$f":"IFERROR(INDEX(阻害要因×疾患名[#All],MATCH($AI18,阻害要因×疾患名[[#All],[値]],0),MATCH($AQ$4,阻害要因×疾患名[#Headers],0)),0)+IFERROR(INDEX(阻害要因×疾患名[#All],MATCH($AI18,阻害要因×疾患名[[#All],[値]],0),MATCH($AR$4,阻害要因×疾患名[#Headers],0)),0)","v":90},0.45918367346938777,662,"合計 / 退院意欲が乏しい",null,403,31,26,59,71,83,15,2,9,14,2,2,0,5,2,0,2,null,null,null,null,"合計 / 退院意欲が乏しい"]
[null,"現実認識が乏しい",{"$f":"IFERROR(INDEX(阻害要因×疾患名[#All],MATCH($AI19,阻害要因×疾患名[[#All],[値]],0),MATCH($AJ$4,阻害要因×疾患名[#Headers],0)),0)+IFERROR(INDEX(阻害要因×疾患名[#All],MATCH($AI19,阻害要因×疾患名[[#All],[値]],0),MATCH($AK$4,阻害要因×疾患名[#Headers],0)),0)","v":107},0.33437499999999998,{"$f":"IFERROR(INDEX(阻害要因×疾患名[#All],MATCH($AI19,阻害要因×疾患名[[#All],[値]],0),MATCH($AL$4,阻害要因×疾患名[#Headers],0)),0)","v":79},0.34051724137931033,{"$f":"IFERROR(INDEX(阻害要因×疾患名[#All],MATCH($AI19,阻害要因×疾患名[[#All],[値]],0),MATCH($AP$4,阻害要因×疾患名[#Headers],0)),0)","v":422},0.42973523421588594,{"$f":"IFERROR(INDEX(阻害要因×疾患名[#All],MATCH($AI19,阻害要因×疾患名[[#All],[値]],0),MATCH($AQ$4,阻害要因×疾患名[#Headers],0)),0)+IFERROR(INDEX(阻害要因×疾患名[#All],MATCH($AI19,阻害要因×疾患名[[#All],[値]],0),MATCH($AR$4,阻害要因×疾患名[#Headers],0)),0)","v":45},0.22959183673469388,653,"合計 / 現実認識が乏しい",null,422,21,42,24,79,93,14,7,13,8,2,2,0,6,0,1,3,null,null,null,null,"合計 / 現実認識が乏しい"]
[null,"退院による環境変化への不安が強い",{"$f":"IFERROR(INDEX(阻害要因×疾患名[#All],MATCH($AI20,阻害要因×疾患名[[#All],[値]],0),MATCH($AJ$4,阻害要因×疾患名[#Headers],0)),0)+IFERROR(INDEX(阻害要因×疾患名[#All],MATCH($AI20,阻害要因×疾患名[[#All],[値]],0),MATCH($AK$4,阻害要因×疾患名[#Headers],0)),0)","v":33},0.10312499999999999,{"$f":"IFERROR(INDEX(阻害要因×疾患名[#All],MATCH($AI20,阻害要因×疾患名[[#All],[値]],0),MATCH($AL$4,阻害要因×疾患名[#Headers],0)),0)","v":40},0.17241379310344829,{"$f":"IFERROR(INDEX(阻害要因×疾患名[#All],MATCH($AI20,阻害要因×疾患名[[#All],[値]],0),MATCH($AP$4,阻害要因×疾患名[#Headers],0)),0)","v":293},0.29837067209775969,{"$f":"IFERROR(INDEX(阻害要因×疾患名[#All],MATCH($AI20,阻害要因×疾患名[[#All],[値]],0),MATCH($AQ$4,阻害要因×疾患名[#Headers],0)),0)+IFERROR(INDEX(阻害要因×疾患名[#All],MATCH($AI20,阻害要因×疾患名[[#All],[値]],0),MATCH($AR$4,阻害要因×疾患名[#Headers],0)),0)","v":76},0.38775510204081631,442,"合計 / 退院による環境変化への不安が強い",null,293,32,14,44,40,29,4,4,7,14,3,1,0,11,1,0,2,null,null,null,null,"合計 / 退院による環境変化への不安が強い"]
[null,"援助者との対人関係がもてない",{"$f":"IFERROR(INDEX(阻害要因×疾患名[#All],MATCH($AI21,阻害要因×疾患名[[#All],[値]],0),MATCH($AJ$4,阻害要因×疾患名[#Headers],0)),0)+IFERROR(INDEX(阻害要因×疾患名[#All],MATCH($AI21,阻害要因×疾患名[[#All],[値]],0),MATCH($AK$4,阻害要因×疾患名[#Headers],0)),0)","v":14},4.3749999999999997E-2,{"$f":"IFERROR(INDEX(阻害要因×疾患名[#All],MATCH($AI21,阻害要因×疾患名[[#All],[値]],0),MATCH($AL$4,阻害要因×疾患名[#Headers],0)),0)","v":9},3.8793103448275863E-2,{"$f":"IFERROR(INDEX(阻害要因×疾患名[#All],MATCH($AI21,阻害要因×疾患名[[#All],[値]],0),MATCH($AP$4,阻害要因×疾患名[#Headers],0)),0)","v":94},9.5723014256619138E-2,{"$f":"IFERROR(INDEX(阻害要因×疾患名[#All],MATCH($AI21,阻害要因×疾患名[[#All],[値]],0),MATCH($AQ$4,阻害要因×疾患名[#Headers],0)),0)+IFERROR(INDEX(阻害要因×疾患名[#All],MATCH($AI21,阻害要因×疾患名[[#All],[値]],0),MATCH($AR$4,阻害要因×疾患名[#Headers],0)),0)","v":15},7.6530612244897961E-2,132,"合計 / 援助者との対人関係がもてない",null,94,7,7,8,9,12,2,0,5,1,1,0,0,5,0,0,0,null,null,null,null,"合計 / 援助者との対人関係がもてない"]
[null,"家事（食事・洗濯・金銭管理など）ができない",{"$f":"IFERROR(INDEX(阻害要因×疾患名[#All],MATCH($AI22,阻害要因×疾患名[[#All],[値]],0),MATCH($AJ$4,阻害要因×疾患名[#Headers],0)),0)+IFERROR(INDEX(阻害要因×疾患名[#All],MATCH($AI22,阻害要因×疾患名[[#All],[値]],0),MATCH($AK$4,阻害要因×疾患名[#Headers],0)),0)","v":97},0.30312499999999998,{"$f":"IFERROR(INDEX(阻害要因×疾患名[#All],MATCH($AI22,阻害要因×疾患名[[#All],[値]],0),MATCH($AL$4,阻害要因×疾患名[#Headers],0)),0)","v":62},0.26724137931034481,{"$f":"IFERROR(INDEX(阻害要因×疾患名[#All],MATCH($AI22,阻害要因×疾患名[[#All],[値]],0),MATCH($AP$4,阻害要因×疾患名[#Headers],0)),0)","v":292},0.29735234215885947,{"$f":"IFERROR(INDEX(阻害要因×疾患名[#All],MATCH($AI22,阻害要因×疾患名[[#All],[値]],0),MATCH($AQ$4,阻害要因×疾患名[#Headers],0)),0)+IFERROR(INDEX(阻害要因×疾患名[#All],MATCH($AI22,阻害要因×疾患名[[#All],[値]],0),MATCH($AR$4,阻害要因×疾患名[#Headers],0)),0)","v":57},0.29081632653061223,508,"合計 / 家事（食事,洗濯,金銭管理など）ができない",null,292,31,35,26,62,84,13,4,12,7,2,2,0,5,1,1,2,null,null,null,null,"合計 / 家事（食事,洗濯,金銭管理など）ができない"]
[null,"家族がいない、本人をサポートする機能が実質ない",{"$f":"IFERROR(INDEX(阻害要因×疾患名[#All],MATCH($AI23,阻害要因×疾患名[[#All],[値]],0),MATCH($AJ$4,阻害要因×疾患名[#Headers],0)),0)+IFERROR(INDEX(阻害要因×疾患名[#All],MATCH($AI23,阻害要因×疾患名[[#All],[値]],0),MATCH($AK$4,阻害要因×疾患名[#Headers],0)),0)","v":23},7.1874999999999994E-2,{"$f":"IFERROR(INDEX(阻害要因×疾患名[#All],MATCH($AI23,阻害要因×疾患名[[#All],[値]],0),MATCH($AL$4,阻害要因×疾患名[#Headers],0)),0)","v":25},0.10775862068965517,{"$f":"IFERROR(INDEX(阻害要因×疾患名[#All],MATCH($AI23,阻害要因×疾患名[[#All],[値]],0),MATCH($AP$4,阻害要因×疾患名[#Headers],0)),0)","v":198},0.20162932790224034,{"$f":"IFERROR(INDEX(阻害要因×疾患名[#All],MATCH($AI23,阻害要因×疾患名[[#All],[値]],0),MATCH($AQ$4,阻害要因×疾患名[#Headers],0)),0)+IFERROR(INDEX(阻害要因×疾患名[#All],MATCH($AI23,阻害要因×疾患名[[#All],[値]],0),MATCH($AR$4,阻害要因×疾患名[#Headers],0)),0)","v":29},0.14795918367346939,275,"合計 / 家族がいない、本人をサポートする機能が実質ない",null,198,14,18,15,25,21,2,2,6,6,2,1,0,4,0,2,1,null,null,null,null,"合計 / 家族がいない、本人をサポートする機能が実質ない"]
[null,"家族が退院に反対している",{"$f":"IFERROR(INDEX(阻害要因×疾患名[#All],MATCH($AI24,阻害要因×疾患名[[#All],[値]],0),MATCH($AJ$4,阻害要因×疾患名[#Headers],0)),0)+IFERROR(INDEX(阻害要因×疾患名[#All],MATCH($AI24,阻害要因×疾患名[[#All],[値]],0),MATCH($AK$4,阻害要因×疾患名[#Headers],0)),0)","v":79},0.24687500000000001,{"$f":"IFERROR(INDEX(阻害要因×疾患名[#All],MATCH($AI24,阻害要因×疾患名[[#All],[値]],0),MATCH($AL$4,阻害要因×疾患名[#Headers],0)),0)","v":49},0.21120689655172414,{"$f":"IFERROR(INDEX(阻害要因×疾患名[#All],MATCH($AI24,阻害要因×疾患名[[#All],[値]],0),MATCH($AP$4,阻害要因×疾患名[#Headers],0)),0)","v":203},0.20672097759674135,{"$f":"IFERROR(INDEX(阻害要因×疾患名[#All],MATCH($AI24,阻害要因×疾患名[[#All],[値]],0),MATCH($AQ$4,阻害要因×疾患名[#Headers],0)),0)+IFERROR(INDEX(阻害要因×疾患名[#All],MATCH($AI24,阻害要因×疾患名[[#All],[値]],0),MATCH($AR$4,阻害要因×疾患名[#Headers],0)),0)","v":33},0.1683673469387755,364,"合計 / 家族から退院に反対がある",null,203,16,31,17,49,64,15,5,6,5,1,3,0,0,3,0,2,null,null,null,null,"合計 / 家族から退院に反対がある"]
[null,"住まいの確保ができない",{"$f":"IFERROR(INDEX(阻害要因×疾患名[#All],MATCH($AI25,阻害要因×疾患名[[#All],[値]],0),MATCH($AJ$4,阻害要因×疾患名[#Headers],0)),0)+IFERROR(INDEX(阻害要因×疾患名[#All],MATCH($AI25,阻害要因×疾患名[[#All],[値]],0),MATCH($AK$4,阻害要因×疾患名[#Headers],0)),0)","v":124},0.38750000000000001,{"$f":"IFERROR(INDEX(阻害要因×疾患名[#All],MATCH($AI25,阻害要因×疾患名[[#All],[値]],0),MATCH($AL$4,阻害要因×疾患名[#Headers],0)),0)","v":71},0.30603448275862066,{"$f":"IFERROR(INDEX(阻害要因×疾患名[#All],MATCH($AI25,阻害要因×疾患名[[#All],[値]],0),MATCH($AP$4,阻害要因×疾患名[#Headers],0)),0)","v":296},0.3014256619144603,{"$f":"IFERROR(INDEX(阻害要因×疾患名[#All],MATCH($AI25,阻害要因×疾患名[[#All],[値]],0),MATCH($AQ$4,阻害要因×疾患名[#Headers],0)),0)+IFERROR(INDEX(阻害要因×疾患名[#All],MATCH($AI25,阻害要因×疾患名[[#All],[値]],0),MATCH($AR$4,阻害要因×疾患名[#Headers],0)),0)","v":37},0.18877551020408162,528,"合計 / 住まいの確保ができない",null,296,22,42,15,71,106,18,5,14,8,1,2,1,9,0,1,4,null,null,null,null,"合計 / 住まいの確保ができない"]
[null,"生活費の確保ができない",{"$f":"IFERROR(INDEX(阻害要因×疾患名[#All],MATCH($AI26,阻害要因×疾患名[[#All],[値]],0),MATCH($AJ$4,阻害要因×疾患名[#Headers],0)),0)+IFERROR(INDEX(阻害要因×疾患名[#All],MATCH($AI26,阻害要因×疾患名[[#All],[値]],0),MATCH($AK$4,阻害要因×疾患名[#Headers],0)),0)","v":28},8.7499999999999994E-2,{"$f":"IFERROR(INDEX(阻害要因×疾患名[#All],MATCH($AI26,阻害要因×疾患名[[#All],[値]],0),MATCH($AL$4,阻害要因×疾患名[#Headers],0)),0)","v":13},5.6034482758620691E-2,{"$f":"IFERROR(INDEX(阻害要因×疾患名[#All],MATCH($AI26,阻害要因×疾患名[[#All],[値]],0),MATCH($AP$4,阻害要因×疾患名[#Headers],0)),0)","v":44},4.4806517311608958E-2,{"$f":"IFERROR(INDEX(阻害要因×疾患名[#All],MATCH($AI26,阻害要因×疾患名[[#All],[値]],0),MATCH($AQ$4,阻害要因×疾患名[#Headers],0)),0)+IFERROR(INDEX(阻害要因×疾患名[#All],MATCH($AI26,阻害要因×疾患名[[#All],[値]],0),MATCH($AR$4,阻害要因×疾患名[#Headers],0)),0)","v":12},6.1224489795918366E-2,97,"合計 / 生活費の確保ができない",null,44,7,12,5,13,21,7,0,3,1,0,0,0,0,0,1,0,null,null,null,null,"合計 / 生活費の確保ができない"]
[null,"日常生活を支える制度がない",{"$f":"IFERROR(INDEX(阻害要因×疾患名[#All],MATCH($AI27,阻害要因×疾患名[[#All],[値]],0),MATCH($AJ$4,阻害要因×疾患名[#Headers],0)),0)+IFERROR(INDEX(阻害要因×疾患名[#All],MATCH($AI27,阻害要因×疾患名[[#All],[値]],0),MATCH($AK$4,阻害要因×疾患名[#Headers],0)),0)","v":22},6.8750000000000006E-2,{"$f":"IFERROR(INDEX(阻害要因×疾患名[#All],MATCH($AI27,阻害要因×疾患名[[#All],[値]],0),MATCH($AL$4,阻害要因×疾患名[#Headers],0)),0)","v":18},7.7586206896551727E-2,{"$f":"IFERROR(INDEX(阻害要因×疾患名[#All],MATCH($AI27,阻害要因×疾患名[[#All],[値]],0),MATCH($AP$4,阻害要因×疾患名[#Headers],0)),0)","v":55},5.6008146639511203E-2,{"$f":"IFERROR(INDEX(阻害要因×疾患名[#All],MATCH($AI27,阻害要因×疾患名[[#All],[値]],0),MATCH($AQ$4,阻害要因×疾患名[#Headers],0)),0)+IFERROR(INDEX(阻害要因×疾患名[#All],MATCH($AI27,阻害要因×疾患名[[#All],[値]],0),MATCH($AR$4,阻害要因×疾患名[#Headers],0)),0)","v":21},0.10714285714285714,116,"合計 / 日常生活を支える制度がない",null,55,14,7,7,18,21,1,0,3,2,2,0,0,0,0,2,0,null,null,null,null,"合計 / 日常生活を支える制度がない"]
[null,"救急診療体制がない",{"$f":"IFERROR(INDEX(阻害要因×疾患名[#All],MATCH($AI28,阻害要因×疾患名[[#All],[値]],0),MATCH($AJ$4,阻害要因×疾患名[#Headers],0)),0)+IFERROR(INDEX(阻害要因×疾患名[#All],MATCH($AI28,阻害要因×疾患名[[#All],[値]],0),MATCH($AK$4,阻害要因×疾患名[#Headers],0)),0)","v":0},0,{"$f":"IFERROR(INDEX(阻害要因×疾患名[#All],MATCH($AI28,阻害要因×疾患名[[#All],[値]],0),MATCH($AL$4,阻害要因×疾患名[#Headers],0)),0)","v":0},0,{"$f":"IFERROR(INDEX(阻害要因×疾患名[#All],MATCH($AI28,阻害要因×疾患名[[#All],[値]],0),MATCH($AP$4,阻害要因×疾患名[#Headers],0)),0)","v":5},5.0916496945010185E-3,{"$f":"IFERROR(INDEX(阻害要因×疾患名[#All],MATCH($AI28,阻害要因×疾患名[[#All],[値]],0),MATCH($AQ$4,阻害要因×疾患名[#Headers],0)),0)+IFERROR(INDEX(阻害要因×疾患名[#All],MATCH($AI28,阻害要因×疾患名[[#All],[値]],0),MATCH($AR$4,阻害要因×疾患名[#Headers],0)),0)","v":0},0,5,"合計 / 救急診療体制がない",null,5,0,0,0,0,0,0,0,0,0,0,0,0,0,0,0,0,null,null,null,null,"合計 / 救急診療体制がない"]
[null,"退院に向けてサポートする人的資源が乏しい",{"$f":"IFERROR(INDEX(阻害要因×疾患名[#All],MATCH($AI29,阻害要因×疾患名[[#All],[値]],0),MATCH($AJ$4,阻害要因×疾患名[#Headers],0)),0)+IFERROR(INDEX(阻害要因×疾患名[#All],MATCH($AI29,阻害要因×疾患名[[#All],[値]],0),MATCH($AK$4,阻害要因×疾患名[#Headers],0)),0)","v":20},6.25E-2,{"$f":"IFERROR(INDEX(阻害要因×疾患名[#All],MATCH($AI29,阻害要因×疾患名[[#All],[値]],0),MATCH($AL$4,阻害要因×疾患名[#Headers],0)),0)","v":20},8.6206896551724144E-2,{"$f":"IFERROR(INDEX(阻害要因×疾患名[#All],MATCH($AI29,阻害要因×疾患名[[#All],[値]],0),MATCH($AP$4,阻害要因×疾患名[#Headers],0)),0)","v":76},7.7393075356415472E-2,{"$f":"IFERROR(INDEX(阻害要因×疾患名[#All],MATCH($AI29,阻害要因×疾患名[[#All],[値]],0),MATCH($AQ$4,阻害要因×疾患名[#Headers],0)),0)+IFERROR(INDEX(阻害要因×疾患名[#All],MATCH($AI29,阻害要因×疾患名[[#All],[値]],0),MATCH($AR$4,阻害要因×疾患名[#Headers],0)),0)","v":13},6.6326530612244902E-2,129,"合計 / 退院に向けてサポートする人的資源が乏しい",null,76,9,10,4,20,17,3,2,0,2,1,1,0,0,0,1,0,null,null,null,null,"合計 / 退院に向けてサポートする人的資源が乏しい"]
[null,"退院後サポート・マネジメントする人的資源が乏しい",{"$f":"IFERROR(INDEX(阻害要因×疾患名[#All],MATCH($AI30,阻害要因×疾患名[[#All],[値]],0),MATCH($AJ$4,阻害要因×疾患名[#Headers],0)),0)+IFERROR(INDEX(阻害要因×疾患名[#All],MATCH($AI30,阻害要因×疾患名[[#All],[値]],0),MATCH($AK$4,阻害要因×疾患名[#Headers],0)),0)","v":8},2.5000000000000001E-2,{"$f":"IFERROR(INDEX(阻害要因×疾患名[#All],MATCH($AI30,阻害要因×疾患名[[#All],[値]],0),MATCH($AL$4,阻害要因×疾患名[#Headers],0)),0)","v":16},6.8965517241379309E-2,{"$f":"IFERROR(INDEX(阻害要因×疾患名[#All],MATCH($AI30,阻害要因×疾患名[[#All],[値]],0),MATCH($AP$4,阻害要因×疾患名[#Headers],0)),0)","v":64},6.5173116089613028E-2,{"$f":"IFERROR(INDEX(阻害要因×疾患名[#All],MATCH($AI30,阻害要因×疾患名[[#All],[値]],0),MATCH($AQ$4,阻害要因×疾患名[#Headers],0)),0)+IFERROR(INDEX(阻害要因×疾患名[#All],MATCH($AI30,阻害要因×疾患名[[#All],[値]],0),MATCH($AR$4,阻害要因×疾患名[#Headers],0)),0)","v":9},4.5918367346938778E-2,97,"合計 / 退院後サポート・マネジメントする人的資源が乏しい",null,64,4,6,5,16,7,1,1,1,0,2,0,0,2,0,1,0,null,null,null,null,"合計 / 退院後サポート・マネジメントする人的資源が乏しい"]
[null,"住所地と入院先の距離があり支援体制がとりにくい",{"$f":"IFERROR(INDEX(阻害要因×疾患名[#All],MATCH($AI31,阻害要因×疾患名[[#All],[値]],0),MATCH($AJ$4,阻害要因×疾患名[#Headers],0)),0)+IFERROR(INDEX(阻害要因×疾患名[#All],MATCH($AI31,阻害要因×疾患名[[#All],[値]],0),MATCH($AK$4,阻害要因×疾患名[#Headers],0)),0)","v":3},9.3749999999999997E-3,{"$f":"IFERROR(INDEX(阻害要因×疾患名[#All],MATCH($AI31,阻害要因×疾患名[[#All],[値]],0),MATCH($AL$4,阻害要因×疾患名[#Headers],0)),0)","v":4},1.7241379310344827E-2,{"$f":"IFERROR(INDEX(阻害要因×疾患名[#All],MATCH($AI31,阻害要因×疾患名[[#All],[値]],0),MATCH($AP$4,阻害要因×疾患名[#Headers],0)),0)","v":17},1.7311608961303463E-2,{"$f":"IFERROR(INDEX(阻害要因×疾患名[#All],MATCH($AI31,阻害要因×疾患名[[#All],[値]],0),MATCH($AQ$4,阻害要因×疾患名[#Headers],0)),0)+IFERROR(INDEX(阻害要因×疾患名[#All],MATCH($AI31,阻害要因×疾患名[[#All],[値]],0),MATCH($AR$4,阻害要因×疾患名[#Headers],0)),0)","v":3},1.5306122448979591E-2,27,"合計 / 住所地と入院先の距離があり支援体制をとりにくい",null,17,3,2,0,4,2,1,0,0,0,0,0,0,0,0,0,1,null,null,null,null,"合計 / 住所地と入院先の距離があり支援体制をとりにくい"]
[null,"身体的機能や状態を原因としたADLの低下がある",{"$f":"IFERROR(INDEX(阻害要因×疾患名[#All],MATCH($AI32,阻害要因×疾患名[[#All],[値]],0),MATCH($AJ$4,阻害要因×疾患名[#Headers],0)),0)+IFERROR(INDEX(阻害要因×疾患名[#All],MATCH($AI32,阻害要因×疾患名[[#All],[値]],0),MATCH($AK$4,阻害要因×疾患名[#Headers],0)),0)","v":85},{"$f":"IFERROR(C32/C$11,\"-\")","v":0.265625},{"$f":"IFERROR(INDEX(阻害要因×疾患名[#All],MATCH($AI32,阻害要因×疾患名[[#All],[値]],0),MATCH($AL$4,阻害要因×疾患名[#Headers],0)),0)","v":58},{"$f":"IFERROR(E32/E$11,\"-\")","v":0.25},{"$f":"IFERROR(INDEX(阻害要因×疾患名[#All],MATCH($AI32,阻害要因×疾患名[[#All],[値]],0),MATCH($AP$4,阻害要因×疾患名[#Headers],0)),0)","v":117},{"$f":"IFERROR(G32/G$11,\"-\")","v":0.11914460285132383},{"$f":"IFERROR(INDEX(阻害要因×疾患名[#All],MATCH($AI32,阻害要因×疾患名[[#All],[値]],0),MATCH($AQ$4,阻害要因×疾患名[#Headers],0)),0)+IFERROR(INDEX(阻害要因×疾患名[#All],MATCH($AI32,阻害要因×疾患名[[#All],[値]],0),MATCH($AR$4,阻害要因×疾患名[#Headers],0)),0)","v":29},{"$f":"IFERROR(I32/I$11,\"-\")","v":0.14795918367346939},289,"合計 / 身体的機能や状態を原因としたADLの低下がある",null,117,10,17,19,58,71,14,7,6,6,2,0,1,0,1,2,0,null,null,null,null,"合計 / 身体的機能や状態を原因としたADLの低下がある"]
[null,"身体合併症の程度が重いなど身体面のフォローが必要であり、地域での生活が困難",{"$f":"IFERROR(INDEX(阻害要因×疾患名[#All],MATCH($AI33,阻害要因×疾患名[[#All],[値]],0),MATCH($AJ$4,阻害要因×疾患名[#Headers],0)),0)+IFERROR(INDEX(阻害要因×疾患名[#All],MATCH($AI33,阻害要因×疾患名[[#All],[値]],0),MATCH($AK$4,阻害要因×疾患名[#Headers],0)),0)","v":66},0.20624999999999999,{"$f":"IFERROR(INDEX(阻害要因×疾患名[#All],MATCH($AI33,阻害要因×疾患名[[#All],[値]],0),MATCH($AL$4,阻害要因×疾患名[#Headers],0)),0)","v":35},0.15086206896551724,{"$f":"IFERROR(INDEX(阻害要因×疾患名[#All],MATCH($AI33,阻害要因×疾患名[[#All],[値]],0),MATCH($AP$4,阻害要因×疾患名[#Headers],0)),0)","v":69},7.0264765784114058E-2,{"$f":"IFERROR(INDEX(阻害要因×疾患名[#All],MATCH($AI33,阻害要因×疾患名[[#All],[値]],0),MATCH($AQ$4,阻害要因×疾患名[#Headers],0)),0)+IFERROR(INDEX(阻害要因×疾患名[#All],MATCH($AI33,阻害要因×疾患名[[#All],[値]],0),MATCH($AR$4,阻害要因×疾患名[#Headers],0)),0)","v":17},8.673469387755102E-2,187,"合計 / 身体合併症の程度が重いなど身体面のフォローが必要であり、地域での生活が困難",null,69,7,11,10,35,56,10,7,4,1,0,0,1,0,0,0,0,null,null,null,null,"合計 / 身体合併症の程度が重いなど身体面のフォローが必要であり、地域での生活が困難"]
[null,"その他の退院阻害要因がある",{"$f":"IFERROR(INDEX(阻害要因×疾患名[#All],MATCH($AI34,阻害要因×疾患名[[#All],[値]],0),MATCH($AJ$4,阻害要因×疾患名[#Headers],0)),0)+IFERROR(INDEX(阻害要因×疾患名[#All],MATCH($AI34,阻害要因×疾患名[[#All],[値]],0),MATCH($AK$4,阻害要因×疾患名[#Headers],0)),0)","v":14},4.3749999999999997E-2,{"$f":"IFERROR(INDEX(阻害要因×疾患名[#All],MATCH($AI34,阻害要因×疾患名[[#All],[値]],0),MATCH($AL$4,阻害要因×疾患名[#Headers],0)),0)","v":8},3.4482758620689655E-2,{"$f":"IFERROR(INDEX(阻害要因×疾患名[#All],MATCH($AI34,阻害要因×疾患名[[#All],[値]],0),MATCH($AP$4,阻害要因×疾患名[#Headers],0)),0)","v":14},1.4256619144602852E-2,{"$f":"IFERROR(INDEX(阻害要因×疾患名[#All],MATCH($AI34,阻害要因×疾患名[[#All],[値]],0),MATCH($AQ$4,阻害要因×疾患名[#Headers],0)),0)+IFERROR(INDEX(阻害要因×疾患名[#All],MATCH($AI34,阻害要因×疾患名[[#All],[値]],0),MATCH($AR$4,阻害要因×疾患名[#Headers],0)),0)","v":2},1.020408163265306E-2,38,"合計 / その他の退院阻害要因がある",null,14,2,4,0,8,14,0,0,1,0,0,0,0,0,0,1,0,null,null,null,null,"合計 / その他の退院阻害要因がある"]
[]
[null,"【退院阻害要因×疾患名区分（F0,F2,F3）】〔寛解・院内寛解群〕"]
[null,"退院予定の有無","疾患名区分"]
[null,null,"症状性を含む器質性精神障害（F０）",null,null,null,"統合失調症、統合失調症型障害及び妄想性障害（F2）",null,"気分（感情）障害（F3）",null,null,"データ貼り付け箇所"]
[null,null,"アルツハイマー病型認知症及び血管性認知症（F00-F01）",null,"左記以外の症状性を含む器質性精神障害（F02-F09）",null,null,null,null,null,{"$f":"C40+E40+G40+I40","v":533},"行ラベル","F00アルツハイマー病型認知症","F01血管性認知症","F02-09上記以外の症状性を含む器質性精神障害","F10アルコール使用による精神及び行動の障害","アルコール覚せい剤を除く精神作用物質使用による精神及び行動の障害※","覚せい剤による精神及び行動の障害※","F2統合失調症、統合失調症型障害及び妄想性障害","F30‐31　躁病エピソード・双極性感情障害［躁うつ病］","F32-39　その他の気分障害","F4神経症性障害、ストレス関連障害及び身体表現性障害","F5生理的障害及び身体的要因に関連した行動症候群","F6成人のパーソナリティ及び行動の障害","F7精神遅滞〔知的障害〕","F8心理的発達の障害","F9小児期及び青年期に通常発症する行動及び情緒の障害及び特定不能の精神障害","その他","てんかん（F0に属さないものを計上する）","不明"]
[null,"病状（主症状）が落ち着き、入院によらない形で治療ができるまで回復",{"$f":"IFERROR(INDEX(退院予定有無×疾患名＿寛解・院内寛解[#All],MATCH($AI40,退院予定有無×疾患名＿寛解・院内寛解[[#All],[行ラベル]],0),MATCH($AJ$4,退院予定有無×疾患名＿寛解・院内寛解[#Headers],0)),0)+IFERROR(INDEX(退院予定有無×疾患名＿寛解・院内寛解[#All],MATCH($AI40,退院予定有無×疾患名＿寛解・院内寛解[[#All],[行ラベル]],0),MATCH($AK$4,退院予定有無×疾患名＿寛解・院内寛解[#Headers],0)),0)","v":62},{"$f":"IFERROR(C40/C$43,\"-\")","v":0.27555555555555555},{"$f":"IFERROR(INDEX(退院予定有無×疾患名＿寛解・院内寛解[#All],MATCH($AI40,退院予定有無×疾患名＿寛解・院内寛解[[#All],[行ラベル]],0),MATCH($AL$4,退院予定有無×疾患名＿寛解・院内寛解[#Headers],0)),0)","v":71},{"$f":"IFERROR(E40/E$43,\"-\")","v":0.37172774869109948},{"$f":"IFERROR(INDEX(退院予定有無×疾患名＿寛解・院内寛解[#All],MATCH($AI40,退院予定有無×疾患名＿寛解・院内寛解[[#All],[行ラベル]],0),MATCH($AP$4,退院予定有無×疾患名＿寛解・院内寛解[#Headers],0)),0)","v":296},{"$f":"IFERROR(G40/G$43,\"-\")","v":0.45538461538461539},{"$f":"IFERROR(INDEX(退院予定有無×疾患名＿寛解・院内寛解[#All],MATCH($AI40,退院予定有無×疾患名＿寛解・院内寛解[[#All],[行ラベル]],0),MATCH($AQ$4,退院予定有無×疾患名＿寛解・院内寛解[#Headers],0)),0)+IFERROR(INDEX(退院予定有無×疾患名＿寛解・院内寛解[#All],MATCH($AI40,退院予定有無×疾患名＿寛解・院内寛解[[#All],[行ラベル]],0),MATCH($AR$4,退院予定有無×疾患名＿寛解・院内寛解[#Headers],0)),0)","v":104},{"$f":"IFERROR(I40/I$43,\"-\")","v":0.32398753894080995},{"$f":"C41+E41+G41+I41","v":273},98,47,10,38,56,2,1,115,27,36,10,6,2,5,2,2,3,0,0,null,null,null,null,97]
[null,"病状（主症状）が不安定で入院による治療が必要",{"$f":"IFERROR(INDEX(退院予定有無×疾患名＿寛解・院内寛解[#All],MATCH($AI41,退院予定有無×疾患名＿寛解・院内寛解[[#All],[行ラベル]],0),MATCH($AJ$4,退院予定有無×疾患名＿寛解・院内寛解[#Headers],0)),0)+IFERROR(INDEX(退院予定有無×疾患名＿寛解・院内寛解[#All],MATCH($AI41,退院予定有無×疾患名＿寛解・院内寛解[[#All],[行ラベル]],0),MATCH($AK$4,退院予定有無×疾患名＿寛解・院内寛解[#Headers],0)),0)","v":57},{"$f":"IFERROR(C41/C$43,\"-\")","v":0.25333333333333335},{"$f":"IFERROR(INDEX(退院予定有無×疾患名＿寛解・院内寛解[#All],MATCH($AI41,退院予定有無×疾患名＿寛解・院内寛解[[#All],[行ラベル]],0),MATCH($AL$4,退院予定有無×疾患名＿寛解・院内寛解[#Headers],0)),0)","v":38},{"$f":"IFERROR(E41/E$43,\"-\")","v":0.19895287958115182},{"$f":"IFERROR(INDEX(退院予定有無×疾患名＿寛解・院内寛解[#All],MATCH($AI41,退院予定有無×疾患名＿寛解・院内寛解[[#All],[行ラベル]],0),MATCH($AP$4,退院予定有無×疾患名＿寛解・院内寛解[#Headers],0)),0)","v":115},{"$f":"IFERROR(G41/G$43,\"-\")","v":0.17692307692307693},{"$f":"IFERROR(INDEX(退院予定有無×疾患名＿寛解・院内寛解[#All],MATCH($AI41,退院予定有無×疾患名＿寛解・院内寛解[[#All],[行ラベル]],0),MATCH($AQ$4,退院予定有無×疾患名＿寛解・院内寛解[#Headers],0)),0)+IFERROR(INDEX(退院予定有無×疾患名＿寛解・院内寛解[#All],MATCH($AI41,退院予定有無×疾患名＿寛解・院内寛解[[#All],[行ラベル]],0),MATCH($AR$4,退院予定有無×疾患名＿寛解・院内寛解[#Headers],0)),0)","v":63},{"$f":"IFERROR(I41/I$43,\"-\")","v":0.19626168224299065},{"$f":"C42+E42+G42+I42","v":581},97,51,11,71,55,1,3,296,46,58,18,0,3,5,10,2,5,0,0,null,null,null,null,98]
[null,"退院予定",{"$f":"IFERROR(INDEX(退院予定有無×疾患名＿寛解・院内寛解[#All],MATCH($AI42,退院予定有無×疾患名＿寛解・院内寛解[[#All],[行ラベル]],0),MATCH($AJ$4,退院予定有無×疾患名＿寛解・院内寛解[#Headers],0)),0)+IFERROR(INDEX(退院予定有無×疾患名＿寛解・院内寛解[#All],MATCH($AI42,退院予定有無×疾患名＿寛解・院内寛解[[#All],[行ラベル]],0),MATCH($AK$4,退院予定有無×疾患名＿寛解・院内寛解[#Headers],0)),0)","v":106},{"$f":"IFERROR(C42/C$43,\"-\")","v":0.47111111111111109},{"$f":"IFERROR(INDEX(退院予定有無×疾患名＿寛解・院内寛解[#All],MATCH($AI42,退院予定有無×疾患名＿寛解・院内寛解[[#All],[行ラベル]],0),MATCH($AL$4,退院予定有無×疾患名＿寛解・院内寛解[#Headers],0)),0)","v":82},{"$f":"IFERROR(E42/E$43,\"-\")","v":0.4293193717277487},{"$f":"IFERROR(INDEX(退院予定有無×疾患名＿寛解・院内寛解[#All],MATCH($AI42,退院予定有無×疾患名＿寛解・院内寛解[[#All],[行ラベル]],0),MATCH($AP$4,退院予定有無×疾患名＿寛解・院内寛解[#Headers],0)),0)","v":239},{"$f":"IFERROR(G42/G$43,\"-\")","v":0.36769230769230771},{"$f":"IFERROR(INDEX(退院予定有無×疾患名＿寛解・院内寛解[#All],MATCH($AI42,退院予定有無×疾患名＿寛解・院内寛解[[#All],[行ラベル]],0),MATCH($AQ$4,退院予定有無×疾患名＿寛解・院内寛解[#Headers],0)),0)+IFERROR(INDEX(退院予定有無×疾患名＿寛解・院内寛解[#All],MATCH($AI42,退院予定有無×疾患名＿寛解・院内寛解[[#All],[行ラベル]],0),MATCH($AR$4,退院予定有無×疾患名＿寛解・院内寛解[#Headers],0)),0)","v":154},{"$f":"IFERROR(I42/I$43,\"-\")","v":0.47975077881619937},{"$f":"C43+E43+G43+I43","v":1387},99,89,17,82,82,9,6,239,79,75,26,6,3,18,18,6,8,0,0,null,null,null,null,99]
[null,"　総計",{"$f":"SUM(C40:C42)","v":225},1,191,1,650,1,321,1]
[]
[null,"退院阻害要因",null,null,null,null,null,null,null,null,{"$f":"C46+E46+G46+I46","v":473},"行ラベル","F00アルツハイマー病型認知症","F01血管性認知症","F02-09上記以外の症状性を含む器質性精神障害","F10アルコール使用による精神及び行動の障害","F2統合失調症、統合失調症型障害及び妄想性障害","F30‐31　躁病エピソード・双極性感情障害［躁うつ病］","F32-39　その他の気分障害","F4神経症性障害、ストレス関連障害及び身体表現性障害","F5生理的障害及び身体的要因に関連した行動症候群","F6成人のパーソナリティ及び行動の障害","F7精神遅滞〔知的障害〕","F8心理的発達の障害","F9小児期及び青年期に通常発症する行動及び情緒の障害及び特定不能の精神障害","アルコール覚せい剤を除く精神作用物質使用による精神及び行動の障害※","その他","てんかん（F0に属さないものを計上する）","覚せい剤による精神及び行動の障害※","不明"]
[null,"退院阻害要因がある",{"$f":"IFERROR(INDEX(阻害要因有無×疾患名＿寛解・院内寛解[#All],MATCH($AI46,阻害要因有無×疾患名＿寛解・院内寛解[[#All],[行ラベル]],0),MATCH($AJ$4,阻害要因有無×疾患名＿寛解・院内寛解[#Headers],0)),0)+IFERROR(INDEX(阻害要因有無×疾患名＿寛解・院内寛解[#All],MATCH($AI46,阻害要因有無×疾患名＿寛解・院内寛解[[#All],[行ラベル]],0),MATCH($AK$4,阻害要因有無×疾患名＿寛解・院内寛解[#Headers],0)),0)","v":59},{"$f":"IFERROR(C46/C$40,\"-\")","v":0.95161290322580649},{"$f":"IFERROR(INDEX(阻害要因有無×疾患名＿寛解・院内寛解[#All],MATCH($AI46,阻害要因有無×疾患名＿寛解・院内寛解[[#All],[行ラベル]],0),MATCH($AL$4,阻害要因有無×疾患名＿寛解・院内寛解[#Headers],0)),0)","v":65},{"$f":"IFERROR(E46/E$40,\"-\")","v":0.91549295774647887},{"$f":"IFERROR(INDEX(阻害要因有無×疾患名＿寛解・院内寛解[#All],MATCH($AI46,阻害要因有無×疾患名＿寛解・院内寛解[[#All],[行ラベル]],0),MATCH($AP$4,阻害要因有無×疾患名＿寛解・院内寛解[#Headers],0)),0)","v":265},{"$f":"IFERROR(G46/G$40,\"-\")","v":0.89527027027027029},{"$f":"IFERROR(INDEX(阻害要因有無×疾患名＿寛解・院内寛解[#All],MATCH($AI46,阻害要因有無×疾患名＿寛解・院内寛解[[#All],[行ラベル]],0),MATCH($AQ$4,阻害要因有無×疾患名＿寛解・院内寛解[#Headers],0)),0)+IFERROR(INDEX(阻害要因有無×疾患名＿寛解・院内寛解[#All],MATCH($AI46,阻害要因有無×疾患名＿寛解・院内寛解[[#All],[行ラベル]],0),MATCH($AR$4,阻害要因有無×疾患名＿寛解・院内寛解[#Headers],0)),0)","v":84},{"$f":"IFERROR(I46/I$40,\"-\")","v":0.80769230769230771},{"$f":"C47+E47+G47+I47","v":60},91,49,10,65,48,265,40,44,15,0,3,3,9,1,0,4,1,3,0,null,null,null,null,91]
[null,"退院阻害要因はない",{"$f":"IFERROR(INDEX(阻害要因有無×疾患名＿寛解・院内寛解[#All],MATCH($AI47,阻害要因有無×疾患名＿寛解・院内寛解[[#All],[行ラベル]],0),MATCH($AJ$4,阻害要因有無×疾患名＿寛解・院内寛解[#Headers],0)),0)+IFERROR(INDEX(阻害要因有無×疾患名＿寛解・院内寛解[#All],MATCH($AI47,阻害要因有無×疾患名＿寛解・院内寛解[[#All],[行ラベル]],0),MATCH($AK$4,阻害要因有無×疾患名＿寛解・院内寛解[#Headers],0)),0)","v":3},{"$f":"IFERROR(C47/C$40,\"-\")","v":4.8387096774193547E-2},{"$f":"IFERROR(INDEX(阻害要因有無×疾患名＿寛解・院内寛解[#All],MATCH($AI47,阻害要因有無×疾患名＿寛解・院内寛解[[#All],[行ラベル]],0),MATCH($AL$4,阻害要因有無×疾患名＿寛解・院内寛解[#Headers],0)),0)","v":6},{"$f":"IFERROR(E47/E$40,\"-\")","v":8.4507042253521125E-2},{"$f":"IFERROR(INDEX(阻害要因有無×疾患名＿寛解・院内寛解[#All],MATCH($AI47,阻害要因有無×疾患名＿寛解・院内寛解[[#All],[行ラベル]],0),MATCH($AP$4,阻害要因有無×疾患名＿寛解・院内寛解[#Headers],0)),0)","v":31},{"$f":"IFERROR(G47/G$40,\"-\")","v":0.10472972972972973},{"$f":"IFERROR(INDEX(阻害要因有無×疾患名＿寛解・院内寛解[#All],MATCH($AI47,阻害要因有無×疾患名＿寛解・院内寛解[[#All],[行ラベル]],0),MATCH($AQ$4,阻害要因有無×疾患名＿寛解・院内寛解[#Headers],0)),0)+IFERROR(INDEX(阻害要因有無×疾患名＿寛解・院内寛解[#All],MATCH($AI47,阻害要因有無×疾患名＿寛解・院内寛解[[#All],[行ラベル]],0),MATCH($AR$4,阻害要因有無×疾患名＿寛解・院内寛解[#Headers],0)),0)","v":20},{"$f":"IFERROR(I47/I$40,\"-\")","v":0.19230769230769232},null,90,2,1,6,7,31,6,14,3,0,0,2,1,1,1,1,0,0,0,null,null,null,null,90]
[null,"　＜複数回答＞",null,null,null,null,null,null,null,null,{"$f":"C50+E50+G50+I50","v":145}]
[null,"割合には「退院阻害要因がある」それぞれの人数に対する割合を表示しています。",null,null,null,null,null,null,null,null,{"$f":"C51+E51+G51+I51","v":82},"値","F2統合失調症、統合失調症型障害及び妄想性障害","F30‐31　躁病エピソード・双極性感情障害［躁うつ病］","F10アルコール使用による精神及び行動の障害","F32-39　その他の気分障害","F02-09上記以外の症状性を含む器質性精神障害","F00アルツハイマー病型認知症","F01血管性認知症","その他","F7精神遅滞〔知的障害〕","F4神経症性障害、ストレス関連障害及び身体表現性障害","F6成人のパーソナリティ及び行動の障害","アルコール覚せい剤を除く精神作用物質使用による精神及び行動の障害※","てんかん（F0に属さないものを計上する）","F8心理的発達の障害","F5生理的障害及び身体的要因に関連した行動症候群","F9小児期及び青年期に通常発症する行動及び情緒の障害及び特定不能の精神障害","覚せい剤による精神及び行動の障害※","総計"]
[null,"病状は落ち着いているが、ときどき不安定な病状が見られ、そのことが退院を阻害する要因になっている",{"$f":"IFERROR(INDEX(阻害要因×疾患名＿寛解・院内寛解[#All],MATCH($AI50,阻害要因×疾患名＿寛解・院内寛解[[#All],[値]],0),MATCH($AJ$4,阻害要因×疾患名＿寛解・院内寛解[#Headers],0)),0)+IFERROR(INDEX(阻害要因×疾患名＿寛解・院内寛解[#All],MATCH($AI50,阻害要因×疾患名＿寛解・院内寛解[[#All],[値]],0),MATCH($AK$4,阻害要因×疾患名＿寛解・院内寛解[#Headers],0)),0)","v":14},{"$f":"IFERROR(C50/C$46,\"-\")","v":0.23728813559322035},{"$f":"IFERROR(INDEX(阻害要因×疾患名＿寛解・院内寛解[#All],MATCH($AI50,阻害要因×疾患名＿寛解・院内寛解[[#All],[値]],0),MATCH($AL$4,阻害要因×疾患名＿寛解・院内寛解[#Headers],0)),0)","v":15},{"$f":"IFERROR(E50/E$46,\"-\")","v":0.23076923076923078},{"$f":"IFERROR(INDEX(阻害要因×疾患名＿寛解・院内寛解[#All],MATCH($AI50,阻害要因×疾患名＿寛解・院内寛解[[#All],[値]],0),MATCH($AP$4,阻害要因×疾患名＿寛解・院内寛解[#Headers],0)),0)","v":91},{"$f":"IFERROR(G50/G$46,\"-\")","v":0.34339622641509432},{"$f":"IFERROR(INDEX(阻害要因×疾患名＿寛解・院内寛解[#All],MATCH($AI50,阻害要因×疾患名＿寛解・院内寛解[[#All],[値]],0),MATCH($AQ$4,阻害要因×疾患名＿寛解・院内寛解[#Headers],0)),0)+IFERROR(INDEX(阻害要因×疾患名＿寛解・院内寛解[#All],MATCH($AI50,阻害要因×疾患名＿寛解・院内寛解[[#All],[値]],0),MATCH($AR$4,阻害要因×疾患名＿寛解・院内寛解[#Headers],0)),0)","v":25},{"$f":"IFERROR(I50/I$46,\"-\")","v":0.29761904761904762},{"$f":"C50+E50+G50+I50","v":145},"合計 / 病状は落ち着いているが、ときどき不安定な病状が見られ、そのことが退院を阻害する要因になっている",91,12,7,13,15,13,1,1,2,3,0,0,0,4,0,0,1,163,null,null,null,null,"合計 / 病状は落ち着いているが、ときどき不安定な病状が見られ、そのことが退院を阻害する要因になっている"]
[null,"病識がなく通院服薬の中断が予測される",{"$f":"IFERROR(INDEX(阻害要因×疾患名＿寛解・院内寛解[#All],MATCH($AI51,阻害要因×疾患名＿寛解・院内寛解[[#All],[値]],0),MATCH($AJ$4,阻害要因×疾患名＿寛解・院内寛解[#Headers],0)),0)+IFERROR(INDEX(阻害要因×疾患名＿寛解・院内寛解[#All],MATCH($AI51,阻害要因×疾患名＿寛解・院内寛解[[#All],[値]],0),MATCH($AK$4,阻害要因×疾患名＿寛解・院内寛解[#Headers],0)),0)","v":12},0.20338983050847459,{"$f":"IFERROR(INDEX(阻害要因×疾患名＿寛解・院内寛解[#All],MATCH($AI51,阻害要因×疾患名＿寛解・院内寛解[[#All],[値]],0),MATCH($AL$4,阻害要因×疾患名＿寛解・院内寛解[#Headers],0)),0)","v":11},0.16923076923076924,{"$f":"IFERROR(INDEX(阻害要因×疾患名＿寛解・院内寛解[#All],MATCH($AI51,阻害要因×疾患名＿寛解・院内寛解[[#All],[値]],0),MATCH($AP$4,阻害要因×疾患名＿寛解・院内寛解[#Headers],0)),0)","v":51},0.19245283018867926,{"$f":"IFERROR(INDEX(阻害要因×疾患名＿寛解・院内寛解[#All],MATCH($AI51,阻害要因×疾患名＿寛解・院内寛解[[#All],[値]],0),MATCH($AQ$4,阻害要因×疾患名＿寛解・院内寛解[#Headers],0)),0)+IFERROR(INDEX(阻害要因×疾患名＿寛解・院内寛解[#All],MATCH($AI51,阻害要因×疾患名＿寛解・院内寛解[[#All],[値]],0),MATCH($AR$4,阻害要因×疾患名＿寛解・院内寛解[#Headers],0)),0)","v":8},9.5238095238095233E-2,{"$f":"C51+E51+G51+I51","v":82},"合計 / 病識がなく通院服薬の中断が予測される",51,6,16,2,11,11,1,1,0,0,1,0,0,2,0,0,1,103,null,null,null,null,"合計 / 病識がなく通院服薬の中断が予測される"]
[null,"反社会的行動が予測される",{"$f":"IFERROR(INDEX(阻害要因×疾患名＿寛解・院内寛解[#All],MATCH($AI52,阻害要因×疾患名＿寛解・院内寛解[[#All],[値]],0),MATCH($AJ$4,阻害要因×疾患名＿寛解・院内寛解[#Headers],0)),0)+IFERROR(INDEX(阻害要因×疾患名＿寛解・院内寛解[#All],MATCH($AI52,阻害要因×疾患名＿寛解・院内寛解[[#All],[値]],0),MATCH($AK$4,阻害要因×疾患名＿寛解・院内寛解[#Headers],0)),0)","v":1},1.6949152542372881E-2,{"$f":"IFERROR(INDEX(阻害要因×疾患名＿寛解・院内寛解[#All],MATCH($AI52,阻害要因×疾患名＿寛解・院内寛解[[#All],[値]],0),MATCH($AL$4,阻害要因×疾患名＿寛解・院内寛解[#Headers],0)),0)","v":1},1.5384615384615385E-2,{"$f":"IFERROR(INDEX(阻害要因×疾患名＿寛解・院内寛解[#All],MATCH($AI52,阻害要因×疾患名＿寛解・院内寛解[[#All],[値]],0),MATCH($AP$4,阻害要因×疾患名＿寛解・院内寛解[#Headers],0)),0)","v":5},1.8867924528301886E-2,{"$f":"IFERROR(INDEX(阻害要因×疾患名＿寛解・院内寛解[#All],MATCH($AI52,阻害要因×疾患名＿寛解・院内寛解[[#All],[値]],0),MATCH($AQ$4,阻害要因×疾患名＿寛解・院内寛解[#Headers],0)),0)+IFERROR(INDEX(阻害要因×疾患名＿寛解・院内寛解[#All],MATCH($AI52,阻害要因×疾患名＿寛解・院内寛解[[#All],[値]],0),MATCH($AR$4,阻害要因×疾患名＿寛解・院内寛解[#Headers],0)),0)","v":0},0,7,"合計 / 反社会的行動が予測される",5,0,4,0,1,1,0,0,1,0,0,0,0,1,0,0,0,13,null,null,null,null,"合計 / 反社会的行動が予測される"]
[null,"退院意欲が乏しい",{"$f":"IFERROR(INDEX(阻害要因×疾患名＿寛解・院内寛解[#All],MATCH($AI53,阻害要因×疾患名＿寛解・院内寛解[[#All],[値]],0),MATCH($AJ$4,阻害要因×疾患名＿寛解・院内寛解[#Headers],0)),0)+IFERROR(INDEX(阻害要因×疾患名＿寛解・院内寛解[#All],MATCH($AI53,阻害要因×疾患名＿寛解・院内寛解[[#All],[値]],0),MATCH($AK$4,阻害要因×疾患名＿寛解・院内寛解[#Headers],0)),0)","v":18},0.30508474576271188,{"$f":"IFERROR(INDEX(阻害要因×疾患名＿寛解・院内寛解[#All],MATCH($AI53,阻害要因×疾患名＿寛解・院内寛解[[#All],[値]],0),MATCH($AL$4,阻害要因×疾患名＿寛解・院内寛解[#Headers],0)),0)","v":23},0.35384615384615387,{"$f":"IFERROR(INDEX(阻害要因×疾患名＿寛解・院内寛解[#All],MATCH($AI53,阻害要因×疾患名＿寛解・院内寛解[[#All],[値]],0),MATCH($AP$4,阻害要因×疾患名＿寛解・院内寛解[#Headers],0)),0)","v":99},0.37358490566037733,{"$f":"IFERROR(INDEX(阻害要因×疾患名＿寛解・院内寛解[#All],MATCH($AI53,阻害要因×疾患名＿寛解・院内寛解[[#All],[値]],0),MATCH($AQ$4,阻害要因×疾患名＿寛解・院内寛解[#Headers],0)),0)+IFERROR(INDEX(阻害要因×疾患名＿寛解・院内寛解[#All],MATCH($AI53,阻害要因×疾患名＿寛解・院内寛解[[#All],[値]],0),MATCH($AR$4,阻害要因×疾患名＿寛解・院内寛解[#Headers],0)),0)","v":37},0.44047619047619047,177,"合計 / 退院意欲が乏しい",99,13,6,24,23,13,5,0,1,7,1,0,0,4,0,0,0,196,null,null,null,null,"合計 / 退院意欲が乏しい"]
[null,"現実認識が乏しい",{"$f":"IFERROR(INDEX(阻害要因×疾患名＿寛解・院内寛解[#All],MATCH($AI54,阻害要因×疾患名＿寛解・院内寛解[[#All],[値]],0),MATCH($AJ$4,阻害要因×疾患名＿寛解・院内寛解[#Headers],0)),0)+IFERROR(INDEX(阻害要因×疾患名＿寛解・院内寛解[#All],MATCH($AI54,阻害要因×疾患名＿寛解・院内寛解[[#All],[値]],0),MATCH($AK$4,阻害要因×疾患名＿寛解・院内寛解[#Headers],0)),0)","v":20},0.33898305084745761,{"$f":"IFERROR(INDEX(阻害要因×疾患名＿寛解・院内寛解[#All],MATCH($AI54,阻害要因×疾患名＿寛解・院内寛解[[#All],[値]],0),MATCH($AL$4,阻害要因×疾患名＿寛解・院内寛解[#Headers],0)),0)","v":15},0.23076923076923078,{"$f":"IFERROR(INDEX(阻害要因×疾患名＿寛解・院内寛解[#All],MATCH($AI54,阻害要因×疾患名＿寛解・院内寛解[[#All],[値]],0),MATCH($AP$4,阻害要因×疾患名＿寛解・院内寛解[#Headers],0)),0)","v":79},0.2981132075471698,{"$f":"IFERROR(INDEX(阻害要因×疾患名＿寛解・院内寛解[#All],MATCH($AI54,阻害要因×疾患名＿寛解・院内寛解[[#All],[値]],0),MATCH($AQ$4,阻害要因×疾患名＿寛解・院内寛解[#Headers],0)),0)+IFERROR(INDEX(阻害要因×疾患名＿寛解・院内寛解[#All],MATCH($AI54,阻害要因×疾患名＿寛解・院内寛解[[#All],[値]],0),MATCH($AR$4,阻害要因×疾患名＿寛解・院内寛解[#Headers],0)),0)","v":16},0.19047619047619047,130,"合計 / 現実認識が乏しい",79,8,12,8,15,17,3,1,2,1,1,0,0,3,0,0,1,151,null,null,null,null,"合計 / 現実認識が乏しい"]
[null,"退院による環境変化への不安が強い",{"$f":"IFERROR(INDEX(阻害要因×疾患名＿寛解・院内寛解[#All],MATCH($AI55,阻害要因×疾患名＿寛解・院内寛解[[#All],[値]],0),MATCH($AJ$4,阻害要因×疾患名＿寛解・院内寛解[#Headers],0)),0)+IFERROR(INDEX(阻害要因×疾患名＿寛解・院内寛解[#All],MATCH($AI55,阻害要因×疾患名＿寛解・院内寛解[[#All],[値]],0),MATCH($AK$4,阻害要因×疾患名＿寛解・院内寛解[#Headers],0)),0)","v":10},0.16949152542372881,{"$f":"IFERROR(INDEX(阻害要因×疾患名＿寛解・院内寛解[#All],MATCH($AI55,阻害要因×疾患名＿寛解・院内寛解[[#All],[値]],0),MATCH($AL$4,阻害要因×疾患名＿寛解・院内寛解[#Headers],0)),0)","v":8},0.12307692307692308,{"$f":"IFERROR(INDEX(阻害要因×疾患名＿寛解・院内寛解[#All],MATCH($AI55,阻害要因×疾患名＿寛解・院内寛解[[#All],[値]],0),MATCH($AP$4,阻害要因×疾患名＿寛解・院内寛解[#Headers],0)),0)","v":73},0.27547169811320754,{"$f":"IFERROR(INDEX(阻害要因×疾患名＿寛解・院内寛解[#All],MATCH($AI55,阻害要因×疾患名＿寛解・院内寛解[[#All],[値]],0),MATCH($AQ$4,阻害要因×疾患名＿寛解・院内寛解[#Headers],0)),0)+IFERROR(INDEX(阻害要因×疾患名＿寛解・院内寛解[#All],MATCH($AI55,阻害要因×疾患名＿寛解・院内寛解[[#All],[値]],0),MATCH($AR$4,阻害要因×疾患名＿寛解・院内寛解[#Headers],0)),0)","v":35},0.41666666666666669,126,"合計 / 退院による環境変化への不安が強い",73,16,3,19,8,9,1,1,1,7,1,0,0,7,0,0,0,146,null,null,null,null,"合計 / 退院による環境変化への不安が強い"]
[null,"援助者との対人関係がもてない",{"$f":"IFERROR(INDEX(阻害要因×疾患名＿寛解・院内寛解[#All],MATCH($AI56,阻害要因×疾患名＿寛解・院内寛解[[#All],[値]],0),MATCH($AJ$4,阻害要因×疾患名＿寛解・院内寛解[#Headers],0)),0)+IFERROR(INDEX(阻害要因×疾患名＿寛解・院内寛解[#All],MATCH($AI56,阻害要因×疾患名＿寛解・院内寛解[[#All],[値]],0),MATCH($AK$4,阻害要因×疾患名＿寛解・院内寛解[#Headers],0)),0)","v":0},0,{"$f":"IFERROR(INDEX(阻害要因×疾患名＿寛解・院内寛解[#All],MATCH($AI56,阻害要因×疾患名＿寛解・院内寛解[[#All],[値]],0),MATCH($AL$4,阻害要因×疾患名＿寛解・院内寛解[#Headers],0)),0)","v":0},0,{"$f":"IFERROR(INDEX(阻害要因×疾患名＿寛解・院内寛解[#All],MATCH($AI56,阻害要因×疾患名＿寛解・院内寛解[[#All],[値]],0),MATCH($AP$4,阻害要因×疾患名＿寛解・院内寛解[#Headers],0)),0)","v":11},4.1509433962264149E-2,{"$f":"IFERROR(INDEX(阻害要因×疾患名＿寛解・院内寛解[#All],MATCH($AI56,阻害要因×疾患名＿寛解・院内寛解[[#All],[値]],0),MATCH($AQ$4,阻害要因×疾患名＿寛解・院内寛解[#Headers],0)),0)+IFERROR(INDEX(阻害要因×疾患名＿寛解・院内寛解[#All],MATCH($AI56,阻害要因×疾患名＿寛解・院内寛解[[#All],[値]],0),MATCH($AR$4,阻害要因×疾患名＿寛解・院内寛解[#Headers],0)),0)","v":3},3.5714285714285712E-2,14,"合計 / 援助者との対人関係がもてない",11,0,4,3,0,0,0,0,1,1,0,0,0,1,0,0,0,21,null,null,null,null,"合計 / 援助者との対人関係がもてない"]
[null,"家事（食事・洗濯・金銭管理など）ができない",{"$f":"IFERROR(INDEX(阻害要因×疾患名＿寛解・院内寛解[#All],MATCH($AI57,阻害要因×疾患名＿寛解・院内寛解[[#All],[値]],0),MATCH($AJ$4,阻害要因×疾患名＿寛解・院内寛解[#Headers],0)),0)+IFERROR(INDEX(阻害要因×疾患名＿寛解・院内寛解[#All],MATCH($AI57,阻害要因×疾患名＿寛解・院内寛解[[#All],[値]],0),MATCH($AK$4,阻害要因×疾患名＿寛解・院内寛解[#Headers],0)),0)","v":18},0.30508474576271188,{"$f":"IFERROR(INDEX(阻害要因×疾患名＿寛解・院内寛解[#All],MATCH($AI57,阻害要因×疾患名＿寛解・院内寛解[[#All],[値]],0),MATCH($AL$4,阻害要因×疾患名＿寛解・院内寛解[#Headers],0)),0)","v":13},0.2,{"$f":"IFERROR(INDEX(阻害要因×疾患名＿寛解・院内寛解[#All],MATCH($AI57,阻害要因×疾患名＿寛解・院内寛解[[#All],[値]],0),MATCH($AP$4,阻害要因×疾患名＿寛解・院内寛解[#Headers],0)),0)","v":55},0.20754716981132076,{"$f":"IFERROR(INDEX(阻害要因×疾患名＿寛解・院内寛解[#All],MATCH($AI57,阻害要因×疾患名＿寛解・院内寛解[[#All],[値]],0),MATCH($AQ$4,阻害要因×疾患名＿寛解・院内寛解[#Headers],0)),0)+IFERROR(INDEX(阻害要因×疾患名＿寛解・院内寛解[#All],MATCH($AI57,阻害要因×疾患名＿寛解・院内寛解[[#All],[値]],0),MATCH($AR$4,阻害要因×疾患名＿寛解・院内寛解[#Headers],0)),0)","v":24},0.2857142857142857,110,"合計 / 家事（食事,洗濯,金銭管理など）ができない",55,13,15,11,13,16,2,2,2,1,1,0,0,2,0,0,0,133,null,null,null,null,"合計 / 家事（食事,洗濯,金銭管理など）ができない"]
[null,"家族がいない、本人をサポートする機能が実質ない",{"$f":"IFERROR(INDEX(阻害要因×疾患名＿寛解・院内寛解[#All],MATCH($AI58,阻害要因×疾患名＿寛解・院内寛解[[#All],[値]],0),MATCH($AJ$4,阻害要因×疾患名＿寛解・院内寛解[#Headers],0)),0)+IFERROR(INDEX(阻害要因×疾患名＿寛解・院内寛解[#All],MATCH($AI58,阻害要因×疾患名＿寛解・院内寛解[[#All],[値]],0),MATCH($AK$4,阻害要因×疾患名＿寛解・院内寛解[#Headers],0)),0)","v":6},0.10169491525423729,{"$f":"IFERROR(INDEX(阻害要因×疾患名＿寛解・院内寛解[#All],MATCH($AI58,阻害要因×疾患名＿寛解・院内寛解[[#All],[値]],0),MATCH($AL$4,阻害要因×疾患名＿寛解・院内寛解[#Headers],0)),0)","v":7},0.1076923076923077,{"$f":"IFERROR(INDEX(阻害要因×疾患名＿寛解・院内寛解[#All],MATCH($AI58,阻害要因×疾患名＿寛解・院内寛解[[#All],[値]],0),MATCH($AP$4,阻害要因×疾患名＿寛解・院内寛解[#Headers],0)),0)","v":46},0.17358490566037735,{"$f":"IFERROR(INDEX(阻害要因×疾患名＿寛解・院内寛解[#All],MATCH($AI58,阻害要因×疾患名＿寛解・院内寛解[[#All],[値]],0),MATCH($AQ$4,阻害要因×疾患名＿寛解・院内寛解[#Headers],0)),0)+IFERROR(INDEX(阻害要因×疾患名＿寛解・院内寛解[#All],MATCH($AI58,阻害要因×疾患名＿寛解・院内寛解[[#All],[値]],0),MATCH($AR$4,阻害要因×疾患名＿寛解・院内寛解[#Headers],0)),0)","v":10},0.11904761904761904,69,"合計 / 家族がいない、本人をサポートする機能が実質ない",46,5,12,5,7,6,0,0,1,5,0,0,0,2,0,1,0,90,null,null,null,null,"合計 / 家族がいない、本人をサポートする機能が実質ない"]
[null,"家族が退院に反対している",{"$f":"IFERROR(INDEX(阻害要因×疾患名＿寛解・院内寛解[#All],MATCH($AI59,阻害要因×疾患名＿寛解・院内寛解[[#All],[値]],0),MATCH($AJ$4,阻害要因×疾患名＿寛解・院内寛解[#Headers],0)),0)+IFERROR(INDEX(阻害要因×疾患名＿寛解・院内寛解[#All],MATCH($AI59,阻害要因×疾患名＿寛解・院内寛解[[#All],[値]],0),MATCH($AK$4,阻害要因×疾患名＿寛解・院内寛解[#Headers],0)),0)","v":18},0.30508474576271188,{"$f":"IFERROR(INDEX(阻害要因×疾患名＿寛解・院内寛解[#All],MATCH($AI59,阻害要因×疾患名＿寛解・院内寛解[[#All],[値]],0),MATCH($AL$4,阻害要因×疾患名＿寛解・院内寛解[#Headers],0)),0)","v":9},0.13846153846153847,{"$f":"IFERROR(INDEX(阻害要因×疾患名＿寛解・院内寛解[#All],MATCH($AI59,阻害要因×疾患名＿寛解・院内寛解[[#All],[値]],0),MATCH($AP$4,阻害要因×疾患名＿寛解・院内寛解[#Headers],0)),0)","v":57},0.21509433962264152,{"$f":"IFERROR(INDEX(阻害要因×疾患名＿寛解・院内寛解[#All],MATCH($AI59,阻害要因×疾患名＿寛解・院内寛解[[#All],[値]],0),MATCH($AQ$4,阻害要因×疾患名＿寛解・院内寛解[#Headers],0)),0)+IFERROR(INDEX(阻害要因×疾患名＿寛解・院内寛解[#All],MATCH($AI59,阻害要因×疾患名＿寛解・院内寛解[[#All],[値]],0),MATCH($AR$4,阻害要因×疾患名＿寛解・院内寛解[#Headers],0)),0)","v":14},0.16666666666666666,98,"合計 / 家族から退院に反対がある",57,9,18,5,9,13,5,1,1,1,0,0,0,0,0,0,1,120,null,null,null,null,"合計 / 家族から退院に反対がある"]
[null,"住まいの確保ができない",{"$f":"IFERROR(INDEX(阻害要因×疾患名＿寛解・院内寛解[#All],MATCH($AI60,阻害要因×疾患名＿寛解・院内寛解[[#All],[値]],0),MATCH($AJ$4,阻害要因×疾患名＿寛解・院内寛解[#Headers],0)),0)+IFERROR(INDEX(阻害要因×疾患名＿寛解・院内寛解[#All],MATCH($AI60,阻害要因×疾患名＿寛解・院内寛解[[#All],[値]],0),MATCH($AK$4,阻害要因×疾患名＿寛解・院内寛解[#Headers],0)),0)","v":23},0.38983050847457629,{"$f":"IFERROR(INDEX(阻害要因×疾患名＿寛解・院内寛解[#All],MATCH($AI60,阻害要因×疾患名＿寛解・院内寛解[[#All],[値]],0),MATCH($AL$4,阻害要因×疾患名＿寛解・院内寛解[#Headers],0)),0)","v":24},0.36923076923076925,{"$f":"IFERROR(INDEX(阻害要因×疾患名＿寛解・院内寛解[#All],MATCH($AI60,阻害要因×疾患名＿寛解・院内寛解[[#All],[値]],0),MATCH($AP$4,阻害要因×疾患名＿寛解・院内寛解[#Headers],0)),0)","v":79},0.2981132075471698,{"$f":"IFERROR(INDEX(阻害要因×疾患名＿寛解・院内寛解[#All],MATCH($AI60,阻害要因×疾患名＿寛解・院内寛解[[#All],[値]],0),MATCH($AQ$4,阻害要因×疾患名＿寛解・院内寛解[#Headers],0)),0)+IFERROR(INDEX(阻害要因×疾患名＿寛解・院内寛解[#All],MATCH($AI60,阻害要因×疾患名＿寛解・院内寛解[[#All],[値]],0),MATCH($AR$4,阻害要因×疾患名＿寛解・院内寛解[#Headers],0)),0)","v":15},0.17857142857142858,141,"合計 / 住まいの確保ができない",79,8,28,7,24,20,3,3,0,4,0,0,0,4,0,1,2,183,null,null,null,null,"合計 / 住まいの確保ができない"]
[null,"生活費の確保ができない",{"$f":"IFERROR(INDEX(阻害要因×疾患名＿寛解・院内寛解[#All],MATCH($AI61,阻害要因×疾患名＿寛解・院内寛解[[#All],[値]],0),MATCH($AJ$4,阻害要因×疾患名＿寛解・院内寛解[#Headers],0)),0)+IFERROR(INDEX(阻害要因×疾患名＿寛解・院内寛解[#All],MATCH($AI61,阻害要因×疾患名＿寛解・院内寛解[[#All],[値]],0),MATCH($AK$4,阻害要因×疾患名＿寛解・院内寛解[#Headers],0)),0)","v":3},5.0847457627118647E-2,{"$f":"IFERROR(INDEX(阻害要因×疾患名＿寛解・院内寛解[#All],MATCH($AI61,阻害要因×疾患名＿寛解・院内寛解[[#All],[値]],0),MATCH($AL$4,阻害要因×疾患名＿寛解・院内寛解[#Headers],0)),0)","v":3},4.6153846153846156E-2,{"$f":"IFERROR(INDEX(阻害要因×疾患名＿寛解・院内寛解[#All],MATCH($AI61,阻害要因×疾患名＿寛解・院内寛解[[#All],[値]],0),MATCH($AP$4,阻害要因×疾患名＿寛解・院内寛解[#Headers],0)),0)","v":10},3.7735849056603772E-2,{"$f":"IFERROR(INDEX(阻害要因×疾患名＿寛解・院内寛解[#All],MATCH($AI61,阻害要因×疾患名＿寛解・院内寛解[[#All],[値]],0),MATCH($AQ$4,阻害要因×疾患名＿寛解・院内寛解[#Headers],0)),0)+IFERROR(INDEX(阻害要因×疾患名＿寛解・院内寛解[#All],MATCH($AI61,阻害要因×疾患名＿寛解・院内寛解[[#All],[値]],0),MATCH($AR$4,阻害要因×疾患名＿寛解・院内寛解[#Headers],0)),0)","v":6},7.1428571428571425E-2,22,"合計 / 生活費の確保ができない",10,4,9,2,3,2,1,0,0,1,0,0,0,0,0,1,0,33,null,null,null,null,"合計 / 生活費の確保ができない"]
[null,"日常生活を支える制度がない",{"$f":"IFERROR(INDEX(阻害要因×疾患名＿寛解・院内寛解[#All],MATCH($AI62,阻害要因×疾患名＿寛解・院内寛解[[#All],[値]],0),MATCH($AJ$4,阻害要因×疾患名＿寛解・院内寛解[#Headers],0)),0)+IFERROR(INDEX(阻害要因×疾患名＿寛解・院内寛解[#All],MATCH($AI62,阻害要因×疾患名＿寛解・院内寛解[[#All],[値]],0),MATCH($AK$4,阻害要因×疾患名＿寛解・院内寛解[#Headers],0)),0)","v":2},3.3898305084745763E-2,{"$f":"IFERROR(INDEX(阻害要因×疾患名＿寛解・院内寛解[#All],MATCH($AI62,阻害要因×疾患名＿寛解・院内寛解[[#All],[値]],0),MATCH($AL$4,阻害要因×疾患名＿寛解・院内寛解[#Headers],0)),0)","v":3},4.6153846153846156E-2,{"$f":"IFERROR(INDEX(阻害要因×疾患名＿寛解・院内寛解[#All],MATCH($AI62,阻害要因×疾患名＿寛解・院内寛解[[#All],[値]],0),MATCH($AP$4,阻害要因×疾患名＿寛解・院内寛解[#Headers],0)),0)","v":8},3.0188679245283019E-2,{"$f":"IFERROR(INDEX(阻害要因×疾患名＿寛解・院内寛解[#All],MATCH($AI62,阻害要因×疾患名＿寛解・院内寛解[[#All],[値]],0),MATCH($AQ$4,阻害要因×疾患名＿寛解・院内寛解[#Headers],0)),0)+IFERROR(INDEX(阻害要因×疾患名＿寛解・院内寛解[#All],MATCH($AI62,阻害要因×疾患名＿寛解・院内寛解[[#All],[値]],0),MATCH($AR$4,阻害要因×疾患名＿寛解・院内寛解[#Headers],0)),0)","v":6},7.1428571428571425E-2,19,"合計 / 日常生活を支える制度がない",8,4,3,2,3,2,0,0,0,1,0,0,0,0,0,1,0,24,null,null,null,null,"合計 / 日常生活を支える制度がない"]
[null,"救急診療体制がない",{"$f":"IFERROR(INDEX(阻害要因×疾患名＿寛解・院内寛解[#All],MATCH($AI63,阻害要因×疾患名＿寛解・院内寛解[[#All],[値]],0),MATCH($AJ$4,阻害要因×疾患名＿寛解・院内寛解[#Headers],0)),0)+IFERROR(INDEX(阻害要因×疾患名＿寛解・院内寛解[#All],MATCH($AI63,阻害要因×疾患名＿寛解・院内寛解[[#All],[値]],0),MATCH($AK$4,阻害要因×疾患名＿寛解・院内寛解[#Headers],0)),0)","v":0},0,{"$f":"IFERROR(INDEX(阻害要因×疾患名＿寛解・院内寛解[#All],MATCH($AI63,阻害要因×疾患名＿寛解・院内寛解[[#All],[値]],0),MATCH($AL$4,阻害要因×疾患名＿寛解・院内寛解[#Headers],0)),0)","v":0},0,{"$f":"IFERROR(INDEX(阻害要因×疾患名＿寛解・院内寛解[#All],MATCH($AI63,阻害要因×疾患名＿寛解・院内寛解[[#All],[値]],0),MATCH($AP$4,阻害要因×疾患名＿寛解・院内寛解[#Headers],0)),0)","v":1},3.7735849056603774E-3,{"$f":"IFERROR(INDEX(阻害要因×疾患名＿寛解・院内寛解[#All],MATCH($AI63,阻害要因×疾患名＿寛解・院内寛解[[#All],[値]],0),MATCH($AQ$4,阻害要因×疾患名＿寛解・院内寛解[#Headers],0)),0)+IFERROR(INDEX(阻害要因×疾患名＿寛解・院内寛解[#All],MATCH($AI63,阻害要因×疾患名＿寛解・院内寛解[[#All],[値]],0),MATCH($AR$4,阻害要因×疾患名＿寛解・院内寛解[#Headers],0)),0)","v":0},0,1,"合計 / 救急診療体制がない",1,0,0,0,0,0,0,0,0,0,0,0,0,0,0,0,0,1,null,null,null,null,"合計 / 救急診療体制がない"]
[null,"退院に向けてサポートする人的資源が乏しい",{"$f":"IFERROR(INDEX(阻害要因×疾患名＿寛解・院内寛解[#All],MATCH($AI64,阻害要因×疾患名＿寛解・院内寛解[[#All],[値]],0),MATCH($AJ$4,阻害要因×疾患名＿寛解・院内寛解[#Headers],0)),0)+IFERROR(INDEX(阻害要因×疾患名＿寛解・院内寛解[#All],MATCH($AI64,阻害要因×疾患名＿寛解・院内寛解[[#All],[値]],0),MATCH($AK$4,阻害要因×疾患名＿寛解・院内寛解[#Headers],0)),0)","v":3},5.0847457627118647E-2,{"$f":"IFERROR(INDEX(阻害要因×疾患名＿寛解・院内寛解[#All],MATCH($AI64,阻害要因×疾患名＿寛解・院内寛解[[#All],[値]],0),MATCH($AL$4,阻害要因×疾患名＿寛解・院内寛解[#Headers],0)),0)","v":5},7.6923076923076927E-2,{"$f":"IFERROR(INDEX(阻害要因×疾患名＿寛解・院内寛解[#All],MATCH($AI64,阻害要因×疾患名＿寛解・院内寛解[[#All],[値]],0),MATCH($AP$4,阻害要因×疾患名＿寛解・院内寛解[#Headers],0)),0)","v":21},7.9245283018867921E-2,{"$f":"IFERROR(INDEX(阻害要因×疾患名＿寛解・院内寛解[#All],MATCH($AI64,阻害要因×疾患名＿寛解・院内寛解[[#All],[値]],0),MATCH($AQ$4,阻害要因×疾患名＿寛解・院内寛解[#Headers],0)),0)+IFERROR(INDEX(阻害要因×疾患名＿寛解・院内寛解[#All],MATCH($AI64,阻害要因×疾患名＿寛解・院内寛解[[#All],[値]],0),MATCH($AR$4,阻害要因×疾患名＿寛解・院内寛解[#Headers],0)),0)","v":6},7.1428571428571425E-2,35,"合計 / 退院に向けてサポートする人的資源が乏しい",21,4,7,2,5,3,0,1,0,2,0,0,0,0,0,1,0,46,null,null,null,null,"合計 / 退院に向けてサポートする人的資源が乏しい"]
[null,"退院後サポート・マネジメントする人的資源が乏しい",{"$f":"IFERROR(INDEX(阻害要因×疾患名＿寛解・院内寛解[#All],MATCH($AI65,阻害要因×疾患名＿寛解・院内寛解[[#All],[値]],0),MATCH($AJ$4,阻害要因×疾患名＿寛解・院内寛解[#Headers],0)),0)+IFERROR(INDEX(阻害要因×疾患名＿寛解・院内寛解[#All],MATCH($AI65,阻害要因×疾患名＿寛解・院内寛解[[#All],[値]],0),MATCH($AK$4,阻害要因×疾患名＿寛解・院内寛解[#Headers],0)),0)","v":1},1.6949152542372881E-2,{"$f":"IFERROR(INDEX(阻害要因×疾患名＿寛解・院内寛解[#All],MATCH($AI65,阻害要因×疾患名＿寛解・院内寛解[[#All],[値]],0),MATCH($AL$4,阻害要因×疾患名＿寛解・院内寛解[#Headers],0)),0)","v":6},9.2307692307692313E-2,{"$f":"IFERROR(INDEX(阻害要因×疾患名＿寛解・院内寛解[#All],MATCH($AI65,阻害要因×疾患名＿寛解・院内寛解[[#All],[値]],0),MATCH($AP$4,阻害要因×疾患名＿寛解・院内寛解[#Headers],0)),0)","v":16},6.0377358490566038E-2,{"$f":"IFERROR(INDEX(阻害要因×疾患名＿寛解・院内寛解[#All],MATCH($AI65,阻害要因×疾患名＿寛解・院内寛解[[#All],[値]],0),MATCH($AQ$4,阻害要因×疾患名＿寛解・院内寛解[#Headers],0)),0)+IFERROR(INDEX(阻害要因×疾患名＿寛解・院内寛解[#All],MATCH($AI65,阻害要因×疾患名＿寛解・院内寛解[[#All],[値]],0),MATCH($AR$4,阻害要因×疾患名＿寛解・院内寛解[#Headers],0)),0)","v":3},3.5714285714285712E-2,26,"合計 / 退院後サポート・マネジメントする人的資源が乏しい",16,1,5,2,6,0,1,1,0,0,2,0,0,1,0,1,0,36,null,null,null,null,"合計 / 退院後サポート・マネジメントする人的資源が乏しい"]
[null,"住所地と入院先の距離があり支援体制がとりにくい",{"$f":"IFERROR(INDEX(阻害要因×疾患名＿寛解・院内寛解[#All],MATCH($AI66,阻害要因×疾患名＿寛解・院内寛解[[#All],[値]],0),MATCH($AJ$4,阻害要因×疾患名＿寛解・院内寛解[#Headers],0)),0)+IFERROR(INDEX(阻害要因×疾患名＿寛解・院内寛解[#All],MATCH($AI66,阻害要因×疾患名＿寛解・院内寛解[[#All],[値]],0),MATCH($AK$4,阻害要因×疾患名＿寛解・院内寛解[#Headers],0)),0)","v":0},0,{"$f":"IFERROR(INDEX(阻害要因×疾患名＿寛解・院内寛解[#All],MATCH($AI66,阻害要因×疾患名＿寛解・院内寛解[[#All],[値]],0),MATCH($AL$4,阻害要因×疾患名＿寛解・院内寛解[#Headers],0)),0)","v":2},3.0769230769230771E-2,{"$f":"IFERROR(INDEX(阻害要因×疾患名＿寛解・院内寛解[#All],MATCH($AI66,阻害要因×疾患名＿寛解・院内寛解[[#All],[値]],0),MATCH($AP$4,阻害要因×疾患名＿寛解・院内寛解[#Headers],0)),0)","v":6},2.2641509433962263E-2,{"$f":"IFERROR(INDEX(阻害要因×疾患名＿寛解・院内寛解[#All],MATCH($AI66,阻害要因×疾患名＿寛解・院内寛解[[#All],[値]],0),MATCH($AQ$4,阻害要因×疾患名＿寛解・院内寛解[#Headers],0)),0)+IFERROR(INDEX(阻害要因×疾患名＿寛解・院内寛解[#All],MATCH($AI66,阻害要因×疾患名＿寛解・院内寛解[[#All],[値]],0),MATCH($AR$4,阻害要因×疾患名＿寛解・院内寛解[#Headers],0)),0)","v":2},2.3809523809523808E-2,10,"合計 / 住所地と入院先の距離があり支援体制をとりにくい",6,2,1,0,2,0,0,0,0,0,0,0,0,0,0,0,0,11,null,null,null,null,"合計 / 住所地と入院先の距離があり支援体制をとりにくい"]
[null,"身体的機能や状態を原因としたADLの低下がある",{"$f":"IFERROR(INDEX(阻害要因×疾患名＿寛解・院内寛解[#All],MATCH($AI67,阻害要因×疾患名＿寛解・院内寛解[[#All],[値]],0),MATCH($AJ$4,阻害要因×疾患名＿寛解・院内寛解[#Headers],0)),0)+IFERROR(INDEX(阻害要因×疾患名＿寛解・院内寛解[#All],MATCH($AI67,阻害要因×疾患名＿寛解・院内寛解[[#All],[値]],0),MATCH($AK$4,阻害要因×疾患名＿寛解・院内寛解[#Headers],0)),0)","v":9},{"$f":"IFERROR(C67/C$46,\"-\")","v":0.15254237288135594},{"$f":"IFERROR(INDEX(阻害要因×疾患名＿寛解・院内寛解[#All],MATCH($AI67,阻害要因×疾患名＿寛解・院内寛解[[#All],[値]],0),MATCH($AL$4,阻害要因×疾患名＿寛解・院内寛解[#Headers],0)),0)","v":9},{"$f":"IFERROR(E67/E$46,\"-\")","v":0.13846153846153847},{"$f":"IFERROR(INDEX(阻害要因×疾患名＿寛解・院内寛解[#All],MATCH($AI67,阻害要因×疾患名＿寛解・院内寛解[[#All],[値]],0),MATCH($AP$4,阻害要因×疾患名＿寛解・院内寛解[#Headers],0)),0)","v":11},{"$f":"IFERROR(G67/G$46,\"-\")","v":4.1509433962264149E-2},{"$f":"IFERROR(INDEX(阻害要因×疾患名＿寛解・院内寛解[#All],MATCH($AI67,阻害要因×疾患名＿寛解・院内寛解[[#All],[値]],0),MATCH($AQ$4,阻害要因×疾患名＿寛解・院内寛解[#Headers],0)),0)+IFERROR(INDEX(阻害要因×疾患名＿寛解・院内寛解[#All],MATCH($AI67,阻害要因×疾患名＿寛解・院内寛解[[#All],[値]],0),MATCH($AR$4,阻害要因×疾患名＿寛解・院内寛解[#Headers],0)),0)","v":10},{"$f":"IFERROR(I67/I$46,\"-\")","v":0.11904761904761904},39,"合計 / 身体的機能や状態を原因としたADLの低下がある",11,4,7,6,9,7,2,0,0,5,1,0,0,0,0,1,0,53,null,null,null,null,"合計 / 身体的機能や状態を原因としたADLの低下がある"]
[null,"身体合併症の程度が重いなど身体面のフォローが必要であり、地域での生活が困難",{"$f":"IFERROR(INDEX(阻害要因×疾患名＿寛解・院内寛解[#All],MATCH($AI68,阻害要因×疾患名＿寛解・院内寛解[[#All],[値]],0),MATCH($AJ$4,阻害要因×疾患名＿寛解・院内寛解[#Headers],0)),0)+IFERROR(INDEX(阻害要因×疾患名＿寛解・院内寛解[#All],MATCH($AI68,阻害要因×疾患名＿寛解・院内寛解[[#All],[値]],0),MATCH($AK$4,阻害要因×疾患名＿寛解・院内寛解[#Headers],0)),0)","v":3},5.0847457627118647E-2,{"$f":"IFERROR(INDEX(阻害要因×疾患名＿寛解・院内寛解[#All],MATCH($AI68,阻害要因×疾患名＿寛解・院内寛解[[#All],[値]],0),MATCH($AL$4,阻害要因×疾患名＿寛解・院内寛解[#Headers],0)),0)","v":2},3.0769230769230771E-2,{"$f":"IFERROR(INDEX(阻害要因×疾患名＿寛解・院内寛解[#All],MATCH($AI68,阻害要因×疾患名＿寛解・院内寛解[[#All],[値]],0),MATCH($AP$4,阻害要因×疾患名＿寛解・院内寛解[#Headers],0)),0)","v":8},3.0188679245283019E-2,{"$f":"IFERROR(INDEX(阻害要因×疾患名＿寛解・院内寛解[#All],MATCH($AI68,阻害要因×疾患名＿寛解・院内寛解[[#All],[値]],0),MATCH($AQ$4,阻害要因×疾患名＿寛解・院内寛解[#Headers],0)),0)+IFERROR(INDEX(阻害要因×疾患名＿寛解・院内寛解[#All],MATCH($AI68,阻害要因×疾患名＿寛解・院内寛解[[#All],[値]],0),MATCH($AR$4,阻害要因×疾患名＿寛解・院内寛解[#Headers],0)),0)","v":2},2.3809523809523808E-2,15,"合計 / 身体合併症の程度が重いなど身体面のフォローが必要であり、地域での生活が困難",8,1,2,1,2,3,0,0,0,0,0,0,0,0,0,0,0,17,null,null,null,null,"合計 / 身体合併症の程度が重いなど身体面のフォローが必要であり、地域での生活が困難"]
[null,"その他の退院阻害要因がある",{"$f":"IFERROR(INDEX(阻害要因×疾患名＿寛解・院内寛解[#All],MATCH($AI69,阻害要因×疾患名＿寛解・院内寛解[[#All],[値]],0),MATCH($AJ$4,阻害要因×疾患名＿寛解・院内寛解[#Headers],0)),0)+IFERROR(INDEX(阻害要因×疾患名＿寛解・院内寛解[#All],MATCH($AI69,阻害要因×疾患名＿寛解・院内寛解[[#All],[値]],0),MATCH($AK$4,阻害要因×疾患名＿寛解・院内寛解[#Headers],0)),0)","v":6},0.10169491525423729,{"$f":"IFERROR(INDEX(阻害要因×疾患名＿寛解・院内寛解[#All],MATCH($AI69,阻害要因×疾患名＿寛解・院内寛解[[#All],[値]],0),MATCH($AL$4,阻害要因×疾患名＿寛解・院内寛解[#Headers],0)),0)","v":2},3.0769230769230771E-2,{"$f":"IFERROR(INDEX(阻害要因×疾患名＿寛解・院内寛解[#All],MATCH($AI69,阻害要因×疾患名＿寛解・院内寛解[[#All],[値]],0),MATCH($AP$4,阻害要因×疾患名＿寛解・院内寛解[#Headers],0)),0)","v":7},2.6415094339622643E-2,{"$f":"IFERROR(INDEX(阻害要因×疾患名＿寛解・院内寛解[#All],MATCH($AI69,阻害要因×疾患名＿寛解・院内寛解[[#All],[値]],0),MATCH($AQ$4,阻害要因×疾患名＿寛解・院内寛解[#Headers],0)),0)+IFERROR(INDEX(阻害要因×疾患名＿寛解・院内寛解[#All],MATCH($AI69,阻害要因×疾患名＿寛解・院内寛解[[#All],[値]],0),MATCH($AR$4,阻害要因×疾患名＿寛解・院内寛解[#Headers],0)),0)","v":1},1.1904761904761904E-2,16,"合計 / その他の退院阻害要因がある",7,1,1,0,2,6,0,0,0,0,0,0,0,0,0,1,0,18,null,null,null,null,"合計 / その他の退院阻害要因がある"]

{"sheet":"５-Ⅱ①","index":21,"n_rows":31,"n_cols":50,"rows_kept":31,"cut":false,"hidden":false,"merged":[[1,1,2,1],[1,2,1,11],[2,2,2,3],[2,4,2,5],[2,6,2,7],[2,8,2,9],[2,10,2,11],[17,1,18,1],[17,2,17,11],[18,2,18,3],[18,4,18,5],[18,6,18,7],[18,8,18,9],[18,10,18,11]]}
[null,"【年齢階層×在院期間区分】〔統合失調症、統合失調症型障害及び妄想性障害（F2）〕"]
[null,"年齢階層","在院期間区分",null,null,null,null,null,null,null,null,null,null,null,"データ貼り付け箇所"]
[null,null,"1年未満",null,"1年以上\n5年未満",null,"5年以上\n10年未満",null,"10年以上",null,"合計",null,null,null,"行ラベル","01_1ヶ月未満","02_1ヶ月～3ヶ月未満","03_3ヶ月～6ヶ月未満","04_6ヶ月～1年未満","05_1年～1年6ヶ月未満","06_1年6ヶ月～2年未満","07_2年～3年未満","08_3年～4年未満","09_4年～5年未満","10_5年～6年未満","11_6年～7年未満","12_7年～8年未満","13_8年～9年未満","14_9年～10年未満","15_10年～20年未満","16_ 20年以上","列18",null,null,"01_1ヶ月未満","02_1ヶ月～3ヶ月未満","03_3ヶ月～6ヶ月未満","04_6ヶ月～1年未満","05_1年～1年6ヶ月未満","06_1年6ヶ月～2年未満","07_2年～3年未満","08_3年～4年未満","09_4年～5年未満","10_5年～6年未満","11_6年～7年未満","12_7年～8年未満","13_8年～9年未満","14_9年～10年未満","15_10年～20年未満","16_ 20年以上"]
[null,"19歳以下",{"$f":"IFERROR(INDEX(年齢階層×在院期間区分F2[#All],MATCH($AH4,年齢階層×在院期間区分F2[[#All],[行ラベル]],0),MATCH($AI$3,年齢階層×在院期間区分F2[#Headers],0)),0)+IFERROR(INDEX(年齢階層×在院期間区分F2[#All],MATCH($AH4,年齢階層×在院期間区分F2[[#All],[行ラベル]],0),MATCH($AJ$3,年齢階層×在院期間区分F2[#Headers],0)),0)+IFERROR(INDEX(年齢階層×在院期間区分F2[#All],MATCH($AH4,年齢階層×在院期間区分F2[[#All],[行ラベル]],0),MATCH($AK$3,年齢階層×在院期間区分F2[#Headers],0)),0)+IFERROR(INDEX(年齢階層×在院期間区分F2[#All],MATCH($AH4,年齢階層×在院期間区分F2[[#All],[行ラベル]],0),MATCH($AL$3,年齢階層×在院期間区分F2[#Headers],0)),0)","v":21},{"$f":"IFERROR(C4/$C$13,\"-\")","v":9.7719869706840382E-3},{"$f":"IFERROR(INDEX(年齢階層×在院期間区分F2[#All],MATCH($AH4,年齢階層×在院期間区分F2[[#All],[行ラベル]],0),MATCH($AM$3,年齢階層×在院期間区分F2[#Headers],0)),0)+IFERROR(INDEX(年齢階層×在院期間区分F2[#All],MATCH($AH4,年齢階層×在院期間区分F2[[#All],[行ラベル]],0),MATCH($AN$3,年齢階層×在院期間区分F2[#Headers],0)),0)+IFERROR(INDEX(年齢階層×在院期間区分F2[#All],MATCH($AH4,年齢階層×在院期間区分F2[[#All],[行ラベル]],0),MATCH($AO$3,年齢階層×在院期間区分F2[#Headers],0)),0)+IFERROR(INDEX(年齢階層×在院期間区分F2[#All],MATCH($AH4,年齢階層×在院期間区分F2[[#All],[行ラベル]],0),MATCH($AP$3,年齢階層×在院期間区分F2[#Headers],0)),0)+IFERROR(INDEX(年齢階層×在院期間区分F2[#All],MATCH($AH4,年齢階層×在院期間区分F2[[#All],[行ラベル]],0),MATCH($AQ$3,年齢階層×在院期間区分F2[#Headers],0)),0)","v":0},{"$f":"IFERROR(E4/$E$13,\"-\")","v":0},{"$f":"IFERROR(INDEX(年齢階層×在院期間区分F2[#All],MATCH($AH4,年齢階層×在院期間区分F2[[#All],[行ラベル]],0),MATCH($AR$3,年齢階層×在院期間区分F2[#Headers],0)),0)+IFERROR(INDEX(年齢階層×在院期間区分F2[#All],MATCH($AH4,年齢階層×在院期間区分F2[[#All],[行ラベル]],0),MATCH($AS$3,年齢階層×在院期間区分F2[#Headers],0)),0)+IFERROR(INDEX(年齢階層×在院期間区分F2[#All],MATCH($AH4,年齢階層×在院期間区分F2[[#All],[行ラベル]],0),MATCH($AT$3,年齢階層×在院期間区分F2[#Headers],0)),0)+IFERROR(INDEX(年齢階層×在院期間区分F2[#All],MATCH($AH4,年齢階層×在院期間区分F2[[#All],[行ラベル]],0),MATCH($AU$3,年齢階層×在院期間区分F2[#Headers],0)),0)+IFERROR(INDEX(年齢階層×在院期間区分F2[#All],MATCH($AH4,年齢階層×在院期間区分F2[[#All],[行ラベル]],0),MATCH($AV$3,年齢階層×在院期間区分F2[#Headers],0)),0)","v":0},{"$f":"IFERROR(G4/$G$13,\"-\")","v":0},{"$f":"IFERROR(INDEX(年齢階層×在院期間区分F2[#All],MATCH($AH4,年齢階層×在院期間区分F2[[#All],[行ラベル]],0),MATCH($AW$3,年齢階層×在院期間区分F2[#Headers],0)),0)+IFERROR(INDEX(年齢階層×在院期間区分F2[#All],MATCH($AH4,年齢階層×在院期間区分F2[[#All],[行ラベル]],0),MATCH($AX$3,年齢階層×在院期間区分F2[#Headers],0)),0)","v":0},{"$f":"IFERROR(I4/$I$13,\"-\")","v":0},{"$f":"SUM(C4,E4,G4,I4)","v":21},{"$f":"IFERROR(K4/$K$13,\"-\")","v":3.0250648228176318E-3},null,null,"19歳以下",9,8,4,0,0,0,0,0,0,0,0,0,0,0,0,0,null,null,"19歳以下"]
[null,"20歳代",{"$f":"IFERROR(INDEX(年齢階層×在院期間区分F2[#All],MATCH($AH5,年齢階層×在院期間区分F2[[#All],[行ラベル]],0),MATCH($AI$3,年齢階層×在院期間区分F2[#Headers],0)),0)+IFERROR(INDEX(年齢階層×在院期間区分F2[#All],MATCH($AH5,年齢階層×在院期間区分F2[[#All],[行ラベル]],0),MATCH($AJ$3,年齢階層×在院期間区分F2[#Headers],0)),0)+IFERROR(INDEX(年齢階層×在院期間区分F2[#All],MATCH($AH5,年齢階層×在院期間区分F2[[#All],[行ラベル]],0),MATCH($AK$3,年齢階層×在院期間区分F2[#Headers],0)),0)+IFERROR(INDEX(年齢階層×在院期間区分F2[#All],MATCH($AH5,年齢階層×在院期間区分F2[[#All],[行ラベル]],0),MATCH($AL$3,年齢階層×在院期間区分F2[#Headers],0)),0)","v":93},4.3275942298743604E-2,{"$f":"IFERROR(INDEX(年齢階層×在院期間区分F2[#All],MATCH($AH5,年齢階層×在院期間区分F2[[#All],[行ラベル]],0),MATCH($AM$3,年齢階層×在院期間区分F2[#Headers],0)),0)+IFERROR(INDEX(年齢階層×在院期間区分F2[#All],MATCH($AH5,年齢階層×在院期間区分F2[[#All],[行ラベル]],0),MATCH($AN$3,年齢階層×在院期間区分F2[#Headers],0)),0)+IFERROR(INDEX(年齢階層×在院期間区分F2[#All],MATCH($AH5,年齢階層×在院期間区分F2[[#All],[行ラベル]],0),MATCH($AO$3,年齢階層×在院期間区分F2[#Headers],0)),0)+IFERROR(INDEX(年齢階層×在院期間区分F2[#All],MATCH($AH5,年齢階層×在院期間区分F2[[#All],[行ラベル]],0),MATCH($AP$3,年齢階層×在院期間区分F2[#Headers],0)),0)+IFERROR(INDEX(年齢階層×在院期間区分F2[#All],MATCH($AH5,年齢階層×在院期間区分F2[[#All],[行ラベル]],0),MATCH($AQ$3,年齢階層×在院期間区分F2[#Headers],0)),0)","v":19},1.0270270270270269E-2,{"$f":"IFERROR(INDEX(年齢階層×在院期間区分F2[#All],MATCH($AH5,年齢階層×在院期間区分F2[[#All],[行ラベル]],0),MATCH($AR$3,年齢階層×在院期間区分F2[#Headers],0)),0)+IFERROR(INDEX(年齢階層×在院期間区分F2[#All],MATCH($AH5,年齢階層×在院期間区分F2[[#All],[行ラベル]],0),MATCH($AS$3,年齢階層×在院期間区分F2[#Headers],0)),0)+IFERROR(INDEX(年齢階層×在院期間区分F2[#All],MATCH($AH5,年齢階層×在院期間区分F2[[#All],[行ラベル]],0),MATCH($AT$3,年齢階層×在院期間区分F2[#Headers],0)),0)+IFERROR(INDEX(年齢階層×在院期間区分F2[#All],MATCH($AH5,年齢階層×在院期間区分F2[[#All],[行ラベル]],0),MATCH($AU$3,年齢階層×在院期間区分F2[#Headers],0)),0)+IFERROR(INDEX(年齢階層×在院期間区分F2[#All],MATCH($AH5,年齢階層×在院期間区分F2[[#All],[行ラベル]],0),MATCH($AV$3,年齢階層×在院期間区分F2[#Headers],0)),0)","v":2},1.6313213703099511E-3,{"$f":"IFERROR(INDEX(年齢階層×在院期間区分F2[#All],MATCH($AH5,年齢階層×在院期間区分F2[[#All],[行ラベル]],0),MATCH($AW$3,年齢階層×在院期間区分F2[#Headers],0)),0)+IFERROR(INDEX(年齢階層×在院期間区分F2[#All],MATCH($AH5,年齢階層×在院期間区分F2[[#All],[行ラベル]],0),MATCH($AX$3,年齢階層×在院期間区分F2[#Headers],0)),0)","v":0},0,{"$f":"SUM(C5,E5,G5,I5)","v":114},1.6421780466724288E-2,null,null,"20歳代",29,36,17,11,5,7,2,2,3,0,0,1,1,0,0,0,null,null,"20歳代"]
[null,"30歳代",{"$f":"IFERROR(INDEX(年齢階層×在院期間区分F2[#All],MATCH($AH6,年齢階層×在院期間区分F2[[#All],[行ラベル]],0),MATCH($AI$3,年齢階層×在院期間区分F2[#Headers],0)),0)+IFERROR(INDEX(年齢階層×在院期間区分F2[#All],MATCH($AH6,年齢階層×在院期間区分F2[[#All],[行ラベル]],0),MATCH($AJ$3,年齢階層×在院期間区分F2[#Headers],0)),0)+IFERROR(INDEX(年齢階層×在院期間区分F2[#All],MATCH($AH6,年齢階層×在院期間区分F2[[#All],[行ラベル]],0),MATCH($AK$3,年齢階層×在院期間区分F2[#Headers],0)),0)+IFERROR(INDEX(年齢階層×在院期間区分F2[#All],MATCH($AH6,年齢階層×在院期間区分F2[[#All],[行ラベル]],0),MATCH($AL$3,年齢階層×在院期間区分F2[#Headers],0)),0)","v":184},8.5621219171707771E-2,{"$f":"IFERROR(INDEX(年齢階層×在院期間区分F2[#All],MATCH($AH6,年齢階層×在院期間区分F2[[#All],[行ラベル]],0),MATCH($AM$3,年齢階層×在院期間区分F2[#Headers],0)),0)+IFERROR(INDEX(年齢階層×在院期間区分F2[#All],MATCH($AH6,年齢階層×在院期間区分F2[[#All],[行ラベル]],0),MATCH($AN$3,年齢階層×在院期間区分F2[#Headers],0)),0)+IFERROR(INDEX(年齢階層×在院期間区分F2[#All],MATCH($AH6,年齢階層×在院期間区分F2[[#All],[行ラベル]],0),MATCH($AO$3,年齢階層×在院期間区分F2[#Headers],0)),0)+IFERROR(INDEX(年齢階層×在院期間区分F2[#All],MATCH($AH6,年齢階層×在院期間区分F2[[#All],[行ラベル]],0),MATCH($AP$3,年齢階層×在院期間区分F2[#Headers],0)),0)+IFERROR(INDEX(年齢階層×在院期間区分F2[#All],MATCH($AH6,年齢階層×在院期間区分F2[[#All],[行ラベル]],0),MATCH($AQ$3,年齢階層×在院期間区分F2[#Headers],0)),0)","v":72},3.8918918918918917E-2,{"$f":"IFERROR(INDEX(年齢階層×在院期間区分F2[#All],MATCH($AH6,年齢階層×在院期間区分F2[[#All],[行ラベル]],0),MATCH($AR$3,年齢階層×在院期間区分F2[#Headers],0)),0)+IFERROR(INDEX(年齢階層×在院期間区分F2[#All],MATCH($AH6,年齢階層×在院期間区分F2[[#All],[行ラベル]],0),MATCH($AS$3,年齢階層×在院期間区分F2[#Headers],0)),0)+IFERROR(INDEX(年齢階層×在院期間区分F2[#All],MATCH($AH6,年齢階層×在院期間区分F2[[#All],[行ラベル]],0),MATCH($AT$3,年齢階層×在院期間区分F2[#Headers],0)),0)+IFERROR(INDEX(年齢階層×在院期間区分F2[#All],MATCH($AH6,年齢階層×在院期間区分F2[[#All],[行ラベル]],0),MATCH($AU$3,年齢階層×在院期間区分F2[#Headers],0)),0)+IFERROR(INDEX(年齢階層×在院期間区分F2[#All],MATCH($AH6,年齢階層×在院期間区分F2[[#All],[行ラベル]],0),MATCH($AV$3,年齢階層×在院期間区分F2[#Headers],0)),0)","v":43},3.507340946166395E-2,{"$f":"IFERROR(INDEX(年齢階層×在院期間区分F2[#All],MATCH($AH6,年齢階層×在院期間区分F2[[#All],[行ラベル]],0),MATCH($AW$3,年齢階層×在院期間区分F2[#Headers],0)),0)+IFERROR(INDEX(年齢階層×在院期間区分F2[#All],MATCH($AH6,年齢階層×在院期間区分F2[[#All],[行ラベル]],0),MATCH($AX$3,年齢階層×在院期間区分F2[#Headers],0)),0)","v":27},1.5725101921956901E-2,{"$f":"SUM(C6,E6,G6,I6)","v":326},4.6960530106597523E-2,null,null,"30歳代",57,77,28,22,11,10,16,24,11,13,9,6,12,3,26,1,null,null,"30歳代"]
[null,"40歳代",{"$f":"IFERROR(INDEX(年齢階層×在院期間区分F2[#All],MATCH($AH7,年齢階層×在院期間区分F2[[#All],[行ラベル]],0),MATCH($AI$3,年齢階層×在院期間区分F2[#Headers],0)),0)+IFERROR(INDEX(年齢階層×在院期間区分F2[#All],MATCH($AH7,年齢階層×在院期間区分F2[[#All],[行ラベル]],0),MATCH($AJ$3,年齢階層×在院期間区分F2[#Headers],0)),0)+IFERROR(INDEX(年齢階層×在院期間区分F2[#All],MATCH($AH7,年齢階層×在院期間区分F2[[#All],[行ラベル]],0),MATCH($AK$3,年齢階層×在院期間区分F2[#Headers],0)),0)+IFERROR(INDEX(年齢階層×在院期間区分F2[#All],MATCH($AH7,年齢階層×在院期間区分F2[[#All],[行ラベル]],0),MATCH($AL$3,年齢階層×在院期間区分F2[#Headers],0)),0)","v":347},0.1614704513727315,{"$f":"IFERROR(INDEX(年齢階層×在院期間区分F2[#All],MATCH($AH7,年齢階層×在院期間区分F2[[#All],[行ラベル]],0),MATCH($AM$3,年齢階層×在院期間区分F2[#Headers],0)),0)+IFERROR(INDEX(年齢階層×在院期間区分F2[#All],MATCH($AH7,年齢階層×在院期間区分F2[[#All],[行ラベル]],0),MATCH($AN$3,年齢階層×在院期間区分F2[#Headers],0)),0)+IFERROR(INDEX(年齢階層×在院期間区分F2[#All],MATCH($AH7,年齢階層×在院期間区分F2[[#All],[行ラベル]],0),MATCH($AO$3,年齢階層×在院期間区分F2[#Headers],0)),0)+IFERROR(INDEX(年齢階層×在院期間区分F2[#All],MATCH($AH7,年齢階層×在院期間区分F2[[#All],[行ラベル]],0),MATCH($AP$3,年齢階層×在院期間区分F2[#Headers],0)),0)+IFERROR(INDEX(年齢階層×在院期間区分F2[#All],MATCH($AH7,年齢階層×在院期間区分F2[[#All],[行ラベル]],0),MATCH($AQ$3,年齢階層×在院期間区分F2[#Headers],0)),0)","v":195},0.10540540540540541,{"$f":"IFERROR(INDEX(年齢階層×在院期間区分F2[#All],MATCH($AH7,年齢階層×在院期間区分F2[[#All],[行ラベル]],0),MATCH($AR$3,年齢階層×在院期間区分F2[#Headers],0)),0)+IFERROR(INDEX(年齢階層×在院期間区分F2[#All],MATCH($AH7,年齢階層×在院期間区分F2[[#All],[行ラベル]],0),MATCH($AS$3,年齢階層×在院期間区分F2[#Headers],0)),0)+IFERROR(INDEX(年齢階層×在院期間区分F2[#All],MATCH($AH7,年齢階層×在院期間区分F2[[#All],[行ラベル]],0),MATCH($AT$3,年齢階層×在院期間区分F2[#Headers],0)),0)+IFERROR(INDEX(年齢階層×在院期間区分F2[#All],MATCH($AH7,年齢階層×在院期間区分F2[[#All],[行ラベル]],0),MATCH($AU$3,年齢階層×在院期間区分F2[#Headers],0)),0)+IFERROR(INDEX(年齢階層×在院期間区分F2[#All],MATCH($AH7,年齢階層×在院期間区分F2[[#All],[行ラベル]],0),MATCH($AV$3,年齢階層×在院期間区分F2[#Headers],0)),0)","v":141},0.11500815660685156,{"$f":"IFERROR(INDEX(年齢階層×在院期間区分F2[#All],MATCH($AH7,年齢階層×在院期間区分F2[[#All],[行ラベル]],0),MATCH($AW$3,年齢階層×在院期間区分F2[#Headers],0)),0)+IFERROR(INDEX(年齢階層×在院期間区分F2[#All],MATCH($AH7,年齢階層×在院期間区分F2[[#All],[行ラベル]],0),MATCH($AX$3,年齢階層×在院期間区分F2[#Headers],0)),0)","v":149},8.6779266161910312E-2,832,0.1198501872659176,null,null,"40歳代",112,126,59,50,40,32,52,34,37,37,36,24,27,17,116,33,null,null,"40歳代"]
[null,"50歳代",{"$f":"IFERROR(INDEX(年齢階層×在院期間区分F2[#All],MATCH($AH8,年齢階層×在院期間区分F2[[#All],[行ラベル]],0),MATCH($AI$3,年齢階層×在院期間区分F2[#Headers],0)),0)+IFERROR(INDEX(年齢階層×在院期間区分F2[#All],MATCH($AH8,年齢階層×在院期間区分F2[[#All],[行ラベル]],0),MATCH($AJ$3,年齢階層×在院期間区分F2[#Headers],0)),0)+IFERROR(INDEX(年齢階層×在院期間区分F2[#All],MATCH($AH8,年齢階層×在院期間区分F2[[#All],[行ラベル]],0),MATCH($AK$3,年齢階層×在院期間区分F2[#Headers],0)),0)+IFERROR(INDEX(年齢階層×在院期間区分F2[#All],MATCH($AH8,年齢階層×在院期間区分F2[[#All],[行ラベル]],0),MATCH($AL$3,年齢階層×在院期間区分F2[#Headers],0)),0)","v":511},0.23778501628664495,{"$f":"IFERROR(INDEX(年齢階層×在院期間区分F2[#All],MATCH($AH8,年齢階層×在院期間区分F2[[#All],[行ラベル]],0),MATCH($AM$3,年齢階層×在院期間区分F2[#Headers],0)),0)+IFERROR(INDEX(年齢階層×在院期間区分F2[#All],MATCH($AH8,年齢階層×在院期間区分F2[[#All],[行ラベル]],0),MATCH($AN$3,年齢階層×在院期間区分F2[#Headers],0)),0)+IFERROR(INDEX(年齢階層×在院期間区分F2[#All],MATCH($AH8,年齢階層×在院期間区分F2[[#All],[行ラベル]],0),MATCH($AO$3,年齢階層×在院期間区分F2[#Headers],0)),0)+IFERROR(INDEX(年齢階層×在院期間区分F2[#All],MATCH($AH8,年齢階層×在院期間区分F2[[#All],[行ラベル]],0),MATCH($AP$3,年齢階層×在院期間区分F2[#Headers],0)),0)+IFERROR(INDEX(年齢階層×在院期間区分F2[#All],MATCH($AH8,年齢階層×在院期間区分F2[[#All],[行ラベル]],0),MATCH($AQ$3,年齢階層×在院期間区分F2[#Headers],0)),0)","v":420},0.22702702702702704,{"$f":"IFERROR(INDEX(年齢階層×在院期間区分F2[#All],MATCH($AH8,年齢階層×在院期間区分F2[[#All],[行ラベル]],0),MATCH($AR$3,年齢階層×在院期間区分F2[#Headers],0)),0)+IFERROR(INDEX(年齢階層×在院期間区分F2[#All],MATCH($AH8,年齢階層×在院期間区分F2[[#All],[行ラベル]],0),MATCH($AS$3,年齢階層×在院期間区分F2[#Headers],0)),0)+IFERROR(INDEX(年齢階層×在院期間区分F2[#All],MATCH($AH8,年齢階層×在院期間区分F2[[#All],[行ラベル]],0),MATCH($AT$3,年齢階層×在院期間区分F2[#Headers],0)),0)+IFERROR(INDEX(年齢階層×在院期間区分F2[#All],MATCH($AH8,年齢階層×在院期間区分F2[[#All],[行ラベル]],0),MATCH($AU$3,年齢階層×在院期間区分F2[#Headers],0)),0)+IFERROR(INDEX(年齢階層×在院期間区分F2[#All],MATCH($AH8,年齢階層×在院期間区分F2[[#All],[行ラベル]],0),MATCH($AV$3,年齢階層×在院期間区分F2[#Headers],0)),0)","v":308},0.25122349102773245,{"$f":"IFERROR(INDEX(年齢階層×在院期間区分F2[#All],MATCH($AH8,年齢階層×在院期間区分F2[[#All],[行ラベル]],0),MATCH($AW$3,年齢階層×在院期間区分F2[#Headers],0)),0)+IFERROR(INDEX(年齢階層×在院期間区分F2[#All],MATCH($AH8,年齢階層×在院期間区分F2[[#All],[行ラベル]],0),MATCH($AX$3,年齢階層×在院期間区分F2[#Headers],0)),0)","v":391},0.22772277227722773,1630,0.2348026505329876,null,null,"50歳代",156,147,83,125,63,67,97,105,88,79,54,63,63,49,247,144,null,null,"50歳代"]
[null,"60歳代",{"$f":"IFERROR(INDEX(年齢階層×在院期間区分F2[#All],MATCH($AH9,年齢階層×在院期間区分F2[[#All],[行ラベル]],0),MATCH($AI$3,年齢階層×在院期間区分F2[#Headers],0)),0)+IFERROR(INDEX(年齢階層×在院期間区分F2[#All],MATCH($AH9,年齢階層×在院期間区分F2[[#All],[行ラベル]],0),MATCH($AJ$3,年齢階層×在院期間区分F2[#Headers],0)),0)+IFERROR(INDEX(年齢階層×在院期間区分F2[#All],MATCH($AH9,年齢階層×在院期間区分F2[[#All],[行ラベル]],0),MATCH($AK$3,年齢階層×在院期間区分F2[#Headers],0)),0)+IFERROR(INDEX(年齢階層×在院期間区分F2[#All],MATCH($AH9,年齢階層×在院期間区分F2[[#All],[行ラベル]],0),MATCH($AL$3,年齢階層×在院期間区分F2[#Headers],0)),0)","v":404},0.18799441600744532,{"$f":"IFERROR(INDEX(年齢階層×在院期間区分F2[#All],MATCH($AH9,年齢階層×在院期間区分F2[[#All],[行ラベル]],0),MATCH($AM$3,年齢階層×在院期間区分F2[#Headers],0)),0)+IFERROR(INDEX(年齢階層×在院期間区分F2[#All],MATCH($AH9,年齢階層×在院期間区分F2[[#All],[行ラベル]],0),MATCH($AN$3,年齢階層×在院期間区分F2[#Headers],0)),0)+IFERROR(INDEX(年齢階層×在院期間区分F2[#All],MATCH($AH9,年齢階層×在院期間区分F2[[#All],[行ラベル]],0),MATCH($AO$3,年齢階層×在院期間区分F2[#Headers],0)),0)+IFERROR(INDEX(年齢階層×在院期間区分F2[#All],MATCH($AH9,年齢階層×在院期間区分F2[[#All],[行ラベル]],0),MATCH($AP$3,年齢階層×在院期間区分F2[#Headers],0)),0)+IFERROR(INDEX(年齢階層×在院期間区分F2[#All],MATCH($AH9,年齢階層×在院期間区分F2[[#All],[行ラベル]],0),MATCH($AQ$3,年齢階層×在院期間区分F2[#Headers],0)),0)","v":401},0.21675675675675676,{"$f":"IFERROR(INDEX(年齢階層×在院期間区分F2[#All],MATCH($AH9,年齢階層×在院期間区分F2[[#All],[行ラベル]],0),MATCH($AR$3,年齢階層×在院期間区分F2[#Headers],0)),0)+IFERROR(INDEX(年齢階層×在院期間区分F2[#All],MATCH($AH9,年齢階層×在院期間区分F2[[#All],[行ラベル]],0),MATCH($AS$3,年齢階層×在院期間区分F2[#Headers],0)),0)+IFERROR(INDEX(年齢階層×在院期間区分F2[#All],MATCH($AH9,年齢階層×在院期間区分F2[[#All],[行ラベル]],0),MATCH($AT$3,年齢階層×在院期間区分F2[#Headers],0)),0)+IFERROR(INDEX(年齢階層×在院期間区分F2[#All],MATCH($AH9,年齢階層×在院期間区分F2[[#All],[行ラベル]],0),MATCH($AU$3,年齢階層×在院期間区分F2[#Headers],0)),0)+IFERROR(INDEX(年齢階層×在院期間区分F2[#All],MATCH($AH9,年齢階層×在院期間区分F2[[#All],[行ラベル]],0),MATCH($AV$3,年齢階層×在院期間区分F2[#Headers],0)),0)","v":275},0.22430668841761828,{"$f":"IFERROR(INDEX(年齢階層×在院期間区分F2[#All],MATCH($AH9,年齢階層×在院期間区分F2[[#All],[行ラベル]],0),MATCH($AW$3,年齢階層×在院期間区分F2[#Headers],0)),0)+IFERROR(INDEX(年齢階層×在院期間区分F2[#All],MATCH($AH9,年齢階層×在院期間区分F2[[#All],[行ラベル]],0),MATCH($AX$3,年齢階層×在院期間区分F2[#Headers],0)),0)","v":425},0.24752475247524752,1505,0.21679631230193028,null,null,"60歳代",112,131,74,87,62,59,100,102,78,76,60,49,52,38,267,158,null,null,"60歳代"]
[null,"70歳代",{"$f":"IFERROR(INDEX(年齢階層×在院期間区分F2[#All],MATCH($AH10,年齢階層×在院期間区分F2[[#All],[行ラベル]],0),MATCH($AI$3,年齢階層×在院期間区分F2[#Headers],0)),0)+IFERROR(INDEX(年齢階層×在院期間区分F2[#All],MATCH($AH10,年齢階層×在院期間区分F2[[#All],[行ラベル]],0),MATCH($AJ$3,年齢階層×在院期間区分F2[#Headers],0)),0)+IFERROR(INDEX(年齢階層×在院期間区分F2[#All],MATCH($AH10,年齢階層×在院期間区分F2[[#All],[行ラベル]],0),MATCH($AK$3,年齢階層×在院期間区分F2[#Headers],0)),0)+IFERROR(INDEX(年齢階層×在院期間区分F2[#All],MATCH($AH10,年齢階層×在院期間区分F2[[#All],[行ラベル]],0),MATCH($AL$3,年齢階層×在院期間区分F2[#Headers],0)),0)","v":385},0.17915309446254071,{"$f":"IFERROR(INDEX(年齢階層×在院期間区分F2[#All],MATCH($AH10,年齢階層×在院期間区分F2[[#All],[行ラベル]],0),MATCH($AM$3,年齢階層×在院期間区分F2[#Headers],0)),0)+IFERROR(INDEX(年齢階層×在院期間区分F2[#All],MATCH($AH10,年齢階層×在院期間区分F2[[#All],[行ラベル]],0),MATCH($AN$3,年齢階層×在院期間区分F2[#Headers],0)),0)+IFERROR(INDEX(年齢階層×在院期間区分F2[#All],MATCH($AH10,年齢階層×在院期間区分F2[[#All],[行ラベル]],0),MATCH($AO$3,年齢階層×在院期間区分F2[#Headers],0)),0)+IFERROR(INDEX(年齢階層×在院期間区分F2[#All],MATCH($AH10,年齢階層×在院期間区分F2[[#All],[行ラベル]],0),MATCH($AP$3,年齢階層×在院期間区分F2[#Headers],0)),0)+IFERROR(INDEX(年齢階層×在院期間区分F2[#All],MATCH($AH10,年齢階層×在院期間区分F2[[#All],[行ラベル]],0),MATCH($AQ$3,年齢階層×在院期間区分F2[#Headers],0)),0)","v":477},0.25783783783783781,{"$f":"IFERROR(INDEX(年齢階層×在院期間区分F2[#All],MATCH($AH10,年齢階層×在院期間区分F2[[#All],[行ラベル]],0),MATCH($AR$3,年齢階層×在院期間区分F2[#Headers],0)),0)+IFERROR(INDEX(年齢階層×在院期間区分F2[#All],MATCH($AH10,年齢階層×在院期間区分F2[[#All],[行ラベル]],0),MATCH($AS$3,年齢階層×在院期間区分F2[#Headers],0)),0)+IFERROR(INDEX(年齢階層×在院期間区分F2[#All],MATCH($AH10,年齢階層×在院期間区分F2[[#All],[行ラベル]],0),MATCH($AT$3,年齢階層×在院期間区分F2[#Headers],0)),0)+IFERROR(INDEX(年齢階層×在院期間区分F2[#All],MATCH($AH10,年齢階層×在院期間区分F2[[#All],[行ラベル]],0),MATCH($AU$3,年齢階層×在院期間区分F2[#Headers],0)),0)+IFERROR(INDEX(年齢階層×在院期間区分F2[#All],MATCH($AH10,年齢階層×在院期間区分F2[[#All],[行ラベル]],0),MATCH($AV$3,年齢階層×在院期間区分F2[#Headers],0)),0)","v":312},0.25448613376835238,{"$f":"IFERROR(INDEX(年齢階層×在院期間区分F2[#All],MATCH($AH10,年齢階層×在院期間区分F2[[#All],[行ラベル]],0),MATCH($AW$3,年齢階層×在院期間区分F2[#Headers],0)),0)+IFERROR(INDEX(年齢階層×在院期間区分F2[#All],MATCH($AH10,年齢階層×在院期間区分F2[[#All],[行ラベル]],0),MATCH($AX$3,年齢階層×在院期間区分F2[#Headers],0)),0)","v":508},0.29586488060570765,1682,0.24229328723710747,null,null,"70歳代",57,113,98,117,78,68,123,113,95,87,69,56,52,48,262,246,null,null,"70歳代"]
[null,"80歳代",{"$f":"IFERROR(INDEX(年齢階層×在院期間区分F2[#All],MATCH($AH11,年齢階層×在院期間区分F2[[#All],[行ラベル]],0),MATCH($AI$3,年齢階層×在院期間区分F2[#Headers],0)),0)+IFERROR(INDEX(年齢階層×在院期間区分F2[#All],MATCH($AH11,年齢階層×在院期間区分F2[[#All],[行ラベル]],0),MATCH($AJ$3,年齢階層×在院期間区分F2[#Headers],0)),0)+IFERROR(INDEX(年齢階層×在院期間区分F2[#All],MATCH($AH11,年齢階層×在院期間区分F2[[#All],[行ラベル]],0),MATCH($AK$3,年齢階層×在院期間区分F2[#Headers],0)),0)+IFERROR(INDEX(年齢階層×在院期間区分F2[#All],MATCH($AH11,年齢階層×在院期間区分F2[[#All],[行ラベル]],0),MATCH($AL$3,年齢階層×在院期間区分F2[#Headers],0)),0)","v":183},8.5155886458818053E-2,{"$f":"IFERROR(INDEX(年齢階層×在院期間区分F2[#All],MATCH($AH11,年齢階層×在院期間区分F2[[#All],[行ラベル]],0),MATCH($AM$3,年齢階層×在院期間区分F2[#Headers],0)),0)+IFERROR(INDEX(年齢階層×在院期間区分F2[#All],MATCH($AH11,年齢階層×在院期間区分F2[[#All],[行ラベル]],0),MATCH($AN$3,年齢階層×在院期間区分F2[#Headers],0)),0)+IFERROR(INDEX(年齢階層×在院期間区分F2[#All],MATCH($AH11,年齢階層×在院期間区分F2[[#All],[行ラベル]],0),MATCH($AO$3,年齢階層×在院期間区分F2[#Headers],0)),0)+IFERROR(INDEX(年齢階層×在院期間区分F2[#All],MATCH($AH11,年齢階層×在院期間区分F2[[#All],[行ラベル]],0),MATCH($AP$3,年齢階層×在院期間区分F2[#Headers],0)),0)+IFERROR(INDEX(年齢階層×在院期間区分F2[#All],MATCH($AH11,年齢階層×在院期間区分F2[[#All],[行ラベル]],0),MATCH($AQ$3,年齢階層×在院期間区分F2[#Headers],0)),0)","v":240},0.12972972972972974,{"$f":"IFERROR(INDEX(年齢階層×在院期間区分F2[#All],MATCH($AH11,年齢階層×在院期間区分F2[[#All],[行ラベル]],0),MATCH($AR$3,年齢階層×在院期間区分F2[#Headers],0)),0)+IFERROR(INDEX(年齢階層×在院期間区分F2[#All],MATCH($AH11,年齢階層×在院期間区分F2[[#All],[行ラベル]],0),MATCH($AS$3,年齢階層×在院期間区分F2[#Headers],0)),0)+IFERROR(INDEX(年齢階層×在院期間区分F2[#All],MATCH($AH11,年齢階層×在院期間区分F2[[#All],[行ラベル]],0),MATCH($AT$3,年齢階層×在院期間区分F2[#Headers],0)),0)+IFERROR(INDEX(年齢階層×在院期間区分F2[#All],MATCH($AH11,年齢階層×在院期間区分F2[[#All],[行ラベル]],0),MATCH($AU$3,年齢階層×在院期間区分F2[#Headers],0)),0)+IFERROR(INDEX(年齢階層×在院期間区分F2[#All],MATCH($AH11,年齢階層×在院期間区分F2[[#All],[行ラベル]],0),MATCH($AV$3,年齢階層×在院期間区分F2[#Headers],0)),0)","v":130},0.10603588907014681,{"$f":"IFERROR(INDEX(年齢階層×在院期間区分F2[#All],MATCH($AH11,年齢階層×在院期間区分F2[[#All],[行ラベル]],0),MATCH($AW$3,年齢階層×在院期間区分F2[#Headers],0)),0)+IFERROR(INDEX(年齢階層×在院期間区分F2[#All],MATCH($AH11,年齢階層×在院期間区分F2[[#All],[行ラベル]],0),MATCH($AX$3,年齢階層×在院期間区分F2[#Headers],0)),0)","v":191},0.11124053581828772,744,0.10717372515125324,null,null,"80歳代",38,56,37,52,36,43,59,51,51,47,26,21,20,16,97,94,null,null,"80歳代"]
[null,"90歳以上",{"$f":"IFERROR(INDEX(年齢階層×在院期間区分F2[#All],MATCH($AH12,年齢階層×在院期間区分F2[[#All],[行ラベル]],0),MATCH($AI$3,年齢階層×在院期間区分F2[#Headers],0)),0)+IFERROR(INDEX(年齢階層×在院期間区分F2[#All],MATCH($AH12,年齢階層×在院期間区分F2[[#All],[行ラベル]],0),MATCH($AJ$3,年齢階層×在院期間区分F2[#Headers],0)),0)+IFERROR(INDEX(年齢階層×在院期間区分F2[#All],MATCH($AH12,年齢階層×在院期間区分F2[[#All],[行ラベル]],0),MATCH($AK$3,年齢階層×在院期間区分F2[#Headers],0)),0)+IFERROR(INDEX(年齢階層×在院期間区分F2[#All],MATCH($AH12,年齢階層×在院期間区分F2[[#All],[行ラベル]],0),MATCH($AL$3,年齢階層×在院期間区分F2[#Headers],0)),0)","v":21},9.7719869706840382E-3,{"$f":"IFERROR(INDEX(年齢階層×在院期間区分F2[#All],MATCH($AH12,年齢階層×在院期間区分F2[[#All],[行ラベル]],0),MATCH($AM$3,年齢階層×在院期間区分F2[#Headers],0)),0)+IFERROR(INDEX(年齢階層×在院期間区分F2[#All],MATCH($AH12,年齢階層×在院期間区分F2[[#All],[行ラベル]],0),MATCH($AN$3,年齢階層×在院期間区分F2[#Headers],0)),0)+IFERROR(INDEX(年齢階層×在院期間区分F2[#All],MATCH($AH12,年齢階層×在院期間区分F2[[#All],[行ラベル]],0),MATCH($AO$3,年齢階層×在院期間区分F2[#Headers],0)),0)+IFERROR(INDEX(年齢階層×在院期間区分F2[#All],MATCH($AH12,年齢階層×在院期間区分F2[[#All],[行ラベル]],0),MATCH($AP$3,年齢階層×在院期間区分F2[#Headers],0)),0)+IFERROR(INDEX(年齢階層×在院期間区分F2[#All],MATCH($AH12,年齢階層×在院期間区分F2[[#All],[行ラベル]],0),MATCH($AQ$3,年齢階層×在院期間区分F2[#Headers],0)),0)","v":26},1.4054054054054054E-2,{"$f":"IFERROR(INDEX(年齢階層×在院期間区分F2[#All],MATCH($AH12,年齢階層×在院期間区分F2[[#All],[行ラベル]],0),MATCH($AR$3,年齢階層×在院期間区分F2[#Headers],0)),0)+IFERROR(INDEX(年齢階層×在院期間区分F2[#All],MATCH($AH12,年齢階層×在院期間区分F2[[#All],[行ラベル]],0),MATCH($AS$3,年齢階層×在院期間区分F2[#Headers],0)),0)+IFERROR(INDEX(年齢階層×在院期間区分F2[#All],MATCH($AH12,年齢階層×在院期間区分F2[[#All],[行ラベル]],0),MATCH($AT$3,年齢階層×在院期間区分F2[#Headers],0)),0)+IFERROR(INDEX(年齢階層×在院期間区分F2[#All],MATCH($AH12,年齢階層×在院期間区分F2[[#All],[行ラベル]],0),MATCH($AU$3,年齢階層×在院期間区分F2[#Headers],0)),0)+IFERROR(INDEX(年齢階層×在院期間区分F2[#All],MATCH($AH12,年齢階層×在院期間区分F2[[#All],[行ラベル]],0),MATCH($AV$3,年齢階層×在院期間区分F2[#Headers],0)),0)","v":15},1.2234910277324634E-2,{"$f":"IFERROR(INDEX(年齢階層×在院期間区分F2[#All],MATCH($AH12,年齢階層×在院期間区分F2[[#All],[行ラベル]],0),MATCH($AW$3,年齢階層×在院期間区分F2[#Headers],0)),0)+IFERROR(INDEX(年齢階層×在院期間区分F2[#All],MATCH($AH12,年齢階層×在院期間区分F2[[#All],[行ラベル]],0),MATCH($AX$3,年齢階層×在院期間区分F2[#Headers],0)),0)","v":26},1.5142690739662202E-2,88,1.2676462114664363E-2,null,null,"90歳以上",2,8,3,8,2,8,4,5,7,5,2,5,1,2,12,14,null,null,"90歳以上"]
[null,"　総計",{"$f":"SUM(C4:C12)","v":2149},{"$f":"SUM(D4:D12)","v":1},{"$f":"SUM(E4:E12)","v":1850},0.99999999999999989,{"$f":"SUM(G4:G12)","v":1226},1,{"$f":"SUM(I4:I12)","v":1717},1,{"$f":"SUM(K4:K12)","v":6942},0.99999999999999989,null,null,"列1","01_1ヶ月未満","02_1ヶ月～3ヶ月未満","03_3ヶ月～6ヶ月未満","04_6ヶ月～1年未満","05_1年～1年6ヶ月未満","06_1年6ヶ月～2年未満","07_2年～3年未満","08_3年～4年未満","09_4年～5年未満","10_5年～6年未満","11_6年～7年未満","12_7年～8年未満","13_8年～9年未満","14_9年～10年未満","15_10年～20年未満","16_ 20年以上","列18"]
[null,"65歳未満（再掲）",{"$f":"IFERROR(INDEX(年齢階層×在院期間区分F2_65歳未満以上[#All],MATCH($AH14,年齢階層×在院期間区分F2_65歳未満以上[[#All],[列1]],0),MATCH($AI$3,年齢階層×在院期間区分F2_65歳未満以上[#Headers],0)),0)+IFERROR(INDEX(年齢階層×在院期間区分F2_65歳未満以上[#All],MATCH($AH14,年齢階層×在院期間区分F2_65歳未満以上[[#All],[列1]],0),MATCH($AJ$3,年齢階層×在院期間区分F2_65歳未満以上[#Headers],0)),0)+IFERROR(INDEX(年齢階層×在院期間区分F2_65歳未満以上[#All],MATCH($AH14,年齢階層×在院期間区分F2_65歳未満以上[[#All],[列1]],0),MATCH($AK$3,年齢階層×在院期間区分F2_65歳未満以上[#Headers],0)),0)+IFERROR(INDEX(年齢階層×在院期間区分F2_65歳未満以上[#All],MATCH($AH14,年齢階層×在院期間区分F2_65歳未満以上[[#All],[列1]],0),MATCH($AL$3,年齢階層×在院期間区分F2_65歳未満以上[#Headers],0)),0)","v":1365},{"$f":"IFERROR(C14/$C$13,\"-\")","v":0.63517915309446249},{"$f":"IFERROR(INDEX(年齢階層×在院期間区分F2_65歳未満以上[#All],MATCH($AH14,年齢階層×在院期間区分F2_65歳未満以上[[#All],[列1]],0),MATCH($AM$3,年齢階層×在院期間区分F2_65歳未満以上[#Headers],0)),0)+IFERROR(INDEX(年齢階層×在院期間区分F2_65歳未満以上[#All],MATCH($AH14,年齢階層×在院期間区分F2_65歳未満以上[[#All],[列1]],0),MATCH($AN$3,年齢階層×在院期間区分F2_65歳未満以上[#Headers],0)),0)+IFERROR(INDEX(年齢階層×在院期間区分F2_65歳未満以上[#All],MATCH($AH14,年齢階層×在院期間区分F2_65歳未満以上[[#All],[列1]],0),MATCH($AO$3,年齢階層×在院期間区分F2_65歳未満以上[#Headers],0)),0)+IFERROR(INDEX(年齢階層×在院期間区分F2_65歳未満以上[#All],MATCH($AH14,年齢階層×在院期間区分F2_65歳未満以上[[#All],[列1]],0),MATCH($AP$3,年齢階層×在院期間区分F2_65歳未満以上[#Headers],0)),0)+IFERROR(INDEX(年齢階層×在院期間区分F2_65歳未満以上[#All],MATCH($AH14,年齢階層×在院期間区分F2_65歳未満以上[[#All],[列1]],0),MATCH($AQ$3,年齢階層×在院期間区分F2_65歳未満以上[#Headers],0)),0)","v":915},{"$f":"IFERROR(E14/$E$13,\"-\")","v":0.49459459459459459},{"$f":"IFERROR(INDEX(年齢階層×在院期間区分F2_65歳未満以上[#All],MATCH($AH14,年齢階層×在院期間区分F2_65歳未満以上[[#All],[列1]],0),MATCH($AR$3,年齢階層×在院期間区分F2_65歳未満以上[#Headers],0)),0)+IFERROR(INDEX(年齢階層×在院期間区分F2_65歳未満以上[#All],MATCH($AH14,年齢階層×在院期間区分F2_65歳未満以上[[#All],[列1]],0),MATCH($AS$3,年齢階層×在院期間区分F2_65歳未満以上[#Headers],0)),0)+IFERROR(INDEX(年齢階層×在院期間区分F2_65歳未満以上[#All],MATCH($AH14,年齢階層×在院期間区分F2_65歳未満以上[[#All],[列1]],0),MATCH($AT$3,年齢階層×在院期間区分F2_65歳未満以上[#Headers],0)),0)+IFERROR(INDEX(年齢階層×在院期間区分F2_65歳未満以上[#All],MATCH($AH14,年齢階層×在院期間区分F2_65歳未満以上[[#All],[列1]],0),MATCH($AU$3,年齢階層×在院期間区分F2_65歳未満以上[#Headers],0)),0)+IFERROR(INDEX(年齢階層×在院期間区分F2_65歳未満以上[#All],MATCH($AH14,年齢階層×在院期間区分F2_65歳未満以上[[#All],[列1]],0),MATCH($AV$3,年齢階層×在院期間区分F2_65歳未満以上[#Headers],0)),0)","v":641},{"$f":"IFERROR(G14/$G$13,\"-\")","v":0.52283849918433933},{"$f":"IFERROR(INDEX(年齢階層×在院期間区分F2_65歳未満以上[#All],MATCH($AH14,年齢階層×在院期間区分F2_65歳未満以上[[#All],[列1]],0),MATCH($AW$3,年齢階層×在院期間区分F2_65歳未満以上[#Headers],0)),0)+IFERROR(INDEX(年齢階層×在院期間区分F2_65歳未満以上[#All],MATCH($AH14,年齢階層×在院期間区分F2_65歳未満以上[[#All],[列1]],0),MATCH($AX$3,年齢階層×在院期間区分F2_65歳未満以上[#Headers],0)),0)","v":796},{"$f":"IFERROR(I14/$I$13,\"-\")","v":0.46359930110658126},{"$f":"C14+E14+G14+I14","v":3717},{"$f":"IFERROR(K14/$K$13,\"-\")","v":0.53543647363872082},null,null,"65歳未満",426,465,226,248,153,144,221,218,179,175,129,118,134,85,538,258,null,null,"65歳未満"]
[null,"65歳以上（再掲）",{"$f":"IFERROR(INDEX(年齢階層×在院期間区分F2_65歳未満以上[#All],MATCH($AH15,年齢階層×在院期間区分F2_65歳未満以上[[#All],[列1]],0),MATCH($AI$3,年齢階層×在院期間区分F2_65歳未満以上[#Headers],0)),0)+IFERROR(INDEX(年齢階層×在院期間区分F2_65歳未満以上[#All],MATCH($AH15,年齢階層×在院期間区分F2_65歳未満以上[[#All],[列1]],0),MATCH($AJ$3,年齢階層×在院期間区分F2_65歳未満以上[#Headers],0)),0)+IFERROR(INDEX(年齢階層×在院期間区分F2_65歳未満以上[#All],MATCH($AH15,年齢階層×在院期間区分F2_65歳未満以上[[#All],[列1]],0),MATCH($AK$3,年齢階層×在院期間区分F2_65歳未満以上[#Headers],0)),0)+IFERROR(INDEX(年齢階層×在院期間区分F2_65歳未満以上[#All],MATCH($AH15,年齢階層×在院期間区分F2_65歳未満以上[[#All],[列1]],0),MATCH($AL$3,年齢階層×在院期間区分F2_65歳未満以上[#Headers],0)),0)","v":784},{"$f":"IFERROR(C15/$C$13,\"-\")","v":0.36482084690553745},{"$f":"IFERROR(INDEX(年齢階層×在院期間区分F2_65歳未満以上[#All],MATCH($AH15,年齢階層×在院期間区分F2_65歳未満以上[[#All],[列1]],0),MATCH($AM$3,年齢階層×在院期間区分F2_65歳未満以上[#Headers],0)),0)+IFERROR(INDEX(年齢階層×在院期間区分F2_65歳未満以上[#All],MATCH($AH15,年齢階層×在院期間区分F2_65歳未満以上[[#All],[列1]],0),MATCH($AN$3,年齢階層×在院期間区分F2_65歳未満以上[#Headers],0)),0)+IFERROR(INDEX(年齢階層×在院期間区分F2_65歳未満以上[#All],MATCH($AH15,年齢階層×在院期間区分F2_65歳未満以上[[#All],[列1]],0),MATCH($AO$3,年齢階層×在院期間区分F2_65歳未満以上[#Headers],0)),0)+IFERROR(INDEX(年齢階層×在院期間区分F2_65歳未満以上[#All],MATCH($AH15,年齢階層×在院期間区分F2_65歳未満以上[[#All],[列1]],0),MATCH($AP$3,年齢階層×在院期間区分F2_65歳未満以上[#Headers],0)),0)+IFERROR(INDEX(年齢階層×在院期間区分F2_65歳未満以上[#All],MATCH($AH15,年齢階層×在院期間区分F2_65歳未満以上[[#All],[列1]],0),MATCH($AQ$3,年齢階層×在院期間区分F2_65歳未満以上[#Headers],0)),0)","v":935},{"$f":"IFERROR(E15/$E$13,\"-\")","v":0.50540540540540535},{"$f":"IFERROR(INDEX(年齢階層×在院期間区分F2_65歳未満以上[#All],MATCH($AH15,年齢階層×在院期間区分F2_65歳未満以上[[#All],[列1]],0),MATCH($AR$3,年齢階層×在院期間区分F2_65歳未満以上[#Headers],0)),0)+IFERROR(INDEX(年齢階層×在院期間区分F2_65歳未満以上[#All],MATCH($AH15,年齢階層×在院期間区分F2_65歳未満以上[[#All],[列1]],0),MATCH($AS$3,年齢階層×在院期間区分F2_65歳未満以上[#Headers],0)),0)+IFERROR(INDEX(年齢階層×在院期間区分F2_65歳未満以上[#All],MATCH($AH15,年齢階層×在院期間区分F2_65歳未満以上[[#All],[列1]],0),MATCH($AT$3,年齢階層×在院期間区分F2_65歳未満以上[#Headers],0)),0)+IFERROR(INDEX(年齢階層×在院期間区分F2_65歳未満以上[#All],MATCH($AH15,年齢階層×在院期間区分F2_65歳未満以上[[#All],[列1]],0),MATCH($AU$3,年齢階層×在院期間区分F2_65歳未満以上[#Headers],0)),0)+IFERROR(INDEX(年齢階層×在院期間区分F2_65歳未満以上[#All],MATCH($AH15,年齢階層×在院期間区分F2_65歳未満以上[[#All],[列1]],0),MATCH($AV$3,年齢階層×在院期間区分F2_65歳未満以上[#Headers],0)),0)","v":585},{"$f":"IFERROR(G15/$G$13,\"-\")","v":0.47716150081566067},{"$f":"IFERROR(INDEX(年齢階層×在院期間区分F2_65歳未満以上[#All],MATCH($AH15,年齢階層×在院期間区分F2_65歳未満以上[[#All],[列1]],0),MATCH($AW$3,年齢階層×在院期間区分F2_65歳未満以上[#Headers],0)),0)+IFERROR(INDEX(年齢階層×在院期間区分F2_65歳未満以上[#All],MATCH($AH15,年齢階層×在院期間区分F2_65歳未満以上[[#All],[列1]],0),MATCH($AX$3,年齢階層×在院期間区分F2_65歳未満以上[#Headers],0)),0)","v":921},{"$f":"IFERROR(I15/$I$13,\"-\")","v":0.53640069889341879},{"$f":"C15+E15+G15+I15","v":3225},{"$f":"IFERROR(K15/$K$13,\"-\")","v":0.46456352636127918},null,null,"65歳以上",146,237,177,224,144,150,232,218,191,169,127,107,94,88,489,432,null,null,"65歳以上"]
[]
[null,"【年齢階層×在院期間区分】〔統合失調症、統合失調症型障害及び妄想性障害（F2）〕&〔寛解・院内寛解群〕"]
[null,"年齢階層","在院期間区分",null,null,null,null,null,null,null,null,null,null,null,"データ貼り付け箇所"]
[null,null,"1年未満",null,"1年以上\n5年未満",null,"5年以上\n10年未満",null,"10年以上",null,"合計",null,null,null,"行ラベル","01_1ヶ月未満","02_1ヶ月～3ヶ月未満","03_3ヶ月～6ヶ月未満","04_6ヶ月～1年未満","05_1年～1年6ヶ月未満","06_1年6ヶ月～2年未満","07_2年～3年未満","08_3年～4年未満","09_4年～5年未満","10_5年～6年未満","11_6年～7年未満","12_7年～8年未満","13_8年～9年未満","14_9年～10年未満","15_10年～20年未満","16_ 20年以上"]
[null,"19歳以下",{"$f":"IFERROR(INDEX(年齢階層×在院期間区分F2＿寛解・院内寛解[#All],MATCH($AH4,年齢階層×在院期間区分F2＿寛解・院内寛解[[#All],[行ラベル]],0),MATCH($AI$3,年齢階層×在院期間区分F2＿寛解・院内寛解[#Headers],0)),0)+IFERROR(INDEX(年齢階層×在院期間区分F2＿寛解・院内寛解[#All],MATCH($AH4,年齢階層×在院期間区分F2＿寛解・院内寛解[[#All],[行ラベル]],0),MATCH($AJ$3,年齢階層×在院期間区分F2＿寛解・院内寛解[#Headers],0)),0)+IFERROR(INDEX(年齢階層×在院期間区分F2＿寛解・院内寛解[#All],MATCH($AH4,年齢階層×在院期間区分F2＿寛解・院内寛解[[#All],[行ラベル]],0),MATCH($AK$3,年齢階層×在院期間区分F2＿寛解・院内寛解[#Headers],0)),0)+IFERROR(INDEX(年齢階層×在院期間区分F2＿寛解・院内寛解[#All],MATCH($AH4,年齢階層×在院期間区分F2＿寛解・院内寛解[[#All],[行ラベル]],0),MATCH($AL$3,年齢階層×在院期間区分F2＿寛解・院内寛解[#Headers],0)),0)","v":8},{"$f":"IFERROR(C20/$C$29,\"-\")","v":2.1505376344086023E-2},{"$f":"IFERROR(INDEX(年齢階層×在院期間区分F2＿寛解・院内寛解[#All],MATCH($AH4,年齢階層×在院期間区分F2＿寛解・院内寛解[[#All],[行ラベル]],0),MATCH($AM$3,年齢階層×在院期間区分F2＿寛解・院内寛解[#Headers],0)),0)+IFERROR(INDEX(年齢階層×在院期間区分F2＿寛解・院内寛解[#All],MATCH($AH4,年齢階層×在院期間区分F2＿寛解・院内寛解[[#All],[行ラベル]],0),MATCH($AN$3,年齢階層×在院期間区分F2＿寛解・院内寛解[#Headers],0)),0)+IFERROR(INDEX(年齢階層×在院期間区分F2＿寛解・院内寛解[#All],MATCH($AH4,年齢階層×在院期間区分F2＿寛解・院内寛解[[#All],[行ラベル]],0),MATCH($AO$3,年齢階層×在院期間区分F2＿寛解・院内寛解[#Headers],0)),0)+IFERROR(INDEX(年齢階層×在院期間区分F2＿寛解・院内寛解[#All],MATCH($AH4,年齢階層×在院期間区分F2＿寛解・院内寛解[[#All],[行ラベル]],0),MATCH($AP$3,年齢階層×在院期間区分F2＿寛解・院内寛解[#Headers],0)),0)+IFERROR(INDEX(年齢階層×在院期間区分F2＿寛解・院内寛解[#All],MATCH($AH4,年齢階層×在院期間区分F2＿寛解・院内寛解[[#All],[行ラベル]],0),MATCH($AQ$3,年齢階層×在院期間区分F2＿寛解・院内寛解[#Headers],0)),0)","v":0},{"$f":"IFERROR(E20/$E$29,\"-\")","v":0},{"$f":"IFERROR(INDEX(年齢階層×在院期間区分F2＿寛解・院内寛解[#All],MATCH($AH4,年齢階層×在院期間区分F2＿寛解・院内寛解[[#All],[行ラベル]],0),MATCH($AR$3,年齢階層×在院期間区分F2＿寛解・院内寛解[#Headers],0)),0)+IFERROR(INDEX(年齢階層×在院期間区分F2＿寛解・院内寛解[#All],MATCH($AH4,年齢階層×在院期間区分F2＿寛解・院内寛解[[#All],[行ラベル]],0),MATCH($AS$3,年齢階層×在院期間区分F2＿寛解・院内寛解[#Headers],0)),0)+IFERROR(INDEX(年齢階層×在院期間区分F2＿寛解・院内寛解[#All],MATCH($AH4,年齢階層×在院期間区分F2＿寛解・院内寛解[[#All],[行ラベル]],0),MATCH($AT$3,年齢階層×在院期間区分F2＿寛解・院内寛解[#Headers],0)),0)+IFERROR(INDEX(年齢階層×在院期間区分F2＿寛解・院内寛解[#All],MATCH($AH4,年齢階層×在院期間区分F2＿寛解・院内寛解[[#All],[行ラベル]],0),MATCH($AU$3,年齢階層×在院期間区分F2＿寛解・院内寛解[#Headers],0)),0)+IFERROR(INDEX(年齢階層×在院期間区分F2＿寛解・院内寛解[#All],MATCH($AH4,年齢階層×在院期間区分F2＿寛解・院内寛解[[#All],[行ラベル]],0),MATCH($AV$3,年齢階層×在院期間区分F2＿寛解・院内寛解[#Headers],0)),0)","v":0},{"$f":"IFERROR(G20/$G$29,\"-\")","v":0},{"$f":"IFERROR(INDEX(年齢階層×在院期間区分F2＿寛解・院内寛解[#All],MATCH($AH4,年齢階層×在院期間区分F2＿寛解・院内寛解[[#All],[行ラベル]],0),MATCH($AW$3,年齢階層×在院期間区分F2＿寛解・院内寛解[#Headers],0)),0)+IFERROR(INDEX(年齢階層×在院期間区分F2＿寛解・院内寛解[#All],MATCH($AH4,年齢階層×在院期間区分F2＿寛解・院内寛解[[#All],[行ラベル]],0),MATCH($AX$3,年齢階層×在院期間区分F2＿寛解・院内寛解[#Headers],0)),0)","v":0},{"$f":"IFERROR(I20/$I$29,\"-\")","v":0},{"$f":"SUM(C20,E20,G20,I20)","v":8},{"$f":"IFERROR(K20/$K$29,\"-\")","v":1.2307692307692308E-2},null,null,"19歳以下",2,5,1,0,0,0,0,0,0,0,0,0,0,0,0,0,null,null,"19歳以下"]
[null,"20歳代",{"$f":"IFERROR(INDEX(年齢階層×在院期間区分F2＿寛解・院内寛解[#All],MATCH($AH5,年齢階層×在院期間区分F2＿寛解・院内寛解[[#All],[行ラベル]],0),MATCH($AI$3,年齢階層×在院期間区分F2＿寛解・院内寛解[#Headers],0)),0)+IFERROR(INDEX(年齢階層×在院期間区分F2＿寛解・院内寛解[#All],MATCH($AH5,年齢階層×在院期間区分F2＿寛解・院内寛解[[#All],[行ラベル]],0),MATCH($AJ$3,年齢階層×在院期間区分F2＿寛解・院内寛解[#Headers],0)),0)+IFERROR(INDEX(年齢階層×在院期間区分F2＿寛解・院内寛解[#All],MATCH($AH5,年齢階層×在院期間区分F2＿寛解・院内寛解[[#All],[行ラベル]],0),MATCH($AK$3,年齢階層×在院期間区分F2＿寛解・院内寛解[#Headers],0)),0)+IFERROR(INDEX(年齢階層×在院期間区分F2＿寛解・院内寛解[#All],MATCH($AH5,年齢階層×在院期間区分F2＿寛解・院内寛解[[#All],[行ラベル]],0),MATCH($AL$3,年齢階層×在院期間区分F2＿寛解・院内寛解[#Headers],0)),0)","v":19},5.1075268817204304E-2,{"$f":"IFERROR(INDEX(年齢階層×在院期間区分F2＿寛解・院内寛解[#All],MATCH($AH5,年齢階層×在院期間区分F2＿寛解・院内寛解[[#All],[行ラベル]],0),MATCH($AM$3,年齢階層×在院期間区分F2＿寛解・院内寛解[#Headers],0)),0)+IFERROR(INDEX(年齢階層×在院期間区分F2＿寛解・院内寛解[#All],MATCH($AH5,年齢階層×在院期間区分F2＿寛解・院内寛解[[#All],[行ラベル]],0),MATCH($AN$3,年齢階層×在院期間区分F2＿寛解・院内寛解[#Headers],0)),0)+IFERROR(INDEX(年齢階層×在院期間区分F2＿寛解・院内寛解[#All],MATCH($AH5,年齢階層×在院期間区分F2＿寛解・院内寛解[[#All],[行ラベル]],0),MATCH($AO$3,年齢階層×在院期間区分F2＿寛解・院内寛解[#Headers],0)),0)+IFERROR(INDEX(年齢階層×在院期間区分F2＿寛解・院内寛解[#All],MATCH($AH5,年齢階層×在院期間区分F2＿寛解・院内寛解[[#All],[行ラベル]],0),MATCH($AP$3,年齢階層×在院期間区分F2＿寛解・院内寛解[#Headers],0)),0)+IFERROR(INDEX(年齢階層×在院期間区分F2＿寛解・院内寛解[#All],MATCH($AH5,年齢階層×在院期間区分F2＿寛解・院内寛解[[#All],[行ラベル]],0),MATCH($AQ$3,年齢階層×在院期間区分F2＿寛解・院内寛解[#Headers],0)),0)","v":0},0,{"$f":"IFERROR(INDEX(年齢階層×在院期間区分F2＿寛解・院内寛解[#All],MATCH($AH5,年齢階層×在院期間区分F2＿寛解・院内寛解[[#All],[行ラベル]],0),MATCH($AR$3,年齢階層×在院期間区分F2＿寛解・院内寛解[#Headers],0)),0)+IFERROR(INDEX(年齢階層×在院期間区分F2＿寛解・院内寛解[#All],MATCH($AH5,年齢階層×在院期間区分F2＿寛解・院内寛解[[#All],[行ラベル]],0),MATCH($AS$3,年齢階層×在院期間区分F2＿寛解・院内寛解[#Headers],0)),0)+IFERROR(INDEX(年齢階層×在院期間区分F2＿寛解・院内寛解[#All],MATCH($AH5,年齢階層×在院期間区分F2＿寛解・院内寛解[[#All],[行ラベル]],0),MATCH($AT$3,年齢階層×在院期間区分F2＿寛解・院内寛解[#Headers],0)),0)+IFERROR(INDEX(年齢階層×在院期間区分F2＿寛解・院内寛解[#All],MATCH($AH5,年齢階層×在院期間区分F2＿寛解・院内寛解[[#All],[行ラベル]],0),MATCH($AU$3,年齢階層×在院期間区分F2＿寛解・院内寛解[#Headers],0)),0)+IFERROR(INDEX(年齢階層×在院期間区分F2＿寛解・院内寛解[#All],MATCH($AH5,年齢階層×在院期間区分F2＿寛解・院内寛解[[#All],[行ラベル]],0),MATCH($AV$3,年齢階層×在院期間区分F2＿寛解・院内寛解[#Headers],0)),0)","v":0},0,{"$f":"IFERROR(INDEX(年齢階層×在院期間区分F2＿寛解・院内寛解[#All],MATCH($AH5,年齢階層×在院期間区分F2＿寛解・院内寛解[[#All],[行ラベル]],0),MATCH($AW$3,年齢階層×在院期間区分F2＿寛解・院内寛解[#Headers],0)),0)+IFERROR(INDEX(年齢階層×在院期間区分F2＿寛解・院内寛解[#All],MATCH($AH5,年齢階層×在院期間区分F2＿寛解・院内寛解[[#All],[行ラベル]],0),MATCH($AX$3,年齢階層×在院期間区分F2＿寛解・院内寛解[#Headers],0)),0)","v":0},0,19,2.923076923076923E-2,null,null,"20歳代",8,6,3,2,0,0,0,0,0,0,0,0,0,0,0,0,null,null,"20歳代"]
[null,"30歳代",{"$f":"IFERROR(INDEX(年齢階層×在院期間区分F2＿寛解・院内寛解[#All],MATCH($AH6,年齢階層×在院期間区分F2＿寛解・院内寛解[[#All],[行ラベル]],0),MATCH($AI$3,年齢階層×在院期間区分F2＿寛解・院内寛解[#Headers],0)),0)+IFERROR(INDEX(年齢階層×在院期間区分F2＿寛解・院内寛解[#All],MATCH($AH6,年齢階層×在院期間区分F2＿寛解・院内寛解[[#All],[行ラベル]],0),MATCH($AJ$3,年齢階層×在院期間区分F2＿寛解・院内寛解[#Headers],0)),0)+IFERROR(INDEX(年齢階層×在院期間区分F2＿寛解・院内寛解[#All],MATCH($AH6,年齢階層×在院期間区分F2＿寛解・院内寛解[[#All],[行ラベル]],0),MATCH($AK$3,年齢階層×在院期間区分F2＿寛解・院内寛解[#Headers],0)),0)+IFERROR(INDEX(年齢階層×在院期間区分F2＿寛解・院内寛解[#All],MATCH($AH6,年齢階層×在院期間区分F2＿寛解・院内寛解[[#All],[行ラベル]],0),MATCH($AL$3,年齢階層×在院期間区分F2＿寛解・院内寛解[#Headers],0)),0)","v":35},9.4086021505376344E-2,{"$f":"IFERROR(INDEX(年齢階層×在院期間区分F2＿寛解・院内寛解[#All],MATCH($AH6,年齢階層×在院期間区分F2＿寛解・院内寛解[[#All],[行ラベル]],0),MATCH($AM$3,年齢階層×在院期間区分F2＿寛解・院内寛解[#Headers],0)),0)+IFERROR(INDEX(年齢階層×在院期間区分F2＿寛解・院内寛解[#All],MATCH($AH6,年齢階層×在院期間区分F2＿寛解・院内寛解[[#All],[行ラベル]],0),MATCH($AN$3,年齢階層×在院期間区分F2＿寛解・院内寛解[#Headers],0)),0)+IFERROR(INDEX(年齢階層×在院期間区分F2＿寛解・院内寛解[#All],MATCH($AH6,年齢階層×在院期間区分F2＿寛解・院内寛解[[#All],[行ラベル]],0),MATCH($AO$3,年齢階層×在院期間区分F2＿寛解・院内寛解[#Headers],0)),0)+IFERROR(INDEX(年齢階層×在院期間区分F2＿寛解・院内寛解[#All],MATCH($AH6,年齢階層×在院期間区分F2＿寛解・院内寛解[[#All],[行ラベル]],0),MATCH($AP$3,年齢階層×在院期間区分F2＿寛解・院内寛解[#Headers],0)),0)+IFERROR(INDEX(年齢階層×在院期間区分F2＿寛解・院内寛解[#All],MATCH($AH6,年齢階層×在院期間区分F2＿寛解・院内寛解[[#All],[行ラベル]],0),MATCH($AQ$3,年齢階層×在院期間区分F2＿寛解・院内寛解[#Headers],0)),0)","v":7},5.6451612903225805E-2,{"$f":"IFERROR(INDEX(年齢階層×在院期間区分F2＿寛解・院内寛解[#All],MATCH($AH6,年齢階層×在院期間区分F2＿寛解・院内寛解[[#All],[行ラベル]],0),MATCH($AR$3,年齢階層×在院期間区分F2＿寛解・院内寛解[#Headers],0)),0)+IFERROR(INDEX(年齢階層×在院期間区分F2＿寛解・院内寛解[#All],MATCH($AH6,年齢階層×在院期間区分F2＿寛解・院内寛解[[#All],[行ラベル]],0),MATCH($AS$3,年齢階層×在院期間区分F2＿寛解・院内寛解[#Headers],0)),0)+IFERROR(INDEX(年齢階層×在院期間区分F2＿寛解・院内寛解[#All],MATCH($AH6,年齢階層×在院期間区分F2＿寛解・院内寛解[[#All],[行ラベル]],0),MATCH($AT$3,年齢階層×在院期間区分F2＿寛解・院内寛解[#Headers],0)),0)+IFERROR(INDEX(年齢階層×在院期間区分F2＿寛解・院内寛解[#All],MATCH($AH6,年齢階層×在院期間区分F2＿寛解・院内寛解[[#All],[行ラベル]],0),MATCH($AU$3,年齢階層×在院期間区分F2＿寛解・院内寛解[#Headers],0)),0)+IFERROR(INDEX(年齢階層×在院期間区分F2＿寛解・院内寛解[#All],MATCH($AH6,年齢階層×在院期間区分F2＿寛解・院内寛解[[#All],[行ラベル]],0),MATCH($AV$3,年齢階層×在院期間区分F2＿寛解・院内寛解[#Headers],0)),0)","v":1},1.7857142857142856E-2,{"$f":"IFERROR(INDEX(年齢階層×在院期間区分F2＿寛解・院内寛解[#All],MATCH($AH6,年齢階層×在院期間区分F2＿寛解・院内寛解[[#All],[行ラベル]],0),MATCH($AW$3,年齢階層×在院期間区分F2＿寛解・院内寛解[#Headers],0)),0)+IFERROR(INDEX(年齢階層×在院期間区分F2＿寛解・院内寛解[#All],MATCH($AH6,年齢階層×在院期間区分F2＿寛解・院内寛解[[#All],[行ラベル]],0),MATCH($AX$3,年齢階層×在院期間区分F2＿寛解・院内寛解[#Headers],0)),0)","v":2},2.0408163265306121E-2,45,6.9230769230769235E-2,null,null,"30歳代",7,19,8,1,1,2,2,1,1,0,0,1,0,0,2,0,null,null,"30歳代"]
[null,"40歳代",{"$f":"IFERROR(INDEX(年齢階層×在院期間区分F2＿寛解・院内寛解[#All],MATCH($AH7,年齢階層×在院期間区分F2＿寛解・院内寛解[[#All],[行ラベル]],0),MATCH($AI$3,年齢階層×在院期間区分F2＿寛解・院内寛解[#Headers],0)),0)+IFERROR(INDEX(年齢階層×在院期間区分F2＿寛解・院内寛解[#All],MATCH($AH7,年齢階層×在院期間区分F2＿寛解・院内寛解[[#All],[行ラベル]],0),MATCH($AJ$3,年齢階層×在院期間区分F2＿寛解・院内寛解[#Headers],0)),0)+IFERROR(INDEX(年齢階層×在院期間区分F2＿寛解・院内寛解[#All],MATCH($AH7,年齢階層×在院期間区分F2＿寛解・院内寛解[[#All],[行ラベル]],0),MATCH($AK$3,年齢階層×在院期間区分F2＿寛解・院内寛解[#Headers],0)),0)+IFERROR(INDEX(年齢階層×在院期間区分F2＿寛解・院内寛解[#All],MATCH($AH7,年齢階層×在院期間区分F2＿寛解・院内寛解[[#All],[行ラベル]],0),MATCH($AL$3,年齢階層×在院期間区分F2＿寛解・院内寛解[#Headers],0)),0)","v":67},0.18010752688172044,{"$f":"IFERROR(INDEX(年齢階層×在院期間区分F2＿寛解・院内寛解[#All],MATCH($AH7,年齢階層×在院期間区分F2＿寛解・院内寛解[[#All],[行ラベル]],0),MATCH($AM$3,年齢階層×在院期間区分F2＿寛解・院内寛解[#Headers],0)),0)+IFERROR(INDEX(年齢階層×在院期間区分F2＿寛解・院内寛解[#All],MATCH($AH7,年齢階層×在院期間区分F2＿寛解・院内寛解[[#All],[行ラベル]],0),MATCH($AN$3,年齢階層×在院期間区分F2＿寛解・院内寛解[#Headers],0)),0)+IFERROR(INDEX(年齢階層×在院期間区分F2＿寛解・院内寛解[#All],MATCH($AH7,年齢階層×在院期間区分F2＿寛解・院内寛解[[#All],[行ラベル]],0),MATCH($AO$3,年齢階層×在院期間区分F2＿寛解・院内寛解[#Headers],0)),0)+IFERROR(INDEX(年齢階層×在院期間区分F2＿寛解・院内寛解[#All],MATCH($AH7,年齢階層×在院期間区分F2＿寛解・院内寛解[[#All],[行ラベル]],0),MATCH($AP$3,年齢階層×在院期間区分F2＿寛解・院内寛解[#Headers],0)),0)+IFERROR(INDEX(年齢階層×在院期間区分F2＿寛解・院内寛解[#All],MATCH($AH7,年齢階層×在院期間区分F2＿寛解・院内寛解[[#All],[行ラベル]],0),MATCH($AQ$3,年齢階層×在院期間区分F2＿寛解・院内寛解[#Headers],0)),0)","v":14},0.11290322580645161,{"$f":"IFERROR(INDEX(年齢階層×在院期間区分F2＿寛解・院内寛解[#All],MATCH($AH7,年齢階層×在院期間区分F2＿寛解・院内寛解[[#All],[行ラベル]],0),MATCH($AR$3,年齢階層×在院期間区分F2＿寛解・院内寛解[#Headers],0)),0)+IFERROR(INDEX(年齢階層×在院期間区分F2＿寛解・院内寛解[#All],MATCH($AH7,年齢階層×在院期間区分F2＿寛解・院内寛解[[#All],[行ラベル]],0),MATCH($AS$3,年齢階層×在院期間区分F2＿寛解・院内寛解[#Headers],0)),0)+IFERROR(INDEX(年齢階層×在院期間区分F2＿寛解・院内寛解[#All],MATCH($AH7,年齢階層×在院期間区分F2＿寛解・院内寛解[[#All],[行ラベル]],0),MATCH($AT$3,年齢階層×在院期間区分F2＿寛解・院内寛解[#Headers],0)),0)+IFERROR(INDEX(年齢階層×在院期間区分F2＿寛解・院内寛解[#All],MATCH($AH7,年齢階層×在院期間区分F2＿寛解・院内寛解[[#All],[行ラベル]],0),MATCH($AU$3,年齢階層×在院期間区分F2＿寛解・院内寛解[#Headers],0)),0)+IFERROR(INDEX(年齢階層×在院期間区分F2＿寛解・院内寛解[#All],MATCH($AH7,年齢階層×在院期間区分F2＿寛解・院内寛解[[#All],[行ラベル]],0),MATCH($AV$3,年齢階層×在院期間区分F2＿寛解・院内寛解[#Headers],0)),0)","v":8},0.14285714285714285,{"$f":"IFERROR(INDEX(年齢階層×在院期間区分F2＿寛解・院内寛解[#All],MATCH($AH7,年齢階層×在院期間区分F2＿寛解・院内寛解[[#All],[行ラベル]],0),MATCH($AW$3,年齢階層×在院期間区分F2＿寛解・院内寛解[#Headers],0)),0)+IFERROR(INDEX(年齢階層×在院期間区分F2＿寛解・院内寛解[#All],MATCH($AH7,年齢階層×在院期間区分F2＿寛解・院内寛解[[#All],[行ラベル]],0),MATCH($AX$3,年齢階層×在院期間区分F2＿寛解・院内寛解[#Headers],0)),0)","v":6},6.1224489795918366E-2,95,0.14615384615384616,null,null,"40歳代",22,27,9,9,5,1,2,3,3,3,2,2,1,0,5,1,null,null,"40歳代"]
[null,"50歳代",{"$f":"IFERROR(INDEX(年齢階層×在院期間区分F2＿寛解・院内寛解[#All],MATCH($AH8,年齢階層×在院期間区分F2＿寛解・院内寛解[[#All],[行ラベル]],0),MATCH($AI$3,年齢階層×在院期間区分F2＿寛解・院内寛解[#Headers],0)),0)+IFERROR(INDEX(年齢階層×在院期間区分F2＿寛解・院内寛解[#All],MATCH($AH8,年齢階層×在院期間区分F2＿寛解・院内寛解[[#All],[行ラベル]],0),MATCH($AJ$3,年齢階層×在院期間区分F2＿寛解・院内寛解[#Headers],0)),0)+IFERROR(INDEX(年齢階層×在院期間区分F2＿寛解・院内寛解[#All],MATCH($AH8,年齢階層×在院期間区分F2＿寛解・院内寛解[[#All],[行ラベル]],0),MATCH($AK$3,年齢階層×在院期間区分F2＿寛解・院内寛解[#Headers],0)),0)+IFERROR(INDEX(年齢階層×在院期間区分F2＿寛解・院内寛解[#All],MATCH($AH8,年齢階層×在院期間区分F2＿寛解・院内寛解[[#All],[行ラベル]],0),MATCH($AL$3,年齢階層×在院期間区分F2＿寛解・院内寛解[#Headers],0)),0)","v":84},0.22580645161290322,{"$f":"IFERROR(INDEX(年齢階層×在院期間区分F2＿寛解・院内寛解[#All],MATCH($AH8,年齢階層×在院期間区分F2＿寛解・院内寛解[[#All],[行ラベル]],0),MATCH($AM$3,年齢階層×在院期間区分F2＿寛解・院内寛解[#Headers],0)),0)+IFERROR(INDEX(年齢階層×在院期間区分F2＿寛解・院内寛解[#All],MATCH($AH8,年齢階層×在院期間区分F2＿寛解・院内寛解[[#All],[行ラベル]],0),MATCH($AN$3,年齢階層×在院期間区分F2＿寛解・院内寛解[#Headers],0)),0)+IFERROR(INDEX(年齢階層×在院期間区分F2＿寛解・院内寛解[#All],MATCH($AH8,年齢階層×在院期間区分F2＿寛解・院内寛解[[#All],[行ラベル]],0),MATCH($AO$3,年齢階層×在院期間区分F2＿寛解・院内寛解[#Headers],0)),0)+IFERROR(INDEX(年齢階層×在院期間区分F2＿寛解・院内寛解[#All],MATCH($AH8,年齢階層×在院期間区分F2＿寛解・院内寛解[[#All],[行ラベル]],0),MATCH($AP$3,年齢階層×在院期間区分F2＿寛解・院内寛解[#Headers],0)),0)+IFERROR(INDEX(年齢階層×在院期間区分F2＿寛解・院内寛解[#All],MATCH($AH8,年齢階層×在院期間区分F2＿寛解・院内寛解[[#All],[行ラベル]],0),MATCH($AQ$3,年齢階層×在院期間区分F2＿寛解・院内寛解[#Headers],0)),0)","v":23},0.18548387096774194,{"$f":"IFERROR(INDEX(年齢階層×在院期間区分F2＿寛解・院内寛解[#All],MATCH($AH8,年齢階層×在院期間区分F2＿寛解・院内寛解[[#All],[行ラベル]],0),MATCH($AR$3,年齢階層×在院期間区分F2＿寛解・院内寛解[#Headers],0)),0)+IFERROR(INDEX(年齢階層×在院期間区分F2＿寛解・院内寛解[#All],MATCH($AH8,年齢階層×在院期間区分F2＿寛解・院内寛解[[#All],[行ラベル]],0),MATCH($AS$3,年齢階層×在院期間区分F2＿寛解・院内寛解[#Headers],0)),0)+IFERROR(INDEX(年齢階層×在院期間区分F2＿寛解・院内寛解[#All],MATCH($AH8,年齢階層×在院期間区分F2＿寛解・院内寛解[[#All],[行ラベル]],0),MATCH($AT$3,年齢階層×在院期間区分F2＿寛解・院内寛解[#Headers],0)),0)+IFERROR(INDEX(年齢階層×在院期間区分F2＿寛解・院内寛解[#All],MATCH($AH8,年齢階層×在院期間区分F2＿寛解・院内寛解[[#All],[行ラベル]],0),MATCH($AU$3,年齢階層×在院期間区分F2＿寛解・院内寛解[#Headers],0)),0)+IFERROR(INDEX(年齢階層×在院期間区分F2＿寛解・院内寛解[#All],MATCH($AH8,年齢階層×在院期間区分F2＿寛解・院内寛解[[#All],[行ラベル]],0),MATCH($AV$3,年齢階層×在院期間区分F2＿寛解・院内寛解[#Headers],0)),0)","v":12},0.21428571428571427,{"$f":"IFERROR(INDEX(年齢階層×在院期間区分F2＿寛解・院内寛解[#All],MATCH($AH8,年齢階層×在院期間区分F2＿寛解・院内寛解[[#All],[行ラベル]],0),MATCH($AW$3,年齢階層×在院期間区分F2＿寛解・院内寛解[#Headers],0)),0)+IFERROR(INDEX(年齢階層×在院期間区分F2＿寛解・院内寛解[#All],MATCH($AH8,年齢階層×在院期間区分F2＿寛解・院内寛解[[#All],[行ラベル]],0),MATCH($AX$3,年齢階層×在院期間区分F2＿寛解・院内寛解[#Headers],0)),0)","v":29},0.29591836734693877,148,0.22769230769230769,null,null,"50歳代",23,33,13,15,2,5,2,9,5,3,2,2,3,2,21,8,null,null,"50歳代"]
[null,"60歳代",{"$f":"IFERROR(INDEX(年齢階層×在院期間区分F2＿寛解・院内寛解[#All],MATCH($AH9,年齢階層×在院期間区分F2＿寛解・院内寛解[[#All],[行ラベル]],0),MATCH($AI$3,年齢階層×在院期間区分F2＿寛解・院内寛解[#Headers],0)),0)+IFERROR(INDEX(年齢階層×在院期間区分F2＿寛解・院内寛解[#All],MATCH($AH9,年齢階層×在院期間区分F2＿寛解・院内寛解[[#All],[行ラベル]],0),MATCH($AJ$3,年齢階層×在院期間区分F2＿寛解・院内寛解[#Headers],0)),0)+IFERROR(INDEX(年齢階層×在院期間区分F2＿寛解・院内寛解[#All],MATCH($AH9,年齢階層×在院期間区分F2＿寛解・院内寛解[[#All],[行ラベル]],0),MATCH($AK$3,年齢階層×在院期間区分F2＿寛解・院内寛解[#Headers],0)),0)+IFERROR(INDEX(年齢階層×在院期間区分F2＿寛解・院内寛解[#All],MATCH($AH9,年齢階層×在院期間区分F2＿寛解・院内寛解[[#All],[行ラベル]],0),MATCH($AL$3,年齢階層×在院期間区分F2＿寛解・院内寛解[#Headers],0)),0)","v":71},0.19086021505376344,{"$f":"IFERROR(INDEX(年齢階層×在院期間区分F2＿寛解・院内寛解[#All],MATCH($AH9,年齢階層×在院期間区分F2＿寛解・院内寛解[[#All],[行ラベル]],0),MATCH($AM$3,年齢階層×在院期間区分F2＿寛解・院内寛解[#Headers],0)),0)+IFERROR(INDEX(年齢階層×在院期間区分F2＿寛解・院内寛解[#All],MATCH($AH9,年齢階層×在院期間区分F2＿寛解・院内寛解[[#All],[行ラベル]],0),MATCH($AN$3,年齢階層×在院期間区分F2＿寛解・院内寛解[#Headers],0)),0)+IFERROR(INDEX(年齢階層×在院期間区分F2＿寛解・院内寛解[#All],MATCH($AH9,年齢階層×在院期間区分F2＿寛解・院内寛解[[#All],[行ラベル]],0),MATCH($AO$3,年齢階層×在院期間区分F2＿寛解・院内寛解[#Headers],0)),0)+IFERROR(INDEX(年齢階層×在院期間区分F2＿寛解・院内寛解[#All],MATCH($AH9,年齢階層×在院期間区分F2＿寛解・院内寛解[[#All],[行ラベル]],0),MATCH($AP$3,年齢階層×在院期間区分F2＿寛解・院内寛解[#Headers],0)),0)+IFERROR(INDEX(年齢階層×在院期間区分F2＿寛解・院内寛解[#All],MATCH($AH9,年齢階層×在院期間区分F2＿寛解・院内寛解[[#All],[行ラベル]],0),MATCH($AQ$3,年齢階層×在院期間区分F2＿寛解・院内寛解[#Headers],0)),0)","v":34},0.27419354838709675,{"$f":"IFERROR(INDEX(年齢階層×在院期間区分F2＿寛解・院内寛解[#All],MATCH($AH9,年齢階層×在院期間区分F2＿寛解・院内寛解[[#All],[行ラベル]],0),MATCH($AR$3,年齢階層×在院期間区分F2＿寛解・院内寛解[#Headers],0)),0)+IFERROR(INDEX(年齢階層×在院期間区分F2＿寛解・院内寛解[#All],MATCH($AH9,年齢階層×在院期間区分F2＿寛解・院内寛解[[#All],[行ラベル]],0),MATCH($AS$3,年齢階層×在院期間区分F2＿寛解・院内寛解[#Headers],0)),0)+IFERROR(INDEX(年齢階層×在院期間区分F2＿寛解・院内寛解[#All],MATCH($AH9,年齢階層×在院期間区分F2＿寛解・院内寛解[[#All],[行ラベル]],0),MATCH($AT$3,年齢階層×在院期間区分F2＿寛解・院内寛解[#Headers],0)),0)+IFERROR(INDEX(年齢階層×在院期間区分F2＿寛解・院内寛解[#All],MATCH($AH9,年齢階層×在院期間区分F2＿寛解・院内寛解[[#All],[行ラベル]],0),MATCH($AU$3,年齢階層×在院期間区分F2＿寛解・院内寛解[#Headers],0)),0)+IFERROR(INDEX(年齢階層×在院期間区分F2＿寛解・院内寛解[#All],MATCH($AH9,年齢階層×在院期間区分F2＿寛解・院内寛解[[#All],[行ラベル]],0),MATCH($AV$3,年齢階層×在院期間区分F2＿寛解・院内寛解[#Headers],0)),0)","v":17},0.30357142857142855,{"$f":"IFERROR(INDEX(年齢階層×在院期間区分F2＿寛解・院内寛解[#All],MATCH($AH9,年齢階層×在院期間区分F2＿寛解・院内寛解[[#All],[行ラベル]],0),MATCH($AW$3,年齢階層×在院期間区分F2＿寛解・院内寛解[#Headers],0)),0)+IFERROR(INDEX(年齢階層×在院期間区分F2＿寛解・院内寛解[#All],MATCH($AH9,年齢階層×在院期間区分F2＿寛解・院内寛解[[#All],[行ラベル]],0),MATCH($AX$3,年齢階層×在院期間区分F2＿寛解・院内寛解[#Headers],0)),0)","v":22},0.22448979591836735,144,0.22153846153846155,null,null,"60歳代",18,31,10,12,1,6,6,13,8,3,7,4,1,2,12,10,null,null,"60歳代"]
[null,"70歳代",{"$f":"IFERROR(INDEX(年齢階層×在院期間区分F2＿寛解・院内寛解[#All],MATCH($AH10,年齢階層×在院期間区分F2＿寛解・院内寛解[[#All],[行ラベル]],0),MATCH($AI$3,年齢階層×在院期間区分F2＿寛解・院内寛解[#Headers],0)),0)+IFERROR(INDEX(年齢階層×在院期間区分F2＿寛解・院内寛解[#All],MATCH($AH10,年齢階層×在院期間区分F2＿寛解・院内寛解[[#All],[行ラベル]],0),MATCH($AJ$3,年齢階層×在院期間区分F2＿寛解・院内寛解[#Headers],0)),0)+IFERROR(INDEX(年齢階層×在院期間区分F2＿寛解・院内寛解[#All],MATCH($AH10,年齢階層×在院期間区分F2＿寛解・院内寛解[[#All],[行ラベル]],0),MATCH($AK$3,年齢階層×在院期間区分F2＿寛解・院内寛解[#Headers],0)),0)+IFERROR(INDEX(年齢階層×在院期間区分F2＿寛解・院内寛解[#All],MATCH($AH10,年齢階層×在院期間区分F2＿寛解・院内寛解[[#All],[行ラベル]],0),MATCH($AL$3,年齢階層×在院期間区分F2＿寛解・院内寛解[#Headers],0)),0)","v":63},0.16935483870967741,{"$f":"IFERROR(INDEX(年齢階層×在院期間区分F2＿寛解・院内寛解[#All],MATCH($AH10,年齢階層×在院期間区分F2＿寛解・院内寛解[[#All],[行ラベル]],0),MATCH($AM$3,年齢階層×在院期間区分F2＿寛解・院内寛解[#Headers],0)),0)+IFERROR(INDEX(年齢階層×在院期間区分F2＿寛解・院内寛解[#All],MATCH($AH10,年齢階層×在院期間区分F2＿寛解・院内寛解[[#All],[行ラベル]],0),MATCH($AN$3,年齢階層×在院期間区分F2＿寛解・院内寛解[#Headers],0)),0)+IFERROR(INDEX(年齢階層×在院期間区分F2＿寛解・院内寛解[#All],MATCH($AH10,年齢階層×在院期間区分F2＿寛解・院内寛解[[#All],[行ラベル]],0),MATCH($AO$3,年齢階層×在院期間区分F2＿寛解・院内寛解[#Headers],0)),0)+IFERROR(INDEX(年齢階層×在院期間区分F2＿寛解・院内寛解[#All],MATCH($AH10,年齢階層×在院期間区分F2＿寛解・院内寛解[[#All],[行ラベル]],0),MATCH($AP$3,年齢階層×在院期間区分F2＿寛解・院内寛解[#Headers],0)),0)+IFERROR(INDEX(年齢階層×在院期間区分F2＿寛解・院内寛解[#All],MATCH($AH10,年齢階層×在院期間区分F2＿寛解・院内寛解[[#All],[行ラベル]],0),MATCH($AQ$3,年齢階層×在院期間区分F2＿寛解・院内寛解[#Headers],0)),0)","v":29},0.23387096774193547,{"$f":"IFERROR(INDEX(年齢階層×在院期間区分F2＿寛解・院内寛解[#All],MATCH($AH10,年齢階層×在院期間区分F2＿寛解・院内寛解[[#All],[行ラベル]],0),MATCH($AR$3,年齢階層×在院期間区分F2＿寛解・院内寛解[#Headers],0)),0)+IFERROR(INDEX(年齢階層×在院期間区分F2＿寛解・院内寛解[#All],MATCH($AH10,年齢階層×在院期間区分F2＿寛解・院内寛解[[#All],[行ラベル]],0),MATCH($AS$3,年齢階層×在院期間区分F2＿寛解・院内寛解[#Headers],0)),0)+IFERROR(INDEX(年齢階層×在院期間区分F2＿寛解・院内寛解[#All],MATCH($AH10,年齢階層×在院期間区分F2＿寛解・院内寛解[[#All],[行ラベル]],0),MATCH($AT$3,年齢階層×在院期間区分F2＿寛解・院内寛解[#Headers],0)),0)+IFERROR(INDEX(年齢階層×在院期間区分F2＿寛解・院内寛解[#All],MATCH($AH10,年齢階層×在院期間区分F2＿寛解・院内寛解[[#All],[行ラベル]],0),MATCH($AU$3,年齢階層×在院期間区分F2＿寛解・院内寛解[#Headers],0)),0)+IFERROR(INDEX(年齢階層×在院期間区分F2＿寛解・院内寛解[#All],MATCH($AH10,年齢階層×在院期間区分F2＿寛解・院内寛解[[#All],[行ラベル]],0),MATCH($AV$3,年齢階層×在院期間区分F2＿寛解・院内寛解[#Headers],0)),0)","v":16},0.2857142857142857,{"$f":"IFERROR(INDEX(年齢階層×在院期間区分F2＿寛解・院内寛解[#All],MATCH($AH10,年齢階層×在院期間区分F2＿寛解・院内寛解[[#All],[行ラベル]],0),MATCH($AW$3,年齢階層×在院期間区分F2＿寛解・院内寛解[#Headers],0)),0)+IFERROR(INDEX(年齢階層×在院期間区分F2＿寛解・院内寛解[#All],MATCH($AH10,年齢階層×在院期間区分F2＿寛解・院内寛解[[#All],[行ラベル]],0),MATCH($AX$3,年齢階層×在院期間区分F2＿寛解・院内寛解[#Headers],0)),0)","v":32},0.32653061224489793,140,0.2153846153846154,null,null,"70歳代",11,23,17,12,7,5,8,3,6,3,6,1,3,3,13,19,null,null,"70歳代"]
[null,"80歳代",{"$f":"IFERROR(INDEX(年齢階層×在院期間区分F2＿寛解・院内寛解[#All],MATCH($AH11,年齢階層×在院期間区分F2＿寛解・院内寛解[[#All],[行ラベル]],0),MATCH($AI$3,年齢階層×在院期間区分F2＿寛解・院内寛解[#Headers],0)),0)+IFERROR(INDEX(年齢階層×在院期間区分F2＿寛解・院内寛解[#All],MATCH($AH11,年齢階層×在院期間区分F2＿寛解・院内寛解[[#All],[行ラベル]],0),MATCH($AJ$3,年齢階層×在院期間区分F2＿寛解・院内寛解[#Headers],0)),0)+IFERROR(INDEX(年齢階層×在院期間区分F2＿寛解・院内寛解[#All],MATCH($AH11,年齢階層×在院期間区分F2＿寛解・院内寛解[[#All],[行ラベル]],0),MATCH($AK$3,年齢階層×在院期間区分F2＿寛解・院内寛解[#Headers],0)),0)+IFERROR(INDEX(年齢階層×在院期間区分F2＿寛解・院内寛解[#All],MATCH($AH11,年齢階層×在院期間区分F2＿寛解・院内寛解[[#All],[行ラベル]],0),MATCH($AL$3,年齢階層×在院期間区分F2＿寛解・院内寛解[#Headers],0)),0)","v":21},5.6451612903225805E-2,{"$f":"IFERROR(INDEX(年齢階層×在院期間区分F2＿寛解・院内寛解[#All],MATCH($AH11,年齢階層×在院期間区分F2＿寛解・院内寛解[[#All],[行ラベル]],0),MATCH($AM$3,年齢階層×在院期間区分F2＿寛解・院内寛解[#Headers],0)),0)+IFERROR(INDEX(年齢階層×在院期間区分F2＿寛解・院内寛解[#All],MATCH($AH11,年齢階層×在院期間区分F2＿寛解・院内寛解[[#All],[行ラベル]],0),MATCH($AN$3,年齢階層×在院期間区分F2＿寛解・院内寛解[#Headers],0)),0)+IFERROR(INDEX(年齢階層×在院期間区分F2＿寛解・院内寛解[#All],MATCH($AH11,年齢階層×在院期間区分F2＿寛解・院内寛解[[#All],[行ラベル]],0),MATCH($AO$3,年齢階層×在院期間区分F2＿寛解・院内寛解[#Headers],0)),0)+IFERROR(INDEX(年齢階層×在院期間区分F2＿寛解・院内寛解[#All],MATCH($AH11,年齢階層×在院期間区分F2＿寛解・院内寛解[[#All],[行ラベル]],0),MATCH($AP$3,年齢階層×在院期間区分F2＿寛解・院内寛解[#Headers],0)),0)+IFERROR(INDEX(年齢階層×在院期間区分F2＿寛解・院内寛解[#All],MATCH($AH11,年齢階層×在院期間区分F2＿寛解・院内寛解[[#All],[行ラベル]],0),MATCH($AQ$3,年齢階層×在院期間区分F2＿寛解・院内寛解[#Headers],0)),0)","v":16},0.12903225806451613,{"$f":"IFERROR(INDEX(年齢階層×在院期間区分F2＿寛解・院内寛解[#All],MATCH($AH11,年齢階層×在院期間区分F2＿寛解・院内寛解[[#All],[行ラベル]],0),MATCH($AR$3,年齢階層×在院期間区分F2＿寛解・院内寛解[#Headers],0)),0)+IFERROR(INDEX(年齢階層×在院期間区分F2＿寛解・院内寛解[#All],MATCH($AH11,年齢階層×在院期間区分F2＿寛解・院内寛解[[#All],[行ラベル]],0),MATCH($AS$3,年齢階層×在院期間区分F2＿寛解・院内寛解[#Headers],0)),0)+IFERROR(INDEX(年齢階層×在院期間区分F2＿寛解・院内寛解[#All],MATCH($AH11,年齢階層×在院期間区分F2＿寛解・院内寛解[[#All],[行ラベル]],0),MATCH($AT$3,年齢階層×在院期間区分F2＿寛解・院内寛解[#Headers],0)),0)+IFERROR(INDEX(年齢階層×在院期間区分F2＿寛解・院内寛解[#All],MATCH($AH11,年齢階層×在院期間区分F2＿寛解・院内寛解[[#All],[行ラベル]],0),MATCH($AU$3,年齢階層×在院期間区分F2＿寛解・院内寛解[#Headers],0)),0)+IFERROR(INDEX(年齢階層×在院期間区分F2＿寛解・院内寛解[#All],MATCH($AH11,年齢階層×在院期間区分F2＿寛解・院内寛解[[#All],[行ラベル]],0),MATCH($AV$3,年齢階層×在院期間区分F2＿寛解・院内寛解[#Headers],0)),0)","v":2},3.5714285714285712E-2,{"$f":"IFERROR(INDEX(年齢階層×在院期間区分F2＿寛解・院内寛解[#All],MATCH($AH11,年齢階層×在院期間区分F2＿寛解・院内寛解[[#All],[行ラベル]],0),MATCH($AW$3,年齢階層×在院期間区分F2＿寛解・院内寛解[#Headers],0)),0)+IFERROR(INDEX(年齢階層×在院期間区分F2＿寛解・院内寛解[#All],MATCH($AH11,年齢階層×在院期間区分F2＿寛解・院内寛解[[#All],[行ラベル]],0),MATCH($AX$3,年齢階層×在院期間区分F2＿寛解・院内寛解[#Headers],0)),0)","v":6},6.1224489795918366E-2,45,6.9230769230769235E-2,null,null,"80歳代",6,6,3,6,2,2,4,1,7,2,0,0,0,0,3,3,null,null,"80歳代"]
[null,"90歳以上",{"$f":"IFERROR(INDEX(年齢階層×在院期間区分F2＿寛解・院内寛解[#All],MATCH($AH12,年齢階層×在院期間区分F2＿寛解・院内寛解[[#All],[行ラベル]],0),MATCH($AI$3,年齢階層×在院期間区分F2＿寛解・院内寛解[#Headers],0)),0)+IFERROR(INDEX(年齢階層×在院期間区分F2＿寛解・院内寛解[#All],MATCH($AH12,年齢階層×在院期間区分F2＿寛解・院内寛解[[#All],[行ラベル]],0),MATCH($AJ$3,年齢階層×在院期間区分F2＿寛解・院内寛解[#Headers],0)),0)+IFERROR(INDEX(年齢階層×在院期間区分F2＿寛解・院内寛解[#All],MATCH($AH12,年齢階層×在院期間区分F2＿寛解・院内寛解[[#All],[行ラベル]],0),MATCH($AK$3,年齢階層×在院期間区分F2＿寛解・院内寛解[#Headers],0)),0)+IFERROR(INDEX(年齢階層×在院期間区分F2＿寛解・院内寛解[#All],MATCH($AH12,年齢階層×在院期間区分F2＿寛解・院内寛解[[#All],[行ラベル]],0),MATCH($AL$3,年齢階層×在院期間区分F2＿寛解・院内寛解[#Headers],0)),0)","v":4},1.0752688172043012E-2,{"$f":"IFERROR(INDEX(年齢階層×在院期間区分F2＿寛解・院内寛解[#All],MATCH($AH12,年齢階層×在院期間区分F2＿寛解・院内寛解[[#All],[行ラベル]],0),MATCH($AM$3,年齢階層×在院期間区分F2＿寛解・院内寛解[#Headers],0)),0)+IFERROR(INDEX(年齢階層×在院期間区分F2＿寛解・院内寛解[#All],MATCH($AH12,年齢階層×在院期間区分F2＿寛解・院内寛解[[#All],[行ラベル]],0),MATCH($AN$3,年齢階層×在院期間区分F2＿寛解・院内寛解[#Headers],0)),0)+IFERROR(INDEX(年齢階層×在院期間区分F2＿寛解・院内寛解[#All],MATCH($AH12,年齢階層×在院期間区分F2＿寛解・院内寛解[[#All],[行ラベル]],0),MATCH($AO$3,年齢階層×在院期間区分F2＿寛解・院内寛解[#Headers],0)),0)+IFERROR(INDEX(年齢階層×在院期間区分F2＿寛解・院内寛解[#All],MATCH($AH12,年齢階層×在院期間区分F2＿寛解・院内寛解[[#All],[行ラベル]],0),MATCH($AP$3,年齢階層×在院期間区分F2＿寛解・院内寛解[#Headers],0)),0)+IFERROR(INDEX(年齢階層×在院期間区分F2＿寛解・院内寛解[#All],MATCH($AH12,年齢階層×在院期間区分F2＿寛解・院内寛解[[#All],[行ラベル]],0),MATCH($AQ$3,年齢階層×在院期間区分F2＿寛解・院内寛解[#Headers],0)),0)","v":1},8.0645161290322578E-3,{"$f":"IFERROR(INDEX(年齢階層×在院期間区分F2＿寛解・院内寛解[#All],MATCH($AH12,年齢階層×在院期間区分F2＿寛解・院内寛解[[#All],[行ラベル]],0),MATCH($AR$3,年齢階層×在院期間区分F2＿寛解・院内寛解[#Headers],0)),0)+IFERROR(INDEX(年齢階層×在院期間区分F2＿寛解・院内寛解[#All],MATCH($AH12,年齢階層×在院期間区分F2＿寛解・院内寛解[[#All],[行ラベル]],0),MATCH($AS$3,年齢階層×在院期間区分F2＿寛解・院内寛解[#Headers],0)),0)+IFERROR(INDEX(年齢階層×在院期間区分F2＿寛解・院内寛解[#All],MATCH($AH12,年齢階層×在院期間区分F2＿寛解・院内寛解[[#All],[行ラベル]],0),MATCH($AT$3,年齢階層×在院期間区分F2＿寛解・院内寛解[#Headers],0)),0)+IFERROR(INDEX(年齢階層×在院期間区分F2＿寛解・院内寛解[#All],MATCH($AH12,年齢階層×在院期間区分F2＿寛解・院内寛解[[#All],[行ラベル]],0),MATCH($AU$3,年齢階層×在院期間区分F2＿寛解・院内寛解[#Headers],0)),0)+IFERROR(INDEX(年齢階層×在院期間区分F2＿寛解・院内寛解[#All],MATCH($AH12,年齢階層×在院期間区分F2＿寛解・院内寛解[[#All],[行ラベル]],0),MATCH($AV$3,年齢階層×在院期間区分F2＿寛解・院内寛解[#Headers],0)),0)","v":0},0,{"$f":"IFERROR(INDEX(年齢階層×在院期間区分F2＿寛解・院内寛解[#All],MATCH($AH12,年齢階層×在院期間区分F2＿寛解・院内寛解[[#All],[行ラベル]],0),MATCH($AW$3,年齢階層×在院期間区分F2＿寛解・院内寛解[#Headers],0)),0)+IFERROR(INDEX(年齢階層×在院期間区分F2＿寛解・院内寛解[#All],MATCH($AH12,年齢階層×在院期間区分F2＿寛解・院内寛解[[#All],[行ラベル]],0),MATCH($AX$3,年齢階層×在院期間区分F2＿寛解・院内寛解[#Headers],0)),0)","v":1},1.020408163265306E-2,6,9.2307692307692316E-3,null,null,"90歳以上",0,3,1,0,0,0,0,1,0,0,0,0,0,0,0,1,null,null,"90歳以上"]
[null,"　総計",{"$f":"SUM(C20:C28)","v":372},0.99999999999999989,124,1,56,1,98,1,650,1,null,null,"列1","01_1ヶ月未満","02_1ヶ月～3ヶ月未満","03_3ヶ月～6ヶ月未満","04_6ヶ月～1年未満","05_1年～1年6ヶ月未満","06_1年6ヶ月～2年未満","07_2年～3年未満","08_3年～4年未満","09_4年～5年未満","10_5年～6年未満","11_6年～7年未満","12_7年～8年未満","13_8年～9年未満","14_9年～10年未満","15_10年～20年未満","16_ 20年以上"]
[null,"65歳未満（再掲）",{"$f":"IFERROR(INDEX(年齢階層×在院期間区分F2_65歳未満以上＿寛解・院内寛解[#All],MATCH($AH30,年齢階層×在院期間区分F2_65歳未満以上＿寛解・院内寛解[[#All],[列1]],0),MATCH($AI$3,年齢階層×在院期間区分F2_65歳未満以上＿寛解・院内寛解[#Headers],0)),0)+IFERROR(INDEX(年齢階層×在院期間区分F2_65歳未満以上＿寛解・院内寛解[#All],MATCH($AH30,年齢階層×在院期間区分F2_65歳未満以上＿寛解・院内寛解[[#All],[列1]],0),MATCH($AJ$3,年齢階層×在院期間区分F2_65歳未満以上＿寛解・院内寛解[#Headers],0)),0)+IFERROR(INDEX(年齢階層×在院期間区分F2_65歳未満以上＿寛解・院内寛解[#All],MATCH($AH30,年齢階層×在院期間区分F2_65歳未満以上＿寛解・院内寛解[[#All],[列1]],0),MATCH($AK$3,年齢階層×在院期間区分F2_65歳未満以上＿寛解・院内寛解[#Headers],0)),0)+IFERROR(INDEX(年齢階層×在院期間区分F2_65歳未満以上＿寛解・院内寛解[#All],MATCH($AH30,年齢階層×在院期間区分F2_65歳未満以上＿寛解・院内寛解[[#All],[列1]],0),MATCH($AL$3,年齢階層×在院期間区分F2_65歳未満以上＿寛解・院内寛解[#Headers],0)),0)","v":252},{"$f":"IFERROR(C30/$C$29,\"-\")","v":0.67741935483870963},{"$f":"IFERROR(INDEX(年齢階層×在院期間区分F2_65歳未満以上＿寛解・院内寛解[#All],MATCH($AH30,年齢階層×在院期間区分F2_65歳未満以上＿寛解・院内寛解[[#All],[列1]],0),MATCH($AM$3,年齢階層×在院期間区分F2_65歳未満以上＿寛解・院内寛解[#Headers],0)),0)+IFERROR(INDEX(年齢階層×在院期間区分F2_65歳未満以上＿寛解・院内寛解[#All],MATCH($AH30,年齢階層×在院期間区分F2_65歳未満以上＿寛解・院内寛解[[#All],[列1]],0),MATCH($AN$3,年齢階層×在院期間区分F2_65歳未満以上＿寛解・院内寛解[#Headers],0)),0)+IFERROR(INDEX(年齢階層×在院期間区分F2_65歳未満以上＿寛解・院内寛解[#All],MATCH($AH30,年齢階層×在院期間区分F2_65歳未満以上＿寛解・院内寛解[[#All],[列1]],0),MATCH($AO$3,年齢階層×在院期間区分F2_65歳未満以上＿寛解・院内寛解[#Headers],0)),0)+IFERROR(INDEX(年齢階層×在院期間区分F2_65歳未満以上＿寛解・院内寛解[#All],MATCH($AH30,年齢階層×在院期間区分F2_65歳未満以上＿寛解・院内寛解[[#All],[列1]],0),MATCH($AP$3,年齢階層×在院期間区分F2_65歳未満以上＿寛解・院内寛解[#Headers],0)),0)+IFERROR(INDEX(年齢階層×在院期間区分F2_65歳未満以上＿寛解・院内寛解[#All],MATCH($AH30,年齢階層×在院期間区分F2_65歳未満以上＿寛解・院内寛解[[#All],[列1]],0),MATCH($AQ$3,年齢階層×在院期間区分F2_65歳未満以上＿寛解・院内寛解[#Headers],0)),0)","v":64},{"$f":"IFERROR(E30/$E$29,\"-\")","v":0.5161290322580645},{"$f":"IFERROR(INDEX(年齢階層×在院期間区分F2_65歳未満以上＿寛解・院内寛解[#All],MATCH($AH30,年齢階層×在院期間区分F2_65歳未満以上＿寛解・院内寛解[[#All],[列1]],0),MATCH($AR$3,年齢階層×在院期間区分F2_65歳未満以上＿寛解・院内寛解[#Headers],0)),0)+IFERROR(INDEX(年齢階層×在院期間区分F2_65歳未満以上＿寛解・院内寛解[#All],MATCH($AH30,年齢階層×在院期間区分F2_65歳未満以上＿寛解・院内寛解[[#All],[列1]],0),MATCH($AS$3,年齢階層×在院期間区分F2_65歳未満以上＿寛解・院内寛解[#Headers],0)),0)+IFERROR(INDEX(年齢階層×在院期間区分F2_65歳未満以上＿寛解・院内寛解[#All],MATCH($AH30,年齢階層×在院期間区分F2_65歳未満以上＿寛解・院内寛解[[#All],[列1]],0),MATCH($AT$3,年齢階層×在院期間区分F2_65歳未満以上＿寛解・院内寛解[#Headers],0)),0)+IFERROR(INDEX(年齢階層×在院期間区分F2_65歳未満以上＿寛解・院内寛解[#All],MATCH($AH30,年齢階層×在院期間区分F2_65歳未満以上＿寛解・院内寛解[[#All],[列1]],0),MATCH($AU$3,年齢階層×在院期間区分F2_65歳未満以上＿寛解・院内寛解[#Headers],0)),0)+IFERROR(INDEX(年齢階層×在院期間区分F2_65歳未満以上＿寛解・院内寛解[#All],MATCH($AH30,年齢階層×在院期間区分F2_65歳未満以上＿寛解・院内寛解[[#All],[列1]],0),MATCH($AV$3,年齢階層×在院期間区分F2_65歳未満以上＿寛解・院内寛解[#Headers],0)),0)","v":28},{"$f":"IFERROR(G30/$G$29,\"-\")","v":0.5},{"$f":"IFERROR(INDEX(年齢階層×在院期間区分F2_65歳未満以上＿寛解・院内寛解[#All],MATCH($AH30,年齢階層×在院期間区分F2_65歳未満以上＿寛解・院内寛解[[#All],[列1]],0),MATCH($AW$3,年齢階層×在院期間区分F2_65歳未満以上＿寛解・院内寛解[#Headers],0)),0)+IFERROR(INDEX(年齢階層×在院期間区分F2_65歳未満以上＿寛解・院内寛解[#All],MATCH($AH30,年齢階層×在院期間区分F2_65歳未満以上＿寛解・院内寛解[[#All],[列1]],0),MATCH($AX$3,年齢階層×在院期間区分F2_65歳未満以上＿寛解・院内寛解[#Headers],0)),0)","v":47},{"$f":"IFERROR(I30/$I$29,\"-\")","v":0.47959183673469385},{"$f":"C30+E30+G30+I30","v":391},{"$f":"IFERROR(K30/$K$29,\"-\")","v":0.60153846153846158},null,null,"65歳未満",72,108,39,33,8,14,9,21,12,8,7,6,5,2,32,15,null,null,"65歳未満"]
[null,"65歳以上（再掲）",{"$f":"IFERROR(INDEX(年齢階層×在院期間区分F2_65歳未満以上＿寛解・院内寛解[#All],MATCH($AH31,年齢階層×在院期間区分F2_65歳未満以上＿寛解・院内寛解[[#All],[列1]],0),MATCH($AI$3,年齢階層×在院期間区分F2_65歳未満以上＿寛解・院内寛解[#Headers],0)),0)+IFERROR(INDEX(年齢階層×在院期間区分F2_65歳未満以上＿寛解・院内寛解[#All],MATCH($AH31,年齢階層×在院期間区分F2_65歳未満以上＿寛解・院内寛解[[#All],[列1]],0),MATCH($AJ$3,年齢階層×在院期間区分F2_65歳未満以上＿寛解・院内寛解[#Headers],0)),0)+IFERROR(INDEX(年齢階層×在院期間区分F2_65歳未満以上＿寛解・院内寛解[#All],MATCH($AH31,年齢階層×在院期間区分F2_65歳未満以上＿寛解・院内寛解[[#All],[列1]],0),MATCH($AK$3,年齢階層×在院期間区分F2_65歳未満以上＿寛解・院内寛解[#Headers],0)),0)+IFERROR(INDEX(年齢階層×在院期間区分F2_65歳未満以上＿寛解・院内寛解[#All],MATCH($AH31,年齢階層×在院期間区分F2_65歳未満以上＿寛解・院内寛解[[#All],[列1]],0),MATCH($AL$3,年齢階層×在院期間区分F2_65歳未満以上＿寛解・院内寛解[#Headers],0)),0)","v":120},{"$f":"IFERROR(C31/$C$29,\"-\")","v":0.32258064516129031},{"$f":"IFERROR(INDEX(年齢階層×在院期間区分F2_65歳未満以上＿寛解・院内寛解[#All],MATCH($AH31,年齢階層×在院期間区分F2_65歳未満以上＿寛解・院内寛解[[#All],[列1]],0),MATCH($AM$3,年齢階層×在院期間区分F2_65歳未満以上＿寛解・院内寛解[#Headers],0)),0)+IFERROR(INDEX(年齢階層×在院期間区分F2_65歳未満以上＿寛解・院内寛解[#All],MATCH($AH31,年齢階層×在院期間区分F2_65歳未満以上＿寛解・院内寛解[[#All],[列1]],0),MATCH($AN$3,年齢階層×在院期間区分F2_65歳未満以上＿寛解・院内寛解[#Headers],0)),0)+IFERROR(INDEX(年齢階層×在院期間区分F2_65歳未満以上＿寛解・院内寛解[#All],MATCH($AH31,年齢階層×在院期間区分F2_65歳未満以上＿寛解・院内寛解[[#All],[列1]],0),MATCH($AO$3,年齢階層×在院期間区分F2_65歳未満以上＿寛解・院内寛解[#Headers],0)),0)+IFERROR(INDEX(年齢階層×在院期間区分F2_65歳未満以上＿寛解・院内寛解[#All],MATCH($AH31,年齢階層×在院期間区分F2_65歳未満以上＿寛解・院内寛解[[#All],[列1]],0),MATCH($AP$3,年齢階層×在院期間区分F2_65歳未満以上＿寛解・院内寛解[#Headers],0)),0)+IFERROR(INDEX(年齢階層×在院期間区分F2_65歳未満以上＿寛解・院内寛解[#All],MATCH($AH31,年齢階層×在院期間区分F2_65歳未満以上＿寛解・院内寛解[[#All],[列1]],0),MATCH($AQ$3,年齢階層×在院期間区分F2_65歳未満以上＿寛解・院内寛解[#Headers],0)),0)","v":60},{"$f":"IFERROR(E31/$E$29,\"-\")","v":0.4838709677419355},{"$f":"IFERROR(INDEX(年齢階層×在院期間区分F2_65歳未満以上＿寛解・院内寛解[#All],MATCH($AH31,年齢階層×在院期間区分F2_65歳未満以上＿寛解・院内寛解[[#All],[列1]],0),MATCH($AR$3,年齢階層×在院期間区分F2_65歳未満以上＿寛解・院内寛解[#Headers],0)),0)+IFERROR(INDEX(年齢階層×在院期間区分F2_65歳未満以上＿寛解・院内寛解[#All],MATCH($AH31,年齢階層×在院期間区分F2_65歳未満以上＿寛解・院内寛解[[#All],[列1]],0),MATCH($AS$3,年齢階層×在院期間区分F2_65歳未満以上＿寛解・院内寛解[#Headers],0)),0)+IFERROR(INDEX(年齢階層×在院期間区分F2_65歳未満以上＿寛解・院内寛解[#All],MATCH($AH31,年齢階層×在院期間区分F2_65歳未満以上＿寛解・院内寛解[[#All],[列1]],0),MATCH($AT$3,年齢階層×在院期間区分F2_65歳未満以上＿寛解・院内寛解[#Headers],0)),0)+IFERROR(INDEX(年齢階層×在院期間区分F2_65歳未満以上＿寛解・院内寛解[#All],MATCH($AH31,年齢階層×在院期間区分F2_65歳未満以上＿寛解・院内寛解[[#All],[列1]],0),MATCH($AU$3,年齢階層×在院期間区分F2_65歳未満以上＿寛解・院内寛解[#Headers],0)),0)+IFERROR(INDEX(年齢階層×在院期間区分F2_65歳未満以上＿寛解・院内寛解[#All],MATCH($AH31,年齢階層×在院期間区分F2_65歳未満以上＿寛解・院内寛解[[#All],[列1]],0),MATCH($AV$3,年齢階層×在院期間区分F2_65歳未満以上＿寛解・院内寛解[#Headers],0)),0)","v":28},{"$f":"IFERROR(G31/$G$29,\"-\")","v":0.5},{"$f":"IFERROR(INDEX(年齢階層×在院期間区分F2_65歳未満以上＿寛解・院内寛解[#All],MATCH($AH31,年齢階層×在院期間区分F2_65歳未満以上＿寛解・院内寛解[[#All],[列1]],0),MATCH($AW$3,年齢階層×在院期間区分F2_65歳未満以上＿寛解・院内寛解[#Headers],0)),0)+IFERROR(INDEX(年齢階層×在院期間区分F2_65歳未満以上＿寛解・院内寛解[#All],MATCH($AH31,年齢階層×在院期間区分F2_65歳未満以上＿寛解・院内寛解[[#All],[列1]],0),MATCH($AX$3,年齢階層×在院期間区分F2_65歳未満以上＿寛解・院内寛解[#Headers],0)),0)","v":51},{"$f":"IFERROR(I31/$I$29,\"-\")","v":0.52040816326530615},{"$f":"C31+E31+G31+I31","v":259},{"$f":"IFERROR(K31/$K$29,\"-\")","v":0.39846153846153848},null,null,"65歳以上",25,45,26,24,10,7,15,10,18,6,10,4,3,5,24,27,null,null,"65歳以上"]

{"sheet":"５-Ⅱ②","index":22,"n_rows":31,"n_cols":53,"rows_kept":31,"cut":false,"hidden":false,"merged":[[1,1,2,1],[1,2,1,11],[2,2,2,3],[2,4,2,5],[2,6,2,7],[2,8,2,9],[2,10,2,11],[17,1,18,1],[17,2,17,11],[18,2,18,3],[18,4,18,5],[18,6,18,7],[18,8,18,9],[18,10,18,11]]}
[null,"【年齢階層×在院期間区分】〔アルツハイマー病型認知症及び血管性認知症（F00-F01）〕"]
[null,"年齢階層","在院期間区分",null,null,null,null,null,null,null,null,null,null,null,"データ貼り付け箇所"]
[null,null,"1年未満",null,"1年以上\n5年未満",null,"5年以上\n10年未満",null,"10年以上",null,"合計",null,null,null,"行ラベル","01_1ヶ月未満","02_1ヶ月～3ヶ月未満","03_3ヶ月～6ヶ月未満","04_6ヶ月～1年未満","05_1年～1年6ヶ月未満","06_1年6ヶ月～2年未満","07_2年～3年未満","08_3年～4年未満","09_4年～5年未満","10_5年～6年未満","11_6年～7年未満","12_7年～8年未満","13_8年～9年未満","14_9年～10年未満","15_10年～20年未満","16_ 20年以上",null,null,null,null,null,null,"01_1ヶ月未満","02_1ヶ月～3ヶ月未満","03_3ヶ月～6ヶ月未満","04_6ヶ月～1年未満","05_1年～1年6ヶ月未満","06_1年6ヶ月～2年未満","07_2年～3年未満","08_3年～4年未満","09_4年～5年未満","10_5年～6年未満","11_6年～7年未満","12_7年～8年未満","13_8年～9年未満","14_9年～10年未満","15_10年～20年未満","16_ 20年以上"]
[null,"19歳以下",{"$f":"IFERROR(INDEX(年齢階層×在院期間区分F00F01[#All],MATCH($AK4,年齢階層×在院期間区分F00F01[[#All],[行ラベル]],0),MATCH($AL$3,年齢階層×在院期間区分F00F01[#Headers],0)),0)+IFERROR(INDEX(年齢階層×在院期間区分F00F01[#All],MATCH($AK4,年齢階層×在院期間区分F00F01[[#All],[行ラベル]],0),MATCH($AM$3,年齢階層×在院期間区分F00F01[#Headers],0)),0)+IFERROR(INDEX(年齢階層×在院期間区分F00F01[#All],MATCH($AK4,年齢階層×在院期間区分F00F01[[#All],[行ラベル]],0),MATCH($AN$3,年齢階層×在院期間区分F00F01[#Headers],0)),0)+IFERROR(INDEX(年齢階層×在院期間区分F00F01[#All],MATCH($AK4,年齢階層×在院期間区分F00F01[[#All],[行ラベル]],0),MATCH($AO$3,年齢階層×在院期間区分F00F01[#Headers],0)),0)","v":0},{"$f":"IFERROR(C4/$C$13,\"-\")","v":0},{"$f":"IFERROR(INDEX(年齢階層×在院期間区分F00F01[#All],MATCH($AK4,年齢階層×在院期間区分F00F01[[#All],[行ラベル]],0),MATCH($AP$3,年齢階層×在院期間区分F00F01[#Headers],0)),0)+IFERROR(INDEX(年齢階層×在院期間区分F00F01[#All],MATCH($AK4,年齢階層×在院期間区分F00F01[[#All],[行ラベル]],0),MATCH($AQ$3,年齢階層×在院期間区分F00F01[#Headers],0)),0)+IFERROR(INDEX(年齢階層×在院期間区分F00F01[#All],MATCH($AK4,年齢階層×在院期間区分F00F01[[#All],[行ラベル]],0),MATCH($AR$3,年齢階層×在院期間区分F00F01[#Headers],0)),0)+IFERROR(INDEX(年齢階層×在院期間区分F00F01[#All],MATCH($AK4,年齢階層×在院期間区分F00F01[[#All],[行ラベル]],0),MATCH($AS$3,年齢階層×在院期間区分F00F01[#Headers],0)),0)+IFERROR(INDEX(年齢階層×在院期間区分F00F01[#All],MATCH($AK4,年齢階層×在院期間区分F00F01[[#All],[行ラベル]],0),MATCH($AT$3,年齢階層×在院期間区分F00F01[#Headers],0)),0)","v":0},{"$f":"IFERROR(E4/$E$13,\"-\")","v":0},{"$f":"IFERROR(INDEX(年齢階層×在院期間区分F00F01[#All],MATCH($AK4,年齢階層×在院期間区分F00F01[[#All],[行ラベル]],0),MATCH($AU$3,年齢階層×在院期間区分F00F01[#Headers],0)),0)+IFERROR(INDEX(年齢階層×在院期間区分F00F01[#All],MATCH($AK4,年齢階層×在院期間区分F00F01[[#All],[行ラベル]],0),MATCH($AV$3,年齢階層×在院期間区分F00F01[#Headers],0)),0)+IFERROR(INDEX(年齢階層×在院期間区分F00F01[#All],MATCH($AK4,年齢階層×在院期間区分F00F01[[#All],[行ラベル]],0),MATCH($AW$3,年齢階層×在院期間区分F00F01[#Headers],0)),0)+IFERROR(INDEX(年齢階層×在院期間区分F00F01[#All],MATCH($AK4,年齢階層×在院期間区分F00F01[[#All],[行ラベル]],0),MATCH($AX$3,年齢階層×在院期間区分F00F01[#Headers],0)),0)+IFERROR(INDEX(年齢階層×在院期間区分F00F01[#All],MATCH($AK4,年齢階層×在院期間区分F00F01[[#All],[行ラベル]],0),MATCH($AY$3,年齢階層×在院期間区分F00F01[#Headers],0)),0)","v":0},{"$f":"IFERROR(G4/$G$13,\"-\")","v":0},{"$f":"IFERROR(INDEX(年齢階層×在院期間区分F00F01[#All],MATCH($AK4,年齢階層×在院期間区分F00F01[[#All],[行ラベル]],0),MATCH($AZ$3,年齢階層×在院期間区分F00F01[#Headers],0)),0)+IFERROR(INDEX(年齢階層×在院期間区分F00F01[#All],MATCH($AK4,年齢階層×在院期間区分F00F01[[#All],[行ラベル]],0),MATCH($BA$3,年齢階層×在院期間区分F00F01[#Headers],0)),0)","v":0},{"$f":"IFERROR(I4/$I$13,\"-\")","v":0},{"$f":"SUM(C4,E4,G4,I4)","v":0},{"$f":"IFERROR(K4/$K$13,\"-\")","v":0},null,null,"19歳以下",0,0,0,0,0,0,0,0,0,0,0,0,0,0,0,0,null,null,null,null,null,"19歳以下"]
[null,"20歳代",{"$f":"IFERROR(INDEX(年齢階層×在院期間区分F00F01[#All],MATCH($AK5,年齢階層×在院期間区分F00F01[[#All],[行ラベル]],0),MATCH($AL$3,年齢階層×在院期間区分F00F01[#Headers],0)),0)+IFERROR(INDEX(年齢階層×在院期間区分F00F01[#All],MATCH($AK5,年齢階層×在院期間区分F00F01[[#All],[行ラベル]],0),MATCH($AM$3,年齢階層×在院期間区分F00F01[#Headers],0)),0)+IFERROR(INDEX(年齢階層×在院期間区分F00F01[#All],MATCH($AK5,年齢階層×在院期間区分F00F01[[#All],[行ラベル]],0),MATCH($AN$3,年齢階層×在院期間区分F00F01[#Headers],0)),0)+IFERROR(INDEX(年齢階層×在院期間区分F00F01[#All],MATCH($AK5,年齢階層×在院期間区分F00F01[[#All],[行ラベル]],0),MATCH($AO$3,年齢階層×在院期間区分F00F01[#Headers],0)),0)","v":0},0,{"$f":"IFERROR(INDEX(年齢階層×在院期間区分F00F01[#All],MATCH($AK5,年齢階層×在院期間区分F00F01[[#All],[行ラベル]],0),MATCH($AP$3,年齢階層×在院期間区分F00F01[#Headers],0)),0)+IFERROR(INDEX(年齢階層×在院期間区分F00F01[#All],MATCH($AK5,年齢階層×在院期間区分F00F01[[#All],[行ラベル]],0),MATCH($AQ$3,年齢階層×在院期間区分F00F01[#Headers],0)),0)+IFERROR(INDEX(年齢階層×在院期間区分F00F01[#All],MATCH($AK5,年齢階層×在院期間区分F00F01[[#All],[行ラベル]],0),MATCH($AR$3,年齢階層×在院期間区分F00F01[#Headers],0)),0)+IFERROR(INDEX(年齢階層×在院期間区分F00F01[#All],MATCH($AK5,年齢階層×在院期間区分F00F01[[#All],[行ラベル]],0),MATCH($AS$3,年齢階層×在院期間区分F00F01[#Headers],0)),0)+IFERROR(INDEX(年齢階層×在院期間区分F00F01[#All],MATCH($AK5,年齢階層×在院期間区分F00F01[[#All],[行ラベル]],0),MATCH($AT$3,年齢階層×在院期間区分F00F01[#Headers],0)),0)","v":0},0,{"$f":"IFERROR(INDEX(年齢階層×在院期間区分F00F01[#All],MATCH($AK5,年齢階層×在院期間区分F00F01[[#All],[行ラベル]],0),MATCH($AU$3,年齢階層×在院期間区分F00F01[#Headers],0)),0)+IFERROR(INDEX(年齢階層×在院期間区分F00F01[#All],MATCH($AK5,年齢階層×在院期間区分F00F01[[#All],[行ラベル]],0),MATCH($AV$3,年齢階層×在院期間区分F00F01[#Headers],0)),0)+IFERROR(INDEX(年齢階層×在院期間区分F00F01[#All],MATCH($AK5,年齢階層×在院期間区分F00F01[[#All],[行ラベル]],0),MATCH($AW$3,年齢階層×在院期間区分F00F01[#Headers],0)),0)+IFERROR(INDEX(年齢階層×在院期間区分F00F01[#All],MATCH($AK5,年齢階層×在院期間区分F00F01[[#All],[行ラベル]],0),MATCH($AX$3,年齢階層×在院期間区分F00F01[#Headers],0)),0)+IFERROR(INDEX(年齢階層×在院期間区分F00F01[#All],MATCH($AK5,年齢階層×在院期間区分F00F01[[#All],[行ラベル]],0),MATCH($AY$3,年齢階層×在院期間区分F00F01[#Headers],0)),0)","v":0},0,{"$f":"IFERROR(INDEX(年齢階層×在院期間区分F00F01[#All],MATCH($AK5,年齢階層×在院期間区分F00F01[[#All],[行ラベル]],0),MATCH($AZ$3,年齢階層×在院期間区分F00F01[#Headers],0)),0)+IFERROR(INDEX(年齢階層×在院期間区分F00F01[#All],MATCH($AK5,年齢階層×在院期間区分F00F01[[#All],[行ラベル]],0),MATCH($BA$3,年齢階層×在院期間区分F00F01[#Headers],0)),0)","v":0},0,0,0,null,null,"20歳代",0,0,0,0,0,0,0,0,0,0,0,0,0,0,0,0,null,null,null,null,null,"20歳代"]
[null,"30歳代",{"$f":"IFERROR(INDEX(年齢階層×在院期間区分F00F01[#All],MATCH($AK6,年齢階層×在院期間区分F00F01[[#All],[行ラベル]],0),MATCH($AL$3,年齢階層×在院期間区分F00F01[#Headers],0)),0)+IFERROR(INDEX(年齢階層×在院期間区分F00F01[#All],MATCH($AK6,年齢階層×在院期間区分F00F01[[#All],[行ラベル]],0),MATCH($AM$3,年齢階層×在院期間区分F00F01[#Headers],0)),0)+IFERROR(INDEX(年齢階層×在院期間区分F00F01[#All],MATCH($AK6,年齢階層×在院期間区分F00F01[[#All],[行ラベル]],0),MATCH($AN$3,年齢階層×在院期間区分F00F01[#Headers],0)),0)+IFERROR(INDEX(年齢階層×在院期間区分F00F01[#All],MATCH($AK6,年齢階層×在院期間区分F00F01[[#All],[行ラベル]],0),MATCH($AO$3,年齢階層×在院期間区分F00F01[#Headers],0)),0)","v":0},0,{"$f":"IFERROR(INDEX(年齢階層×在院期間区分F00F01[#All],MATCH($AK6,年齢階層×在院期間区分F00F01[[#All],[行ラベル]],0),MATCH($AP$3,年齢階層×在院期間区分F00F01[#Headers],0)),0)+IFERROR(INDEX(年齢階層×在院期間区分F00F01[#All],MATCH($AK6,年齢階層×在院期間区分F00F01[[#All],[行ラベル]],0),MATCH($AQ$3,年齢階層×在院期間区分F00F01[#Headers],0)),0)+IFERROR(INDEX(年齢階層×在院期間区分F00F01[#All],MATCH($AK6,年齢階層×在院期間区分F00F01[[#All],[行ラベル]],0),MATCH($AR$3,年齢階層×在院期間区分F00F01[#Headers],0)),0)+IFERROR(INDEX(年齢階層×在院期間区分F00F01[#All],MATCH($AK6,年齢階層×在院期間区分F00F01[[#All],[行ラベル]],0),MATCH($AS$3,年齢階層×在院期間区分F00F01[#Headers],0)),0)+IFERROR(INDEX(年齢階層×在院期間区分F00F01[#All],MATCH($AK6,年齢階層×在院期間区分F00F01[[#All],[行ラベル]],0),MATCH($AT$3,年齢階層×在院期間区分F00F01[#Headers],0)),0)","v":0},0,{"$f":"IFERROR(INDEX(年齢階層×在院期間区分F00F01[#All],MATCH($AK6,年齢階層×在院期間区分F00F01[[#All],[行ラベル]],0),MATCH($AU$3,年齢階層×在院期間区分F00F01[#Headers],0)),0)+IFERROR(INDEX(年齢階層×在院期間区分F00F01[#All],MATCH($AK6,年齢階層×在院期間区分F00F01[[#All],[行ラベル]],0),MATCH($AV$3,年齢階層×在院期間区分F00F01[#Headers],0)),0)+IFERROR(INDEX(年齢階層×在院期間区分F00F01[#All],MATCH($AK6,年齢階層×在院期間区分F00F01[[#All],[行ラベル]],0),MATCH($AW$3,年齢階層×在院期間区分F00F01[#Headers],0)),0)+IFERROR(INDEX(年齢階層×在院期間区分F00F01[#All],MATCH($AK6,年齢階層×在院期間区分F00F01[[#All],[行ラベル]],0),MATCH($AX$3,年齢階層×在院期間区分F00F01[#Headers],0)),0)+IFERROR(INDEX(年齢階層×在院期間区分F00F01[#All],MATCH($AK6,年齢階層×在院期間区分F00F01[[#All],[行ラベル]],0),MATCH($AY$3,年齢階層×在院期間区分F00F01[#Headers],0)),0)","v":1},5.434782608695652E-3,{"$f":"IFERROR(INDEX(年齢階層×在院期間区分F00F01[#All],MATCH($AK6,年齢階層×在院期間区分F00F01[[#All],[行ラベル]],0),MATCH($AZ$3,年齢階層×在院期間区分F00F01[#Headers],0)),0)+IFERROR(INDEX(年齢階層×在院期間区分F00F01[#All],MATCH($AK6,年齢階層×在院期間区分F00F01[[#All],[行ラベル]],0),MATCH($BA$3,年齢階層×在院期間区分F00F01[#Headers],0)),0)","v":0},0,1,3.9619651347068147E-4,null,null,"30歳代",0,0,0,0,0,0,0,0,0,1,0,0,0,0,0,0,null,null,null,null,null,"30歳代"]
[null,"40歳代",{"$f":"IFERROR(INDEX(年齢階層×在院期間区分F00F01[#All],MATCH($AK7,年齢階層×在院期間区分F00F01[[#All],[行ラベル]],0),MATCH($AL$3,年齢階層×在院期間区分F00F01[#Headers],0)),0)+IFERROR(INDEX(年齢階層×在院期間区分F00F01[#All],MATCH($AK7,年齢階層×在院期間区分F00F01[[#All],[行ラベル]],0),MATCH($AM$3,年齢階層×在院期間区分F00F01[#Headers],0)),0)+IFERROR(INDEX(年齢階層×在院期間区分F00F01[#All],MATCH($AK7,年齢階層×在院期間区分F00F01[[#All],[行ラベル]],0),MATCH($AN$3,年齢階層×在院期間区分F00F01[#Headers],0)),0)+IFERROR(INDEX(年齢階層×在院期間区分F00F01[#All],MATCH($AK7,年齢階層×在院期間区分F00F01[[#All],[行ラベル]],0),MATCH($AO$3,年齢階層×在院期間区分F00F01[#Headers],0)),0)","v":1},7.429420505200594E-4,{"$f":"IFERROR(INDEX(年齢階層×在院期間区分F00F01[#All],MATCH($AK7,年齢階層×在院期間区分F00F01[[#All],[行ラベル]],0),MATCH($AP$3,年齢階層×在院期間区分F00F01[#Headers],0)),0)+IFERROR(INDEX(年齢階層×在院期間区分F00F01[#All],MATCH($AK7,年齢階層×在院期間区分F00F01[[#All],[行ラベル]],0),MATCH($AQ$3,年齢階層×在院期間区分F00F01[#Headers],0)),0)+IFERROR(INDEX(年齢階層×在院期間区分F00F01[#All],MATCH($AK7,年齢階層×在院期間区分F00F01[[#All],[行ラベル]],0),MATCH($AR$3,年齢階層×在院期間区分F00F01[#Headers],0)),0)+IFERROR(INDEX(年齢階層×在院期間区分F00F01[#All],MATCH($AK7,年齢階層×在院期間区分F00F01[[#All],[行ラベル]],0),MATCH($AS$3,年齢階層×在院期間区分F00F01[#Headers],0)),0)+IFERROR(INDEX(年齢階層×在院期間区分F00F01[#All],MATCH($AK7,年齢階層×在院期間区分F00F01[[#All],[行ラベル]],0),MATCH($AT$3,年齢階層×在院期間区分F00F01[#Headers],0)),0)","v":1},1.0857763300760044E-3,{"$f":"IFERROR(INDEX(年齢階層×在院期間区分F00F01[#All],MATCH($AK7,年齢階層×在院期間区分F00F01[[#All],[行ラベル]],0),MATCH($AU$3,年齢階層×在院期間区分F00F01[#Headers],0)),0)+IFERROR(INDEX(年齢階層×在院期間区分F00F01[#All],MATCH($AK7,年齢階層×在院期間区分F00F01[[#All],[行ラベル]],0),MATCH($AV$3,年齢階層×在院期間区分F00F01[#Headers],0)),0)+IFERROR(INDEX(年齢階層×在院期間区分F00F01[#All],MATCH($AK7,年齢階層×在院期間区分F00F01[[#All],[行ラベル]],0),MATCH($AW$3,年齢階層×在院期間区分F00F01[#Headers],0)),0)+IFERROR(INDEX(年齢階層×在院期間区分F00F01[#All],MATCH($AK7,年齢階層×在院期間区分F00F01[[#All],[行ラベル]],0),MATCH($AX$3,年齢階層×在院期間区分F00F01[#Headers],0)),0)+IFERROR(INDEX(年齢階層×在院期間区分F00F01[#All],MATCH($AK7,年齢階層×在院期間区分F00F01[[#All],[行ラベル]],0),MATCH($AY$3,年齢階層×在院期間区分F00F01[#Headers],0)),0)","v":0},0,{"$f":"IFERROR(INDEX(年齢階層×在院期間区分F00F01[#All],MATCH($AK7,年齢階層×在院期間区分F00F01[[#All],[行ラベル]],0),MATCH($AZ$3,年齢階層×在院期間区分F00F01[#Headers],0)),0)+IFERROR(INDEX(年齢階層×在院期間区分F00F01[#All],MATCH($AK7,年齢階層×在院期間区分F00F01[[#All],[行ラベル]],0),MATCH($BA$3,年齢階層×在院期間区分F00F01[#Headers],0)),0)","v":0},0,2,7.9239302694136295E-4,null,null,"40歳代",1,0,0,0,1,0,0,0,0,0,0,0,0,0,0,0,null,null,null,null,null,"40歳代"]
[null,"50歳代",{"$f":"IFERROR(INDEX(年齢階層×在院期間区分F00F01[#All],MATCH($AK8,年齢階層×在院期間区分F00F01[[#All],[行ラベル]],0),MATCH($AL$3,年齢階層×在院期間区分F00F01[#Headers],0)),0)+IFERROR(INDEX(年齢階層×在院期間区分F00F01[#All],MATCH($AK8,年齢階層×在院期間区分F00F01[[#All],[行ラベル]],0),MATCH($AM$3,年齢階層×在院期間区分F00F01[#Headers],0)),0)+IFERROR(INDEX(年齢階層×在院期間区分F00F01[#All],MATCH($AK8,年齢階層×在院期間区分F00F01[[#All],[行ラベル]],0),MATCH($AN$3,年齢階層×在院期間区分F00F01[#Headers],0)),0)+IFERROR(INDEX(年齢階層×在院期間区分F00F01[#All],MATCH($AK8,年齢階層×在院期間区分F00F01[[#All],[行ラベル]],0),MATCH($AO$3,年齢階層×在院期間区分F00F01[#Headers],0)),0)","v":9},{"$f":"IFERROR(C8/$C$13,\"-\")","v":6.6864784546805346E-3},{"$f":"IFERROR(INDEX(年齢階層×在院期間区分F00F01[#All],MATCH($AK8,年齢階層×在院期間区分F00F01[[#All],[行ラベル]],0),MATCH($AP$3,年齢階層×在院期間区分F00F01[#Headers],0)),0)+IFERROR(INDEX(年齢階層×在院期間区分F00F01[#All],MATCH($AK8,年齢階層×在院期間区分F00F01[[#All],[行ラベル]],0),MATCH($AQ$3,年齢階層×在院期間区分F00F01[#Headers],0)),0)+IFERROR(INDEX(年齢階層×在院期間区分F00F01[#All],MATCH($AK8,年齢階層×在院期間区分F00F01[[#All],[行ラベル]],0),MATCH($AR$3,年齢階層×在院期間区分F00F01[#Headers],0)),0)+IFERROR(INDEX(年齢階層×在院期間区分F00F01[#All],MATCH($AK8,年齢階層×在院期間区分F00F01[[#All],[行ラベル]],0),MATCH($AS$3,年齢階層×在院期間区分F00F01[#Headers],0)),0)+IFERROR(INDEX(年齢階層×在院期間区分F00F01[#All],MATCH($AK8,年齢階層×在院期間区分F00F01[[#All],[行ラベル]],0),MATCH($AT$3,年齢階層×在院期間区分F00F01[#Headers],0)),0)","v":9},9.7719869706840382E-3,{"$f":"IFERROR(INDEX(年齢階層×在院期間区分F00F01[#All],MATCH($AK8,年齢階層×在院期間区分F00F01[[#All],[行ラベル]],0),MATCH($AU$3,年齢階層×在院期間区分F00F01[#Headers],0)),0)+IFERROR(INDEX(年齢階層×在院期間区分F00F01[#All],MATCH($AK8,年齢階層×在院期間区分F00F01[[#All],[行ラベル]],0),MATCH($AV$3,年齢階層×在院期間区分F00F01[#Headers],0)),0)+IFERROR(INDEX(年齢階層×在院期間区分F00F01[#All],MATCH($AK8,年齢階層×在院期間区分F00F01[[#All],[行ラベル]],0),MATCH($AW$3,年齢階層×在院期間区分F00F01[#Headers],0)),0)+IFERROR(INDEX(年齢階層×在院期間区分F00F01[#All],MATCH($AK8,年齢階層×在院期間区分F00F01[[#All],[行ラベル]],0),MATCH($AX$3,年齢階層×在院期間区分F00F01[#Headers],0)),0)+IFERROR(INDEX(年齢階層×在院期間区分F00F01[#All],MATCH($AK8,年齢階層×在院期間区分F00F01[[#All],[行ラベル]],0),MATCH($AY$3,年齢階層×在院期間区分F00F01[#Headers],0)),0)","v":2},1.0869565217391304E-2,{"$f":"IFERROR(INDEX(年齢階層×在院期間区分F00F01[#All],MATCH($AK8,年齢階層×在院期間区分F00F01[[#All],[行ラベル]],0),MATCH($AZ$3,年齢階層×在院期間区分F00F01[#Headers],0)),0)+IFERROR(INDEX(年齢階層×在院期間区分F00F01[#All],MATCH($AK8,年齢階層×在院期間区分F00F01[[#All],[行ラベル]],0),MATCH($BA$3,年齢階層×在院期間区分F00F01[#Headers],0)),0)","v":2},2.7397260273972601E-2,22,8.7163232963549924E-3,null,null,"50歳代",2,2,1,4,2,4,1,2,0,1,0,0,1,0,1,1,null,null,null,null,null,"50歳代"]
[null,"60歳代",{"$f":"IFERROR(INDEX(年齢階層×在院期間区分F00F01[#All],MATCH($AK9,年齢階層×在院期間区分F00F01[[#All],[行ラベル]],0),MATCH($AL$3,年齢階層×在院期間区分F00F01[#Headers],0)),0)+IFERROR(INDEX(年齢階層×在院期間区分F00F01[#All],MATCH($AK9,年齢階層×在院期間区分F00F01[[#All],[行ラベル]],0),MATCH($AM$3,年齢階層×在院期間区分F00F01[#Headers],0)),0)+IFERROR(INDEX(年齢階層×在院期間区分F00F01[#All],MATCH($AK9,年齢階層×在院期間区分F00F01[[#All],[行ラベル]],0),MATCH($AN$3,年齢階層×在院期間区分F00F01[#Headers],0)),0)+IFERROR(INDEX(年齢階層×在院期間区分F00F01[#All],MATCH($AK9,年齢階層×在院期間区分F00F01[[#All],[行ラベル]],0),MATCH($AO$3,年齢階層×在院期間区分F00F01[#Headers],0)),0)","v":47},3.4918276374442794E-2,{"$f":"IFERROR(INDEX(年齢階層×在院期間区分F00F01[#All],MATCH($AK9,年齢階層×在院期間区分F00F01[[#All],[行ラベル]],0),MATCH($AP$3,年齢階層×在院期間区分F00F01[#Headers],0)),0)+IFERROR(INDEX(年齢階層×在院期間区分F00F01[#All],MATCH($AK9,年齢階層×在院期間区分F00F01[[#All],[行ラベル]],0),MATCH($AQ$3,年齢階層×在院期間区分F00F01[#Headers],0)),0)+IFERROR(INDEX(年齢階層×在院期間区分F00F01[#All],MATCH($AK9,年齢階層×在院期間区分F00F01[[#All],[行ラベル]],0),MATCH($AR$3,年齢階層×在院期間区分F00F01[#Headers],0)),0)+IFERROR(INDEX(年齢階層×在院期間区分F00F01[#All],MATCH($AK9,年齢階層×在院期間区分F00F01[[#All],[行ラベル]],0),MATCH($AS$3,年齢階層×在院期間区分F00F01[#Headers],0)),0)+IFERROR(INDEX(年齢階層×在院期間区分F00F01[#All],MATCH($AK9,年齢階層×在院期間区分F00F01[[#All],[行ラベル]],0),MATCH($AT$3,年齢階層×在院期間区分F00F01[#Headers],0)),0)","v":41},4.4516829533116177E-2,{"$f":"IFERROR(INDEX(年齢階層×在院期間区分F00F01[#All],MATCH($AK9,年齢階層×在院期間区分F00F01[[#All],[行ラベル]],0),MATCH($AU$3,年齢階層×在院期間区分F00F01[#Headers],0)),0)+IFERROR(INDEX(年齢階層×在院期間区分F00F01[#All],MATCH($AK9,年齢階層×在院期間区分F00F01[[#All],[行ラベル]],0),MATCH($AV$3,年齢階層×在院期間区分F00F01[#Headers],0)),0)+IFERROR(INDEX(年齢階層×在院期間区分F00F01[#All],MATCH($AK9,年齢階層×在院期間区分F00F01[[#All],[行ラベル]],0),MATCH($AW$3,年齢階層×在院期間区分F00F01[#Headers],0)),0)+IFERROR(INDEX(年齢階層×在院期間区分F00F01[#All],MATCH($AK9,年齢階層×在院期間区分F00F01[[#All],[行ラベル]],0),MATCH($AX$3,年齢階層×在院期間区分F00F01[#Headers],0)),0)+IFERROR(INDEX(年齢階層×在院期間区分F00F01[#All],MATCH($AK9,年齢階層×在院期間区分F00F01[[#All],[行ラベル]],0),MATCH($AY$3,年齢階層×在院期間区分F00F01[#Headers],0)),0)","v":5},2.717391304347826E-2,{"$f":"IFERROR(INDEX(年齢階層×在院期間区分F00F01[#All],MATCH($AK9,年齢階層×在院期間区分F00F01[[#All],[行ラベル]],0),MATCH($AZ$3,年齢階層×在院期間区分F00F01[#Headers],0)),0)+IFERROR(INDEX(年齢階層×在院期間区分F00F01[#All],MATCH($AK9,年齢階層×在院期間区分F00F01[[#All],[行ラベル]],0),MATCH($BA$3,年齢階層×在院期間区分F00F01[#Headers],0)),0)","v":3},4.1095890410958902E-2,96,3.8034865293185421E-2,null,null,"60歳代",16,10,11,10,11,8,8,5,9,3,0,1,0,1,2,1,null,null,null,null,null,"60歳代"]
[null,"70歳代",{"$f":"IFERROR(INDEX(年齢階層×在院期間区分F00F01[#All],MATCH($AK10,年齢階層×在院期間区分F00F01[[#All],[行ラベル]],0),MATCH($AL$3,年齢階層×在院期間区分F00F01[#Headers],0)),0)+IFERROR(INDEX(年齢階層×在院期間区分F00F01[#All],MATCH($AK10,年齢階層×在院期間区分F00F01[[#All],[行ラベル]],0),MATCH($AM$3,年齢階層×在院期間区分F00F01[#Headers],0)),0)+IFERROR(INDEX(年齢階層×在院期間区分F00F01[#All],MATCH($AK10,年齢階層×在院期間区分F00F01[[#All],[行ラベル]],0),MATCH($AN$3,年齢階層×在院期間区分F00F01[#Headers],0)),0)+IFERROR(INDEX(年齢階層×在院期間区分F00F01[#All],MATCH($AK10,年齢階層×在院期間区分F00F01[[#All],[行ラベル]],0),MATCH($AO$3,年齢階層×在院期間区分F00F01[#Headers],0)),0)","v":365},0.27117384843982167,{"$f":"IFERROR(INDEX(年齢階層×在院期間区分F00F01[#All],MATCH($AK10,年齢階層×在院期間区分F00F01[[#All],[行ラベル]],0),MATCH($AP$3,年齢階層×在院期間区分F00F01[#Headers],0)),0)+IFERROR(INDEX(年齢階層×在院期間区分F00F01[#All],MATCH($AK10,年齢階層×在院期間区分F00F01[[#All],[行ラベル]],0),MATCH($AQ$3,年齢階層×在院期間区分F00F01[#Headers],0)),0)+IFERROR(INDEX(年齢階層×在院期間区分F00F01[#All],MATCH($AK10,年齢階層×在院期間区分F00F01[[#All],[行ラベル]],0),MATCH($AR$3,年齢階層×在院期間区分F00F01[#Headers],0)),0)+IFERROR(INDEX(年齢階層×在院期間区分F00F01[#All],MATCH($AK10,年齢階層×在院期間区分F00F01[[#All],[行ラベル]],0),MATCH($AS$3,年齢階層×在院期間区分F00F01[#Headers],0)),0)+IFERROR(INDEX(年齢階層×在院期間区分F00F01[#All],MATCH($AK10,年齢階層×在院期間区分F00F01[[#All],[行ラベル]],0),MATCH($AT$3,年齢階層×在院期間区分F00F01[#Headers],0)),0)","v":223},0.24212812160694897,{"$f":"IFERROR(INDEX(年齢階層×在院期間区分F00F01[#All],MATCH($AK10,年齢階層×在院期間区分F00F01[[#All],[行ラベル]],0),MATCH($AU$3,年齢階層×在院期間区分F00F01[#Headers],0)),0)+IFERROR(INDEX(年齢階層×在院期間区分F00F01[#All],MATCH($AK10,年齢階層×在院期間区分F00F01[[#All],[行ラベル]],0),MATCH($AV$3,年齢階層×在院期間区分F00F01[#Headers],0)),0)+IFERROR(INDEX(年齢階層×在院期間区分F00F01[#All],MATCH($AK10,年齢階層×在院期間区分F00F01[[#All],[行ラベル]],0),MATCH($AW$3,年齢階層×在院期間区分F00F01[#Headers],0)),0)+IFERROR(INDEX(年齢階層×在院期間区分F00F01[#All],MATCH($AK10,年齢階層×在院期間区分F00F01[[#All],[行ラベル]],0),MATCH($AX$3,年齢階層×在院期間区分F00F01[#Headers],0)),0)+IFERROR(INDEX(年齢階層×在院期間区分F00F01[#All],MATCH($AK10,年齢階層×在院期間区分F00F01[[#All],[行ラベル]],0),MATCH($AY$3,年齢階層×在院期間区分F00F01[#Headers],0)),0)","v":41},0.22282608695652173,{"$f":"IFERROR(INDEX(年齢階層×在院期間区分F00F01[#All],MATCH($AK10,年齢階層×在院期間区分F00F01[[#All],[行ラベル]],0),MATCH($AZ$3,年齢階層×在院期間区分F00F01[#Headers],0)),0)+IFERROR(INDEX(年齢階層×在院期間区分F00F01[#All],MATCH($AK10,年齢階層×在院期間区分F00F01[[#All],[行ラベル]],0),MATCH($BA$3,年齢階層×在院期間区分F00F01[#Headers],0)),0)","v":21},0.28767123287671231,650,0.25752773375594296,null,null,"70歳代",66,113,99,87,56,44,58,39,26,16,12,6,4,3,13,8,null,null,null,null,null,"70歳代"]
[null,"80歳代",{"$f":"IFERROR(INDEX(年齢階層×在院期間区分F00F01[#All],MATCH($AK11,年齢階層×在院期間区分F00F01[[#All],[行ラベル]],0),MATCH($AL$3,年齢階層×在院期間区分F00F01[#Headers],0)),0)+IFERROR(INDEX(年齢階層×在院期間区分F00F01[#All],MATCH($AK11,年齢階層×在院期間区分F00F01[[#All],[行ラベル]],0),MATCH($AM$3,年齢階層×在院期間区分F00F01[#Headers],0)),0)+IFERROR(INDEX(年齢階層×在院期間区分F00F01[#All],MATCH($AK11,年齢階層×在院期間区分F00F01[[#All],[行ラベル]],0),MATCH($AN$3,年齢階層×在院期間区分F00F01[#Headers],0)),0)+IFERROR(INDEX(年齢階層×在院期間区分F00F01[#All],MATCH($AK11,年齢階層×在院期間区分F00F01[[#All],[行ラベル]],0),MATCH($AO$3,年齢階層×在院期間区分F00F01[#Headers],0)),0)","v":728},0.54086181277860323,{"$f":"IFERROR(INDEX(年齢階層×在院期間区分F00F01[#All],MATCH($AK11,年齢階層×在院期間区分F00F01[[#All],[行ラベル]],0),MATCH($AP$3,年齢階層×在院期間区分F00F01[#Headers],0)),0)+IFERROR(INDEX(年齢階層×在院期間区分F00F01[#All],MATCH($AK11,年齢階層×在院期間区分F00F01[[#All],[行ラベル]],0),MATCH($AQ$3,年齢階層×在院期間区分F00F01[#Headers],0)),0)+IFERROR(INDEX(年齢階層×在院期間区分F00F01[#All],MATCH($AK11,年齢階層×在院期間区分F00F01[[#All],[行ラベル]],0),MATCH($AR$3,年齢階層×在院期間区分F00F01[#Headers],0)),0)+IFERROR(INDEX(年齢階層×在院期間区分F00F01[#All],MATCH($AK11,年齢階層×在院期間区分F00F01[[#All],[行ラベル]],0),MATCH($AS$3,年齢階層×在院期間区分F00F01[#Headers],0)),0)+IFERROR(INDEX(年齢階層×在院期間区分F00F01[#All],MATCH($AK11,年齢階層×在院期間区分F00F01[[#All],[行ラベル]],0),MATCH($AT$3,年齢階層×在院期間区分F00F01[#Headers],0)),0)","v":473},0.51357220412595006,{"$f":"IFERROR(INDEX(年齢階層×在院期間区分F00F01[#All],MATCH($AK11,年齢階層×在院期間区分F00F01[[#All],[行ラベル]],0),MATCH($AU$3,年齢階層×在院期間区分F00F01[#Headers],0)),0)+IFERROR(INDEX(年齢階層×在院期間区分F00F01[#All],MATCH($AK11,年齢階層×在院期間区分F00F01[[#All],[行ラベル]],0),MATCH($AV$3,年齢階層×在院期間区分F00F01[#Headers],0)),0)+IFERROR(INDEX(年齢階層×在院期間区分F00F01[#All],MATCH($AK11,年齢階層×在院期間区分F00F01[[#All],[行ラベル]],0),MATCH($AW$3,年齢階層×在院期間区分F00F01[#Headers],0)),0)+IFERROR(INDEX(年齢階層×在院期間区分F00F01[#All],MATCH($AK11,年齢階層×在院期間区分F00F01[[#All],[行ラベル]],0),MATCH($AX$3,年齢階層×在院期間区分F00F01[#Headers],0)),0)+IFERROR(INDEX(年齢階層×在院期間区分F00F01[#All],MATCH($AK11,年齢階層×在院期間区分F00F01[[#All],[行ラベル]],0),MATCH($AY$3,年齢階層×在院期間区分F00F01[#Headers],0)),0)","v":86},0.46739130434782611,{"$f":"IFERROR(INDEX(年齢階層×在院期間区分F00F01[#All],MATCH($AK11,年齢階層×在院期間区分F00F01[[#All],[行ラベル]],0),MATCH($AZ$3,年齢階層×在院期間区分F00F01[#Headers],0)),0)+IFERROR(INDEX(年齢階層×在院期間区分F00F01[#All],MATCH($AK11,年齢階層×在院期間区分F00F01[[#All],[行ラベル]],0),MATCH($BA$3,年齢階層×在院期間区分F00F01[#Headers],0)),0)","v":32},0.43835616438356162,1319,0.52258320126782887,null,null,"80歳代",148,205,184,191,113,101,119,78,62,36,25,10,6,9,30,2,null,null,null,null,null,"80歳代"]
[null,"90歳以上",{"$f":"IFERROR(INDEX(年齢階層×在院期間区分F00F01[#All],MATCH($AK12,年齢階層×在院期間区分F00F01[[#All],[行ラベル]],0),MATCH($AL$3,年齢階層×在院期間区分F00F01[#Headers],0)),0)+IFERROR(INDEX(年齢階層×在院期間区分F00F01[#All],MATCH($AK12,年齢階層×在院期間区分F00F01[[#All],[行ラベル]],0),MATCH($AM$3,年齢階層×在院期間区分F00F01[#Headers],0)),0)+IFERROR(INDEX(年齢階層×在院期間区分F00F01[#All],MATCH($AK12,年齢階層×在院期間区分F00F01[[#All],[行ラベル]],0),MATCH($AN$3,年齢階層×在院期間区分F00F01[#Headers],0)),0)+IFERROR(INDEX(年齢階層×在院期間区分F00F01[#All],MATCH($AK12,年齢階層×在院期間区分F00F01[[#All],[行ラベル]],0),MATCH($AO$3,年齢階層×在院期間区分F00F01[#Headers],0)),0)","v":196},0.14561664190193166,{"$f":"IFERROR(INDEX(年齢階層×在院期間区分F00F01[#All],MATCH($AK12,年齢階層×在院期間区分F00F01[[#All],[行ラベル]],0),MATCH($AP$3,年齢階層×在院期間区分F00F01[#Headers],0)),0)+IFERROR(INDEX(年齢階層×在院期間区分F00F01[#All],MATCH($AK12,年齢階層×在院期間区分F00F01[[#All],[行ラベル]],0),MATCH($AQ$3,年齢階層×在院期間区分F00F01[#Headers],0)),0)+IFERROR(INDEX(年齢階層×在院期間区分F00F01[#All],MATCH($AK12,年齢階層×在院期間区分F00F01[[#All],[行ラベル]],0),MATCH($AR$3,年齢階層×在院期間区分F00F01[#Headers],0)),0)+IFERROR(INDEX(年齢階層×在院期間区分F00F01[#All],MATCH($AK12,年齢階層×在院期間区分F00F01[[#All],[行ラベル]],0),MATCH($AS$3,年齢階層×在院期間区分F00F01[#Headers],0)),0)+IFERROR(INDEX(年齢階層×在院期間区分F00F01[#All],MATCH($AK12,年齢階層×在院期間区分F00F01[[#All],[行ラベル]],0),MATCH($AT$3,年齢階層×在院期間区分F00F01[#Headers],0)),0)","v":174},0.18892508143322476,{"$f":"IFERROR(INDEX(年齢階層×在院期間区分F00F01[#All],MATCH($AK12,年齢階層×在院期間区分F00F01[[#All],[行ラベル]],0),MATCH($AU$3,年齢階層×在院期間区分F00F01[#Headers],0)),0)+IFERROR(INDEX(年齢階層×在院期間区分F00F01[#All],MATCH($AK12,年齢階層×在院期間区分F00F01[[#All],[行ラベル]],0),MATCH($AV$3,年齢階層×在院期間区分F00F01[#Headers],0)),0)+IFERROR(INDEX(年齢階層×在院期間区分F00F01[#All],MATCH($AK12,年齢階層×在院期間区分F00F01[[#All],[行ラベル]],0),MATCH($AW$3,年齢階層×在院期間区分F00F01[#Headers],0)),0)+IFERROR(INDEX(年齢階層×在院期間区分F00F01[#All],MATCH($AK12,年齢階層×在院期間区分F00F01[[#All],[行ラベル]],0),MATCH($AX$3,年齢階層×在院期間区分F00F01[#Headers],0)),0)+IFERROR(INDEX(年齢階層×在院期間区分F00F01[#All],MATCH($AK12,年齢階層×在院期間区分F00F01[[#All],[行ラベル]],0),MATCH($AY$3,年齢階層×在院期間区分F00F01[#Headers],0)),0)","v":49},0.26630434782608697,{"$f":"IFERROR(INDEX(年齢階層×在院期間区分F00F01[#All],MATCH($AK12,年齢階層×在院期間区分F00F01[[#All],[行ラベル]],0),MATCH($AZ$3,年齢階層×在院期間区分F00F01[#Headers],0)),0)+IFERROR(INDEX(年齢階層×在院期間区分F00F01[#All],MATCH($AK12,年齢階層×在院期間区分F00F01[[#All],[行ラベル]],0),MATCH($BA$3,年齢階層×在院期間区分F00F01[#Headers],0)),0)","v":15},0.20547945205479451,434,0.17194928684627575,null,null,"90歳以上",46,54,46,50,36,27,49,33,29,19,20,3,2,5,14,1,null,null,null,null,null,"90歳以上"]
[null,"　総計",{"$f":"SUM(C4:C12)","v":1346},1,921,1,184,1,73,1,2524,1,null,null,"列1","01_1ヶ月未満","02_1ヶ月～3ヶ月未満","03_3ヶ月～6ヶ月未満","04_6ヶ月～1年未満","05_1年～1年6ヶ月未満","06_1年6ヶ月～2年未満","07_2年～3年未満","08_3年～4年未満","09_4年～5年未満","10_5年～6年未満","11_6年～7年未満","12_7年～8年未満","13_8年～9年未満","14_9年～10年未満","15_10年～20年未満","16_ 20年以上"]
[null,"65歳未満（再掲）",{"$f":"IFERROR(INDEX(年齢階層×在院期間区分F00F01_65歳未満以上[#All],MATCH($AK14,年齢階層×在院期間区分F00F01_65歳未満以上[[#All],[列1]],0),MATCH($AL$3,年齢階層×在院期間区分F00F01_65歳未満以上[#Headers],0)),0)+IFERROR(INDEX(年齢階層×在院期間区分F00F01_65歳未満以上[#All],MATCH($AK14,年齢階層×在院期間区分F00F01_65歳未満以上[[#All],[列1]],0),MATCH($AM$3,年齢階層×在院期間区分F00F01_65歳未満以上[#Headers],0)),0)+IFERROR(INDEX(年齢階層×在院期間区分F00F01_65歳未満以上[#All],MATCH($AK14,年齢階層×在院期間区分F00F01_65歳未満以上[[#All],[列1]],0),MATCH($AN$3,年齢階層×在院期間区分F00F01_65歳未満以上[#Headers],0)),0)+IFERROR(INDEX(年齢階層×在院期間区分F00F01_65歳未満以上[#All],MATCH($AK14,年齢階層×在院期間区分F00F01_65歳未満以上[[#All],[列1]],0),MATCH($AO$3,年齢階層×在院期間区分F00F01_65歳未満以上[#Headers],0)),0)","v":18},{"$f":"IFERROR(C14/$C$13,\"-\")","v":1.3372956909361069E-2},{"$f":"IFERROR(INDEX(年齢階層×在院期間区分F00F01_65歳未満以上[#All],MATCH($AK14,年齢階層×在院期間区分F00F01_65歳未満以上[[#All],[列1]],0),MATCH($AP$3,年齢階層×在院期間区分F00F01_65歳未満以上[#Headers],0)),0)+IFERROR(INDEX(年齢階層×在院期間区分F00F01_65歳未満以上[#All],MATCH($AK14,年齢階層×在院期間区分F00F01_65歳未満以上[[#All],[列1]],0),MATCH($AQ$3,年齢階層×在院期間区分F00F01_65歳未満以上[#Headers],0)),0)+IFERROR(INDEX(年齢階層×在院期間区分F00F01_65歳未満以上[#All],MATCH($AK14,年齢階層×在院期間区分F00F01_65歳未満以上[[#All],[列1]],0),MATCH($AR$3,年齢階層×在院期間区分F00F01_65歳未満以上[#Headers],0)),0)+IFERROR(INDEX(年齢階層×在院期間区分F00F01_65歳未満以上[#All],MATCH($AK14,年齢階層×在院期間区分F00F01_65歳未満以上[[#All],[列1]],0),MATCH($AS$3,年齢階層×在院期間区分F00F01_65歳未満以上[#Headers],0)),0)+IFERROR(INDEX(年齢階層×在院期間区分F00F01_65歳未満以上[#All],MATCH($AK14,年齢階層×在院期間区分F00F01_65歳未満以上[[#All],[列1]],0),MATCH($AT$3,年齢階層×在院期間区分F00F01_65歳未満以上[#Headers],0)),0)","v":21},{"$f":"IFERROR(E14/$E$13,\"-\")","v":2.2801302931596091E-2},{"$f":"IFERROR(INDEX(年齢階層×在院期間区分F00F01_65歳未満以上[#All],MATCH($AK14,年齢階層×在院期間区分F00F01_65歳未満以上[[#All],[列1]],0),MATCH($AU$3,年齢階層×在院期間区分F00F01_65歳未満以上[#Headers],0)),0)+IFERROR(INDEX(年齢階層×在院期間区分F00F01_65歳未満以上[#All],MATCH($AK14,年齢階層×在院期間区分F00F01_65歳未満以上[[#All],[列1]],0),MATCH($AV$3,年齢階層×在院期間区分F00F01_65歳未満以上[#Headers],0)),0)+IFERROR(INDEX(年齢階層×在院期間区分F00F01_65歳未満以上[#All],MATCH($AK14,年齢階層×在院期間区分F00F01_65歳未満以上[[#All],[列1]],0),MATCH($AW$3,年齢階層×在院期間区分F00F01_65歳未満以上[#Headers],0)),0)+IFERROR(INDEX(年齢階層×在院期間区分F00F01_65歳未満以上[#All],MATCH($AK14,年齢階層×在院期間区分F00F01_65歳未満以上[[#All],[列1]],0),MATCH($AX$3,年齢階層×在院期間区分F00F01_65歳未満以上[#Headers],0)),0)+IFERROR(INDEX(年齢階層×在院期間区分F00F01_65歳未満以上[#All],MATCH($AK14,年齢階層×在院期間区分F00F01_65歳未満以上[[#All],[列1]],0),MATCH($AY$3,年齢階層×在院期間区分F00F01_65歳未満以上[#Headers],0)),0)","v":5},{"$f":"IFERROR(G14/$G$13,\"-\")","v":2.717391304347826E-2},{"$f":"IFERROR(INDEX(年齢階層×在院期間区分F00F01_65歳未満以上[#All],MATCH($AK14,年齢階層×在院期間区分F00F01_65歳未満以上[[#All],[列1]],0),MATCH($AZ$3,年齢階層×在院期間区分F00F01_65歳未満以上[#Headers],0)),0)+IFERROR(INDEX(年齢階層×在院期間区分F00F01_65歳未満以上[#All],MATCH($AK14,年齢階層×在院期間区分F00F01_65歳未満以上[[#All],[列1]],0),MATCH($BA$3,年齢階層×在院期間区分F00F01_65歳未満以上[#Headers],0)),0)","v":3},{"$f":"IFERROR(I14/$I$13,\"-\")","v":4.1095890410958902E-2},{"$f":"SUM(C14,E14,G14,I14)","v":47},{"$f":"IFERROR(K14/$K$13,\"-\")","v":1.862123613312203E-2},null,null,"65歳未満",7,4,2,5,7,7,2,3,2,4,0,0,1,0,2,1,null,null,null,null,null,"65歳未満"]
[null,"65歳以上（再掲）",{"$f":"IFERROR(INDEX(年齢階層×在院期間区分F00F01_65歳未満以上[#All],MATCH($AK15,年齢階層×在院期間区分F00F01_65歳未満以上[[#All],[列1]],0),MATCH($AL$3,年齢階層×在院期間区分F00F01_65歳未満以上[#Headers],0)),0)+IFERROR(INDEX(年齢階層×在院期間区分F00F01_65歳未満以上[#All],MATCH($AK15,年齢階層×在院期間区分F00F01_65歳未満以上[[#All],[列1]],0),MATCH($AM$3,年齢階層×在院期間区分F00F01_65歳未満以上[#Headers],0)),0)+IFERROR(INDEX(年齢階層×在院期間区分F00F01_65歳未満以上[#All],MATCH($AK15,年齢階層×在院期間区分F00F01_65歳未満以上[[#All],[列1]],0),MATCH($AN$3,年齢階層×在院期間区分F00F01_65歳未満以上[#Headers],0)),0)+IFERROR(INDEX(年齢階層×在院期間区分F00F01_65歳未満以上[#All],MATCH($AK15,年齢階層×在院期間区分F00F01_65歳未満以上[[#All],[列1]],0),MATCH($AO$3,年齢階層×在院期間区分F00F01_65歳未満以上[#Headers],0)),0)","v":1328},{"$f":"IFERROR(C15/$C$13,\"-\")","v":0.98662704309063898},{"$f":"IFERROR(INDEX(年齢階層×在院期間区分F00F01_65歳未満以上[#All],MATCH($AK15,年齢階層×在院期間区分F00F01_65歳未満以上[[#All],[列1]],0),MATCH($AP$3,年齢階層×在院期間区分F00F01_65歳未満以上[#Headers],0)),0)+IFERROR(INDEX(年齢階層×在院期間区分F00F01_65歳未満以上[#All],MATCH($AK15,年齢階層×在院期間区分F00F01_65歳未満以上[[#All],[列1]],0),MATCH($AQ$3,年齢階層×在院期間区分F00F01_65歳未満以上[#Headers],0)),0)+IFERROR(INDEX(年齢階層×在院期間区分F00F01_65歳未満以上[#All],MATCH($AK15,年齢階層×在院期間区分F00F01_65歳未満以上[[#All],[列1]],0),MATCH($AR$3,年齢階層×在院期間区分F00F01_65歳未満以上[#Headers],0)),0)+IFERROR(INDEX(年齢階層×在院期間区分F00F01_65歳未満以上[#All],MATCH($AK15,年齢階層×在院期間区分F00F01_65歳未満以上[[#All],[列1]],0),MATCH($AS$3,年齢階層×在院期間区分F00F01_65歳未満以上[#Headers],0)),0)+IFERROR(INDEX(年齢階層×在院期間区分F00F01_65歳未満以上[#All],MATCH($AK15,年齢階層×在院期間区分F00F01_65歳未満以上[[#All],[列1]],0),MATCH($AT$3,年齢階層×在院期間区分F00F01_65歳未満以上[#Headers],0)),0)","v":900},{"$f":"IFERROR(E15/$E$13,\"-\")","v":0.9771986970684039},{"$f":"IFERROR(INDEX(年齢階層×在院期間区分F00F01_65歳未満以上[#All],MATCH($AK15,年齢階層×在院期間区分F00F01_65歳未満以上[[#All],[列1]],0),MATCH($AU$3,年齢階層×在院期間区分F00F01_65歳未満以上[#Headers],0)),0)+IFERROR(INDEX(年齢階層×在院期間区分F00F01_65歳未満以上[#All],MATCH($AK15,年齢階層×在院期間区分F00F01_65歳未満以上[[#All],[列1]],0),MATCH($AV$3,年齢階層×在院期間区分F00F01_65歳未満以上[#Headers],0)),0)+IFERROR(INDEX(年齢階層×在院期間区分F00F01_65歳未満以上[#All],MATCH($AK15,年齢階層×在院期間区分F00F01_65歳未満以上[[#All],[列1]],0),MATCH($AW$3,年齢階層×在院期間区分F00F01_65歳未満以上[#Headers],0)),0)+IFERROR(INDEX(年齢階層×在院期間区分F00F01_65歳未満以上[#All],MATCH($AK15,年齢階層×在院期間区分F00F01_65歳未満以上[[#All],[列1]],0),MATCH($AX$3,年齢階層×在院期間区分F00F01_65歳未満以上[#Headers],0)),0)+IFERROR(INDEX(年齢階層×在院期間区分F00F01_65歳未満以上[#All],MATCH($AK15,年齢階層×在院期間区分F00F01_65歳未満以上[[#All],[列1]],0),MATCH($AY$3,年齢階層×在院期間区分F00F01_65歳未満以上[#Headers],0)),0)","v":179},{"$f":"IFERROR(G15/$G$13,\"-\")","v":0.97282608695652173},{"$f":"IFERROR(INDEX(年齢階層×在院期間区分F00F01_65歳未満以上[#All],MATCH($AK15,年齢階層×在院期間区分F00F01_65歳未満以上[[#All],[列1]],0),MATCH($AZ$3,年齢階層×在院期間区分F00F01_65歳未満以上[#Headers],0)),0)+IFERROR(INDEX(年齢階層×在院期間区分F00F01_65歳未満以上[#All],MATCH($AK15,年齢階層×在院期間区分F00F01_65歳未満以上[[#All],[列1]],0),MATCH($BA$3,年齢階層×在院期間区分F00F01_65歳未満以上[#Headers],0)),0)","v":70},{"$f":"IFERROR(I15/$I$13,\"-\")","v":0.95890410958904104},{"$f":"C15+E15+G15+I15","v":2477},{"$f":"IFERROR(K15/$K$13,\"-\")","v":0.98137876386687795},null,null,"65歳以上",272,380,339,337,212,177,233,154,124,72,57,20,12,18,58,12,null,null,null,null,null,"65歳以上"]
[]
[null,"【年齢階層×在院期間区分】〔アルツハイマー病型認知症及び血管性認知症（F00-F01）〕&〔寛解・院内寛解群〕"]
[null,"年齢階層","在院期間区分",null,null,null,null,null,null,null,null,null,null,null,"データ貼り付け箇所"]
[null,null,"1年未満",null,"1年以上\n5年未満",null,"5年以上\n10年未満",null,"10年以上",null,"合計",null,null,null,"行ラベル","01_1ヶ月未満","02_1ヶ月～3ヶ月未満","03_3ヶ月～6ヶ月未満","04_6ヶ月～1年未満","05_1年～1年6ヶ月未満","06_1年6ヶ月～2年未満","07_2年～3年未満","08_3年～4年未満","09_4年～5年未満","10_5年～6年未満","11_6年～7年未満","12_7年～8年未満","13_8年～9年未満","14_9年～10年未満","15_10年～20年未満","16_ 20年以上"]
[null,"19歳以下",{"$f":"IFERROR(INDEX(年齢階層×在院期間区分F00F01＿寛解・院内寛解[#All],MATCH($AK4,年齢階層×在院期間区分F00F01＿寛解・院内寛解[[#All],[行ラベル]],0),MATCH($AL$3,年齢階層×在院期間区分F00F01＿寛解・院内寛解[#Headers],0)),0)+IFERROR(INDEX(年齢階層×在院期間区分F00F01＿寛解・院内寛解[#All],MATCH($AK4,年齢階層×在院期間区分F00F01＿寛解・院内寛解[[#All],[行ラベル]],0),MATCH($AM$3,年齢階層×在院期間区分F00F01＿寛解・院内寛解[#Headers],0)),0)+IFERROR(INDEX(年齢階層×在院期間区分F00F01＿寛解・院内寛解[#All],MATCH($AK4,年齢階層×在院期間区分F00F01＿寛解・院内寛解[[#All],[行ラベル]],0),MATCH($AN$3,年齢階層×在院期間区分F00F01＿寛解・院内寛解[#Headers],0)),0)+IFERROR(INDEX(年齢階層×在院期間区分F00F01＿寛解・院内寛解[#All],MATCH($AK4,年齢階層×在院期間区分F00F01＿寛解・院内寛解[[#All],[行ラベル]],0),MATCH($AO$3,年齢階層×在院期間区分F00F01＿寛解・院内寛解[#Headers],0)),0)","v":0},{"$f":"IFERROR(C20/$C$29,\"-\")","v":0},{"$f":"IFERROR(INDEX(年齢階層×在院期間区分F00F01＿寛解・院内寛解[#All],MATCH($AK4,年齢階層×在院期間区分F00F01＿寛解・院内寛解[[#All],[行ラベル]],0),MATCH($AP$3,年齢階層×在院期間区分F00F01＿寛解・院内寛解[#Headers],0)),0)+IFERROR(INDEX(年齢階層×在院期間区分F00F01＿寛解・院内寛解[#All],MATCH($AK4,年齢階層×在院期間区分F00F01＿寛解・院内寛解[[#All],[行ラベル]],0),MATCH($AQ$3,年齢階層×在院期間区分F00F01＿寛解・院内寛解[#Headers],0)),0)+IFERROR(INDEX(年齢階層×在院期間区分F00F01＿寛解・院内寛解[#All],MATCH($AK4,年齢階層×在院期間区分F00F01＿寛解・院内寛解[[#All],[行ラベル]],0),MATCH($AR$3,年齢階層×在院期間区分F00F01＿寛解・院内寛解[#Headers],0)),0)+IFERROR(INDEX(年齢階層×在院期間区分F00F01＿寛解・院内寛解[#All],MATCH($AK4,年齢階層×在院期間区分F00F01＿寛解・院内寛解[[#All],[行ラベル]],0),MATCH($AS$3,年齢階層×在院期間区分F00F01＿寛解・院内寛解[#Headers],0)),0)+IFERROR(INDEX(年齢階層×在院期間区分F00F01＿寛解・院内寛解[#All],MATCH($AK4,年齢階層×在院期間区分F00F01＿寛解・院内寛解[[#All],[行ラベル]],0),MATCH($AT$3,年齢階層×在院期間区分F00F01＿寛解・院内寛解[#Headers],0)),0)","v":0},{"$f":"IFERROR(E20/$E$29,\"-\")","v":0},{"$f":"IFERROR(INDEX(年齢階層×在院期間区分F00F01＿寛解・院内寛解[#All],MATCH($AK4,年齢階層×在院期間区分F00F01＿寛解・院内寛解[[#All],[行ラベル]],0),MATCH($AU$3,年齢階層×在院期間区分F00F01＿寛解・院内寛解[#Headers],0)),0)+IFERROR(INDEX(年齢階層×在院期間区分F00F01＿寛解・院内寛解[#All],MATCH($AK4,年齢階層×在院期間区分F00F01＿寛解・院内寛解[[#All],[行ラベル]],0),MATCH($AV$3,年齢階層×在院期間区分F00F01＿寛解・院内寛解[#Headers],0)),0)+IFERROR(INDEX(年齢階層×在院期間区分F00F01＿寛解・院内寛解[#All],MATCH($AK4,年齢階層×在院期間区分F00F01＿寛解・院内寛解[[#All],[行ラベル]],0),MATCH($AW$3,年齢階層×在院期間区分F00F01＿寛解・院内寛解[#Headers],0)),0)+IFERROR(INDEX(年齢階層×在院期間区分F00F01＿寛解・院内寛解[#All],MATCH($AK4,年齢階層×在院期間区分F00F01＿寛解・院内寛解[[#All],[行ラベル]],0),MATCH($AX$3,年齢階層×在院期間区分F00F01＿寛解・院内寛解[#Headers],0)),0)+IFERROR(INDEX(年齢階層×在院期間区分F00F01＿寛解・院内寛解[#All],MATCH($AK4,年齢階層×在院期間区分F00F01＿寛解・院内寛解[[#All],[行ラベル]],0),MATCH($AY$3,年齢階層×在院期間区分F00F01＿寛解・院内寛解[#Headers],0)),0)","v":0},{"$f":"IFERROR(G20/$G$29,\"-\")","v":0},{"$f":"IFERROR(INDEX(年齢階層×在院期間区分F00F01＿寛解・院内寛解[#All],MATCH($AK4,年齢階層×在院期間区分F00F01＿寛解・院内寛解[[#All],[行ラベル]],0),MATCH($AZ$3,年齢階層×在院期間区分F00F01＿寛解・院内寛解[#Headers],0)),0)+IFERROR(INDEX(年齢階層×在院期間区分F00F01＿寛解・院内寛解[#All],MATCH($AK4,年齢階層×在院期間区分F00F01＿寛解・院内寛解[[#All],[行ラベル]],0),MATCH($BA$3,年齢階層×在院期間区分F00F01＿寛解・院内寛解[#Headers],0)),0)","v":0},{"$f":"IFERROR(I20/$I$29,\"-\")","v":0},{"$f":"SUM(C20,E20,G20,I20)","v":0},{"$f":"IFERROR(K20/$K$29,\"-\")","v":0},null,null,"19歳以下",0,0,0,0,0,0,0,0,0,0,0,0,0,0,0,0,null,null,null,null,null,"19歳以下"]
[null,"20歳代",{"$f":"IFERROR(INDEX(年齢階層×在院期間区分F00F01＿寛解・院内寛解[#All],MATCH($AK5,年齢階層×在院期間区分F00F01＿寛解・院内寛解[[#All],[行ラベル]],0),MATCH($AL$3,年齢階層×在院期間区分F00F01＿寛解・院内寛解[#Headers],0)),0)+IFERROR(INDEX(年齢階層×在院期間区分F00F01＿寛解・院内寛解[#All],MATCH($AK5,年齢階層×在院期間区分F00F01＿寛解・院内寛解[[#All],[行ラベル]],0),MATCH($AM$3,年齢階層×在院期間区分F00F01＿寛解・院内寛解[#Headers],0)),0)+IFERROR(INDEX(年齢階層×在院期間区分F00F01＿寛解・院内寛解[#All],MATCH($AK5,年齢階層×在院期間区分F00F01＿寛解・院内寛解[[#All],[行ラベル]],0),MATCH($AN$3,年齢階層×在院期間区分F00F01＿寛解・院内寛解[#Headers],0)),0)+IFERROR(INDEX(年齢階層×在院期間区分F00F01＿寛解・院内寛解[#All],MATCH($AK5,年齢階層×在院期間区分F00F01＿寛解・院内寛解[[#All],[行ラベル]],0),MATCH($AO$3,年齢階層×在院期間区分F00F01＿寛解・院内寛解[#Headers],0)),0)","v":0},0,{"$f":"IFERROR(INDEX(年齢階層×在院期間区分F00F01＿寛解・院内寛解[#All],MATCH($AK5,年齢階層×在院期間区分F00F01＿寛解・院内寛解[[#All],[行ラベル]],0),MATCH($AP$3,年齢階層×在院期間区分F00F01＿寛解・院内寛解[#Headers],0)),0)+IFERROR(INDEX(年齢階層×在院期間区分F00F01＿寛解・院内寛解[#All],MATCH($AK5,年齢階層×在院期間区分F00F01＿寛解・院内寛解[[#All],[行ラベル]],0),MATCH($AQ$3,年齢階層×在院期間区分F00F01＿寛解・院内寛解[#Headers],0)),0)+IFERROR(INDEX(年齢階層×在院期間区分F00F01＿寛解・院内寛解[#All],MATCH($AK5,年齢階層×在院期間区分F00F01＿寛解・院内寛解[[#All],[行ラベル]],0),MATCH($AR$3,年齢階層×在院期間区分F00F01＿寛解・院内寛解[#Headers],0)),0)+IFERROR(INDEX(年齢階層×在院期間区分F00F01＿寛解・院内寛解[#All],MATCH($AK5,年齢階層×在院期間区分F00F01＿寛解・院内寛解[[#All],[行ラベル]],0),MATCH($AS$3,年齢階層×在院期間区分F00F01＿寛解・院内寛解[#Headers],0)),0)+IFERROR(INDEX(年齢階層×在院期間区分F00F01＿寛解・院内寛解[#All],MATCH($AK5,年齢階層×在院期間区分F00F01＿寛解・院内寛解[[#All],[行ラベル]],0),MATCH($AT$3,年齢階層×在院期間区分F00F01＿寛解・院内寛解[#Headers],0)),0)","v":0},0,{"$f":"IFERROR(INDEX(年齢階層×在院期間区分F00F01＿寛解・院内寛解[#All],MATCH($AK5,年齢階層×在院期間区分F00F01＿寛解・院内寛解[[#All],[行ラベル]],0),MATCH($AU$3,年齢階層×在院期間区分F00F01＿寛解・院内寛解[#Headers],0)),0)+IFERROR(INDEX(年齢階層×在院期間区分F00F01＿寛解・院内寛解[#All],MATCH($AK5,年齢階層×在院期間区分F00F01＿寛解・院内寛解[[#All],[行ラベル]],0),MATCH($AV$3,年齢階層×在院期間区分F00F01＿寛解・院内寛解[#Headers],0)),0)+IFERROR(INDEX(年齢階層×在院期間区分F00F01＿寛解・院内寛解[#All],MATCH($AK5,年齢階層×在院期間区分F00F01＿寛解・院内寛解[[#All],[行ラベル]],0),MATCH($AW$3,年齢階層×在院期間区分F00F01＿寛解・院内寛解[#Headers],0)),0)+IFERROR(INDEX(年齢階層×在院期間区分F00F01＿寛解・院内寛解[#All],MATCH($AK5,年齢階層×在院期間区分F00F01＿寛解・院内寛解[[#All],[行ラベル]],0),MATCH($AX$3,年齢階層×在院期間区分F00F01＿寛解・院内寛解[#Headers],0)),0)+IFERROR(INDEX(年齢階層×在院期間区分F00F01＿寛解・院内寛解[#All],MATCH($AK5,年齢階層×在院期間区分F00F01＿寛解・院内寛解[[#All],[行ラベル]],0),MATCH($AY$3,年齢階層×在院期間区分F00F01＿寛解・院内寛解[#Headers],0)),0)","v":0},0,{"$f":"IFERROR(INDEX(年齢階層×在院期間区分F00F01＿寛解・院内寛解[#All],MATCH($AK5,年齢階層×在院期間区分F00F01＿寛解・院内寛解[[#All],[行ラベル]],0),MATCH($AZ$3,年齢階層×在院期間区分F00F01＿寛解・院内寛解[#Headers],0)),0)+IFERROR(INDEX(年齢階層×在院期間区分F00F01＿寛解・院内寛解[#All],MATCH($AK5,年齢階層×在院期間区分F00F01＿寛解・院内寛解[[#All],[行ラベル]],0),MATCH($BA$3,年齢階層×在院期間区分F00F01＿寛解・院内寛解[#Headers],0)),0)","v":0},0,0,0,null,null,"20歳代",0,0,0,0,0,0,0,0,0,0,0,0,0,0,0,0,null,null,null,null,null,"20歳代"]
[null,"30歳代",{"$f":"IFERROR(INDEX(年齢階層×在院期間区分F00F01＿寛解・院内寛解[#All],MATCH($AK6,年齢階層×在院期間区分F00F01＿寛解・院内寛解[[#All],[行ラベル]],0),MATCH($AL$3,年齢階層×在院期間区分F00F01＿寛解・院内寛解[#Headers],0)),0)+IFERROR(INDEX(年齢階層×在院期間区分F00F01＿寛解・院内寛解[#All],MATCH($AK6,年齢階層×在院期間区分F00F01＿寛解・院内寛解[[#All],[行ラベル]],0),MATCH($AM$3,年齢階層×在院期間区分F00F01＿寛解・院内寛解[#Headers],0)),0)+IFERROR(INDEX(年齢階層×在院期間区分F00F01＿寛解・院内寛解[#All],MATCH($AK6,年齢階層×在院期間区分F00F01＿寛解・院内寛解[[#All],[行ラベル]],0),MATCH($AN$3,年齢階層×在院期間区分F00F01＿寛解・院内寛解[#Headers],0)),0)+IFERROR(INDEX(年齢階層×在院期間区分F00F01＿寛解・院内寛解[#All],MATCH($AK6,年齢階層×在院期間区分F00F01＿寛解・院内寛解[[#All],[行ラベル]],0),MATCH($AO$3,年齢階層×在院期間区分F00F01＿寛解・院内寛解[#Headers],0)),0)","v":0},0,{"$f":"IFERROR(INDEX(年齢階層×在院期間区分F00F01＿寛解・院内寛解[#All],MATCH($AK6,年齢階層×在院期間区分F00F01＿寛解・院内寛解[[#All],[行ラベル]],0),MATCH($AP$3,年齢階層×在院期間区分F00F01＿寛解・院内寛解[#Headers],0)),0)+IFERROR(INDEX(年齢階層×在院期間区分F00F01＿寛解・院内寛解[#All],MATCH($AK6,年齢階層×在院期間区分F00F01＿寛解・院内寛解[[#All],[行ラベル]],0),MATCH($AQ$3,年齢階層×在院期間区分F00F01＿寛解・院内寛解[#Headers],0)),0)+IFERROR(INDEX(年齢階層×在院期間区分F00F01＿寛解・院内寛解[#All],MATCH($AK6,年齢階層×在院期間区分F00F01＿寛解・院内寛解[[#All],[行ラベル]],0),MATCH($AR$3,年齢階層×在院期間区分F00F01＿寛解・院内寛解[#Headers],0)),0)+IFERROR(INDEX(年齢階層×在院期間区分F00F01＿寛解・院内寛解[#All],MATCH($AK6,年齢階層×在院期間区分F00F01＿寛解・院内寛解[[#All],[行ラベル]],0),MATCH($AS$3,年齢階層×在院期間区分F00F01＿寛解・院内寛解[#Headers],0)),0)+IFERROR(INDEX(年齢階層×在院期間区分F00F01＿寛解・院内寛解[#All],MATCH($AK6,年齢階層×在院期間区分F00F01＿寛解・院内寛解[[#All],[行ラベル]],0),MATCH($AT$3,年齢階層×在院期間区分F00F01＿寛解・院内寛解[#Headers],0)),0)","v":0},0,{"$f":"IFERROR(INDEX(年齢階層×在院期間区分F00F01＿寛解・院内寛解[#All],MATCH($AK6,年齢階層×在院期間区分F00F01＿寛解・院内寛解[[#All],[行ラベル]],0),MATCH($AU$3,年齢階層×在院期間区分F00F01＿寛解・院内寛解[#Headers],0)),0)+IFERROR(INDEX(年齢階層×在院期間区分F00F01＿寛解・院内寛解[#All],MATCH($AK6,年齢階層×在院期間区分F00F01＿寛解・院内寛解[[#All],[行ラベル]],0),MATCH($AV$3,年齢階層×在院期間区分F00F01＿寛解・院内寛解[#Headers],0)),0)+IFERROR(INDEX(年齢階層×在院期間区分F00F01＿寛解・院内寛解[#All],MATCH($AK6,年齢階層×在院期間区分F00F01＿寛解・院内寛解[[#All],[行ラベル]],0),MATCH($AW$3,年齢階層×在院期間区分F00F01＿寛解・院内寛解[#Headers],0)),0)+IFERROR(INDEX(年齢階層×在院期間区分F00F01＿寛解・院内寛解[#All],MATCH($AK6,年齢階層×在院期間区分F00F01＿寛解・院内寛解[[#All],[行ラベル]],0),MATCH($AX$3,年齢階層×在院期間区分F00F01＿寛解・院内寛解[#Headers],0)),0)+IFERROR(INDEX(年齢階層×在院期間区分F00F01＿寛解・院内寛解[#All],MATCH($AK6,年齢階層×在院期間区分F00F01＿寛解・院内寛解[[#All],[行ラベル]],0),MATCH($AY$3,年齢階層×在院期間区分F00F01＿寛解・院内寛解[#Headers],0)),0)","v":0},0,{"$f":"IFERROR(INDEX(年齢階層×在院期間区分F00F01＿寛解・院内寛解[#All],MATCH($AK6,年齢階層×在院期間区分F00F01＿寛解・院内寛解[[#All],[行ラベル]],0),MATCH($AZ$3,年齢階層×在院期間区分F00F01＿寛解・院内寛解[#Headers],0)),0)+IFERROR(INDEX(年齢階層×在院期間区分F00F01＿寛解・院内寛解[#All],MATCH($AK6,年齢階層×在院期間区分F00F01＿寛解・院内寛解[[#All],[行ラベル]],0),MATCH($BA$3,年齢階層×在院期間区分F00F01＿寛解・院内寛解[#Headers],0)),0)","v":0},0,0,0,null,null,"30歳代",0,0,0,0,0,0,0,0,0,0,0,0,0,0,0,0,null,null,null,null,null,"30歳代"]
[null,"40歳代",{"$f":"IFERROR(INDEX(年齢階層×在院期間区分F00F01＿寛解・院内寛解[#All],MATCH($AK7,年齢階層×在院期間区分F00F01＿寛解・院内寛解[[#All],[行ラベル]],0),MATCH($AL$3,年齢階層×在院期間区分F00F01＿寛解・院内寛解[#Headers],0)),0)+IFERROR(INDEX(年齢階層×在院期間区分F00F01＿寛解・院内寛解[#All],MATCH($AK7,年齢階層×在院期間区分F00F01＿寛解・院内寛解[[#All],[行ラベル]],0),MATCH($AM$3,年齢階層×在院期間区分F00F01＿寛解・院内寛解[#Headers],0)),0)+IFERROR(INDEX(年齢階層×在院期間区分F00F01＿寛解・院内寛解[#All],MATCH($AK7,年齢階層×在院期間区分F00F01＿寛解・院内寛解[[#All],[行ラベル]],0),MATCH($AN$3,年齢階層×在院期間区分F00F01＿寛解・院内寛解[#Headers],0)),0)+IFERROR(INDEX(年齢階層×在院期間区分F00F01＿寛解・院内寛解[#All],MATCH($AK7,年齢階層×在院期間区分F00F01＿寛解・院内寛解[[#All],[行ラベル]],0),MATCH($AO$3,年齢階層×在院期間区分F00F01＿寛解・院内寛解[#Headers],0)),0)","v":1},6.1728395061728392E-3,{"$f":"IFERROR(INDEX(年齢階層×在院期間区分F00F01＿寛解・院内寛解[#All],MATCH($AK7,年齢階層×在院期間区分F00F01＿寛解・院内寛解[[#All],[行ラベル]],0),MATCH($AP$3,年齢階層×在院期間区分F00F01＿寛解・院内寛解[#Headers],0)),0)+IFERROR(INDEX(年齢階層×在院期間区分F00F01＿寛解・院内寛解[#All],MATCH($AK7,年齢階層×在院期間区分F00F01＿寛解・院内寛解[[#All],[行ラベル]],0),MATCH($AQ$3,年齢階層×在院期間区分F00F01＿寛解・院内寛解[#Headers],0)),0)+IFERROR(INDEX(年齢階層×在院期間区分F00F01＿寛解・院内寛解[#All],MATCH($AK7,年齢階層×在院期間区分F00F01＿寛解・院内寛解[[#All],[行ラベル]],0),MATCH($AR$3,年齢階層×在院期間区分F00F01＿寛解・院内寛解[#Headers],0)),0)+IFERROR(INDEX(年齢階層×在院期間区分F00F01＿寛解・院内寛解[#All],MATCH($AK7,年齢階層×在院期間区分F00F01＿寛解・院内寛解[[#All],[行ラベル]],0),MATCH($AS$3,年齢階層×在院期間区分F00F01＿寛解・院内寛解[#Headers],0)),0)+IFERROR(INDEX(年齢階層×在院期間区分F00F01＿寛解・院内寛解[#All],MATCH($AK7,年齢階層×在院期間区分F00F01＿寛解・院内寛解[[#All],[行ラベル]],0),MATCH($AT$3,年齢階層×在院期間区分F00F01＿寛解・院内寛解[#Headers],0)),0)","v":0},0,{"$f":"IFERROR(INDEX(年齢階層×在院期間区分F00F01＿寛解・院内寛解[#All],MATCH($AK7,年齢階層×在院期間区分F00F01＿寛解・院内寛解[[#All],[行ラベル]],0),MATCH($AU$3,年齢階層×在院期間区分F00F01＿寛解・院内寛解[#Headers],0)),0)+IFERROR(INDEX(年齢階層×在院期間区分F00F01＿寛解・院内寛解[#All],MATCH($AK7,年齢階層×在院期間区分F00F01＿寛解・院内寛解[[#All],[行ラベル]],0),MATCH($AV$3,年齢階層×在院期間区分F00F01＿寛解・院内寛解[#Headers],0)),0)+IFERROR(INDEX(年齢階層×在院期間区分F00F01＿寛解・院内寛解[#All],MATCH($AK7,年齢階層×在院期間区分F00F01＿寛解・院内寛解[[#All],[行ラベル]],0),MATCH($AW$3,年齢階層×在院期間区分F00F01＿寛解・院内寛解[#Headers],0)),0)+IFERROR(INDEX(年齢階層×在院期間区分F00F01＿寛解・院内寛解[#All],MATCH($AK7,年齢階層×在院期間区分F00F01＿寛解・院内寛解[[#All],[行ラベル]],0),MATCH($AX$3,年齢階層×在院期間区分F00F01＿寛解・院内寛解[#Headers],0)),0)+IFERROR(INDEX(年齢階層×在院期間区分F00F01＿寛解・院内寛解[#All],MATCH($AK7,年齢階層×在院期間区分F00F01＿寛解・院内寛解[[#All],[行ラベル]],0),MATCH($AY$3,年齢階層×在院期間区分F00F01＿寛解・院内寛解[#Headers],0)),0)","v":0},0,{"$f":"IFERROR(INDEX(年齢階層×在院期間区分F00F01＿寛解・院内寛解[#All],MATCH($AK7,年齢階層×在院期間区分F00F01＿寛解・院内寛解[[#All],[行ラベル]],0),MATCH($AZ$3,年齢階層×在院期間区分F00F01＿寛解・院内寛解[#Headers],0)),0)+IFERROR(INDEX(年齢階層×在院期間区分F00F01＿寛解・院内寛解[#All],MATCH($AK7,年齢階層×在院期間区分F00F01＿寛解・院内寛解[[#All],[行ラベル]],0),MATCH($BA$3,年齢階層×在院期間区分F00F01＿寛解・院内寛解[#Headers],0)),0)","v":0},0,1,4.4444444444444444E-3,null,null,"40歳代",1,0,0,0,0,0,0,0,0,0,0,0,0,0,0,0,null,null,null,null,null,"40歳代"]
[null,"50歳代",{"$f":"IFERROR(INDEX(年齢階層×在院期間区分F00F01＿寛解・院内寛解[#All],MATCH($AK8,年齢階層×在院期間区分F00F01＿寛解・院内寛解[[#All],[行ラベル]],0),MATCH($AL$3,年齢階層×在院期間区分F00F01＿寛解・院内寛解[#Headers],0)),0)+IFERROR(INDEX(年齢階層×在院期間区分F00F01＿寛解・院内寛解[#All],MATCH($AK8,年齢階層×在院期間区分F00F01＿寛解・院内寛解[[#All],[行ラベル]],0),MATCH($AM$3,年齢階層×在院期間区分F00F01＿寛解・院内寛解[#Headers],0)),0)+IFERROR(INDEX(年齢階層×在院期間区分F00F01＿寛解・院内寛解[#All],MATCH($AK8,年齢階層×在院期間区分F00F01＿寛解・院内寛解[[#All],[行ラベル]],0),MATCH($AN$3,年齢階層×在院期間区分F00F01＿寛解・院内寛解[#Headers],0)),0)+IFERROR(INDEX(年齢階層×在院期間区分F00F01＿寛解・院内寛解[#All],MATCH($AK8,年齢階層×在院期間区分F00F01＿寛解・院内寛解[[#All],[行ラベル]],0),MATCH($AO$3,年齢階層×在院期間区分F00F01＿寛解・院内寛解[#Headers],0)),0)","v":0},0,{"$f":"IFERROR(INDEX(年齢階層×在院期間区分F00F01＿寛解・院内寛解[#All],MATCH($AK8,年齢階層×在院期間区分F00F01＿寛解・院内寛解[[#All],[行ラベル]],0),MATCH($AP$3,年齢階層×在院期間区分F00F01＿寛解・院内寛解[#Headers],0)),0)+IFERROR(INDEX(年齢階層×在院期間区分F00F01＿寛解・院内寛解[#All],MATCH($AK8,年齢階層×在院期間区分F00F01＿寛解・院内寛解[[#All],[行ラベル]],0),MATCH($AQ$3,年齢階層×在院期間区分F00F01＿寛解・院内寛解[#Headers],0)),0)+IFERROR(INDEX(年齢階層×在院期間区分F00F01＿寛解・院内寛解[#All],MATCH($AK8,年齢階層×在院期間区分F00F01＿寛解・院内寛解[[#All],[行ラベル]],0),MATCH($AR$3,年齢階層×在院期間区分F00F01＿寛解・院内寛解[#Headers],0)),0)+IFERROR(INDEX(年齢階層×在院期間区分F00F01＿寛解・院内寛解[#All],MATCH($AK8,年齢階層×在院期間区分F00F01＿寛解・院内寛解[[#All],[行ラベル]],0),MATCH($AS$3,年齢階層×在院期間区分F00F01＿寛解・院内寛解[#Headers],0)),0)+IFERROR(INDEX(年齢階層×在院期間区分F00F01＿寛解・院内寛解[#All],MATCH($AK8,年齢階層×在院期間区分F00F01＿寛解・院内寛解[[#All],[行ラベル]],0),MATCH($AT$3,年齢階層×在院期間区分F00F01＿寛解・院内寛解[#Headers],0)),0)","v":0},0,{"$f":"IFERROR(INDEX(年齢階層×在院期間区分F00F01＿寛解・院内寛解[#All],MATCH($AK8,年齢階層×在院期間区分F00F01＿寛解・院内寛解[[#All],[行ラベル]],0),MATCH($AU$3,年齢階層×在院期間区分F00F01＿寛解・院内寛解[#Headers],0)),0)+IFERROR(INDEX(年齢階層×在院期間区分F00F01＿寛解・院内寛解[#All],MATCH($AK8,年齢階層×在院期間区分F00F01＿寛解・院内寛解[[#All],[行ラベル]],0),MATCH($AV$3,年齢階層×在院期間区分F00F01＿寛解・院内寛解[#Headers],0)),0)+IFERROR(INDEX(年齢階層×在院期間区分F00F01＿寛解・院内寛解[#All],MATCH($AK8,年齢階層×在院期間区分F00F01＿寛解・院内寛解[[#All],[行ラベル]],0),MATCH($AW$3,年齢階層×在院期間区分F00F01＿寛解・院内寛解[#Headers],0)),0)+IFERROR(INDEX(年齢階層×在院期間区分F00F01＿寛解・院内寛解[#All],MATCH($AK8,年齢階層×在院期間区分F00F01＿寛解・院内寛解[[#All],[行ラベル]],0),MATCH($AX$3,年齢階層×在院期間区分F00F01＿寛解・院内寛解[#Headers],0)),0)+IFERROR(INDEX(年齢階層×在院期間区分F00F01＿寛解・院内寛解[#All],MATCH($AK8,年齢階層×在院期間区分F00F01＿寛解・院内寛解[[#All],[行ラベル]],0),MATCH($AY$3,年齢階層×在院期間区分F00F01＿寛解・院内寛解[#Headers],0)),0)","v":0},0,{"$f":"IFERROR(INDEX(年齢階層×在院期間区分F00F01＿寛解・院内寛解[#All],MATCH($AK8,年齢階層×在院期間区分F00F01＿寛解・院内寛解[[#All],[行ラベル]],0),MATCH($AZ$3,年齢階層×在院期間区分F00F01＿寛解・院内寛解[#Headers],0)),0)+IFERROR(INDEX(年齢階層×在院期間区分F00F01＿寛解・院内寛解[#All],MATCH($AK8,年齢階層×在院期間区分F00F01＿寛解・院内寛解[[#All],[行ラベル]],0),MATCH($BA$3,年齢階層×在院期間区分F00F01＿寛解・院内寛解[#Headers],0)),0)","v":0},0,0,0,null,null,"50歳代",0,0,0,0,0,0,0,0,0,0,0,0,0,0,0,0,null,null,null,null,null,"50歳代"]
[null,"60歳代",{"$f":"IFERROR(INDEX(年齢階層×在院期間区分F00F01＿寛解・院内寛解[#All],MATCH($AK9,年齢階層×在院期間区分F00F01＿寛解・院内寛解[[#All],[行ラベル]],0),MATCH($AL$3,年齢階層×在院期間区分F00F01＿寛解・院内寛解[#Headers],0)),0)+IFERROR(INDEX(年齢階層×在院期間区分F00F01＿寛解・院内寛解[#All],MATCH($AK9,年齢階層×在院期間区分F00F01＿寛解・院内寛解[[#All],[行ラベル]],0),MATCH($AM$3,年齢階層×在院期間区分F00F01＿寛解・院内寛解[#Headers],0)),0)+IFERROR(INDEX(年齢階層×在院期間区分F00F01＿寛解・院内寛解[#All],MATCH($AK9,年齢階層×在院期間区分F00F01＿寛解・院内寛解[[#All],[行ラベル]],0),MATCH($AN$3,年齢階層×在院期間区分F00F01＿寛解・院内寛解[#Headers],0)),0)+IFERROR(INDEX(年齢階層×在院期間区分F00F01＿寛解・院内寛解[#All],MATCH($AK9,年齢階層×在院期間区分F00F01＿寛解・院内寛解[[#All],[行ラベル]],0),MATCH($AO$3,年齢階層×在院期間区分F00F01＿寛解・院内寛解[#Headers],0)),0)","v":12},7.407407407407407E-2,{"$f":"IFERROR(INDEX(年齢階層×在院期間区分F00F01＿寛解・院内寛解[#All],MATCH($AK9,年齢階層×在院期間区分F00F01＿寛解・院内寛解[[#All],[行ラベル]],0),MATCH($AP$3,年齢階層×在院期間区分F00F01＿寛解・院内寛解[#Headers],0)),0)+IFERROR(INDEX(年齢階層×在院期間区分F00F01＿寛解・院内寛解[#All],MATCH($AK9,年齢階層×在院期間区分F00F01＿寛解・院内寛解[[#All],[行ラベル]],0),MATCH($AQ$3,年齢階層×在院期間区分F00F01＿寛解・院内寛解[#Headers],0)),0)+IFERROR(INDEX(年齢階層×在院期間区分F00F01＿寛解・院内寛解[#All],MATCH($AK9,年齢階層×在院期間区分F00F01＿寛解・院内寛解[[#All],[行ラベル]],0),MATCH($AR$3,年齢階層×在院期間区分F00F01＿寛解・院内寛解[#Headers],0)),0)+IFERROR(INDEX(年齢階層×在院期間区分F00F01＿寛解・院内寛解[#All],MATCH($AK9,年齢階層×在院期間区分F00F01＿寛解・院内寛解[[#All],[行ラベル]],0),MATCH($AS$3,年齢階層×在院期間区分F00F01＿寛解・院内寛解[#Headers],0)),0)+IFERROR(INDEX(年齢階層×在院期間区分F00F01＿寛解・院内寛解[#All],MATCH($AK9,年齢階層×在院期間区分F00F01＿寛解・院内寛解[[#All],[行ラベル]],0),MATCH($AT$3,年齢階層×在院期間区分F00F01＿寛解・院内寛解[#Headers],0)),0)","v":2},3.7735849056603772E-2,{"$f":"IFERROR(INDEX(年齢階層×在院期間区分F00F01＿寛解・院内寛解[#All],MATCH($AK9,年齢階層×在院期間区分F00F01＿寛解・院内寛解[[#All],[行ラベル]],0),MATCH($AU$3,年齢階層×在院期間区分F00F01＿寛解・院内寛解[#Headers],0)),0)+IFERROR(INDEX(年齢階層×在院期間区分F00F01＿寛解・院内寛解[#All],MATCH($AK9,年齢階層×在院期間区分F00F01＿寛解・院内寛解[[#All],[行ラベル]],0),MATCH($AV$3,年齢階層×在院期間区分F00F01＿寛解・院内寛解[#Headers],0)),0)+IFERROR(INDEX(年齢階層×在院期間区分F00F01＿寛解・院内寛解[#All],MATCH($AK9,年齢階層×在院期間区分F00F01＿寛解・院内寛解[[#All],[行ラベル]],0),MATCH($AW$3,年齢階層×在院期間区分F00F01＿寛解・院内寛解[#Headers],0)),0)+IFERROR(INDEX(年齢階層×在院期間区分F00F01＿寛解・院内寛解[#All],MATCH($AK9,年齢階層×在院期間区分F00F01＿寛解・院内寛解[[#All],[行ラベル]],0),MATCH($AX$3,年齢階層×在院期間区分F00F01＿寛解・院内寛解[#Headers],0)),0)+IFERROR(INDEX(年齢階層×在院期間区分F00F01＿寛解・院内寛解[#All],MATCH($AK9,年齢階層×在院期間区分F00F01＿寛解・院内寛解[[#All],[行ラベル]],0),MATCH($AY$3,年齢階層×在院期間区分F00F01＿寛解・院内寛解[#Headers],0)),0)","v":0},0,{"$f":"IFERROR(INDEX(年齢階層×在院期間区分F00F01＿寛解・院内寛解[#All],MATCH($AK9,年齢階層×在院期間区分F00F01＿寛解・院内寛解[[#All],[行ラベル]],0),MATCH($AZ$3,年齢階層×在院期間区分F00F01＿寛解・院内寛解[#Headers],0)),0)+IFERROR(INDEX(年齢階層×在院期間区分F00F01＿寛解・院内寛解[#All],MATCH($AK9,年齢階層×在院期間区分F00F01＿寛解・院内寛解[[#All],[行ラベル]],0),MATCH($BA$3,年齢階層×在院期間区分F00F01＿寛解・院内寛解[#Headers],0)),0)","v":0},0,14,6.222222222222222E-2,null,null,"60歳代",4,3,3,2,1,0,0,0,1,0,0,0,0,0,0,0,null,null,null,null,null,"60歳代"]
[null,"70歳代",{"$f":"IFERROR(INDEX(年齢階層×在院期間区分F00F01＿寛解・院内寛解[#All],MATCH($AK10,年齢階層×在院期間区分F00F01＿寛解・院内寛解[[#All],[行ラベル]],0),MATCH($AL$3,年齢階層×在院期間区分F00F01＿寛解・院内寛解[#Headers],0)),0)+IFERROR(INDEX(年齢階層×在院期間区分F00F01＿寛解・院内寛解[#All],MATCH($AK10,年齢階層×在院期間区分F00F01＿寛解・院内寛解[[#All],[行ラベル]],0),MATCH($AM$3,年齢階層×在院期間区分F00F01＿寛解・院内寛解[#Headers],0)),0)+IFERROR(INDEX(年齢階層×在院期間区分F00F01＿寛解・院内寛解[#All],MATCH($AK10,年齢階層×在院期間区分F00F01＿寛解・院内寛解[[#All],[行ラベル]],0),MATCH($AN$3,年齢階層×在院期間区分F00F01＿寛解・院内寛解[#Headers],0)),0)+IFERROR(INDEX(年齢階層×在院期間区分F00F01＿寛解・院内寛解[#All],MATCH($AK10,年齢階層×在院期間区分F00F01＿寛解・院内寛解[[#All],[行ラベル]],0),MATCH($AO$3,年齢階層×在院期間区分F00F01＿寛解・院内寛解[#Headers],0)),0)","v":43},0.26543209876543211,{"$f":"IFERROR(INDEX(年齢階層×在院期間区分F00F01＿寛解・院内寛解[#All],MATCH($AK10,年齢階層×在院期間区分F00F01＿寛解・院内寛解[[#All],[行ラベル]],0),MATCH($AP$3,年齢階層×在院期間区分F00F01＿寛解・院内寛解[#Headers],0)),0)+IFERROR(INDEX(年齢階層×在院期間区分F00F01＿寛解・院内寛解[#All],MATCH($AK10,年齢階層×在院期間区分F00F01＿寛解・院内寛解[[#All],[行ラベル]],0),MATCH($AQ$3,年齢階層×在院期間区分F00F01＿寛解・院内寛解[#Headers],0)),0)+IFERROR(INDEX(年齢階層×在院期間区分F00F01＿寛解・院内寛解[#All],MATCH($AK10,年齢階層×在院期間区分F00F01＿寛解・院内寛解[[#All],[行ラベル]],0),MATCH($AR$3,年齢階層×在院期間区分F00F01＿寛解・院内寛解[#Headers],0)),0)+IFERROR(INDEX(年齢階層×在院期間区分F00F01＿寛解・院内寛解[#All],MATCH($AK10,年齢階層×在院期間区分F00F01＿寛解・院内寛解[[#All],[行ラベル]],0),MATCH($AS$3,年齢階層×在院期間区分F00F01＿寛解・院内寛解[#Headers],0)),0)+IFERROR(INDEX(年齢階層×在院期間区分F00F01＿寛解・院内寛解[#All],MATCH($AK10,年齢階層×在院期間区分F00F01＿寛解・院内寛解[[#All],[行ラベル]],0),MATCH($AT$3,年齢階層×在院期間区分F00F01＿寛解・院内寛解[#Headers],0)),0)","v":14},0.26415094339622641,{"$f":"IFERROR(INDEX(年齢階層×在院期間区分F00F01＿寛解・院内寛解[#All],MATCH($AK10,年齢階層×在院期間区分F00F01＿寛解・院内寛解[[#All],[行ラベル]],0),MATCH($AU$3,年齢階層×在院期間区分F00F01＿寛解・院内寛解[#Headers],0)),0)+IFERROR(INDEX(年齢階層×在院期間区分F00F01＿寛解・院内寛解[#All],MATCH($AK10,年齢階層×在院期間区分F00F01＿寛解・院内寛解[[#All],[行ラベル]],0),MATCH($AV$3,年齢階層×在院期間区分F00F01＿寛解・院内寛解[#Headers],0)),0)+IFERROR(INDEX(年齢階層×在院期間区分F00F01＿寛解・院内寛解[#All],MATCH($AK10,年齢階層×在院期間区分F00F01＿寛解・院内寛解[[#All],[行ラベル]],0),MATCH($AW$3,年齢階層×在院期間区分F00F01＿寛解・院内寛解[#Headers],0)),0)+IFERROR(INDEX(年齢階層×在院期間区分F00F01＿寛解・院内寛解[#All],MATCH($AK10,年齢階層×在院期間区分F00F01＿寛解・院内寛解[[#All],[行ラベル]],0),MATCH($AX$3,年齢階層×在院期間区分F00F01＿寛解・院内寛解[#Headers],0)),0)+IFERROR(INDEX(年齢階層×在院期間区分F00F01＿寛解・院内寛解[#All],MATCH($AK10,年齢階層×在院期間区分F00F01＿寛解・院内寛解[[#All],[行ラベル]],0),MATCH($AY$3,年齢階層×在院期間区分F00F01＿寛解・院内寛解[#Headers],0)),0)","v":1},0.125,{"$f":"IFERROR(INDEX(年齢階層×在院期間区分F00F01＿寛解・院内寛解[#All],MATCH($AK10,年齢階層×在院期間区分F00F01＿寛解・院内寛解[[#All],[行ラベル]],0),MATCH($AZ$3,年齢階層×在院期間区分F00F01＿寛解・院内寛解[#Headers],0)),0)+IFERROR(INDEX(年齢階層×在院期間区分F00F01＿寛解・院内寛解[#All],MATCH($AK10,年齢階層×在院期間区分F00F01＿寛解・院内寛解[[#All],[行ラベル]],0),MATCH($BA$3,年齢階層×在院期間区分F00F01＿寛解・院内寛解[#Headers],0)),0)","v":2},1,60,0.26666666666666666,null,null,"70歳代",8,17,11,7,5,2,2,5,0,0,0,1,0,0,1,1,null,null,null,null,null,"70歳代"]
[null,"80歳代",{"$f":"IFERROR(INDEX(年齢階層×在院期間区分F00F01＿寛解・院内寛解[#All],MATCH($AK11,年齢階層×在院期間区分F00F01＿寛解・院内寛解[[#All],[行ラベル]],0),MATCH($AL$3,年齢階層×在院期間区分F00F01＿寛解・院内寛解[#Headers],0)),0)+IFERROR(INDEX(年齢階層×在院期間区分F00F01＿寛解・院内寛解[#All],MATCH($AK11,年齢階層×在院期間区分F00F01＿寛解・院内寛解[[#All],[行ラベル]],0),MATCH($AM$3,年齢階層×在院期間区分F00F01＿寛解・院内寛解[#Headers],0)),0)+IFERROR(INDEX(年齢階層×在院期間区分F00F01＿寛解・院内寛解[#All],MATCH($AK11,年齢階層×在院期間区分F00F01＿寛解・院内寛解[[#All],[行ラベル]],0),MATCH($AN$3,年齢階層×在院期間区分F00F01＿寛解・院内寛解[#Headers],0)),0)+IFERROR(INDEX(年齢階層×在院期間区分F00F01＿寛解・院内寛解[#All],MATCH($AK11,年齢階層×在院期間区分F00F01＿寛解・院内寛解[[#All],[行ラベル]],0),MATCH($AO$3,年齢階層×在院期間区分F00F01＿寛解・院内寛解[#Headers],0)),0)","v":90},0.55555555555555558,{"$f":"IFERROR(INDEX(年齢階層×在院期間区分F00F01＿寛解・院内寛解[#All],MATCH($AK11,年齢階層×在院期間区分F00F01＿寛解・院内寛解[[#All],[行ラベル]],0),MATCH($AP$3,年齢階層×在院期間区分F00F01＿寛解・院内寛解[#Headers],0)),0)+IFERROR(INDEX(年齢階層×在院期間区分F00F01＿寛解・院内寛解[#All],MATCH($AK11,年齢階層×在院期間区分F00F01＿寛解・院内寛解[[#All],[行ラベル]],0),MATCH($AQ$3,年齢階層×在院期間区分F00F01＿寛解・院内寛解[#Headers],0)),0)+IFERROR(INDEX(年齢階層×在院期間区分F00F01＿寛解・院内寛解[#All],MATCH($AK11,年齢階層×在院期間区分F00F01＿寛解・院内寛解[[#All],[行ラベル]],0),MATCH($AR$3,年齢階層×在院期間区分F00F01＿寛解・院内寛解[#Headers],0)),0)+IFERROR(INDEX(年齢階層×在院期間区分F00F01＿寛解・院内寛解[#All],MATCH($AK11,年齢階層×在院期間区分F00F01＿寛解・院内寛解[[#All],[行ラベル]],0),MATCH($AS$3,年齢階層×在院期間区分F00F01＿寛解・院内寛解[#Headers],0)),0)+IFERROR(INDEX(年齢階層×在院期間区分F00F01＿寛解・院内寛解[#All],MATCH($AK11,年齢階層×在院期間区分F00F01＿寛解・院内寛解[[#All],[行ラベル]],0),MATCH($AT$3,年齢階層×在院期間区分F00F01＿寛解・院内寛解[#Headers],0)),0)","v":27},0.50943396226415094,{"$f":"IFERROR(INDEX(年齢階層×在院期間区分F00F01＿寛解・院内寛解[#All],MATCH($AK11,年齢階層×在院期間区分F00F01＿寛解・院内寛解[[#All],[行ラベル]],0),MATCH($AU$3,年齢階層×在院期間区分F00F01＿寛解・院内寛解[#Headers],0)),0)+IFERROR(INDEX(年齢階層×在院期間区分F00F01＿寛解・院内寛解[#All],MATCH($AK11,年齢階層×在院期間区分F00F01＿寛解・院内寛解[[#All],[行ラベル]],0),MATCH($AV$3,年齢階層×在院期間区分F00F01＿寛解・院内寛解[#Headers],0)),0)+IFERROR(INDEX(年齢階層×在院期間区分F00F01＿寛解・院内寛解[#All],MATCH($AK11,年齢階層×在院期間区分F00F01＿寛解・院内寛解[[#All],[行ラベル]],0),MATCH($AW$3,年齢階層×在院期間区分F00F01＿寛解・院内寛解[#Headers],0)),0)+IFERROR(INDEX(年齢階層×在院期間区分F00F01＿寛解・院内寛解[#All],MATCH($AK11,年齢階層×在院期間区分F00F01＿寛解・院内寛解[[#All],[行ラベル]],0),MATCH($AX$3,年齢階層×在院期間区分F00F01＿寛解・院内寛解[#Headers],0)),0)+IFERROR(INDEX(年齢階層×在院期間区分F00F01＿寛解・院内寛解[#All],MATCH($AK11,年齢階層×在院期間区分F00F01＿寛解・院内寛解[[#All],[行ラベル]],0),MATCH($AY$3,年齢階層×在院期間区分F00F01＿寛解・院内寛解[#Headers],0)),0)","v":4},0.5,{"$f":"IFERROR(INDEX(年齢階層×在院期間区分F00F01＿寛解・院内寛解[#All],MATCH($AK11,年齢階層×在院期間区分F00F01＿寛解・院内寛解[[#All],[行ラベル]],0),MATCH($AZ$3,年齢階層×在院期間区分F00F01＿寛解・院内寛解[#Headers],0)),0)+IFERROR(INDEX(年齢階層×在院期間区分F00F01＿寛解・院内寛解[#All],MATCH($AK11,年齢階層×在院期間区分F00F01＿寛解・院内寛解[[#All],[行ラベル]],0),MATCH($BA$3,年齢階層×在院期間区分F00F01＿寛解・院内寛解[#Headers],0)),0)","v":0},0,121,0.5377777777777778,null,null,"80歳代",22,29,25,14,9,9,4,2,3,2,2,0,0,0,0,0,null,null,null,null,null,"80歳代"]
[null,"90歳以上",{"$f":"IFERROR(INDEX(年齢階層×在院期間区分F00F01＿寛解・院内寛解[#All],MATCH($AK12,年齢階層×在院期間区分F00F01＿寛解・院内寛解[[#All],[行ラベル]],0),MATCH($AL$3,年齢階層×在院期間区分F00F01＿寛解・院内寛解[#Headers],0)),0)+IFERROR(INDEX(年齢階層×在院期間区分F00F01＿寛解・院内寛解[#All],MATCH($AK12,年齢階層×在院期間区分F00F01＿寛解・院内寛解[[#All],[行ラベル]],0),MATCH($AM$3,年齢階層×在院期間区分F00F01＿寛解・院内寛解[#Headers],0)),0)+IFERROR(INDEX(年齢階層×在院期間区分F00F01＿寛解・院内寛解[#All],MATCH($AK12,年齢階層×在院期間区分F00F01＿寛解・院内寛解[[#All],[行ラベル]],0),MATCH($AN$3,年齢階層×在院期間区分F00F01＿寛解・院内寛解[#Headers],0)),0)+IFERROR(INDEX(年齢階層×在院期間区分F00F01＿寛解・院内寛解[#All],MATCH($AK12,年齢階層×在院期間区分F00F01＿寛解・院内寛解[[#All],[行ラベル]],0),MATCH($AO$3,年齢階層×在院期間区分F00F01＿寛解・院内寛解[#Headers],0)),0)","v":16},9.8765432098765427E-2,{"$f":"IFERROR(INDEX(年齢階層×在院期間区分F00F01＿寛解・院内寛解[#All],MATCH($AK12,年齢階層×在院期間区分F00F01＿寛解・院内寛解[[#All],[行ラベル]],0),MATCH($AP$3,年齢階層×在院期間区分F00F01＿寛解・院内寛解[#Headers],0)),0)+IFERROR(INDEX(年齢階層×在院期間区分F00F01＿寛解・院内寛解[#All],MATCH($AK12,年齢階層×在院期間区分F00F01＿寛解・院内寛解[[#All],[行ラベル]],0),MATCH($AQ$3,年齢階層×在院期間区分F00F01＿寛解・院内寛解[#Headers],0)),0)+IFERROR(INDEX(年齢階層×在院期間区分F00F01＿寛解・院内寛解[#All],MATCH($AK12,年齢階層×在院期間区分F00F01＿寛解・院内寛解[[#All],[行ラベル]],0),MATCH($AR$3,年齢階層×在院期間区分F00F01＿寛解・院内寛解[#Headers],0)),0)+IFERROR(INDEX(年齢階層×在院期間区分F00F01＿寛解・院内寛解[#All],MATCH($AK12,年齢階層×在院期間区分F00F01＿寛解・院内寛解[[#All],[行ラベル]],0),MATCH($AS$3,年齢階層×在院期間区分F00F01＿寛解・院内寛解[#Headers],0)),0)+IFERROR(INDEX(年齢階層×在院期間区分F00F01＿寛解・院内寛解[#All],MATCH($AK12,年齢階層×在院期間区分F00F01＿寛解・院内寛解[[#All],[行ラベル]],0),MATCH($AT$3,年齢階層×在院期間区分F00F01＿寛解・院内寛解[#Headers],0)),0)","v":10},0.18867924528301888,{"$f":"IFERROR(INDEX(年齢階層×在院期間区分F00F01＿寛解・院内寛解[#All],MATCH($AK12,年齢階層×在院期間区分F00F01＿寛解・院内寛解[[#All],[行ラベル]],0),MATCH($AU$3,年齢階層×在院期間区分F00F01＿寛解・院内寛解[#Headers],0)),0)+IFERROR(INDEX(年齢階層×在院期間区分F00F01＿寛解・院内寛解[#All],MATCH($AK12,年齢階層×在院期間区分F00F01＿寛解・院内寛解[[#All],[行ラベル]],0),MATCH($AV$3,年齢階層×在院期間区分F00F01＿寛解・院内寛解[#Headers],0)),0)+IFERROR(INDEX(年齢階層×在院期間区分F00F01＿寛解・院内寛解[#All],MATCH($AK12,年齢階層×在院期間区分F00F01＿寛解・院内寛解[[#All],[行ラベル]],0),MATCH($AW$3,年齢階層×在院期間区分F00F01＿寛解・院内寛解[#Headers],0)),0)+IFERROR(INDEX(年齢階層×在院期間区分F00F01＿寛解・院内寛解[#All],MATCH($AK12,年齢階層×在院期間区分F00F01＿寛解・院内寛解[[#All],[行ラベル]],0),MATCH($AX$3,年齢階層×在院期間区分F00F01＿寛解・院内寛解[#Headers],0)),0)+IFERROR(INDEX(年齢階層×在院期間区分F00F01＿寛解・院内寛解[#All],MATCH($AK12,年齢階層×在院期間区分F00F01＿寛解・院内寛解[[#All],[行ラベル]],0),MATCH($AY$3,年齢階層×在院期間区分F00F01＿寛解・院内寛解[#Headers],0)),0)","v":3},0.375,{"$f":"IFERROR(INDEX(年齢階層×在院期間区分F00F01＿寛解・院内寛解[#All],MATCH($AK12,年齢階層×在院期間区分F00F01＿寛解・院内寛解[[#All],[行ラベル]],0),MATCH($AZ$3,年齢階層×在院期間区分F00F01＿寛解・院内寛解[#Headers],0)),0)+IFERROR(INDEX(年齢階層×在院期間区分F00F01＿寛解・院内寛解[#All],MATCH($AK12,年齢階層×在院期間区分F00F01＿寛解・院内寛解[[#All],[行ラベル]],0),MATCH($BA$3,年齢階層×在院期間区分F00F01＿寛解・院内寛解[#Headers],0)),0)","v":0},0,29,0.12888888888888889,null,null,"90歳以上",4,6,3,3,2,1,5,1,1,2,1,0,0,0,0,0,null,null,null,null,null,"90歳以上"]
[null,"　総計",{"$f":"SUM(C20:C28)","v":162},1,53,1,8,1,2,1,225,1,null,null,"列1","01_1ヶ月未満","02_1ヶ月～3ヶ月未満","03_3ヶ月～6ヶ月未満","04_6ヶ月～1年未満","05_1年～1年6ヶ月未満","06_1年6ヶ月～2年未満","07_2年～3年未満","08_3年～4年未満","09_4年～5年未満","10_5年～6年未満","11_6年～7年未満","12_7年～8年未満","13_8年～9年未満","14_9年～10年未満","15_10年～20年未満","16_ 20年以上"]
[null,"65歳未満（再掲）",{"$f":"IFERROR(INDEX(年齢階層×在院期間区分F00F01_65歳未満以上＿寛解・院内寛解[#All],MATCH($AK30,年齢階層×在院期間区分F00F01_65歳未満以上＿寛解・院内寛解[[#All],[列1]],0),MATCH($AL$3,年齢階層×在院期間区分F00F01_65歳未満以上＿寛解・院内寛解[#Headers],0)),0)+IFERROR(INDEX(年齢階層×在院期間区分F00F01_65歳未満以上＿寛解・院内寛解[#All],MATCH($AK30,年齢階層×在院期間区分F00F01_65歳未満以上＿寛解・院内寛解[[#All],[列1]],0),MATCH($AM$3,年齢階層×在院期間区分F00F01_65歳未満以上＿寛解・院内寛解[#Headers],0)),0)+IFERROR(INDEX(年齢階層×在院期間区分F00F01_65歳未満以上＿寛解・院内寛解[#All],MATCH($AK30,年齢階層×在院期間区分F00F01_65歳未満以上＿寛解・院内寛解[[#All],[列1]],0),MATCH($AN$3,年齢階層×在院期間区分F00F01_65歳未満以上＿寛解・院内寛解[#Headers],0)),0)+IFERROR(INDEX(年齢階層×在院期間区分F00F01_65歳未満以上＿寛解・院内寛解[#All],MATCH($AK30,年齢階層×在院期間区分F00F01_65歳未満以上＿寛解・院内寛解[[#All],[列1]],0),MATCH($AO$3,年齢階層×在院期間区分F00F01_65歳未満以上＿寛解・院内寛解[#Headers],0)),0)","v":3},{"$f":"IFERROR(C30/$C$29,\"-\")","v":1.8518518518518517E-2},{"$f":"IFERROR(INDEX(年齢階層×在院期間区分F00F01_65歳未満以上＿寛解・院内寛解[#All],MATCH($AK30,年齢階層×在院期間区分F00F01_65歳未満以上＿寛解・院内寛解[[#All],[列1]],0),MATCH($AP$3,年齢階層×在院期間区分F00F01_65歳未満以上＿寛解・院内寛解[#Headers],0)),0)+IFERROR(INDEX(年齢階層×在院期間区分F00F01_65歳未満以上＿寛解・院内寛解[#All],MATCH($AK30,年齢階層×在院期間区分F00F01_65歳未満以上＿寛解・院内寛解[[#All],[列1]],0),MATCH($AQ$3,年齢階層×在院期間区分F00F01_65歳未満以上＿寛解・院内寛解[#Headers],0)),0)+IFERROR(INDEX(年齢階層×在院期間区分F00F01_65歳未満以上＿寛解・院内寛解[#All],MATCH($AK30,年齢階層×在院期間区分F00F01_65歳未満以上＿寛解・院内寛解[[#All],[列1]],0),MATCH($AR$3,年齢階層×在院期間区分F00F01_65歳未満以上＿寛解・院内寛解[#Headers],0)),0)+IFERROR(INDEX(年齢階層×在院期間区分F00F01_65歳未満以上＿寛解・院内寛解[#All],MATCH($AK30,年齢階層×在院期間区分F00F01_65歳未満以上＿寛解・院内寛解[[#All],[列1]],0),MATCH($AS$3,年齢階層×在院期間区分F00F01_65歳未満以上＿寛解・院内寛解[#Headers],0)),0)+IFERROR(INDEX(年齢階層×在院期間区分F00F01_65歳未満以上＿寛解・院内寛解[#All],MATCH($AK30,年齢階層×在院期間区分F00F01_65歳未満以上＿寛解・院内寛解[[#All],[列1]],0),MATCH($AT$3,年齢階層×在院期間区分F00F01_65歳未満以上＿寛解・院内寛解[#Headers],0)),0)","v":2},{"$f":"IFERROR(E30/$E$29,\"-\")","v":3.7735849056603772E-2},{"$f":"IFERROR(INDEX(年齢階層×在院期間区分F00F01_65歳未満以上＿寛解・院内寛解[#All],MATCH($AK30,年齢階層×在院期間区分F00F01_65歳未満以上＿寛解・院内寛解[[#All],[列1]],0),MATCH($AU$3,年齢階層×在院期間区分F00F01_65歳未満以上＿寛解・院内寛解[#Headers],0)),0)+IFERROR(INDEX(年齢階層×在院期間区分F00F01_65歳未満以上＿寛解・院内寛解[#All],MATCH($AK30,年齢階層×在院期間区分F00F01_65歳未満以上＿寛解・院内寛解[[#All],[列1]],0),MATCH($AV$3,年齢階層×在院期間区分F00F01_65歳未満以上＿寛解・院内寛解[#Headers],0)),0)+IFERROR(INDEX(年齢階層×在院期間区分F00F01_65歳未満以上＿寛解・院内寛解[#All],MATCH($AK30,年齢階層×在院期間区分F00F01_65歳未満以上＿寛解・院内寛解[[#All],[列1]],0),MATCH($AW$3,年齢階層×在院期間区分F00F01_65歳未満以上＿寛解・院内寛解[#Headers],0)),0)+IFERROR(INDEX(年齢階層×在院期間区分F00F01_65歳未満以上＿寛解・院内寛解[#All],MATCH($AK30,年齢階層×在院期間区分F00F01_65歳未満以上＿寛解・院内寛解[[#All],[列1]],0),MATCH($AX$3,年齢階層×在院期間区分F00F01_65歳未満以上＿寛解・院内寛解[#Headers],0)),0)+IFERROR(INDEX(年齢階層×在院期間区分F00F01_65歳未満以上＿寛解・院内寛解[#All],MATCH($AK30,年齢階層×在院期間区分F00F01_65歳未満以上＿寛解・院内寛解[[#All],[列1]],0),MATCH($AY$3,年齢階層×在院期間区分F00F01_65歳未満以上＿寛解・院内寛解[#Headers],0)),0)","v":0},{"$f":"IFERROR(G30/$G$29,\"-\")","v":0},{"$f":"IFERROR(INDEX(年齢階層×在院期間区分F00F01_65歳未満以上＿寛解・院内寛解[#All],MATCH($AK30,年齢階層×在院期間区分F00F01_65歳未満以上＿寛解・院内寛解[[#All],[列1]],0),MATCH($AZ$3,年齢階層×在院期間区分F00F01_65歳未満以上＿寛解・院内寛解[#Headers],0)),0)+IFERROR(INDEX(年齢階層×在院期間区分F00F01_65歳未満以上＿寛解・院内寛解[#All],MATCH($AK30,年齢階層×在院期間区分F00F01_65歳未満以上＿寛解・院内寛解[[#All],[列1]],0),MATCH($BA$3,年齢階層×在院期間区分F00F01_65歳未満以上＿寛解・院内寛解[#Headers],0)),0)","v":0},{"$f":"IFERROR(I30/$I$29,\"-\")","v":0},{"$f":"C30+E30+G30+I30","v":5},{"$f":"IFERROR(K30/$K$29,\"-\")","v":2.2222222222222223E-2},null,null,"65歳未満",2,1,0,0,1,0,0,0,1,0,0,0,0,0,0,0,null,null,null,null,null,"65歳未満"]
[null,"65歳以上（再掲）",{"$f":"IFERROR(INDEX(年齢階層×在院期間区分F00F01_65歳未満以上＿寛解・院内寛解[#All],MATCH($AK31,年齢階層×在院期間区分F00F01_65歳未満以上＿寛解・院内寛解[[#All],[列1]],0),MATCH($AL$3,年齢階層×在院期間区分F00F01_65歳未満以上＿寛解・院内寛解[#Headers],0)),0)+IFERROR(INDEX(年齢階層×在院期間区分F00F01_65歳未満以上＿寛解・院内寛解[#All],MATCH($AK31,年齢階層×在院期間区分F00F01_65歳未満以上＿寛解・院内寛解[[#All],[列1]],0),MATCH($AM$3,年齢階層×在院期間区分F00F01_65歳未満以上＿寛解・院内寛解[#Headers],0)),0)+IFERROR(INDEX(年齢階層×在院期間区分F00F01_65歳未満以上＿寛解・院内寛解[#All],MATCH($AK31,年齢階層×在院期間区分F00F01_65歳未満以上＿寛解・院内寛解[[#All],[列1]],0),MATCH($AN$3,年齢階層×在院期間区分F00F01_65歳未満以上＿寛解・院内寛解[#Headers],0)),0)+IFERROR(INDEX(年齢階層×在院期間区分F00F01_65歳未満以上＿寛解・院内寛解[#All],MATCH($AK31,年齢階層×在院期間区分F00F01_65歳未満以上＿寛解・院内寛解[[#All],[列1]],0),MATCH($AO$3,年齢階層×在院期間区分F00F01_65歳未満以上＿寛解・院内寛解[#Headers],0)),0)","v":159},{"$f":"IFERROR(C31/$C$29,\"-\")","v":0.98148148148148151},{"$f":"IFERROR(INDEX(年齢階層×在院期間区分F00F01_65歳未満以上＿寛解・院内寛解[#All],MATCH($AK31,年齢階層×在院期間区分F00F01_65歳未満以上＿寛解・院内寛解[[#All],[列1]],0),MATCH($AP$3,年齢階層×在院期間区分F00F01_65歳未満以上＿寛解・院内寛解[#Headers],0)),0)+IFERROR(INDEX(年齢階層×在院期間区分F00F01_65歳未満以上＿寛解・院内寛解[#All],MATCH($AK31,年齢階層×在院期間区分F00F01_65歳未満以上＿寛解・院内寛解[[#All],[列1]],0),MATCH($AQ$3,年齢階層×在院期間区分F00F01_65歳未満以上＿寛解・院内寛解[#Headers],0)),0)+IFERROR(INDEX(年齢階層×在院期間区分F00F01_65歳未満以上＿寛解・院内寛解[#All],MATCH($AK31,年齢階層×在院期間区分F00F01_65歳未満以上＿寛解・院内寛解[[#All],[列1]],0),MATCH($AR$3,年齢階層×在院期間区分F00F01_65歳未満以上＿寛解・院内寛解[#Headers],0)),0)+IFERROR(INDEX(年齢階層×在院期間区分F00F01_65歳未満以上＿寛解・院内寛解[#All],MATCH($AK31,年齢階層×在院期間区分F00F01_65歳未満以上＿寛解・院内寛解[[#All],[列1]],0),MATCH($AS$3,年齢階層×在院期間区分F00F01_65歳未満以上＿寛解・院内寛解[#Headers],0)),0)+IFERROR(INDEX(年齢階層×在院期間区分F00F01_65歳未満以上＿寛解・院内寛解[#All],MATCH($AK31,年齢階層×在院期間区分F00F01_65歳未満以上＿寛解・院内寛解[[#All],[列1]],0),MATCH($AT$3,年齢階層×在院期間区分F00F01_65歳未満以上＿寛解・院内寛解[#Headers],0)),0)","v":51},{"$f":"IFERROR(E31/$E$29,\"-\")","v":0.96226415094339623},{"$f":"IFERROR(INDEX(年齢階層×在院期間区分F00F01_65歳未満以上＿寛解・院内寛解[#All],MATCH($AK31,年齢階層×在院期間区分F00F01_65歳未満以上＿寛解・院内寛解[[#All],[列1]],0),MATCH($AU$3,年齢階層×在院期間区分F00F01_65歳未満以上＿寛解・院内寛解[#Headers],0)),0)+IFERROR(INDEX(年齢階層×在院期間区分F00F01_65歳未満以上＿寛解・院内寛解[#All],MATCH($AK31,年齢階層×在院期間区分F00F01_65歳未満以上＿寛解・院内寛解[[#All],[列1]],0),MATCH($AV$3,年齢階層×在院期間区分F00F01_65歳未満以上＿寛解・院内寛解[#Headers],0)),0)+IFERROR(INDEX(年齢階層×在院期間区分F00F01_65歳未満以上＿寛解・院内寛解[#All],MATCH($AK31,年齢階層×在院期間区分F00F01_65歳未満以上＿寛解・院内寛解[[#All],[列1]],0),MATCH($AW$3,年齢階層×在院期間区分F00F01_65歳未満以上＿寛解・院内寛解[#Headers],0)),0)+IFERROR(INDEX(年齢階層×在院期間区分F00F01_65歳未満以上＿寛解・院内寛解[#All],MATCH($AK31,年齢階層×在院期間区分F00F01_65歳未満以上＿寛解・院内寛解[[#All],[列1]],0),MATCH($AX$3,年齢階層×在院期間区分F00F01_65歳未満以上＿寛解・院内寛解[#Headers],0)),0)+IFERROR(INDEX(年齢階層×在院期間区分F00F01_65歳未満以上＿寛解・院内寛解[#All],MATCH($AK31,年齢階層×在院期間区分F00F01_65歳未満以上＿寛解・院内寛解[[#All],[列1]],0),MATCH($AY$3,年齢階層×在院期間区分F00F01_65歳未満以上＿寛解・院内寛解[#Headers],0)),0)","v":8},{"$f":"IFERROR(G31/$G$29,\"-\")","v":1},{"$f":"IFERROR(INDEX(年齢階層×在院期間区分F00F01_65歳未満以上＿寛解・院内寛解[#All],MATCH($AK31,年齢階層×在院期間区分F00F01_65歳未満以上＿寛解・院内寛解[[#All],[列1]],0),MATCH($AZ$3,年齢階層×在院期間区分F00F01_65歳未満以上＿寛解・院内寛解[#Headers],0)),0)+IFERROR(INDEX(年齢階層×在院期間区分F00F01_65歳未満以上＿寛解・院内寛解[#All],MATCH($AK31,年齢階層×在院期間区分F00F01_65歳未満以上＿寛解・院内寛解[[#All],[列1]],0),MATCH($BA$3,年齢階層×在院期間区分F00F01_65歳未満以上＿寛解・院内寛解[#Headers],0)),0)","v":2},{"$f":"IFERROR(I31/$I$29,\"-\")","v":1},{"$f":"C31+E31+G31+I31","v":220},{"$f":"IFERROR(K31/$K$29,\"-\")","v":0.97777777777777775},null,null,"65歳以上",37,54,42,26,16,12,11,8,4,4,3,1,0,0,1,1,null,null,null,null,null,"65歳以上"]

{"sheet":"５-Ⅱ③","index":23,"n_rows":33,"n_cols":53,"rows_kept":33,"cut":false,"hidden":false,"merged":[[2,1,3,1],[2,2,2,11],[3,2,3,3],[3,4,3,5],[3,6,3,7],[3,8,3,9],[3,10,3,11],[19,1,20,1],[19,2,19,11],[20,2,20,3],[20,4,20,5],[20,6,20,7],[20,8,20,9],[20,10,20,11]]}
[null,"【年齢階層×在院期間区分】"]
[null,"〔アルツハイマー病型認知症・血管性認知症以外の症状性を含む器質性精神障害（F02-F09）〕"]
[null,"年齢階層","在院期間区分",null,null,null,null,null,null,null,null,null,null,null,"データ貼り付け箇所"]
[null,null,"1年未満",null,"1年以上\n5年未満",null,"5年以上\n10年未満",null,"10年以上",null,"合計",null,null,null,"行ラベル","01_1ヶ月未満","02_1ヶ月～3ヶ月未満","03_3ヶ月～6ヶ月未満","04_6ヶ月～1年未満","05_1年～1年6ヶ月未満","06_1年6ヶ月～2年未満","07_2年～3年未満","08_3年～4年未満","09_4年～5年未満","10_5年～6年未満","11_6年～7年未満","12_7年～8年未満","13_8年～9年未満","14_9年～10年未満","15_10年～20年未満","16_ 20年以上",null,null,null,null,null,null,"01_1ヶ月未満","02_1ヶ月～3ヶ月未満","03_3ヶ月～6ヶ月未満","04_6ヶ月～1年未満","05_1年～1年6ヶ月未満","06_1年6ヶ月～2年未満","07_2年～3年未満","08_3年～4年未満","09_4年～5年未満","10_5年～6年未満","11_6年～7年未満","12_7年～8年未満","13_8年～9年未満","14_9年～10年未満","15_10年～20年未満","16_ 20年以上"]
[null,"19歳以下",{"$f":"IFERROR(INDEX(年齢階層×在院期間区分F02F09[#All],MATCH($AK5,年齢階層×在院期間区分F02F09[[#All],[行ラベル]],0),MATCH($AL$4,年齢階層×在院期間区分F02F09[#Headers],0)),0)+IFERROR(INDEX(年齢階層×在院期間区分F02F09[#All],MATCH($AK5,年齢階層×在院期間区分F02F09[[#All],[行ラベル]],0),MATCH($AM$4,年齢階層×在院期間区分F02F09[#Headers],0)),0)+IFERROR(INDEX(年齢階層×在院期間区分F02F09[#All],MATCH($AK5,年齢階層×在院期間区分F02F09[[#All],[行ラベル]],0),MATCH($AN$4,年齢階層×在院期間区分F02F09[#Headers],0)),0)+IFERROR(INDEX(年齢階層×在院期間区分F02F09[#All],MATCH($AK5,年齢階層×在院期間区分F02F09[[#All],[行ラベル]],0),MATCH($AO$4,年齢階層×在院期間区分F02F09[#Headers],0)),0)","v":2},{"$f":"IFERROR(C5/$C$14,\"-\")","v":2.3148148148148147E-3},{"$f":"IFERROR(INDEX(年齢階層×在院期間区分F02F09[#All],MATCH($AK5,年齢階層×在院期間区分F02F09[[#All],[行ラベル]],0),MATCH($AP$4,年齢階層×在院期間区分F02F09[#Headers],0)),0)+IFERROR(INDEX(年齢階層×在院期間区分F02F09[#All],MATCH($AK5,年齢階層×在院期間区分F02F09[[#All],[行ラベル]],0),MATCH($AQ$4,年齢階層×在院期間区分F02F09[#Headers],0)),0)+IFERROR(INDEX(年齢階層×在院期間区分F02F09[#All],MATCH($AK5,年齢階層×在院期間区分F02F09[[#All],[行ラベル]],0),MATCH($AR$4,年齢階層×在院期間区分F02F09[#Headers],0)),0)+IFERROR(INDEX(年齢階層×在院期間区分F02F09[#All],MATCH($AK5,年齢階層×在院期間区分F02F09[[#All],[行ラベル]],0),MATCH($AS$4,年齢階層×在院期間区分F02F09[#Headers],0)),0)+IFERROR(INDEX(年齢階層×在院期間区分F02F09[#All],MATCH($AK5,年齢階層×在院期間区分F02F09[[#All],[行ラベル]],0),MATCH($AT$4,年齢階層×在院期間区分F02F09[#Headers],0)),0)","v":0},{"$f":"IFERROR(E5/$E$14,\"-\")","v":0},{"$f":"IFERROR(INDEX(年齢階層×在院期間区分F02F09[#All],MATCH($AK5,年齢階層×在院期間区分F02F09[[#All],[行ラベル]],0),MATCH($AU$4,年齢階層×在院期間区分F02F09[#Headers],0)),0)+IFERROR(INDEX(年齢階層×在院期間区分F02F09[#All],MATCH($AK5,年齢階層×在院期間区分F02F09[[#All],[行ラベル]],0),MATCH($AV$4,年齢階層×在院期間区分F02F09[#Headers],0)),0)+IFERROR(INDEX(年齢階層×在院期間区分F02F09[#All],MATCH($AK5,年齢階層×在院期間区分F02F09[[#All],[行ラベル]],0),MATCH($AW$4,年齢階層×在院期間区分F02F09[#Headers],0)),0)+IFERROR(INDEX(年齢階層×在院期間区分F02F09[#All],MATCH($AK5,年齢階層×在院期間区分F02F09[[#All],[行ラベル]],0),MATCH($AX$4,年齢階層×在院期間区分F02F09[#Headers],0)),0)+IFERROR(INDEX(年齢階層×在院期間区分F02F09[#All],MATCH($AK5,年齢階層×在院期間区分F02F09[[#All],[行ラベル]],0),MATCH($AY$4,年齢階層×在院期間区分F02F09[#Headers],0)),0)","v":0},{"$f":"IFERROR(G5/$G$14,\"-\")","v":0},{"$f":"IFERROR(INDEX(年齢階層×在院期間区分F02F09[#All],MATCH($AK5,年齢階層×在院期間区分F02F09[[#All],[行ラベル]],0),MATCH($AZ$4,年齢階層×在院期間区分F02F09[#Headers],0)),0)+IFERROR(INDEX(年齢階層×在院期間区分F02F09[#All],MATCH($AK5,年齢階層×在院期間区分F02F09[[#All],[行ラベル]],0),MATCH($BA$4,年齢階層×在院期間区分F02F09[#Headers],0)),0)","v":0},{"$f":"IFERROR(I5/$I$14,\"-\")","v":0},{"$f":"SUM(C5,E5,G5,I5)","v":2},{"$f":"IFERROR(K5/$K$14,\"-\")","v":1.1648223645894002E-3},null,null,"19歳以下",1,1,0,0,0,0,0,0,0,0,0,0,0,0,0,0,null,null,null,null,null,"19歳以下"]
[null,"20歳代",{"$f":"IFERROR(INDEX(年齢階層×在院期間区分F02F09[#All],MATCH($AK6,年齢階層×在院期間区分F02F09[[#All],[行ラベル]],0),MATCH($AL$4,年齢階層×在院期間区分F02F09[#Headers],0)),0)+IFERROR(INDEX(年齢階層×在院期間区分F02F09[#All],MATCH($AK6,年齢階層×在院期間区分F02F09[[#All],[行ラベル]],0),MATCH($AM$4,年齢階層×在院期間区分F02F09[#Headers],0)),0)+IFERROR(INDEX(年齢階層×在院期間区分F02F09[#All],MATCH($AK6,年齢階層×在院期間区分F02F09[[#All],[行ラベル]],0),MATCH($AN$4,年齢階層×在院期間区分F02F09[#Headers],0)),0)+IFERROR(INDEX(年齢階層×在院期間区分F02F09[#All],MATCH($AK6,年齢階層×在院期間区分F02F09[[#All],[行ラベル]],0),MATCH($AO$4,年齢階層×在院期間区分F02F09[#Headers],0)),0)","v":4},4.6296296296296294E-3,{"$f":"IFERROR(INDEX(年齢階層×在院期間区分F02F09[#All],MATCH($AK6,年齢階層×在院期間区分F02F09[[#All],[行ラベル]],0),MATCH($AP$4,年齢階層×在院期間区分F02F09[#Headers],0)),0)+IFERROR(INDEX(年齢階層×在院期間区分F02F09[#All],MATCH($AK6,年齢階層×在院期間区分F02F09[[#All],[行ラベル]],0),MATCH($AQ$4,年齢階層×在院期間区分F02F09[#Headers],0)),0)+IFERROR(INDEX(年齢階層×在院期間区分F02F09[#All],MATCH($AK6,年齢階層×在院期間区分F02F09[[#All],[行ラベル]],0),MATCH($AR$4,年齢階層×在院期間区分F02F09[#Headers],0)),0)+IFERROR(INDEX(年齢階層×在院期間区分F02F09[#All],MATCH($AK6,年齢階層×在院期間区分F02F09[[#All],[行ラベル]],0),MATCH($AS$4,年齢階層×在院期間区分F02F09[#Headers],0)),0)+IFERROR(INDEX(年齢階層×在院期間区分F02F09[#All],MATCH($AK6,年齢階層×在院期間区分F02F09[[#All],[行ラベル]],0),MATCH($AT$4,年齢階層×在院期間区分F02F09[#Headers],0)),0)","v":1},1.6638935108153079E-3,{"$f":"IFERROR(INDEX(年齢階層×在院期間区分F02F09[#All],MATCH($AK6,年齢階層×在院期間区分F02F09[[#All],[行ラベル]],0),MATCH($AU$4,年齢階層×在院期間区分F02F09[#Headers],0)),0)+IFERROR(INDEX(年齢階層×在院期間区分F02F09[#All],MATCH($AK6,年齢階層×在院期間区分F02F09[[#All],[行ラベル]],0),MATCH($AV$4,年齢階層×在院期間区分F02F09[#Headers],0)),0)+IFERROR(INDEX(年齢階層×在院期間区分F02F09[#All],MATCH($AK6,年齢階層×在院期間区分F02F09[[#All],[行ラベル]],0),MATCH($AW$4,年齢階層×在院期間区分F02F09[#Headers],0)),0)+IFERROR(INDEX(年齢階層×在院期間区分F02F09[#All],MATCH($AK6,年齢階層×在院期間区分F02F09[[#All],[行ラベル]],0),MATCH($AX$4,年齢階層×在院期間区分F02F09[#Headers],0)),0)+IFERROR(INDEX(年齢階層×在院期間区分F02F09[#All],MATCH($AK6,年齢階層×在院期間区分F02F09[[#All],[行ラベル]],0),MATCH($AY$4,年齢階層×在院期間区分F02F09[#Headers],0)),0)","v":0},0,{"$f":"IFERROR(INDEX(年齢階層×在院期間区分F02F09[#All],MATCH($AK6,年齢階層×在院期間区分F02F09[[#All],[行ラベル]],0),MATCH($AZ$4,年齢階層×在院期間区分F02F09[#Headers],0)),0)+IFERROR(INDEX(年齢階層×在院期間区分F02F09[#All],MATCH($AK6,年齢階層×在院期間区分F02F09[[#All],[行ラベル]],0),MATCH($BA$4,年齢階層×在院期間区分F02F09[#Headers],0)),0)","v":0},0,5,2.9120559114735002E-3,null,null,"20歳代",1,1,0,2,0,0,1,0,0,0,0,0,0,0,0,0,null,null,null,null,null,"20歳代"]
[null,"30歳代",{"$f":"IFERROR(INDEX(年齢階層×在院期間区分F02F09[#All],MATCH($AK7,年齢階層×在院期間区分F02F09[[#All],[行ラベル]],0),MATCH($AL$4,年齢階層×在院期間区分F02F09[#Headers],0)),0)+IFERROR(INDEX(年齢階層×在院期間区分F02F09[#All],MATCH($AK7,年齢階層×在院期間区分F02F09[[#All],[行ラベル]],0),MATCH($AM$4,年齢階層×在院期間区分F02F09[#Headers],0)),0)+IFERROR(INDEX(年齢階層×在院期間区分F02F09[#All],MATCH($AK7,年齢階層×在院期間区分F02F09[[#All],[行ラベル]],0),MATCH($AN$4,年齢階層×在院期間区分F02F09[#Headers],0)),0)+IFERROR(INDEX(年齢階層×在院期間区分F02F09[#All],MATCH($AK7,年齢階層×在院期間区分F02F09[[#All],[行ラベル]],0),MATCH($AO$4,年齢階層×在院期間区分F02F09[#Headers],0)),0)","v":3},3.472222222222222E-3,{"$f":"IFERROR(INDEX(年齢階層×在院期間区分F02F09[#All],MATCH($AK7,年齢階層×在院期間区分F02F09[[#All],[行ラベル]],0),MATCH($AP$4,年齢階層×在院期間区分F02F09[#Headers],0)),0)+IFERROR(INDEX(年齢階層×在院期間区分F02F09[#All],MATCH($AK7,年齢階層×在院期間区分F02F09[[#All],[行ラベル]],0),MATCH($AQ$4,年齢階層×在院期間区分F02F09[#Headers],0)),0)+IFERROR(INDEX(年齢階層×在院期間区分F02F09[#All],MATCH($AK7,年齢階層×在院期間区分F02F09[[#All],[行ラベル]],0),MATCH($AR$4,年齢階層×在院期間区分F02F09[#Headers],0)),0)+IFERROR(INDEX(年齢階層×在院期間区分F02F09[#All],MATCH($AK7,年齢階層×在院期間区分F02F09[[#All],[行ラベル]],0),MATCH($AS$4,年齢階層×在院期間区分F02F09[#Headers],0)),0)+IFERROR(INDEX(年齢階層×在院期間区分F02F09[#All],MATCH($AK7,年齢階層×在院期間区分F02F09[[#All],[行ラベル]],0),MATCH($AT$4,年齢階層×在院期間区分F02F09[#Headers],0)),0)","v":3},4.9916805324459234E-3,{"$f":"IFERROR(INDEX(年齢階層×在院期間区分F02F09[#All],MATCH($AK7,年齢階層×在院期間区分F02F09[[#All],[行ラベル]],0),MATCH($AU$4,年齢階層×在院期間区分F02F09[#Headers],0)),0)+IFERROR(INDEX(年齢階層×在院期間区分F02F09[#All],MATCH($AK7,年齢階層×在院期間区分F02F09[[#All],[行ラベル]],0),MATCH($AV$4,年齢階層×在院期間区分F02F09[#Headers],0)),0)+IFERROR(INDEX(年齢階層×在院期間区分F02F09[#All],MATCH($AK7,年齢階層×在院期間区分F02F09[[#All],[行ラベル]],0),MATCH($AW$4,年齢階層×在院期間区分F02F09[#Headers],0)),0)+IFERROR(INDEX(年齢階層×在院期間区分F02F09[#All],MATCH($AK7,年齢階層×在院期間区分F02F09[[#All],[行ラベル]],0),MATCH($AX$4,年齢階層×在院期間区分F02F09[#Headers],0)),0)+IFERROR(INDEX(年齢階層×在院期間区分F02F09[#All],MATCH($AK7,年齢階層×在院期間区分F02F09[[#All],[行ラベル]],0),MATCH($AY$4,年齢階層×在院期間区分F02F09[#Headers],0)),0)","v":1},6.0606060606060606E-3,{"$f":"IFERROR(INDEX(年齢階層×在院期間区分F02F09[#All],MATCH($AK7,年齢階層×在院期間区分F02F09[[#All],[行ラベル]],0),MATCH($AZ$4,年齢階層×在院期間区分F02F09[#Headers],0)),0)+IFERROR(INDEX(年齢階層×在院期間区分F02F09[#All],MATCH($AK7,年齢階層×在院期間区分F02F09[[#All],[行ラベル]],0),MATCH($BA$4,年齢階層×在院期間区分F02F09[#Headers],0)),0)","v":0},0,7,4.0768782760629008E-3,null,null,"30歳代",1,1,1,0,1,1,0,0,1,0,1,0,0,0,0,0,null,null,null,null,null,"30歳代"]
[null,"40歳代",{"$f":"IFERROR(INDEX(年齢階層×在院期間区分F02F09[#All],MATCH($AK8,年齢階層×在院期間区分F02F09[[#All],[行ラベル]],0),MATCH($AL$4,年齢階層×在院期間区分F02F09[#Headers],0)),0)+IFERROR(INDEX(年齢階層×在院期間区分F02F09[#All],MATCH($AK8,年齢階層×在院期間区分F02F09[[#All],[行ラベル]],0),MATCH($AM$4,年齢階層×在院期間区分F02F09[#Headers],0)),0)+IFERROR(INDEX(年齢階層×在院期間区分F02F09[#All],MATCH($AK8,年齢階層×在院期間区分F02F09[[#All],[行ラベル]],0),MATCH($AN$4,年齢階層×在院期間区分F02F09[#Headers],0)),0)+IFERROR(INDEX(年齢階層×在院期間区分F02F09[#All],MATCH($AK8,年齢階層×在院期間区分F02F09[[#All],[行ラベル]],0),MATCH($AO$4,年齢階層×在院期間区分F02F09[#Headers],0)),0)","v":17},1.9675925925925927E-2,{"$f":"IFERROR(INDEX(年齢階層×在院期間区分F02F09[#All],MATCH($AK8,年齢階層×在院期間区分F02F09[[#All],[行ラベル]],0),MATCH($AP$4,年齢階層×在院期間区分F02F09[#Headers],0)),0)+IFERROR(INDEX(年齢階層×在院期間区分F02F09[#All],MATCH($AK8,年齢階層×在院期間区分F02F09[[#All],[行ラベル]],0),MATCH($AQ$4,年齢階層×在院期間区分F02F09[#Headers],0)),0)+IFERROR(INDEX(年齢階層×在院期間区分F02F09[#All],MATCH($AK8,年齢階層×在院期間区分F02F09[[#All],[行ラベル]],0),MATCH($AR$4,年齢階層×在院期間区分F02F09[#Headers],0)),0)+IFERROR(INDEX(年齢階層×在院期間区分F02F09[#All],MATCH($AK8,年齢階層×在院期間区分F02F09[[#All],[行ラベル]],0),MATCH($AS$4,年齢階層×在院期間区分F02F09[#Headers],0)),0)+IFERROR(INDEX(年齢階層×在院期間区分F02F09[#All],MATCH($AK8,年齢階層×在院期間区分F02F09[[#All],[行ラベル]],0),MATCH($AT$4,年齢階層×在院期間区分F02F09[#Headers],0)),0)","v":12},1.9966722129783693E-2,{"$f":"IFERROR(INDEX(年齢階層×在院期間区分F02F09[#All],MATCH($AK8,年齢階層×在院期間区分F02F09[[#All],[行ラベル]],0),MATCH($AU$4,年齢階層×在院期間区分F02F09[#Headers],0)),0)+IFERROR(INDEX(年齢階層×在院期間区分F02F09[#All],MATCH($AK8,年齢階層×在院期間区分F02F09[[#All],[行ラベル]],0),MATCH($AV$4,年齢階層×在院期間区分F02F09[#Headers],0)),0)+IFERROR(INDEX(年齢階層×在院期間区分F02F09[#All],MATCH($AK8,年齢階層×在院期間区分F02F09[[#All],[行ラベル]],0),MATCH($AW$4,年齢階層×在院期間区分F02F09[#Headers],0)),0)+IFERROR(INDEX(年齢階層×在院期間区分F02F09[#All],MATCH($AK8,年齢階層×在院期間区分F02F09[[#All],[行ラベル]],0),MATCH($AX$4,年齢階層×在院期間区分F02F09[#Headers],0)),0)+IFERROR(INDEX(年齢階層×在院期間区分F02F09[#All],MATCH($AK8,年齢階層×在院期間区分F02F09[[#All],[行ラベル]],0),MATCH($AY$4,年齢階層×在院期間区分F02F09[#Headers],0)),0)","v":4},2.4242424242424242E-2,{"$f":"IFERROR(INDEX(年齢階層×在院期間区分F02F09[#All],MATCH($AK8,年齢階層×在院期間区分F02F09[[#All],[行ラベル]],0),MATCH($AZ$4,年齢階層×在院期間区分F02F09[#Headers],0)),0)+IFERROR(INDEX(年齢階層×在院期間区分F02F09[#All],MATCH($AK8,年齢階層×在院期間区分F02F09[[#All],[行ラベル]],0),MATCH($BA$4,年齢階層×在院期間区分F02F09[#Headers],0)),0)","v":4},4.5977011494252873E-2,37,2.1549213744903904E-2,null,null,"40歳代",4,7,4,2,4,1,1,4,2,2,0,0,2,0,4,0,null,null,null,null,null,"40歳代"]
[null,"50歳代",{"$f":"IFERROR(INDEX(年齢階層×在院期間区分F02F09[#All],MATCH($AK9,年齢階層×在院期間区分F02F09[[#All],[行ラベル]],0),MATCH($AL$4,年齢階層×在院期間区分F02F09[#Headers],0)),0)+IFERROR(INDEX(年齢階層×在院期間区分F02F09[#All],MATCH($AK9,年齢階層×在院期間区分F02F09[[#All],[行ラベル]],0),MATCH($AM$4,年齢階層×在院期間区分F02F09[#Headers],0)),0)+IFERROR(INDEX(年齢階層×在院期間区分F02F09[#All],MATCH($AK9,年齢階層×在院期間区分F02F09[[#All],[行ラベル]],0),MATCH($AN$4,年齢階層×在院期間区分F02F09[#Headers],0)),0)+IFERROR(INDEX(年齢階層×在院期間区分F02F09[#All],MATCH($AK9,年齢階層×在院期間区分F02F09[[#All],[行ラベル]],0),MATCH($AO$4,年齢階層×在院期間区分F02F09[#Headers],0)),0)","v":36},4.1666666666666664E-2,{"$f":"IFERROR(INDEX(年齢階層×在院期間区分F02F09[#All],MATCH($AK9,年齢階層×在院期間区分F02F09[[#All],[行ラベル]],0),MATCH($AP$4,年齢階層×在院期間区分F02F09[#Headers],0)),0)+IFERROR(INDEX(年齢階層×在院期間区分F02F09[#All],MATCH($AK9,年齢階層×在院期間区分F02F09[[#All],[行ラベル]],0),MATCH($AQ$4,年齢階層×在院期間区分F02F09[#Headers],0)),0)+IFERROR(INDEX(年齢階層×在院期間区分F02F09[#All],MATCH($AK9,年齢階層×在院期間区分F02F09[[#All],[行ラベル]],0),MATCH($AR$4,年齢階層×在院期間区分F02F09[#Headers],0)),0)+IFERROR(INDEX(年齢階層×在院期間区分F02F09[#All],MATCH($AK9,年齢階層×在院期間区分F02F09[[#All],[行ラベル]],0),MATCH($AS$4,年齢階層×在院期間区分F02F09[#Headers],0)),0)+IFERROR(INDEX(年齢階層×在院期間区分F02F09[#All],MATCH($AK9,年齢階層×在院期間区分F02F09[[#All],[行ラベル]],0),MATCH($AT$4,年齢階層×在院期間区分F02F09[#Headers],0)),0)","v":38},6.3227953410981697E-2,{"$f":"IFERROR(INDEX(年齢階層×在院期間区分F02F09[#All],MATCH($AK9,年齢階層×在院期間区分F02F09[[#All],[行ラベル]],0),MATCH($AU$4,年齢階層×在院期間区分F02F09[#Headers],0)),0)+IFERROR(INDEX(年齢階層×在院期間区分F02F09[#All],MATCH($AK9,年齢階層×在院期間区分F02F09[[#All],[行ラベル]],0),MATCH($AV$4,年齢階層×在院期間区分F02F09[#Headers],0)),0)+IFERROR(INDEX(年齢階層×在院期間区分F02F09[#All],MATCH($AK9,年齢階層×在院期間区分F02F09[[#All],[行ラベル]],0),MATCH($AW$4,年齢階層×在院期間区分F02F09[#Headers],0)),0)+IFERROR(INDEX(年齢階層×在院期間区分F02F09[#All],MATCH($AK9,年齢階層×在院期間区分F02F09[[#All],[行ラベル]],0),MATCH($AX$4,年齢階層×在院期間区分F02F09[#Headers],0)),0)+IFERROR(INDEX(年齢階層×在院期間区分F02F09[#All],MATCH($AK9,年齢階層×在院期間区分F02F09[[#All],[行ラベル]],0),MATCH($AY$4,年齢階層×在院期間区分F02F09[#Headers],0)),0)","v":14},8.4848484848484854E-2,{"$f":"IFERROR(INDEX(年齢階層×在院期間区分F02F09[#All],MATCH($AK9,年齢階層×在院期間区分F02F09[[#All],[行ラベル]],0),MATCH($AZ$4,年齢階層×在院期間区分F02F09[#Headers],0)),0)+IFERROR(INDEX(年齢階層×在院期間区分F02F09[#All],MATCH($AK9,年齢階層×在院期間区分F02F09[[#All],[行ラベル]],0),MATCH($BA$4,年齢階層×在院期間区分F02F09[#Headers],0)),0)","v":13},0.14942528735632185,101,5.8823529411764705E-2,null,null,"50歳代",8,9,10,9,9,2,13,7,7,3,8,1,1,1,11,2,null,null,null,null,null,"50歳代"]
[null,"60歳代",{"$f":"IFERROR(INDEX(年齢階層×在院期間区分F02F09[#All],MATCH($AK10,年齢階層×在院期間区分F02F09[[#All],[行ラベル]],0),MATCH($AL$4,年齢階層×在院期間区分F02F09[#Headers],0)),0)+IFERROR(INDEX(年齢階層×在院期間区分F02F09[#All],MATCH($AK10,年齢階層×在院期間区分F02F09[[#All],[行ラベル]],0),MATCH($AM$4,年齢階層×在院期間区分F02F09[#Headers],0)),0)+IFERROR(INDEX(年齢階層×在院期間区分F02F09[#All],MATCH($AK10,年齢階層×在院期間区分F02F09[[#All],[行ラベル]],0),MATCH($AN$4,年齢階層×在院期間区分F02F09[#Headers],0)),0)+IFERROR(INDEX(年齢階層×在院期間区分F02F09[#All],MATCH($AK10,年齢階層×在院期間区分F02F09[[#All],[行ラベル]],0),MATCH($AO$4,年齢階層×在院期間区分F02F09[#Headers],0)),0)","v":70},8.1018518518518517E-2,{"$f":"IFERROR(INDEX(年齢階層×在院期間区分F02F09[#All],MATCH($AK10,年齢階層×在院期間区分F02F09[[#All],[行ラベル]],0),MATCH($AP$4,年齢階層×在院期間区分F02F09[#Headers],0)),0)+IFERROR(INDEX(年齢階層×在院期間区分F02F09[#All],MATCH($AK10,年齢階層×在院期間区分F02F09[[#All],[行ラベル]],0),MATCH($AQ$4,年齢階層×在院期間区分F02F09[#Headers],0)),0)+IFERROR(INDEX(年齢階層×在院期間区分F02F09[#All],MATCH($AK10,年齢階層×在院期間区分F02F09[[#All],[行ラベル]],0),MATCH($AR$4,年齢階層×在院期間区分F02F09[#Headers],0)),0)+IFERROR(INDEX(年齢階層×在院期間区分F02F09[#All],MATCH($AK10,年齢階層×在院期間区分F02F09[[#All],[行ラベル]],0),MATCH($AS$4,年齢階層×在院期間区分F02F09[#Headers],0)),0)+IFERROR(INDEX(年齢階層×在院期間区分F02F09[#All],MATCH($AK10,年齢階層×在院期間区分F02F09[[#All],[行ラベル]],0),MATCH($AT$4,年齢階層×在院期間区分F02F09[#Headers],0)),0)","v":53},8.8186356073211319E-2,{"$f":"IFERROR(INDEX(年齢階層×在院期間区分F02F09[#All],MATCH($AK10,年齢階層×在院期間区分F02F09[[#All],[行ラベル]],0),MATCH($AU$4,年齢階層×在院期間区分F02F09[#Headers],0)),0)+IFERROR(INDEX(年齢階層×在院期間区分F02F09[#All],MATCH($AK10,年齢階層×在院期間区分F02F09[[#All],[行ラベル]],0),MATCH($AV$4,年齢階層×在院期間区分F02F09[#Headers],0)),0)+IFERROR(INDEX(年齢階層×在院期間区分F02F09[#All],MATCH($AK10,年齢階層×在院期間区分F02F09[[#All],[行ラベル]],0),MATCH($AW$4,年齢階層×在院期間区分F02F09[#Headers],0)),0)+IFERROR(INDEX(年齢階層×在院期間区分F02F09[#All],MATCH($AK10,年齢階層×在院期間区分F02F09[[#All],[行ラベル]],0),MATCH($AX$4,年齢階層×在院期間区分F02F09[#Headers],0)),0)+IFERROR(INDEX(年齢階層×在院期間区分F02F09[#All],MATCH($AK10,年齢階層×在院期間区分F02F09[[#All],[行ラベル]],0),MATCH($AY$4,年齢階層×在院期間区分F02F09[#Headers],0)),0)","v":23},0.1393939393939394,{"$f":"IFERROR(INDEX(年齢階層×在院期間区分F02F09[#All],MATCH($AK10,年齢階層×在院期間区分F02F09[[#All],[行ラベル]],0),MATCH($AZ$4,年齢階層×在院期間区分F02F09[#Headers],0)),0)+IFERROR(INDEX(年齢階層×在院期間区分F02F09[#All],MATCH($AK10,年齢階層×在院期間区分F02F09[[#All],[行ラベル]],0),MATCH($BA$4,年齢階層×在院期間区分F02F09[#Headers],0)),0)","v":15},0.17241379310344829,161,9.3768200349446704E-2,null,null,"60歳代",15,17,15,23,11,11,11,15,5,9,7,1,4,2,10,5,null,null,null,null,null,"60歳代"]
[null,"70歳代",{"$f":"IFERROR(INDEX(年齢階層×在院期間区分F02F09[#All],MATCH($AK11,年齢階層×在院期間区分F02F09[[#All],[行ラベル]],0),MATCH($AL$4,年齢階層×在院期間区分F02F09[#Headers],0)),0)+IFERROR(INDEX(年齢階層×在院期間区分F02F09[#All],MATCH($AK11,年齢階層×在院期間区分F02F09[[#All],[行ラベル]],0),MATCH($AM$4,年齢階層×在院期間区分F02F09[#Headers],0)),0)+IFERROR(INDEX(年齢階層×在院期間区分F02F09[#All],MATCH($AK11,年齢階層×在院期間区分F02F09[[#All],[行ラベル]],0),MATCH($AN$4,年齢階層×在院期間区分F02F09[#Headers],0)),0)+IFERROR(INDEX(年齢階層×在院期間区分F02F09[#All],MATCH($AK11,年齢階層×在院期間区分F02F09[[#All],[行ラベル]],0),MATCH($AO$4,年齢階層×在院期間区分F02F09[#Headers],0)),0)","v":256},0.29629629629629628,{"$f":"IFERROR(INDEX(年齢階層×在院期間区分F02F09[#All],MATCH($AK11,年齢階層×在院期間区分F02F09[[#All],[行ラベル]],0),MATCH($AP$4,年齢階層×在院期間区分F02F09[#Headers],0)),0)+IFERROR(INDEX(年齢階層×在院期間区分F02F09[#All],MATCH($AK11,年齢階層×在院期間区分F02F09[[#All],[行ラベル]],0),MATCH($AQ$4,年齢階層×在院期間区分F02F09[#Headers],0)),0)+IFERROR(INDEX(年齢階層×在院期間区分F02F09[#All],MATCH($AK11,年齢階層×在院期間区分F02F09[[#All],[行ラベル]],0),MATCH($AR$4,年齢階層×在院期間区分F02F09[#Headers],0)),0)+IFERROR(INDEX(年齢階層×在院期間区分F02F09[#All],MATCH($AK11,年齢階層×在院期間区分F02F09[[#All],[行ラベル]],0),MATCH($AS$4,年齢階層×在院期間区分F02F09[#Headers],0)),0)+IFERROR(INDEX(年齢階層×在院期間区分F02F09[#All],MATCH($AK11,年齢階層×在院期間区分F02F09[[#All],[行ラベル]],0),MATCH($AT$4,年齢階層×在院期間区分F02F09[#Headers],0)),0)","v":169},0.28119800332778699,{"$f":"IFERROR(INDEX(年齢階層×在院期間区分F02F09[#All],MATCH($AK11,年齢階層×在院期間区分F02F09[[#All],[行ラベル]],0),MATCH($AU$4,年齢階層×在院期間区分F02F09[#Headers],0)),0)+IFERROR(INDEX(年齢階層×在院期間区分F02F09[#All],MATCH($AK11,年齢階層×在院期間区分F02F09[[#All],[行ラベル]],0),MATCH($AV$4,年齢階層×在院期間区分F02F09[#Headers],0)),0)+IFERROR(INDEX(年齢階層×在院期間区分F02F09[#All],MATCH($AK11,年齢階層×在院期間区分F02F09[[#All],[行ラベル]],0),MATCH($AW$4,年齢階層×在院期間区分F02F09[#Headers],0)),0)+IFERROR(INDEX(年齢階層×在院期間区分F02F09[#All],MATCH($AK11,年齢階層×在院期間区分F02F09[[#All],[行ラベル]],0),MATCH($AX$4,年齢階層×在院期間区分F02F09[#Headers],0)),0)+IFERROR(INDEX(年齢階層×在院期間区分F02F09[#All],MATCH($AK11,年齢階層×在院期間区分F02F09[[#All],[行ラベル]],0),MATCH($AY$4,年齢階層×在院期間区分F02F09[#Headers],0)),0)","v":40},0.24242424242424243,{"$f":"IFERROR(INDEX(年齢階層×在院期間区分F02F09[#All],MATCH($AK11,年齢階層×在院期間区分F02F09[[#All],[行ラベル]],0),MATCH($AZ$4,年齢階層×在院期間区分F02F09[#Headers],0)),0)+IFERROR(INDEX(年齢階層×在院期間区分F02F09[#All],MATCH($AK11,年齢階層×在院期間区分F02F09[[#All],[行ラベル]],0),MATCH($BA$4,年齢階層×在院期間区分F02F09[#Headers],0)),0)","v":31},0.35632183908045978,496,0.28887594641817121,null,null,"70歳代",66,83,56,51,45,31,47,30,16,13,10,5,5,7,20,11,null,null,null,null,null,"70歳代"]
[null,"80歳代",{"$f":"IFERROR(INDEX(年齢階層×在院期間区分F02F09[#All],MATCH($AK12,年齢階層×在院期間区分F02F09[[#All],[行ラベル]],0),MATCH($AL$4,年齢階層×在院期間区分F02F09[#Headers],0)),0)+IFERROR(INDEX(年齢階層×在院期間区分F02F09[#All],MATCH($AK12,年齢階層×在院期間区分F02F09[[#All],[行ラベル]],0),MATCH($AM$4,年齢階層×在院期間区分F02F09[#Headers],0)),0)+IFERROR(INDEX(年齢階層×在院期間区分F02F09[#All],MATCH($AK12,年齢階層×在院期間区分F02F09[[#All],[行ラベル]],0),MATCH($AN$4,年齢階層×在院期間区分F02F09[#Headers],0)),0)+IFERROR(INDEX(年齢階層×在院期間区分F02F09[#All],MATCH($AK12,年齢階層×在院期間区分F02F09[[#All],[行ラベル]],0),MATCH($AO$4,年齢階層×在院期間区分F02F09[#Headers],0)),0)","v":385},0.44560185185185186,{"$f":"IFERROR(INDEX(年齢階層×在院期間区分F02F09[#All],MATCH($AK12,年齢階層×在院期間区分F02F09[[#All],[行ラベル]],0),MATCH($AP$4,年齢階層×在院期間区分F02F09[#Headers],0)),0)+IFERROR(INDEX(年齢階層×在院期間区分F02F09[#All],MATCH($AK12,年齢階層×在院期間区分F02F09[[#All],[行ラベル]],0),MATCH($AQ$4,年齢階層×在院期間区分F02F09[#Headers],0)),0)+IFERROR(INDEX(年齢階層×在院期間区分F02F09[#All],MATCH($AK12,年齢階層×在院期間区分F02F09[[#All],[行ラベル]],0),MATCH($AR$4,年齢階層×在院期間区分F02F09[#Headers],0)),0)+IFERROR(INDEX(年齢階層×在院期間区分F02F09[#All],MATCH($AK12,年齢階層×在院期間区分F02F09[[#All],[行ラベル]],0),MATCH($AS$4,年齢階層×在院期間区分F02F09[#Headers],0)),0)+IFERROR(INDEX(年齢階層×在院期間区分F02F09[#All],MATCH($AK12,年齢階層×在院期間区分F02F09[[#All],[行ラベル]],0),MATCH($AT$4,年齢階層×在院期間区分F02F09[#Headers],0)),0)","v":240},0.39933444259567386,{"$f":"IFERROR(INDEX(年齢階層×在院期間区分F02F09[#All],MATCH($AK12,年齢階層×在院期間区分F02F09[[#All],[行ラベル]],0),MATCH($AU$4,年齢階層×在院期間区分F02F09[#Headers],0)),0)+IFERROR(INDEX(年齢階層×在院期間区分F02F09[#All],MATCH($AK12,年齢階層×在院期間区分F02F09[[#All],[行ラベル]],0),MATCH($AV$4,年齢階層×在院期間区分F02F09[#Headers],0)),0)+IFERROR(INDEX(年齢階層×在院期間区分F02F09[#All],MATCH($AK12,年齢階層×在院期間区分F02F09[[#All],[行ラベル]],0),MATCH($AW$4,年齢階層×在院期間区分F02F09[#Headers],0)),0)+IFERROR(INDEX(年齢階層×在院期間区分F02F09[#All],MATCH($AK12,年齢階層×在院期間区分F02F09[[#All],[行ラベル]],0),MATCH($AX$4,年齢階層×在院期間区分F02F09[#Headers],0)),0)+IFERROR(INDEX(年齢階層×在院期間区分F02F09[#All],MATCH($AK12,年齢階層×在院期間区分F02F09[[#All],[行ラベル]],0),MATCH($AY$4,年齢階層×在院期間区分F02F09[#Headers],0)),0)","v":59},0.3575757575757576,{"$f":"IFERROR(INDEX(年齢階層×在院期間区分F02F09[#All],MATCH($AK12,年齢階層×在院期間区分F02F09[[#All],[行ラベル]],0),MATCH($AZ$4,年齢階層×在院期間区分F02F09[#Headers],0)),0)+IFERROR(INDEX(年齢階層×在院期間区分F02F09[#All],MATCH($AK12,年齢階層×在院期間区分F02F09[[#All],[行ラベル]],0),MATCH($BA$4,年齢階層×在院期間区分F02F09[#Headers],0)),0)","v":19},0.21839080459770116,703,0.40943506115317413,null,null,"80歳代",77,137,70,101,53,44,68,46,29,20,17,12,9,1,16,3,null,null,null,null,null,"80歳代"]
[null,"90歳以上",{"$f":"IFERROR(INDEX(年齢階層×在院期間区分F02F09[#All],MATCH($AK13,年齢階層×在院期間区分F02F09[[#All],[行ラベル]],0),MATCH($AL$4,年齢階層×在院期間区分F02F09[#Headers],0)),0)+IFERROR(INDEX(年齢階層×在院期間区分F02F09[#All],MATCH($AK13,年齢階層×在院期間区分F02F09[[#All],[行ラベル]],0),MATCH($AM$4,年齢階層×在院期間区分F02F09[#Headers],0)),0)+IFERROR(INDEX(年齢階層×在院期間区分F02F09[#All],MATCH($AK13,年齢階層×在院期間区分F02F09[[#All],[行ラベル]],0),MATCH($AN$4,年齢階層×在院期間区分F02F09[#Headers],0)),0)+IFERROR(INDEX(年齢階層×在院期間区分F02F09[#All],MATCH($AK13,年齢階層×在院期間区分F02F09[[#All],[行ラベル]],0),MATCH($AO$4,年齢階層×在院期間区分F02F09[#Headers],0)),0)","v":91},0.10532407407407407,{"$f":"IFERROR(INDEX(年齢階層×在院期間区分F02F09[#All],MATCH($AK13,年齢階層×在院期間区分F02F09[[#All],[行ラベル]],0),MATCH($AP$4,年齢階層×在院期間区分F02F09[#Headers],0)),0)+IFERROR(INDEX(年齢階層×在院期間区分F02F09[#All],MATCH($AK13,年齢階層×在院期間区分F02F09[[#All],[行ラベル]],0),MATCH($AQ$4,年齢階層×在院期間区分F02F09[#Headers],0)),0)+IFERROR(INDEX(年齢階層×在院期間区分F02F09[#All],MATCH($AK13,年齢階層×在院期間区分F02F09[[#All],[行ラベル]],0),MATCH($AR$4,年齢階層×在院期間区分F02F09[#Headers],0)),0)+IFERROR(INDEX(年齢階層×在院期間区分F02F09[#All],MATCH($AK13,年齢階層×在院期間区分F02F09[[#All],[行ラベル]],0),MATCH($AS$4,年齢階層×在院期間区分F02F09[#Headers],0)),0)+IFERROR(INDEX(年齢階層×在院期間区分F02F09[#All],MATCH($AK13,年齢階層×在院期間区分F02F09[[#All],[行ラベル]],0),MATCH($AT$4,年齢階層×在院期間区分F02F09[#Headers],0)),0)","v":85},0.14143094841930118,{"$f":"IFERROR(INDEX(年齢階層×在院期間区分F02F09[#All],MATCH($AK13,年齢階層×在院期間区分F02F09[[#All],[行ラベル]],0),MATCH($AU$4,年齢階層×在院期間区分F02F09[#Headers],0)),0)+IFERROR(INDEX(年齢階層×在院期間区分F02F09[#All],MATCH($AK13,年齢階層×在院期間区分F02F09[[#All],[行ラベル]],0),MATCH($AV$4,年齢階層×在院期間区分F02F09[#Headers],0)),0)+IFERROR(INDEX(年齢階層×在院期間区分F02F09[#All],MATCH($AK13,年齢階層×在院期間区分F02F09[[#All],[行ラベル]],0),MATCH($AW$4,年齢階層×在院期間区分F02F09[#Headers],0)),0)+IFERROR(INDEX(年齢階層×在院期間区分F02F09[#All],MATCH($AK13,年齢階層×在院期間区分F02F09[[#All],[行ラベル]],0),MATCH($AX$4,年齢階層×在院期間区分F02F09[#Headers],0)),0)+IFERROR(INDEX(年齢階層×在院期間区分F02F09[#All],MATCH($AK13,年齢階層×在院期間区分F02F09[[#All],[行ラベル]],0),MATCH($AY$4,年齢階層×在院期間区分F02F09[#Headers],0)),0)","v":24},0.14545454545454545,{"$f":"IFERROR(INDEX(年齢階層×在院期間区分F02F09[#All],MATCH($AK13,年齢階層×在院期間区分F02F09[[#All],[行ラベル]],0),MATCH($AZ$4,年齢階層×在院期間区分F02F09[#Headers],0)),0)+IFERROR(INDEX(年齢階層×在院期間区分F02F09[#All],MATCH($AK13,年齢階層×在院期間区分F02F09[[#All],[行ラベル]],0),MATCH($BA$4,年齢階層×在院期間区分F02F09[#Headers],0)),0)","v":5},5.7471264367816091E-2,205,0.11939429237041352,null,null,"90歳以上",29,27,21,14,17,17,21,19,11,11,4,3,3,3,5,0,null,null,null,null,null,"90歳以上"]
[null,"　総計",{"$f":"SUM(C5:C13)","v":864},1,{"$f":"SUM(E5:E13)","v":601},1,{"$f":"SUM(G5:G13)","v":165},1,{"$f":"SUM(I5:I13)","v":87},1,{"$f":"SUM(K5:K13)","v":1717},1,null,null,"列1","01_1ヶ月未満","02_1ヶ月～3ヶ月未満","03_3ヶ月～6ヶ月未満","04_6ヶ月～1年未満","05_1年～1年6ヶ月未満","06_1年6ヶ月～2年未満","07_2年～3年未満","08_3年～4年未満","09_4年～5年未満","10_5年～6年未満","11_6年～7年未満","12_7年～8年未満","13_8年～9年未満","14_9年～10年未満","15_10年～20年未満","16_ 20年以上"]
[null,"65歳未満（再掲）",{"$f":"IFERROR(INDEX(年齢階層×在院期間区分F02F09_65歳未満以上[#All],MATCH($AK15,年齢階層×在院期間区分F02F09_65歳未満以上[[#All],[列1]],0),MATCH($AL$4,年齢階層×在院期間区分F02F09_65歳未満以上[#Headers],0)),0)+IFERROR(INDEX(年齢階層×在院期間区分F02F09_65歳未満以上[#All],MATCH($AK15,年齢階層×在院期間区分F02F09_65歳未満以上[[#All],[列1]],0),MATCH($AM$4,年齢階層×在院期間区分F02F09_65歳未満以上[#Headers],0)),0)+IFERROR(INDEX(年齢階層×在院期間区分F02F09_65歳未満以上[#All],MATCH($AK15,年齢階層×在院期間区分F02F09_65歳未満以上[[#All],[列1]],0),MATCH($AN$4,年齢階層×在院期間区分F02F09_65歳未満以上[#Headers],0)),0)+IFERROR(INDEX(年齢階層×在院期間区分F02F09_65歳未満以上[#All],MATCH($AK15,年齢階層×在院期間区分F02F09_65歳未満以上[[#All],[列1]],0),MATCH($AO$4,年齢階層×在院期間区分F02F09_65歳未満以上[#Headers],0)),0)","v":96},0.1111111111111111,{"$f":"IFERROR(INDEX(年齢階層×在院期間区分F02F09_65歳未満以上[#All],MATCH($AK15,年齢階層×在院期間区分F02F09_65歳未満以上[[#All],[列1]],0),MATCH($AP$4,年齢階層×在院期間区分F02F09_65歳未満以上[#Headers],0)),0)+IFERROR(INDEX(年齢階層×在院期間区分F02F09_65歳未満以上[#All],MATCH($AK15,年齢階層×在院期間区分F02F09_65歳未満以上[[#All],[列1]],0),MATCH($AQ$4,年齢階層×在院期間区分F02F09_65歳未満以上[#Headers],0)),0)+IFERROR(INDEX(年齢階層×在院期間区分F02F09_65歳未満以上[#All],MATCH($AK15,年齢階層×在院期間区分F02F09_65歳未満以上[[#All],[列1]],0),MATCH($AR$4,年齢階層×在院期間区分F02F09_65歳未満以上[#Headers],0)),0)+IFERROR(INDEX(年齢階層×在院期間区分F02F09_65歳未満以上[#All],MATCH($AK15,年齢階層×在院期間区分F02F09_65歳未満以上[[#All],[列1]],0),MATCH($AS$4,年齢階層×在院期間区分F02F09_65歳未満以上[#Headers],0)),0)+IFERROR(INDEX(年齢階層×在院期間区分F02F09_65歳未満以上[#All],MATCH($AK15,年齢階層×在院期間区分F02F09_65歳未満以上[[#All],[列1]],0),MATCH($AT$4,年齢階層×在院期間区分F02F09_65歳未満以上[#Headers],0)),0)","v":84},0.13976705490848584,{"$f":"IFERROR(INDEX(年齢階層×在院期間区分F02F09_65歳未満以上[#All],MATCH($AK15,年齢階層×在院期間区分F02F09_65歳未満以上[[#All],[列1]],0),MATCH($AU$4,年齢階層×在院期間区分F02F09_65歳未満以上[#Headers],0)),0)+IFERROR(INDEX(年齢階層×在院期間区分F02F09_65歳未満以上[#All],MATCH($AK15,年齢階層×在院期間区分F02F09_65歳未満以上[[#All],[列1]],0),MATCH($AV$4,年齢階層×在院期間区分F02F09_65歳未満以上[#Headers],0)),0)+IFERROR(INDEX(年齢階層×在院期間区分F02F09_65歳未満以上[#All],MATCH($AK15,年齢階層×在院期間区分F02F09_65歳未満以上[[#All],[列1]],0),MATCH($AW$4,年齢階層×在院期間区分F02F09_65歳未満以上[#Headers],0)),0)+IFERROR(INDEX(年齢階層×在院期間区分F02F09_65歳未満以上[#All],MATCH($AK15,年齢階層×在院期間区分F02F09_65歳未満以上[[#All],[列1]],0),MATCH($AX$4,年齢階層×在院期間区分F02F09_65歳未満以上[#Headers],0)),0)+IFERROR(INDEX(年齢階層×在院期間区分F02F09_65歳未満以上[#All],MATCH($AK15,年齢階層×在院期間区分F02F09_65歳未満以上[[#All],[列1]],0),MATCH($AY$4,年齢階層×在院期間区分F02F09_65歳未満以上[#Headers],0)),0)","v":30},0.18181818181818182,{"$f":"IFERROR(INDEX(年齢階層×在院期間区分F02F09_65歳未満以上[#All],MATCH($AK15,年齢階層×在院期間区分F02F09_65歳未満以上[[#All],[列1]],0),MATCH($AZ$4,年齢階層×在院期間区分F02F09_65歳未満以上[#Headers],0)),0)+IFERROR(INDEX(年齢階層×在院期間区分F02F09_65歳未満以上[#All],MATCH($AK15,年齢階層×在院期間区分F02F09_65歳未満以上[[#All],[列1]],0),MATCH($BA$4,年齢階層×在院期間区分F02F09_65歳未満以上[#Headers],0)),0)","v":21},0.2413793103448276,{"$f":"C15+E15+G15+I15","v":231},0.13453698311007573,null,null,"65歳未満",20,28,22,26,18,13,20,20,13,8,12,1,7,2,18,3,null,null,null,null,null,"65歳未満"]
[null,"65歳以上（再掲）",{"$f":"IFERROR(INDEX(年齢階層×在院期間区分F02F09_65歳未満以上[#All],MATCH($AK16,年齢階層×在院期間区分F02F09_65歳未満以上[[#All],[列1]],0),MATCH($AL$4,年齢階層×在院期間区分F02F09_65歳未満以上[#Headers],0)),0)+IFERROR(INDEX(年齢階層×在院期間区分F02F09_65歳未満以上[#All],MATCH($AK16,年齢階層×在院期間区分F02F09_65歳未満以上[[#All],[列1]],0),MATCH($AM$4,年齢階層×在院期間区分F02F09_65歳未満以上[#Headers],0)),0)+IFERROR(INDEX(年齢階層×在院期間区分F02F09_65歳未満以上[#All],MATCH($AK16,年齢階層×在院期間区分F02F09_65歳未満以上[[#All],[列1]],0),MATCH($AN$4,年齢階層×在院期間区分F02F09_65歳未満以上[#Headers],0)),0)+IFERROR(INDEX(年齢階層×在院期間区分F02F09_65歳未満以上[#All],MATCH($AK16,年齢階層×在院期間区分F02F09_65歳未満以上[[#All],[列1]],0),MATCH($AO$4,年齢階層×在院期間区分F02F09_65歳未満以上[#Headers],0)),0)","v":768},0.88888888888888884,{"$f":"IFERROR(INDEX(年齢階層×在院期間区分F02F09_65歳未満以上[#All],MATCH($AK16,年齢階層×在院期間区分F02F09_65歳未満以上[[#All],[列1]],0),MATCH($AP$4,年齢階層×在院期間区分F02F09_65歳未満以上[#Headers],0)),0)+IFERROR(INDEX(年齢階層×在院期間区分F02F09_65歳未満以上[#All],MATCH($AK16,年齢階層×在院期間区分F02F09_65歳未満以上[[#All],[列1]],0),MATCH($AQ$4,年齢階層×在院期間区分F02F09_65歳未満以上[#Headers],0)),0)+IFERROR(INDEX(年齢階層×在院期間区分F02F09_65歳未満以上[#All],MATCH($AK16,年齢階層×在院期間区分F02F09_65歳未満以上[[#All],[列1]],0),MATCH($AR$4,年齢階層×在院期間区分F02F09_65歳未満以上[#Headers],0)),0)+IFERROR(INDEX(年齢階層×在院期間区分F02F09_65歳未満以上[#All],MATCH($AK16,年齢階層×在院期間区分F02F09_65歳未満以上[[#All],[列1]],0),MATCH($AS$4,年齢階層×在院期間区分F02F09_65歳未満以上[#Headers],0)),0)+IFERROR(INDEX(年齢階層×在院期間区分F02F09_65歳未満以上[#All],MATCH($AK16,年齢階層×在院期間区分F02F09_65歳未満以上[[#All],[列1]],0),MATCH($AT$4,年齢階層×在院期間区分F02F09_65歳未満以上[#Headers],0)),0)","v":517},0.86023294509151416,{"$f":"IFERROR(INDEX(年齢階層×在院期間区分F02F09_65歳未満以上[#All],MATCH($AK16,年齢階層×在院期間区分F02F09_65歳未満以上[[#All],[列1]],0),MATCH($AU$4,年齢階層×在院期間区分F02F09_65歳未満以上[#Headers],0)),0)+IFERROR(INDEX(年齢階層×在院期間区分F02F09_65歳未満以上[#All],MATCH($AK16,年齢階層×在院期間区分F02F09_65歳未満以上[[#All],[列1]],0),MATCH($AV$4,年齢階層×在院期間区分F02F09_65歳未満以上[#Headers],0)),0)+IFERROR(INDEX(年齢階層×在院期間区分F02F09_65歳未満以上[#All],MATCH($AK16,年齢階層×在院期間区分F02F09_65歳未満以上[[#All],[列1]],0),MATCH($AW$4,年齢階層×在院期間区分F02F09_65歳未満以上[#Headers],0)),0)+IFERROR(INDEX(年齢階層×在院期間区分F02F09_65歳未満以上[#All],MATCH($AK16,年齢階層×在院期間区分F02F09_65歳未満以上[[#All],[列1]],0),MATCH($AX$4,年齢階層×在院期間区分F02F09_65歳未満以上[#Headers],0)),0)+IFERROR(INDEX(年齢階層×在院期間区分F02F09_65歳未満以上[#All],MATCH($AK16,年齢階層×在院期間区分F02F09_65歳未満以上[[#All],[列1]],0),MATCH($AY$4,年齢階層×在院期間区分F02F09_65歳未満以上[#Headers],0)),0)","v":135},0.81818181818181823,{"$f":"IFERROR(INDEX(年齢階層×在院期間区分F02F09_65歳未満以上[#All],MATCH($AK16,年齢階層×在院期間区分F02F09_65歳未満以上[[#All],[列1]],0),MATCH($AZ$4,年齢階層×在院期間区分F02F09_65歳未満以上[#Headers],0)),0)+IFERROR(INDEX(年齢階層×在院期間区分F02F09_65歳未満以上[#All],MATCH($AK16,年齢階層×在院期間区分F02F09_65歳未満以上[[#All],[列1]],0),MATCH($BA$4,年齢階層×在院期間区分F02F09_65歳未満以上[#Headers],0)),0)","v":66},0.75862068965517238,{"$f":"C16+E16+G16+I16","v":1486},0.86546301688992433,null,null,"65歳以上",182,255,155,176,122,94,142,101,58,50,35,21,17,12,48,18,null,null,null,null,null,"65歳以上"]
[]
[null,"【年齢階層×在院期間区分】"]
[null,"〔アルツハイマー病型認知症・血管性認知症以外の症状性を含む器質性精神障害（F02-F09）〕&〔寛解・院内寛解群〕"]
[null,"年齢階層","在院期間区分",null,null,null,null,null,null,null,null,null,null,null,"データ貼り付け箇所"]
[null,null,"1年未満",null,"1年以上\n5年未満",null,"5年以上\n10年未満",null,"10年以上",null,"合計",null,null,null,"行ラベル","01_1ヶ月未満","02_1ヶ月～3ヶ月未満","03_3ヶ月～6ヶ月未満","04_6ヶ月～1年未満","05_1年～1年6ヶ月未満","06_1年6ヶ月～2年未満","07_2年～3年未満","08_3年～4年未満","09_4年～5年未満","10_5年～6年未満","11_6年～7年未満","12_7年～8年未満","13_8年～9年未満","14_9年～10年未満","15_10年～20年未満","16_ 20年以上"]
[null,"19歳以下",{"$f":"IFERROR(INDEX(年齢階層×在院期間区分F02F09＿寛解・院内寛解[#All],MATCH($AK22,年齢階層×在院期間区分F02F09＿寛解・院内寛解[[#All],[行ラベル]],0),MATCH($AL$4,年齢階層×在院期間区分F02F09＿寛解・院内寛解[#Headers],0)),0)+IFERROR(INDEX(年齢階層×在院期間区分F02F09＿寛解・院内寛解[#All],MATCH($AK22,年齢階層×在院期間区分F02F09＿寛解・院内寛解[[#All],[行ラベル]],0),MATCH($AM$4,年齢階層×在院期間区分F02F09＿寛解・院内寛解[#Headers],0)),0)+IFERROR(INDEX(年齢階層×在院期間区分F02F09＿寛解・院内寛解[#All],MATCH($AK22,年齢階層×在院期間区分F02F09＿寛解・院内寛解[[#All],[行ラベル]],0),MATCH($AN$4,年齢階層×在院期間区分F02F09＿寛解・院内寛解[#Headers],0)),0)+IFERROR(INDEX(年齢階層×在院期間区分F02F09＿寛解・院内寛解[#All],MATCH($AK22,年齢階層×在院期間区分F02F09＿寛解・院内寛解[[#All],[行ラベル]],0),MATCH($AO$4,年齢階層×在院期間区分F02F09＿寛解・院内寛解[#Headers],0)),0)","v":0},{"$f":"IFERROR(C22/$C$31,\"-\")","v":0},{"$f":"IFERROR(INDEX(年齢階層×在院期間区分F02F09＿寛解・院内寛解[#All],MATCH($AK22,年齢階層×在院期間区分F02F09＿寛解・院内寛解[[#All],[行ラベル]],0),MATCH($AP$4,年齢階層×在院期間区分F02F09＿寛解・院内寛解[#Headers],0)),0)+IFERROR(INDEX(年齢階層×在院期間区分F02F09＿寛解・院内寛解[#All],MATCH($AK22,年齢階層×在院期間区分F02F09＿寛解・院内寛解[[#All],[行ラベル]],0),MATCH($AQ$4,年齢階層×在院期間区分F02F09＿寛解・院内寛解[#Headers],0)),0)+IFERROR(INDEX(年齢階層×在院期間区分F02F09＿寛解・院内寛解[#All],MATCH($AK22,年齢階層×在院期間区分F02F09＿寛解・院内寛解[[#All],[行ラベル]],0),MATCH($AR$4,年齢階層×在院期間区分F02F09＿寛解・院内寛解[#Headers],0)),0)+IFERROR(INDEX(年齢階層×在院期間区分F02F09＿寛解・院内寛解[#All],MATCH($AK22,年齢階層×在院期間区分F02F09＿寛解・院内寛解[[#All],[行ラベル]],0),MATCH($AS$4,年齢階層×在院期間区分F02F09＿寛解・院内寛解[#Headers],0)),0)+IFERROR(INDEX(年齢階層×在院期間区分F02F09＿寛解・院内寛解[#All],MATCH($AK22,年齢階層×在院期間区分F02F09＿寛解・院内寛解[[#All],[行ラベル]],0),MATCH($AT$4,年齢階層×在院期間区分F02F09＿寛解・院内寛解[#Headers],0)),0)","v":0},{"$f":"IFERROR(E22/$E$31,\"-\")","v":0},{"$f":"IFERROR(INDEX(年齢階層×在院期間区分F02F09＿寛解・院内寛解[#All],MATCH($AK22,年齢階層×在院期間区分F02F09＿寛解・院内寛解[[#All],[行ラベル]],0),MATCH($AU$4,年齢階層×在院期間区分F02F09＿寛解・院内寛解[#Headers],0)),0)+IFERROR(INDEX(年齢階層×在院期間区分F02F09＿寛解・院内寛解[#All],MATCH($AK22,年齢階層×在院期間区分F02F09＿寛解・院内寛解[[#All],[行ラベル]],0),MATCH($AV$4,年齢階層×在院期間区分F02F09＿寛解・院内寛解[#Headers],0)),0)+IFERROR(INDEX(年齢階層×在院期間区分F02F09＿寛解・院内寛解[#All],MATCH($AK22,年齢階層×在院期間区分F02F09＿寛解・院内寛解[[#All],[行ラベル]],0),MATCH($AW$4,年齢階層×在院期間区分F02F09＿寛解・院内寛解[#Headers],0)),0)+IFERROR(INDEX(年齢階層×在院期間区分F02F09＿寛解・院内寛解[#All],MATCH($AK22,年齢階層×在院期間区分F02F09＿寛解・院内寛解[[#All],[行ラベル]],0),MATCH($AX$4,年齢階層×在院期間区分F02F09＿寛解・院内寛解[#Headers],0)),0)+IFERROR(INDEX(年齢階層×在院期間区分F02F09＿寛解・院内寛解[#All],MATCH($AK22,年齢階層×在院期間区分F02F09＿寛解・院内寛解[[#All],[行ラベル]],0),MATCH($AY$4,年齢階層×在院期間区分F02F09＿寛解・院内寛解[#Headers],0)),0)","v":0},{"$f":"IFERROR(G22/$G$31,\"-\")","v":0},{"$f":"IFERROR(INDEX(年齢階層×在院期間区分F02F09＿寛解・院内寛解[#All],MATCH($AK22,年齢階層×在院期間区分F02F09＿寛解・院内寛解[[#All],[行ラベル]],0),MATCH($AZ$4,年齢階層×在院期間区分F02F09＿寛解・院内寛解[#Headers],0)),0)+IFERROR(INDEX(年齢階層×在院期間区分F02F09＿寛解・院内寛解[#All],MATCH($AK22,年齢階層×在院期間区分F02F09＿寛解・院内寛解[[#All],[行ラベル]],0),MATCH($BA$4,年齢階層×在院期間区分F02F09＿寛解・院内寛解[#Headers],0)),0)","v":0},{"$f":"IFERROR(I22/$I$31,\"-\")","v":0},{"$f":"SUM(C22,E22,G22,I22)","v":0},{"$f":"IFERROR(K22/$K$31,\"-\")","v":0},null,null,"19歳以下",0,0,0,0,0,0,0,0,0,0,0,0,0,0,0,0,null,null,null,null,null,"19歳以下"]
[null,"20歳代",{"$f":"IFERROR(INDEX(年齢階層×在院期間区分F02F09＿寛解・院内寛解[#All],MATCH($AK23,年齢階層×在院期間区分F02F09＿寛解・院内寛解[[#All],[行ラベル]],0),MATCH($AL$4,年齢階層×在院期間区分F02F09＿寛解・院内寛解[#Headers],0)),0)+IFERROR(INDEX(年齢階層×在院期間区分F02F09＿寛解・院内寛解[#All],MATCH($AK23,年齢階層×在院期間区分F02F09＿寛解・院内寛解[[#All],[行ラベル]],0),MATCH($AM$4,年齢階層×在院期間区分F02F09＿寛解・院内寛解[#Headers],0)),0)+IFERROR(INDEX(年齢階層×在院期間区分F02F09＿寛解・院内寛解[#All],MATCH($AK23,年齢階層×在院期間区分F02F09＿寛解・院内寛解[[#All],[行ラベル]],0),MATCH($AN$4,年齢階層×在院期間区分F02F09＿寛解・院内寛解[#Headers],0)),0)+IFERROR(INDEX(年齢階層×在院期間区分F02F09＿寛解・院内寛解[#All],MATCH($AK23,年齢階層×在院期間区分F02F09＿寛解・院内寛解[[#All],[行ラベル]],0),MATCH($AO$4,年齢階層×在院期間区分F02F09＿寛解・院内寛解[#Headers],0)),0)","v":1},8.6956521739130436E-3,{"$f":"IFERROR(INDEX(年齢階層×在院期間区分F02F09＿寛解・院内寛解[#All],MATCH($AK23,年齢階層×在院期間区分F02F09＿寛解・院内寛解[[#All],[行ラベル]],0),MATCH($AP$4,年齢階層×在院期間区分F02F09＿寛解・院内寛解[#Headers],0)),0)+IFERROR(INDEX(年齢階層×在院期間区分F02F09＿寛解・院内寛解[#All],MATCH($AK23,年齢階層×在院期間区分F02F09＿寛解・院内寛解[[#All],[行ラベル]],0),MATCH($AQ$4,年齢階層×在院期間区分F02F09＿寛解・院内寛解[#Headers],0)),0)+IFERROR(INDEX(年齢階層×在院期間区分F02F09＿寛解・院内寛解[#All],MATCH($AK23,年齢階層×在院期間区分F02F09＿寛解・院内寛解[[#All],[行ラベル]],0),MATCH($AR$4,年齢階層×在院期間区分F02F09＿寛解・院内寛解[#Headers],0)),0)+IFERROR(INDEX(年齢階層×在院期間区分F02F09＿寛解・院内寛解[#All],MATCH($AK23,年齢階層×在院期間区分F02F09＿寛解・院内寛解[[#All],[行ラベル]],0),MATCH($AS$4,年齢階層×在院期間区分F02F09＿寛解・院内寛解[#Headers],0)),0)+IFERROR(INDEX(年齢階層×在院期間区分F02F09＿寛解・院内寛解[#All],MATCH($AK23,年齢階層×在院期間区分F02F09＿寛解・院内寛解[[#All],[行ラベル]],0),MATCH($AT$4,年齢階層×在院期間区分F02F09＿寛解・院内寛解[#Headers],0)),0)","v":0},0,{"$f":"IFERROR(INDEX(年齢階層×在院期間区分F02F09＿寛解・院内寛解[#All],MATCH($AK23,年齢階層×在院期間区分F02F09＿寛解・院内寛解[[#All],[行ラベル]],0),MATCH($AU$4,年齢階層×在院期間区分F02F09＿寛解・院内寛解[#Headers],0)),0)+IFERROR(INDEX(年齢階層×在院期間区分F02F09＿寛解・院内寛解[#All],MATCH($AK23,年齢階層×在院期間区分F02F09＿寛解・院内寛解[[#All],[行ラベル]],0),MATCH($AV$4,年齢階層×在院期間区分F02F09＿寛解・院内寛解[#Headers],0)),0)+IFERROR(INDEX(年齢階層×在院期間区分F02F09＿寛解・院内寛解[#All],MATCH($AK23,年齢階層×在院期間区分F02F09＿寛解・院内寛解[[#All],[行ラベル]],0),MATCH($AW$4,年齢階層×在院期間区分F02F09＿寛解・院内寛解[#Headers],0)),0)+IFERROR(INDEX(年齢階層×在院期間区分F02F09＿寛解・院内寛解[#All],MATCH($AK23,年齢階層×在院期間区分F02F09＿寛解・院内寛解[[#All],[行ラベル]],0),MATCH($AX$4,年齢階層×在院期間区分F02F09＿寛解・院内寛解[#Headers],0)),0)+IFERROR(INDEX(年齢階層×在院期間区分F02F09＿寛解・院内寛解[#All],MATCH($AK23,年齢階層×在院期間区分F02F09＿寛解・院内寛解[[#All],[行ラベル]],0),MATCH($AY$4,年齢階層×在院期間区分F02F09＿寛解・院内寛解[#Headers],0)),0)","v":0},0,{"$f":"IFERROR(INDEX(年齢階層×在院期間区分F02F09＿寛解・院内寛解[#All],MATCH($AK23,年齢階層×在院期間区分F02F09＿寛解・院内寛解[[#All],[行ラベル]],0),MATCH($AZ$4,年齢階層×在院期間区分F02F09＿寛解・院内寛解[#Headers],0)),0)+IFERROR(INDEX(年齢階層×在院期間区分F02F09＿寛解・院内寛解[#All],MATCH($AK23,年齢階層×在院期間区分F02F09＿寛解・院内寛解[[#All],[行ラベル]],0),MATCH($BA$4,年齢階層×在院期間区分F02F09＿寛解・院内寛解[#Headers],0)),0)","v":0},0,1,5.235602094240838E-3,null,null,"20歳代",0,0,0,1,0,0,0,0,0,0,0,0,0,0,0,0,null,null,null,null,null,"20歳代"]
[null,"30歳代",{"$f":"IFERROR(INDEX(年齢階層×在院期間区分F02F09＿寛解・院内寛解[#All],MATCH($AK24,年齢階層×在院期間区分F02F09＿寛解・院内寛解[[#All],[行ラベル]],0),MATCH($AL$4,年齢階層×在院期間区分F02F09＿寛解・院内寛解[#Headers],0)),0)+IFERROR(INDEX(年齢階層×在院期間区分F02F09＿寛解・院内寛解[#All],MATCH($AK24,年齢階層×在院期間区分F02F09＿寛解・院内寛解[[#All],[行ラベル]],0),MATCH($AM$4,年齢階層×在院期間区分F02F09＿寛解・院内寛解[#Headers],0)),0)+IFERROR(INDEX(年齢階層×在院期間区分F02F09＿寛解・院内寛解[#All],MATCH($AK24,年齢階層×在院期間区分F02F09＿寛解・院内寛解[[#All],[行ラベル]],0),MATCH($AN$4,年齢階層×在院期間区分F02F09＿寛解・院内寛解[#Headers],0)),0)+IFERROR(INDEX(年齢階層×在院期間区分F02F09＿寛解・院内寛解[#All],MATCH($AK24,年齢階層×在院期間区分F02F09＿寛解・院内寛解[[#All],[行ラベル]],0),MATCH($AO$4,年齢階層×在院期間区分F02F09＿寛解・院内寛解[#Headers],0)),0)","v":1},8.6956521739130436E-3,{"$f":"IFERROR(INDEX(年齢階層×在院期間区分F02F09＿寛解・院内寛解[#All],MATCH($AK24,年齢階層×在院期間区分F02F09＿寛解・院内寛解[[#All],[行ラベル]],0),MATCH($AP$4,年齢階層×在院期間区分F02F09＿寛解・院内寛解[#Headers],0)),0)+IFERROR(INDEX(年齢階層×在院期間区分F02F09＿寛解・院内寛解[#All],MATCH($AK24,年齢階層×在院期間区分F02F09＿寛解・院内寛解[[#All],[行ラベル]],0),MATCH($AQ$4,年齢階層×在院期間区分F02F09＿寛解・院内寛解[#Headers],0)),0)+IFERROR(INDEX(年齢階層×在院期間区分F02F09＿寛解・院内寛解[#All],MATCH($AK24,年齢階層×在院期間区分F02F09＿寛解・院内寛解[[#All],[行ラベル]],0),MATCH($AR$4,年齢階層×在院期間区分F02F09＿寛解・院内寛解[#Headers],0)),0)+IFERROR(INDEX(年齢階層×在院期間区分F02F09＿寛解・院内寛解[#All],MATCH($AK24,年齢階層×在院期間区分F02F09＿寛解・院内寛解[[#All],[行ラベル]],0),MATCH($AS$4,年齢階層×在院期間区分F02F09＿寛解・院内寛解[#Headers],0)),0)+IFERROR(INDEX(年齢階層×在院期間区分F02F09＿寛解・院内寛解[#All],MATCH($AK24,年齢階層×在院期間区分F02F09＿寛解・院内寛解[[#All],[行ラベル]],0),MATCH($AT$4,年齢階層×在院期間区分F02F09＿寛解・院内寛解[#Headers],0)),0)","v":0},0,{"$f":"IFERROR(INDEX(年齢階層×在院期間区分F02F09＿寛解・院内寛解[#All],MATCH($AK24,年齢階層×在院期間区分F02F09＿寛解・院内寛解[[#All],[行ラベル]],0),MATCH($AU$4,年齢階層×在院期間区分F02F09＿寛解・院内寛解[#Headers],0)),0)+IFERROR(INDEX(年齢階層×在院期間区分F02F09＿寛解・院内寛解[#All],MATCH($AK24,年齢階層×在院期間区分F02F09＿寛解・院内寛解[[#All],[行ラベル]],0),MATCH($AV$4,年齢階層×在院期間区分F02F09＿寛解・院内寛解[#Headers],0)),0)+IFERROR(INDEX(年齢階層×在院期間区分F02F09＿寛解・院内寛解[#All],MATCH($AK24,年齢階層×在院期間区分F02F09＿寛解・院内寛解[[#All],[行ラベル]],0),MATCH($AW$4,年齢階層×在院期間区分F02F09＿寛解・院内寛解[#Headers],0)),0)+IFERROR(INDEX(年齢階層×在院期間区分F02F09＿寛解・院内寛解[#All],MATCH($AK24,年齢階層×在院期間区分F02F09＿寛解・院内寛解[[#All],[行ラベル]],0),MATCH($AX$4,年齢階層×在院期間区分F02F09＿寛解・院内寛解[#Headers],0)),0)+IFERROR(INDEX(年齢階層×在院期間区分F02F09＿寛解・院内寛解[#All],MATCH($AK24,年齢階層×在院期間区分F02F09＿寛解・院内寛解[[#All],[行ラベル]],0),MATCH($AY$4,年齢階層×在院期間区分F02F09＿寛解・院内寛解[#Headers],0)),0)","v":0},0,{"$f":"IFERROR(INDEX(年齢階層×在院期間区分F02F09＿寛解・院内寛解[#All],MATCH($AK24,年齢階層×在院期間区分F02F09＿寛解・院内寛解[[#All],[行ラベル]],0),MATCH($AZ$4,年齢階層×在院期間区分F02F09＿寛解・院内寛解[#Headers],0)),0)+IFERROR(INDEX(年齢階層×在院期間区分F02F09＿寛解・院内寛解[#All],MATCH($AK24,年齢階層×在院期間区分F02F09＿寛解・院内寛解[[#All],[行ラベル]],0),MATCH($BA$4,年齢階層×在院期間区分F02F09＿寛解・院内寛解[#Headers],0)),0)","v":0},0,1,5.235602094240838E-3,null,null,"30歳代",1,0,0,0,0,0,0,0,0,0,0,0,0,0,0,0,null,null,null,null,null,"30歳代"]
[null,"40歳代",{"$f":"IFERROR(INDEX(年齢階層×在院期間区分F02F09＿寛解・院内寛解[#All],MATCH($AK25,年齢階層×在院期間区分F02F09＿寛解・院内寛解[[#All],[行ラベル]],0),MATCH($AL$4,年齢階層×在院期間区分F02F09＿寛解・院内寛解[#Headers],0)),0)+IFERROR(INDEX(年齢階層×在院期間区分F02F09＿寛解・院内寛解[#All],MATCH($AK25,年齢階層×在院期間区分F02F09＿寛解・院内寛解[[#All],[行ラベル]],0),MATCH($AM$4,年齢階層×在院期間区分F02F09＿寛解・院内寛解[#Headers],0)),0)+IFERROR(INDEX(年齢階層×在院期間区分F02F09＿寛解・院内寛解[#All],MATCH($AK25,年齢階層×在院期間区分F02F09＿寛解・院内寛解[[#All],[行ラベル]],0),MATCH($AN$4,年齢階層×在院期間区分F02F09＿寛解・院内寛解[#Headers],0)),0)+IFERROR(INDEX(年齢階層×在院期間区分F02F09＿寛解・院内寛解[#All],MATCH($AK25,年齢階層×在院期間区分F02F09＿寛解・院内寛解[[#All],[行ラベル]],0),MATCH($AO$4,年齢階層×在院期間区分F02F09＿寛解・院内寛解[#Headers],0)),0)","v":2},1.7391304347826087E-2,{"$f":"IFERROR(INDEX(年齢階層×在院期間区分F02F09＿寛解・院内寛解[#All],MATCH($AK25,年齢階層×在院期間区分F02F09＿寛解・院内寛解[[#All],[行ラベル]],0),MATCH($AP$4,年齢階層×在院期間区分F02F09＿寛解・院内寛解[#Headers],0)),0)+IFERROR(INDEX(年齢階層×在院期間区分F02F09＿寛解・院内寛解[#All],MATCH($AK25,年齢階層×在院期間区分F02F09＿寛解・院内寛解[[#All],[行ラベル]],0),MATCH($AQ$4,年齢階層×在院期間区分F02F09＿寛解・院内寛解[#Headers],0)),0)+IFERROR(INDEX(年齢階層×在院期間区分F02F09＿寛解・院内寛解[#All],MATCH($AK25,年齢階層×在院期間区分F02F09＿寛解・院内寛解[[#All],[行ラベル]],0),MATCH($AR$4,年齢階層×在院期間区分F02F09＿寛解・院内寛解[#Headers],0)),0)+IFERROR(INDEX(年齢階層×在院期間区分F02F09＿寛解・院内寛解[#All],MATCH($AK25,年齢階層×在院期間区分F02F09＿寛解・院内寛解[[#All],[行ラベル]],0),MATCH($AS$4,年齢階層×在院期間区分F02F09＿寛解・院内寛解[#Headers],0)),0)+IFERROR(INDEX(年齢階層×在院期間区分F02F09＿寛解・院内寛解[#All],MATCH($AK25,年齢階層×在院期間区分F02F09＿寛解・院内寛解[[#All],[行ラベル]],0),MATCH($AT$4,年齢階層×在院期間区分F02F09＿寛解・院内寛解[#Headers],0)),0)","v":1},1.4705882352941176E-2,{"$f":"IFERROR(INDEX(年齢階層×在院期間区分F02F09＿寛解・院内寛解[#All],MATCH($AK25,年齢階層×在院期間区分F02F09＿寛解・院内寛解[[#All],[行ラベル]],0),MATCH($AU$4,年齢階層×在院期間区分F02F09＿寛解・院内寛解[#Headers],0)),0)+IFERROR(INDEX(年齢階層×在院期間区分F02F09＿寛解・院内寛解[#All],MATCH($AK25,年齢階層×在院期間区分F02F09＿寛解・院内寛解[[#All],[行ラベル]],0),MATCH($AV$4,年齢階層×在院期間区分F02F09＿寛解・院内寛解[#Headers],0)),0)+IFERROR(INDEX(年齢階層×在院期間区分F02F09＿寛解・院内寛解[#All],MATCH($AK25,年齢階層×在院期間区分F02F09＿寛解・院内寛解[[#All],[行ラベル]],0),MATCH($AW$4,年齢階層×在院期間区分F02F09＿寛解・院内寛解[#Headers],0)),0)+IFERROR(INDEX(年齢階層×在院期間区分F02F09＿寛解・院内寛解[#All],MATCH($AK25,年齢階層×在院期間区分F02F09＿寛解・院内寛解[[#All],[行ラベル]],0),MATCH($AX$4,年齢階層×在院期間区分F02F09＿寛解・院内寛解[#Headers],0)),0)+IFERROR(INDEX(年齢階層×在院期間区分F02F09＿寛解・院内寛解[#All],MATCH($AK25,年齢階層×在院期間区分F02F09＿寛解・院内寛解[[#All],[行ラベル]],0),MATCH($AY$4,年齢階層×在院期間区分F02F09＿寛解・院内寛解[#Headers],0)),0)","v":0},0,{"$f":"IFERROR(INDEX(年齢階層×在院期間区分F02F09＿寛解・院内寛解[#All],MATCH($AK25,年齢階層×在院期間区分F02F09＿寛解・院内寛解[[#All],[行ラベル]],0),MATCH($AZ$4,年齢階層×在院期間区分F02F09＿寛解・院内寛解[#Headers],0)),0)+IFERROR(INDEX(年齢階層×在院期間区分F02F09＿寛解・院内寛解[#All],MATCH($AK25,年齢階層×在院期間区分F02F09＿寛解・院内寛解[[#All],[行ラベル]],0),MATCH($BA$4,年齢階層×在院期間区分F02F09＿寛解・院内寛解[#Headers],0)),0)","v":0},0,3,1.5706806282722512E-2,null,null,"40歳代",1,1,0,0,0,0,0,1,0,0,0,0,0,0,0,0,null,null,null,null,null,"40歳代"]
[null,"50歳代",{"$f":"IFERROR(INDEX(年齢階層×在院期間区分F02F09＿寛解・院内寛解[#All],MATCH($AK26,年齢階層×在院期間区分F02F09＿寛解・院内寛解[[#All],[行ラベル]],0),MATCH($AL$4,年齢階層×在院期間区分F02F09＿寛解・院内寛解[#Headers],0)),0)+IFERROR(INDEX(年齢階層×在院期間区分F02F09＿寛解・院内寛解[#All],MATCH($AK26,年齢階層×在院期間区分F02F09＿寛解・院内寛解[[#All],[行ラベル]],0),MATCH($AM$4,年齢階層×在院期間区分F02F09＿寛解・院内寛解[#Headers],0)),0)+IFERROR(INDEX(年齢階層×在院期間区分F02F09＿寛解・院内寛解[#All],MATCH($AK26,年齢階層×在院期間区分F02F09＿寛解・院内寛解[[#All],[行ラベル]],0),MATCH($AN$4,年齢階層×在院期間区分F02F09＿寛解・院内寛解[#Headers],0)),0)+IFERROR(INDEX(年齢階層×在院期間区分F02F09＿寛解・院内寛解[#All],MATCH($AK26,年齢階層×在院期間区分F02F09＿寛解・院内寛解[[#All],[行ラベル]],0),MATCH($AO$4,年齢階層×在院期間区分F02F09＿寛解・院内寛解[#Headers],0)),0)","v":9},7.8260869565217397E-2,{"$f":"IFERROR(INDEX(年齢階層×在院期間区分F02F09＿寛解・院内寛解[#All],MATCH($AK26,年齢階層×在院期間区分F02F09＿寛解・院内寛解[[#All],[行ラベル]],0),MATCH($AP$4,年齢階層×在院期間区分F02F09＿寛解・院内寛解[#Headers],0)),0)+IFERROR(INDEX(年齢階層×在院期間区分F02F09＿寛解・院内寛解[#All],MATCH($AK26,年齢階層×在院期間区分F02F09＿寛解・院内寛解[[#All],[行ラベル]],0),MATCH($AQ$4,年齢階層×在院期間区分F02F09＿寛解・院内寛解[#Headers],0)),0)+IFERROR(INDEX(年齢階層×在院期間区分F02F09＿寛解・院内寛解[#All],MATCH($AK26,年齢階層×在院期間区分F02F09＿寛解・院内寛解[[#All],[行ラベル]],0),MATCH($AR$4,年齢階層×在院期間区分F02F09＿寛解・院内寛解[#Headers],0)),0)+IFERROR(INDEX(年齢階層×在院期間区分F02F09＿寛解・院内寛解[#All],MATCH($AK26,年齢階層×在院期間区分F02F09＿寛解・院内寛解[[#All],[行ラベル]],0),MATCH($AS$4,年齢階層×在院期間区分F02F09＿寛解・院内寛解[#Headers],0)),0)+IFERROR(INDEX(年齢階層×在院期間区分F02F09＿寛解・院内寛解[#All],MATCH($AK26,年齢階層×在院期間区分F02F09＿寛解・院内寛解[[#All],[行ラベル]],0),MATCH($AT$4,年齢階層×在院期間区分F02F09＿寛解・院内寛解[#Headers],0)),0)","v":3},4.4117647058823532E-2,{"$f":"IFERROR(INDEX(年齢階層×在院期間区分F02F09＿寛解・院内寛解[#All],MATCH($AK26,年齢階層×在院期間区分F02F09＿寛解・院内寛解[[#All],[行ラベル]],0),MATCH($AU$4,年齢階層×在院期間区分F02F09＿寛解・院内寛解[#Headers],0)),0)+IFERROR(INDEX(年齢階層×在院期間区分F02F09＿寛解・院内寛解[#All],MATCH($AK26,年齢階層×在院期間区分F02F09＿寛解・院内寛解[[#All],[行ラベル]],0),MATCH($AV$4,年齢階層×在院期間区分F02F09＿寛解・院内寛解[#Headers],0)),0)+IFERROR(INDEX(年齢階層×在院期間区分F02F09＿寛解・院内寛解[#All],MATCH($AK26,年齢階層×在院期間区分F02F09＿寛解・院内寛解[[#All],[行ラベル]],0),MATCH($AW$4,年齢階層×在院期間区分F02F09＿寛解・院内寛解[#Headers],0)),0)+IFERROR(INDEX(年齢階層×在院期間区分F02F09＿寛解・院内寛解[#All],MATCH($AK26,年齢階層×在院期間区分F02F09＿寛解・院内寛解[[#All],[行ラベル]],0),MATCH($AX$4,年齢階層×在院期間区分F02F09＿寛解・院内寛解[#Headers],0)),0)+IFERROR(INDEX(年齢階層×在院期間区分F02F09＿寛解・院内寛解[#All],MATCH($AK26,年齢階層×在院期間区分F02F09＿寛解・院内寛解[[#All],[行ラベル]],0),MATCH($AY$4,年齢階層×在院期間区分F02F09＿寛解・院内寛解[#Headers],0)),0)","v":0},0,{"$f":"IFERROR(INDEX(年齢階層×在院期間区分F02F09＿寛解・院内寛解[#All],MATCH($AK26,年齢階層×在院期間区分F02F09＿寛解・院内寛解[[#All],[行ラベル]],0),MATCH($AZ$4,年齢階層×在院期間区分F02F09＿寛解・院内寛解[#Headers],0)),0)+IFERROR(INDEX(年齢階層×在院期間区分F02F09＿寛解・院内寛解[#All],MATCH($AK26,年齢階層×在院期間区分F02F09＿寛解・院内寛解[[#All],[行ラベル]],0),MATCH($BA$4,年齢階層×在院期間区分F02F09＿寛解・院内寛解[#Headers],0)),0)","v":0},0,12,6.2827225130890049E-2,null,null,"50歳代",2,3,3,1,3,0,0,0,0,0,0,0,0,0,0,0,null,null,null,null,null,"50歳代"]
[null,"60歳代",{"$f":"IFERROR(INDEX(年齢階層×在院期間区分F02F09＿寛解・院内寛解[#All],MATCH($AK27,年齢階層×在院期間区分F02F09＿寛解・院内寛解[[#All],[行ラベル]],0),MATCH($AL$4,年齢階層×在院期間区分F02F09＿寛解・院内寛解[#Headers],0)),0)+IFERROR(INDEX(年齢階層×在院期間区分F02F09＿寛解・院内寛解[#All],MATCH($AK27,年齢階層×在院期間区分F02F09＿寛解・院内寛解[[#All],[行ラベル]],0),MATCH($AM$4,年齢階層×在院期間区分F02F09＿寛解・院内寛解[#Headers],0)),0)+IFERROR(INDEX(年齢階層×在院期間区分F02F09＿寛解・院内寛解[#All],MATCH($AK27,年齢階層×在院期間区分F02F09＿寛解・院内寛解[[#All],[行ラベル]],0),MATCH($AN$4,年齢階層×在院期間区分F02F09＿寛解・院内寛解[#Headers],0)),0)+IFERROR(INDEX(年齢階層×在院期間区分F02F09＿寛解・院内寛解[#All],MATCH($AK27,年齢階層×在院期間区分F02F09＿寛解・院内寛解[[#All],[行ラベル]],0),MATCH($AO$4,年齢階層×在院期間区分F02F09＿寛解・院内寛解[#Headers],0)),0)","v":6},5.2173913043478258E-2,{"$f":"IFERROR(INDEX(年齢階層×在院期間区分F02F09＿寛解・院内寛解[#All],MATCH($AK27,年齢階層×在院期間区分F02F09＿寛解・院内寛解[[#All],[行ラベル]],0),MATCH($AP$4,年齢階層×在院期間区分F02F09＿寛解・院内寛解[#Headers],0)),0)+IFERROR(INDEX(年齢階層×在院期間区分F02F09＿寛解・院内寛解[#All],MATCH($AK27,年齢階層×在院期間区分F02F09＿寛解・院内寛解[[#All],[行ラベル]],0),MATCH($AQ$4,年齢階層×在院期間区分F02F09＿寛解・院内寛解[#Headers],0)),0)+IFERROR(INDEX(年齢階層×在院期間区分F02F09＿寛解・院内寛解[#All],MATCH($AK27,年齢階層×在院期間区分F02F09＿寛解・院内寛解[[#All],[行ラベル]],0),MATCH($AR$4,年齢階層×在院期間区分F02F09＿寛解・院内寛解[#Headers],0)),0)+IFERROR(INDEX(年齢階層×在院期間区分F02F09＿寛解・院内寛解[#All],MATCH($AK27,年齢階層×在院期間区分F02F09＿寛解・院内寛解[[#All],[行ラベル]],0),MATCH($AS$4,年齢階層×在院期間区分F02F09＿寛解・院内寛解[#Headers],0)),0)+IFERROR(INDEX(年齢階層×在院期間区分F02F09＿寛解・院内寛解[#All],MATCH($AK27,年齢階層×在院期間区分F02F09＿寛解・院内寛解[[#All],[行ラベル]],0),MATCH($AT$4,年齢階層×在院期間区分F02F09＿寛解・院内寛解[#Headers],0)),0)","v":5},7.3529411764705885E-2,{"$f":"IFERROR(INDEX(年齢階層×在院期間区分F02F09＿寛解・院内寛解[#All],MATCH($AK27,年齢階層×在院期間区分F02F09＿寛解・院内寛解[[#All],[行ラベル]],0),MATCH($AU$4,年齢階層×在院期間区分F02F09＿寛解・院内寛解[#Headers],0)),0)+IFERROR(INDEX(年齢階層×在院期間区分F02F09＿寛解・院内寛解[#All],MATCH($AK27,年齢階層×在院期間区分F02F09＿寛解・院内寛解[[#All],[行ラベル]],0),MATCH($AV$4,年齢階層×在院期間区分F02F09＿寛解・院内寛解[#Headers],0)),0)+IFERROR(INDEX(年齢階層×在院期間区分F02F09＿寛解・院内寛解[#All],MATCH($AK27,年齢階層×在院期間区分F02F09＿寛解・院内寛解[[#All],[行ラベル]],0),MATCH($AW$4,年齢階層×在院期間区分F02F09＿寛解・院内寛解[#Headers],0)),0)+IFERROR(INDEX(年齢階層×在院期間区分F02F09＿寛解・院内寛解[#All],MATCH($AK27,年齢階層×在院期間区分F02F09＿寛解・院内寛解[[#All],[行ラベル]],0),MATCH($AX$4,年齢階層×在院期間区分F02F09＿寛解・院内寛解[#Headers],0)),0)+IFERROR(INDEX(年齢階層×在院期間区分F02F09＿寛解・院内寛解[#All],MATCH($AK27,年齢階層×在院期間区分F02F09＿寛解・院内寛解[[#All],[行ラベル]],0),MATCH($AY$4,年齢階層×在院期間区分F02F09＿寛解・院内寛解[#Headers],0)),0)","v":1},0.16666666666666666,{"$f":"IFERROR(INDEX(年齢階層×在院期間区分F02F09＿寛解・院内寛解[#All],MATCH($AK27,年齢階層×在院期間区分F02F09＿寛解・院内寛解[[#All],[行ラベル]],0),MATCH($AZ$4,年齢階層×在院期間区分F02F09＿寛解・院内寛解[#Headers],0)),0)+IFERROR(INDEX(年齢階層×在院期間区分F02F09＿寛解・院内寛解[#All],MATCH($AK27,年齢階層×在院期間区分F02F09＿寛解・院内寛解[[#All],[行ラベル]],0),MATCH($BA$4,年齢階層×在院期間区分F02F09＿寛解・院内寛解[#Headers],0)),0)","v":0},0,12,6.2827225130890049E-2,null,null,"60歳代",4,2,0,0,1,2,2,0,0,0,0,0,1,0,0,0,null,null,null,null,null,"60歳代"]
[null,"70歳代",{"$f":"IFERROR(INDEX(年齢階層×在院期間区分F02F09＿寛解・院内寛解[#All],MATCH($AK28,年齢階層×在院期間区分F02F09＿寛解・院内寛解[[#All],[行ラベル]],0),MATCH($AL$4,年齢階層×在院期間区分F02F09＿寛解・院内寛解[#Headers],0)),0)+IFERROR(INDEX(年齢階層×在院期間区分F02F09＿寛解・院内寛解[#All],MATCH($AK28,年齢階層×在院期間区分F02F09＿寛解・院内寛解[[#All],[行ラベル]],0),MATCH($AM$4,年齢階層×在院期間区分F02F09＿寛解・院内寛解[#Headers],0)),0)+IFERROR(INDEX(年齢階層×在院期間区分F02F09＿寛解・院内寛解[#All],MATCH($AK28,年齢階層×在院期間区分F02F09＿寛解・院内寛解[[#All],[行ラベル]],0),MATCH($AN$4,年齢階層×在院期間区分F02F09＿寛解・院内寛解[#Headers],0)),0)+IFERROR(INDEX(年齢階層×在院期間区分F02F09＿寛解・院内寛解[#All],MATCH($AK28,年齢階層×在院期間区分F02F09＿寛解・院内寛解[[#All],[行ラベル]],0),MATCH($AO$4,年齢階層×在院期間区分F02F09＿寛解・院内寛解[#Headers],0)),0)","v":40},0.34782608695652173,{"$f":"IFERROR(INDEX(年齢階層×在院期間区分F02F09＿寛解・院内寛解[#All],MATCH($AK28,年齢階層×在院期間区分F02F09＿寛解・院内寛解[[#All],[行ラベル]],0),MATCH($AP$4,年齢階層×在院期間区分F02F09＿寛解・院内寛解[#Headers],0)),0)+IFERROR(INDEX(年齢階層×在院期間区分F02F09＿寛解・院内寛解[#All],MATCH($AK28,年齢階層×在院期間区分F02F09＿寛解・院内寛解[[#All],[行ラベル]],0),MATCH($AQ$4,年齢階層×在院期間区分F02F09＿寛解・院内寛解[#Headers],0)),0)+IFERROR(INDEX(年齢階層×在院期間区分F02F09＿寛解・院内寛解[#All],MATCH($AK28,年齢階層×在院期間区分F02F09＿寛解・院内寛解[[#All],[行ラベル]],0),MATCH($AR$4,年齢階層×在院期間区分F02F09＿寛解・院内寛解[#Headers],0)),0)+IFERROR(INDEX(年齢階層×在院期間区分F02F09＿寛解・院内寛解[#All],MATCH($AK28,年齢階層×在院期間区分F02F09＿寛解・院内寛解[[#All],[行ラベル]],0),MATCH($AS$4,年齢階層×在院期間区分F02F09＿寛解・院内寛解[#Headers],0)),0)+IFERROR(INDEX(年齢階層×在院期間区分F02F09＿寛解・院内寛解[#All],MATCH($AK28,年齢階層×在院期間区分F02F09＿寛解・院内寛解[[#All],[行ラベル]],0),MATCH($AT$4,年齢階層×在院期間区分F02F09＿寛解・院内寛解[#Headers],0)),0)","v":21},0.30882352941176472,{"$f":"IFERROR(INDEX(年齢階層×在院期間区分F02F09＿寛解・院内寛解[#All],MATCH($AK28,年齢階層×在院期間区分F02F09＿寛解・院内寛解[[#All],[行ラベル]],0),MATCH($AU$4,年齢階層×在院期間区分F02F09＿寛解・院内寛解[#Headers],0)),0)+IFERROR(INDEX(年齢階層×在院期間区分F02F09＿寛解・院内寛解[#All],MATCH($AK28,年齢階層×在院期間区分F02F09＿寛解・院内寛解[[#All],[行ラベル]],0),MATCH($AV$4,年齢階層×在院期間区分F02F09＿寛解・院内寛解[#Headers],0)),0)+IFERROR(INDEX(年齢階層×在院期間区分F02F09＿寛解・院内寛解[#All],MATCH($AK28,年齢階層×在院期間区分F02F09＿寛解・院内寛解[[#All],[行ラベル]],0),MATCH($AW$4,年齢階層×在院期間区分F02F09＿寛解・院内寛解[#Headers],0)),0)+IFERROR(INDEX(年齢階層×在院期間区分F02F09＿寛解・院内寛解[#All],MATCH($AK28,年齢階層×在院期間区分F02F09＿寛解・院内寛解[[#All],[行ラベル]],0),MATCH($AX$4,年齢階層×在院期間区分F02F09＿寛解・院内寛解[#Headers],0)),0)+IFERROR(INDEX(年齢階層×在院期間区分F02F09＿寛解・院内寛解[#All],MATCH($AK28,年齢階層×在院期間区分F02F09＿寛解・院内寛解[[#All],[行ラベル]],0),MATCH($AY$4,年齢階層×在院期間区分F02F09＿寛解・院内寛解[#Headers],0)),0)","v":2},0.33333333333333331,{"$f":"IFERROR(INDEX(年齢階層×在院期間区分F02F09＿寛解・院内寛解[#All],MATCH($AK28,年齢階層×在院期間区分F02F09＿寛解・院内寛解[[#All],[行ラベル]],0),MATCH($AZ$4,年齢階層×在院期間区分F02F09＿寛解・院内寛解[#Headers],0)),0)+IFERROR(INDEX(年齢階層×在院期間区分F02F09＿寛解・院内寛解[#All],MATCH($AK28,年齢階層×在院期間区分F02F09＿寛解・院内寛解[[#All],[行ラベル]],0),MATCH($BA$4,年齢階層×在院期間区分F02F09＿寛解・院内寛解[#Headers],0)),0)","v":1},0.5,64,0.33507853403141363,null,null,"70歳代",17,9,7,7,7,1,5,4,4,0,0,1,0,1,1,0,null,null,null,null,null,"70歳代"]
[null,"80歳代",{"$f":"IFERROR(INDEX(年齢階層×在院期間区分F02F09＿寛解・院内寛解[#All],MATCH($AK29,年齢階層×在院期間区分F02F09＿寛解・院内寛解[[#All],[行ラベル]],0),MATCH($AL$4,年齢階層×在院期間区分F02F09＿寛解・院内寛解[#Headers],0)),0)+IFERROR(INDEX(年齢階層×在院期間区分F02F09＿寛解・院内寛解[#All],MATCH($AK29,年齢階層×在院期間区分F02F09＿寛解・院内寛解[[#All],[行ラベル]],0),MATCH($AM$4,年齢階層×在院期間区分F02F09＿寛解・院内寛解[#Headers],0)),0)+IFERROR(INDEX(年齢階層×在院期間区分F02F09＿寛解・院内寛解[#All],MATCH($AK29,年齢階層×在院期間区分F02F09＿寛解・院内寛解[[#All],[行ラベル]],0),MATCH($AN$4,年齢階層×在院期間区分F02F09＿寛解・院内寛解[#Headers],0)),0)+IFERROR(INDEX(年齢階層×在院期間区分F02F09＿寛解・院内寛解[#All],MATCH($AK29,年齢階層×在院期間区分F02F09＿寛解・院内寛解[[#All],[行ラベル]],0),MATCH($AO$4,年齢階層×在院期間区分F02F09＿寛解・院内寛解[#Headers],0)),0)","v":46},0.4,{"$f":"IFERROR(INDEX(年齢階層×在院期間区分F02F09＿寛解・院内寛解[#All],MATCH($AK29,年齢階層×在院期間区分F02F09＿寛解・院内寛解[[#All],[行ラベル]],0),MATCH($AP$4,年齢階層×在院期間区分F02F09＿寛解・院内寛解[#Headers],0)),0)+IFERROR(INDEX(年齢階層×在院期間区分F02F09＿寛解・院内寛解[#All],MATCH($AK29,年齢階層×在院期間区分F02F09＿寛解・院内寛解[[#All],[行ラベル]],0),MATCH($AQ$4,年齢階層×在院期間区分F02F09＿寛解・院内寛解[#Headers],0)),0)+IFERROR(INDEX(年齢階層×在院期間区分F02F09＿寛解・院内寛解[#All],MATCH($AK29,年齢階層×在院期間区分F02F09＿寛解・院内寛解[[#All],[行ラベル]],0),MATCH($AR$4,年齢階層×在院期間区分F02F09＿寛解・院内寛解[#Headers],0)),0)+IFERROR(INDEX(年齢階層×在院期間区分F02F09＿寛解・院内寛解[#All],MATCH($AK29,年齢階層×在院期間区分F02F09＿寛解・院内寛解[[#All],[行ラベル]],0),MATCH($AS$4,年齢階層×在院期間区分F02F09＿寛解・院内寛解[#Headers],0)),0)+IFERROR(INDEX(年齢階層×在院期間区分F02F09＿寛解・院内寛解[#All],MATCH($AK29,年齢階層×在院期間区分F02F09＿寛解・院内寛解[[#All],[行ラベル]],0),MATCH($AT$4,年齢階層×在院期間区分F02F09＿寛解・院内寛解[#Headers],0)),0)","v":28},0.41176470588235292,{"$f":"IFERROR(INDEX(年齢階層×在院期間区分F02F09＿寛解・院内寛解[#All],MATCH($AK29,年齢階層×在院期間区分F02F09＿寛解・院内寛解[[#All],[行ラベル]],0),MATCH($AU$4,年齢階層×在院期間区分F02F09＿寛解・院内寛解[#Headers],0)),0)+IFERROR(INDEX(年齢階層×在院期間区分F02F09＿寛解・院内寛解[#All],MATCH($AK29,年齢階層×在院期間区分F02F09＿寛解・院内寛解[[#All],[行ラベル]],0),MATCH($AV$4,年齢階層×在院期間区分F02F09＿寛解・院内寛解[#Headers],0)),0)+IFERROR(INDEX(年齢階層×在院期間区分F02F09＿寛解・院内寛解[#All],MATCH($AK29,年齢階層×在院期間区分F02F09＿寛解・院内寛解[[#All],[行ラベル]],0),MATCH($AW$4,年齢階層×在院期間区分F02F09＿寛解・院内寛解[#Headers],0)),0)+IFERROR(INDEX(年齢階層×在院期間区分F02F09＿寛解・院内寛解[#All],MATCH($AK29,年齢階層×在院期間区分F02F09＿寛解・院内寛解[[#All],[行ラベル]],0),MATCH($AX$4,年齢階層×在院期間区分F02F09＿寛解・院内寛解[#Headers],0)),0)+IFERROR(INDEX(年齢階層×在院期間区分F02F09＿寛解・院内寛解[#All],MATCH($AK29,年齢階層×在院期間区分F02F09＿寛解・院内寛解[[#All],[行ラベル]],0),MATCH($AY$4,年齢階層×在院期間区分F02F09＿寛解・院内寛解[#Headers],0)),0)","v":3},0.5,{"$f":"IFERROR(INDEX(年齢階層×在院期間区分F02F09＿寛解・院内寛解[#All],MATCH($AK29,年齢階層×在院期間区分F02F09＿寛解・院内寛解[[#All],[行ラベル]],0),MATCH($AZ$4,年齢階層×在院期間区分F02F09＿寛解・院内寛解[#Headers],0)),0)+IFERROR(INDEX(年齢階層×在院期間区分F02F09＿寛解・院内寛解[#All],MATCH($AK29,年齢階層×在院期間区分F02F09＿寛解・院内寛解[[#All],[行ラベル]],0),MATCH($BA$4,年齢階層×在院期間区分F02F09＿寛解・院内寛解[#Headers],0)),0)","v":0},0,77,0.40314136125654448,null,null,"80歳代",4,20,12,10,3,4,11,8,2,1,1,0,1,0,0,0,null,null,null,null,null,"80歳代"]
[null,"90歳以上",{"$f":"IFERROR(INDEX(年齢階層×在院期間区分F02F09＿寛解・院内寛解[#All],MATCH($AK30,年齢階層×在院期間区分F02F09＿寛解・院内寛解[[#All],[行ラベル]],0),MATCH($AL$4,年齢階層×在院期間区分F02F09＿寛解・院内寛解[#Headers],0)),0)+IFERROR(INDEX(年齢階層×在院期間区分F02F09＿寛解・院内寛解[#All],MATCH($AK30,年齢階層×在院期間区分F02F09＿寛解・院内寛解[[#All],[行ラベル]],0),MATCH($AM$4,年齢階層×在院期間区分F02F09＿寛解・院内寛解[#Headers],0)),0)+IFERROR(INDEX(年齢階層×在院期間区分F02F09＿寛解・院内寛解[#All],MATCH($AK30,年齢階層×在院期間区分F02F09＿寛解・院内寛解[[#All],[行ラベル]],0),MATCH($AN$4,年齢階層×在院期間区分F02F09＿寛解・院内寛解[#Headers],0)),0)+IFERROR(INDEX(年齢階層×在院期間区分F02F09＿寛解・院内寛解[#All],MATCH($AK30,年齢階層×在院期間区分F02F09＿寛解・院内寛解[[#All],[行ラベル]],0),MATCH($AO$4,年齢階層×在院期間区分F02F09＿寛解・院内寛解[#Headers],0)),0)","v":10},8.6956521739130432E-2,{"$f":"IFERROR(INDEX(年齢階層×在院期間区分F02F09＿寛解・院内寛解[#All],MATCH($AK30,年齢階層×在院期間区分F02F09＿寛解・院内寛解[[#All],[行ラベル]],0),MATCH($AP$4,年齢階層×在院期間区分F02F09＿寛解・院内寛解[#Headers],0)),0)+IFERROR(INDEX(年齢階層×在院期間区分F02F09＿寛解・院内寛解[#All],MATCH($AK30,年齢階層×在院期間区分F02F09＿寛解・院内寛解[[#All],[行ラベル]],0),MATCH($AQ$4,年齢階層×在院期間区分F02F09＿寛解・院内寛解[#Headers],0)),0)+IFERROR(INDEX(年齢階層×在院期間区分F02F09＿寛解・院内寛解[#All],MATCH($AK30,年齢階層×在院期間区分F02F09＿寛解・院内寛解[[#All],[行ラベル]],0),MATCH($AR$4,年齢階層×在院期間区分F02F09＿寛解・院内寛解[#Headers],0)),0)+IFERROR(INDEX(年齢階層×在院期間区分F02F09＿寛解・院内寛解[#All],MATCH($AK30,年齢階層×在院期間区分F02F09＿寛解・院内寛解[[#All],[行ラベル]],0),MATCH($AS$4,年齢階層×在院期間区分F02F09＿寛解・院内寛解[#Headers],0)),0)+IFERROR(INDEX(年齢階層×在院期間区分F02F09＿寛解・院内寛解[#All],MATCH($AK30,年齢階層×在院期間区分F02F09＿寛解・院内寛解[[#All],[行ラベル]],0),MATCH($AT$4,年齢階層×在院期間区分F02F09＿寛解・院内寛解[#Headers],0)),0)","v":10},0.14705882352941177,{"$f":"IFERROR(INDEX(年齢階層×在院期間区分F02F09＿寛解・院内寛解[#All],MATCH($AK30,年齢階層×在院期間区分F02F09＿寛解・院内寛解[[#All],[行ラベル]],0),MATCH($AU$4,年齢階層×在院期間区分F02F09＿寛解・院内寛解[#Headers],0)),0)+IFERROR(INDEX(年齢階層×在院期間区分F02F09＿寛解・院内寛解[#All],MATCH($AK30,年齢階層×在院期間区分F02F09＿寛解・院内寛解[[#All],[行ラベル]],0),MATCH($AV$4,年齢階層×在院期間区分F02F09＿寛解・院内寛解[#Headers],0)),0)+IFERROR(INDEX(年齢階層×在院期間区分F02F09＿寛解・院内寛解[#All],MATCH($AK30,年齢階層×在院期間区分F02F09＿寛解・院内寛解[[#All],[行ラベル]],0),MATCH($AW$4,年齢階層×在院期間区分F02F09＿寛解・院内寛解[#Headers],0)),0)+IFERROR(INDEX(年齢階層×在院期間区分F02F09＿寛解・院内寛解[#All],MATCH($AK30,年齢階層×在院期間区分F02F09＿寛解・院内寛解[[#All],[行ラベル]],0),MATCH($AX$4,年齢階層×在院期間区分F02F09＿寛解・院内寛解[#Headers],0)),0)+IFERROR(INDEX(年齢階層×在院期間区分F02F09＿寛解・院内寛解[#All],MATCH($AK30,年齢階層×在院期間区分F02F09＿寛解・院内寛解[[#All],[行ラベル]],0),MATCH($AY$4,年齢階層×在院期間区分F02F09＿寛解・院内寛解[#Headers],0)),0)","v":0},0,{"$f":"IFERROR(INDEX(年齢階層×在院期間区分F02F09＿寛解・院内寛解[#All],MATCH($AK30,年齢階層×在院期間区分F02F09＿寛解・院内寛解[[#All],[行ラベル]],0),MATCH($AZ$4,年齢階層×在院期間区分F02F09＿寛解・院内寛解[#Headers],0)),0)+IFERROR(INDEX(年齢階層×在院期間区分F02F09＿寛解・院内寛解[#All],MATCH($AK30,年齢階層×在院期間区分F02F09＿寛解・院内寛解[[#All],[行ラベル]],0),MATCH($BA$4,年齢階層×在院期間区分F02F09＿寛解・院内寛解[#Headers],0)),0)","v":1},0.5,21,0.1099476439790576,null,null,"90歳以上",7,1,1,1,3,4,2,0,1,0,0,0,0,0,1,0,null,null,null,null,null,"90歳以上"]
[null,"　総計",{"$f":"SUM(C22:C30)","v":115},1,{"$f":"SUM(E22:E30)","v":68},1,{"$f":"SUM(G22:G30)","v":6},1,{"$f":"SUM(I22:I30)","v":2},1,{"$f":"SUM(K22:K30)","v":191},1,null,null,"列1","01_1ヶ月未満","02_1ヶ月～3ヶ月未満","03_3ヶ月～6ヶ月未満","04_6ヶ月～1年未満","05_1年～1年6ヶ月未満","06_1年6ヶ月～2年未満","07_2年～3年未満","08_3年～4年未満","09_4年～5年未満","10_5年～6年未満","11_6年～7年未満","12_7年～8年未満","13_8年～9年未満","14_9年～10年未満","15_10年～20年未満","16_ 20年以上"]
[null,"65歳未満（再掲）",{"$f":"IFERROR(INDEX(年齢階層×在院期間区分F02F09_65歳未満以上＿寛解・院内寛解[#All],MATCH($AK32,年齢階層×在院期間区分F02F09_65歳未満以上＿寛解・院内寛解[[#All],[列1]],0),MATCH($AL$4,年齢階層×在院期間区分F02F09_65歳未満以上＿寛解・院内寛解[#Headers],0)),0)+IFERROR(INDEX(年齢階層×在院期間区分F02F09_65歳未満以上＿寛解・院内寛解[#All],MATCH($AK32,年齢階層×在院期間区分F02F09_65歳未満以上＿寛解・院内寛解[[#All],[列1]],0),MATCH($AM$4,年齢階層×在院期間区分F02F09_65歳未満以上＿寛解・院内寛解[#Headers],0)),0)+IFERROR(INDEX(年齢階層×在院期間区分F02F09_65歳未満以上＿寛解・院内寛解[#All],MATCH($AK32,年齢階層×在院期間区分F02F09_65歳未満以上＿寛解・院内寛解[[#All],[列1]],0),MATCH($AN$4,年齢階層×在院期間区分F02F09_65歳未満以上＿寛解・院内寛解[#Headers],0)),0)+IFERROR(INDEX(年齢階層×在院期間区分F02F09_65歳未満以上＿寛解・院内寛解[#All],MATCH($AK32,年齢階層×在院期間区分F02F09_65歳未満以上＿寛解・院内寛解[[#All],[列1]],0),MATCH($AO$4,年齢階層×在院期間区分F02F09_65歳未満以上＿寛解・院内寛解[#Headers],0)),0)","v":13},0.11304347826086956,{"$f":"IFERROR(INDEX(年齢階層×在院期間区分F02F09_65歳未満以上＿寛解・院内寛解[#All],MATCH($AK32,年齢階層×在院期間区分F02F09_65歳未満以上＿寛解・院内寛解[[#All],[列1]],0),MATCH($AP$4,年齢階層×在院期間区分F02F09_65歳未満以上＿寛解・院内寛解[#Headers],0)),0)+IFERROR(INDEX(年齢階層×在院期間区分F02F09_65歳未満以上＿寛解・院内寛解[#All],MATCH($AK32,年齢階層×在院期間区分F02F09_65歳未満以上＿寛解・院内寛解[[#All],[列1]],0),MATCH($AQ$4,年齢階層×在院期間区分F02F09_65歳未満以上＿寛解・院内寛解[#Headers],0)),0)+IFERROR(INDEX(年齢階層×在院期間区分F02F09_65歳未満以上＿寛解・院内寛解[#All],MATCH($AK32,年齢階層×在院期間区分F02F09_65歳未満以上＿寛解・院内寛解[[#All],[列1]],0),MATCH($AR$4,年齢階層×在院期間区分F02F09_65歳未満以上＿寛解・院内寛解[#Headers],0)),0)+IFERROR(INDEX(年齢階層×在院期間区分F02F09_65歳未満以上＿寛解・院内寛解[#All],MATCH($AK32,年齢階層×在院期間区分F02F09_65歳未満以上＿寛解・院内寛解[[#All],[列1]],0),MATCH($AS$4,年齢階層×在院期間区分F02F09_65歳未満以上＿寛解・院内寛解[#Headers],0)),0)+IFERROR(INDEX(年齢階層×在院期間区分F02F09_65歳未満以上＿寛解・院内寛解[#All],MATCH($AK32,年齢階層×在院期間区分F02F09_65歳未満以上＿寛解・院内寛解[[#All],[列1]],0),MATCH($AT$4,年齢階層×在院期間区分F02F09_65歳未満以上＿寛解・院内寛解[#Headers],0)),0)","v":9},0.13235294117647059,{"$f":"IFERROR(INDEX(年齢階層×在院期間区分F02F09_65歳未満以上＿寛解・院内寛解[#All],MATCH($AK32,年齢階層×在院期間区分F02F09_65歳未満以上＿寛解・院内寛解[[#All],[列1]],0),MATCH($AU$4,年齢階層×在院期間区分F02F09_65歳未満以上＿寛解・院内寛解[#Headers],0)),0)+IFERROR(INDEX(年齢階層×在院期間区分F02F09_65歳未満以上＿寛解・院内寛解[#All],MATCH($AK32,年齢階層×在院期間区分F02F09_65歳未満以上＿寛解・院内寛解[[#All],[列1]],0),MATCH($AV$4,年齢階層×在院期間区分F02F09_65歳未満以上＿寛解・院内寛解[#Headers],0)),0)+IFERROR(INDEX(年齢階層×在院期間区分F02F09_65歳未満以上＿寛解・院内寛解[#All],MATCH($AK32,年齢階層×在院期間区分F02F09_65歳未満以上＿寛解・院内寛解[[#All],[列1]],0),MATCH($AW$4,年齢階層×在院期間区分F02F09_65歳未満以上＿寛解・院内寛解[#Headers],0)),0)+IFERROR(INDEX(年齢階層×在院期間区分F02F09_65歳未満以上＿寛解・院内寛解[#All],MATCH($AK32,年齢階層×在院期間区分F02F09_65歳未満以上＿寛解・院内寛解[[#All],[列1]],0),MATCH($AX$4,年齢階層×在院期間区分F02F09_65歳未満以上＿寛解・院内寛解[#Headers],0)),0)+IFERROR(INDEX(年齢階層×在院期間区分F02F09_65歳未満以上＿寛解・院内寛解[#All],MATCH($AK32,年齢階層×在院期間区分F02F09_65歳未満以上＿寛解・院内寛解[[#All],[列1]],0),MATCH($AY$4,年齢階層×在院期間区分F02F09_65歳未満以上＿寛解・院内寛解[#Headers],0)),0)","v":1},0.16666666666666666,{"$f":"IFERROR(INDEX(年齢階層×在院期間区分F02F09_65歳未満以上＿寛解・院内寛解[#All],MATCH($AK32,年齢階層×在院期間区分F02F09_65歳未満以上＿寛解・院内寛解[[#All],[列1]],0),MATCH($AZ$4,年齢階層×在院期間区分F02F09_65歳未満以上＿寛解・院内寛解[#Headers],0)),0)+IFERROR(INDEX(年齢階層×在院期間区分F02F09_65歳未満以上＿寛解・院内寛解[#All],MATCH($AK32,年齢階層×在院期間区分F02F09_65歳未満以上＿寛解・院内寛解[[#All],[列1]],0),MATCH($BA$4,年齢階層×在院期間区分F02F09_65歳未満以上＿寛解・院内寛解[#Headers],0)),0)","v":0},0,{"$f":"C32+E32+G32+I32","v":23},0.12041884816753927,null,null,"65歳未満",4,4,3,2,4,2,2,1,0,0,0,0,1,0,0,0,null,null,null,null,null,"65歳未満"]
[null,"65歳以上（再掲）",{"$f":"IFERROR(INDEX(年齢階層×在院期間区分F02F09_65歳未満以上＿寛解・院内寛解[#All],MATCH($AK33,年齢階層×在院期間区分F02F09_65歳未満以上＿寛解・院内寛解[[#All],[列1]],0),MATCH($AL$4,年齢階層×在院期間区分F02F09_65歳未満以上＿寛解・院内寛解[#Headers],0)),0)+IFERROR(INDEX(年齢階層×在院期間区分F02F09_65歳未満以上＿寛解・院内寛解[#All],MATCH($AK33,年齢階層×在院期間区分F02F09_65歳未満以上＿寛解・院内寛解[[#All],[列1]],0),MATCH($AM$4,年齢階層×在院期間区分F02F09_65歳未満以上＿寛解・院内寛解[#Headers],0)),0)+IFERROR(INDEX(年齢階層×在院期間区分F02F09_65歳未満以上＿寛解・院内寛解[#All],MATCH($AK33,年齢階層×在院期間区分F02F09_65歳未満以上＿寛解・院内寛解[[#All],[列1]],0),MATCH($AN$4,年齢階層×在院期間区分F02F09_65歳未満以上＿寛解・院内寛解[#Headers],0)),0)+IFERROR(INDEX(年齢階層×在院期間区分F02F09_65歳未満以上＿寛解・院内寛解[#All],MATCH($AK33,年齢階層×在院期間区分F02F09_65歳未満以上＿寛解・院内寛解[[#All],[列1]],0),MATCH($AO$4,年齢階層×在院期間区分F02F09_65歳未満以上＿寛解・院内寛解[#Headers],0)),0)","v":102},0.88695652173913042,{"$f":"IFERROR(INDEX(年齢階層×在院期間区分F02F09_65歳未満以上＿寛解・院内寛解[#All],MATCH($AK33,年齢階層×在院期間区分F02F09_65歳未満以上＿寛解・院内寛解[[#All],[列1]],0),MATCH($AP$4,年齢階層×在院期間区分F02F09_65歳未満以上＿寛解・院内寛解[#Headers],0)),0)+IFERROR(INDEX(年齢階層×在院期間区分F02F09_65歳未満以上＿寛解・院内寛解[#All],MATCH($AK33,年齢階層×在院期間区分F02F09_65歳未満以上＿寛解・院内寛解[[#All],[列1]],0),MATCH($AQ$4,年齢階層×在院期間区分F02F09_65歳未満以上＿寛解・院内寛解[#Headers],0)),0)+IFERROR(INDEX(年齢階層×在院期間区分F02F09_65歳未満以上＿寛解・院内寛解[#All],MATCH($AK33,年齢階層×在院期間区分F02F09_65歳未満以上＿寛解・院内寛解[[#All],[列1]],0),MATCH($AR$4,年齢階層×在院期間区分F02F09_65歳未満以上＿寛解・院内寛解[#Headers],0)),0)+IFERROR(INDEX(年齢階層×在院期間区分F02F09_65歳未満以上＿寛解・院内寛解[#All],MATCH($AK33,年齢階層×在院期間区分F02F09_65歳未満以上＿寛解・院内寛解[[#All],[列1]],0),MATCH($AS$4,年齢階層×在院期間区分F02F09_65歳未満以上＿寛解・院内寛解[#Headers],0)),0)+IFERROR(INDEX(年齢階層×在院期間区分F02F09_65歳未満以上＿寛解・院内寛解[#All],MATCH($AK33,年齢階層×在院期間区分F02F09_65歳未満以上＿寛解・院内寛解[[#All],[列1]],0),MATCH($AT$4,年齢階層×在院期間区分F02F09_65歳未満以上＿寛解・院内寛解[#Headers],0)),0)","v":59},0.86764705882352944,{"$f":"IFERROR(INDEX(年齢階層×在院期間区分F02F09_65歳未満以上＿寛解・院内寛解[#All],MATCH($AK33,年齢階層×在院期間区分F02F09_65歳未満以上＿寛解・院内寛解[[#All],[列1]],0),MATCH($AU$4,年齢階層×在院期間区分F02F09_65歳未満以上＿寛解・院内寛解[#Headers],0)),0)+IFERROR(INDEX(年齢階層×在院期間区分F02F09_65歳未満以上＿寛解・院内寛解[#All],MATCH($AK33,年齢階層×在院期間区分F02F09_65歳未満以上＿寛解・院内寛解[[#All],[列1]],0),MATCH($AV$4,年齢階層×在院期間区分F02F09_65歳未満以上＿寛解・院内寛解[#Headers],0)),0)+IFERROR(INDEX(年齢階層×在院期間区分F02F09_65歳未満以上＿寛解・院内寛解[#All],MATCH($AK33,年齢階層×在院期間区分F02F09_65歳未満以上＿寛解・院内寛解[[#All],[列1]],0),MATCH($AW$4,年齢階層×在院期間区分F02F09_65歳未満以上＿寛解・院内寛解[#Headers],0)),0)+IFERROR(INDEX(年齢階層×在院期間区分F02F09_65歳未満以上＿寛解・院内寛解[#All],MATCH($AK33,年齢階層×在院期間区分F02F09_65歳未満以上＿寛解・院内寛解[[#All],[列1]],0),MATCH($AX$4,年齢階層×在院期間区分F02F09_65歳未満以上＿寛解・院内寛解[#Headers],0)),0)+IFERROR(INDEX(年齢階層×在院期間区分F02F09_65歳未満以上＿寛解・院内寛解[#All],MATCH($AK33,年齢階層×在院期間区分F02F09_65歳未満以上＿寛解・院内寛解[[#All],[列1]],0),MATCH($AY$4,年齢階層×在院期間区分F02F09_65歳未満以上＿寛解・院内寛解[#Headers],0)),0)","v":5},0.83333333333333337,{"$f":"IFERROR(INDEX(年齢階層×在院期間区分F02F09_65歳未満以上＿寛解・院内寛解[#All],MATCH($AK33,年齢階層×在院期間区分F02F09_65歳未満以上＿寛解・院内寛解[[#All],[列1]],0),MATCH($AZ$4,年齢階層×在院期間区分F02F09_65歳未満以上＿寛解・院内寛解[#Headers],0)),0)+IFERROR(INDEX(年齢階層×在院期間区分F02F09_65歳未満以上＿寛解・院内寛解[#All],MATCH($AK33,年齢階層×在院期間区分F02F09_65歳未満以上＿寛解・院内寛解[[#All],[列1]],0),MATCH($BA$4,年齢階層×在院期間区分F02F09_65歳未満以上＿寛解・院内寛解[#Headers],0)),0)","v":2},1,{"$f":"C33+E33+G33+I33","v":168},0.87958115183246077,null,null,"65歳以上",32,32,20,18,13,9,18,12,7,1,1,1,1,1,2,0,null,null,null,null,null,"65歳以上"]

{"sheet":"５-Ⅱ④","index":24,"n_rows":31,"n_cols":54,"rows_kept":31,"cut":false,"hidden":false,"merged":[[1,1,2,1],[1,2,1,11],[2,2,2,3],[2,4,2,5],[2,6,2,7],[2,8,2,9],[2,10,2,11],[17,1,18,1],[17,2,17,11],[18,2,18,3],[18,4,18,5],[18,6,18,7],[18,8,18,9],[18,10,18,11]]}
[null,"【年齢階層×在院期間区分】〔気分（感情）障害（F３）〕"]
[null,"年齢階層","在院期間区分",null,null,null,null,null,null,null,null,null,null,null,"データ貼り付け箇所"]
[null,null,"1年未満",null,"1年以上\n5年未満",null,"5年以上\n10年未満",null,"10年以上",null,"合計",null,null,null,"行ラベル","01_1ヶ月未満","02_1ヶ月～3ヶ月未満","03_3ヶ月～6ヶ月未満","04_6ヶ月～1年未満","05_1年～1年6ヶ月未満","06_1年6ヶ月～2年未満","07_2年～3年未満","08_3年～4年未満","09_4年～5年未満","10_5年～6年未満","11_6年～7年未満","12_7年～8年未満","13_8年～9年未満","14_9年～10年未満","15_10年～20年未満","16_ 20年以上",null,null,null,null,null,null,null,"01_1ヶ月未満","02_1ヶ月～3ヶ月未満","03_3ヶ月～6ヶ月未満","04_6ヶ月～1年未満","05_1年～1年6ヶ月未満","06_1年6ヶ月～2年未満","07_2年～3年未満","08_3年～4年未満","09_4年～5年未満","10_5年～6年未満","11_6年～7年未満","12_7年～8年未満","13_8年～9年未満","14_9年～10年未満","15_10年～20年未満","16_ 20年以上"]
[null,"19歳以下",{"$f":"IFERROR(INDEX(年齢階層×在院期間区分F3[#All],MATCH($AL4,年齢階層×在院期間区分F3[[#All],[行ラベル]],0),MATCH($AM$3,年齢階層×在院期間区分F3[#Headers],0)),0)+IFERROR(INDEX(年齢階層×在院期間区分F3[#All],MATCH($AL4,年齢階層×在院期間区分F3[[#All],[行ラベル]],0),MATCH($AN$3,年齢階層×在院期間区分F3[#Headers],0)),0)+IFERROR(INDEX(年齢階層×在院期間区分F3[#All],MATCH($AL4,年齢階層×在院期間区分F3[[#All],[行ラベル]],0),MATCH($AO$3,年齢階層×在院期間区分F3[#Headers],0)),0)+IFERROR(INDEX(年齢階層×在院期間区分F3[#All],MATCH($AL4,年齢階層×在院期間区分F3[[#All],[行ラベル]],0),MATCH($AP$3,年齢階層×在院期間区分F3[#Headers],0)),0)","v":15},{"$f":"IFERROR(C4/$C$13,\"-\")","v":1.6268980477223426E-2},{"$f":"IFERROR(INDEX(年齢階層×在院期間区分F3[#All],MATCH($AL4,年齢階層×在院期間区分F3[[#All],[行ラベル]],0),MATCH($AQ$3,年齢階層×在院期間区分F3[#Headers],0)),0)+IFERROR(INDEX(年齢階層×在院期間区分F3[#All],MATCH($AL4,年齢階層×在院期間区分F3[[#All],[行ラベル]],0),MATCH($AR$3,年齢階層×在院期間区分F3[#Headers],0)),0)+IFERROR(INDEX(年齢階層×在院期間区分F3[#All],MATCH($AL4,年齢階層×在院期間区分F3[[#All],[行ラベル]],0),MATCH($AS$3,年齢階層×在院期間区分F3[#Headers],0)),0)+IFERROR(INDEX(年齢階層×在院期間区分F3[#All],MATCH($AL4,年齢階層×在院期間区分F3[[#All],[行ラベル]],0),MATCH($AT$3,年齢階層×在院期間区分F3[#Headers],0)),0)+IFERROR(INDEX(年齢階層×在院期間区分F3[#All],MATCH($AL4,年齢階層×在院期間区分F3[[#All],[行ラベル]],0),MATCH($AU$3,年齢階層×在院期間区分F3[#Headers],0)),0)","v":1},{"$f":"IFERROR(E4/$E$13,\"-\")","v":2.5641025641025641E-3},{"$f":"IFERROR(INDEX(年齢階層×在院期間区分F3[#All],MATCH($AL4,年齢階層×在院期間区分F3[[#All],[行ラベル]],0),MATCH($AV$3,年齢階層×在院期間区分F3[#Headers],0)),0)+IFERROR(INDEX(年齢階層×在院期間区分F3[#All],MATCH($AL4,年齢階層×在院期間区分F3[[#All],[行ラベル]],0),MATCH($AW$3,年齢階層×在院期間区分F3[#Headers],0)),0)+IFERROR(INDEX(年齢階層×在院期間区分F3[#All],MATCH($AL4,年齢階層×在院期間区分F3[[#All],[行ラベル]],0),MATCH($AX$3,年齢階層×在院期間区分F3[#Headers],0)),0)+IFERROR(INDEX(年齢階層×在院期間区分F3[#All],MATCH($AL4,年齢階層×在院期間区分F3[[#All],[行ラベル]],0),MATCH($AY$3,年齢階層×在院期間区分F3[#Headers],0)),0)+IFERROR(INDEX(年齢階層×在院期間区分F3[#All],MATCH($AL4,年齢階層×在院期間区分F3[[#All],[行ラベル]],0),MATCH($AZ$3,年齢階層×在院期間区分F3[#Headers],0)),0)","v":0},{"$f":"IFERROR(G4/$G$13,\"-\")","v":0},{"$f":"IFERROR(INDEX(年齢階層×在院期間区分F3[#All],MATCH($AL4,年齢階層×在院期間区分F3[[#All],[行ラベル]],0),MATCH($BA$3,年齢階層×在院期間区分F3[#Headers],0)),0)+IFERROR(INDEX(年齢階層×在院期間区分F3[#All],MATCH($AL4,年齢階層×在院期間区分F3[[#All],[行ラベル]],0),MATCH($BB$3,年齢階層×在院期間区分F3[#Headers],0)),0)","v":0},{"$f":"IFERROR(I4/$I$13,\"-\")","v":0},{"$f":"SUM(C4,E4,G4,I4)","v":16},{"$f":"IFERROR(K4/$K$13,\"-\")","v":1.053324555628703E-2},null,null,"19歳以下",5,8,1,1,1,0,0,0,0,0,0,0,0,0,0,0,null,null,null,null,null,null,"19歳以下"]
[null,"20歳代",{"$f":"IFERROR(INDEX(年齢階層×在院期間区分F3[#All],MATCH($AL5,年齢階層×在院期間区分F3[[#All],[行ラベル]],0),MATCH($AM$3,年齢階層×在院期間区分F3[#Headers],0)),0)+IFERROR(INDEX(年齢階層×在院期間区分F3[#All],MATCH($AL5,年齢階層×在院期間区分F3[[#All],[行ラベル]],0),MATCH($AN$3,年齢階層×在院期間区分F3[#Headers],0)),0)+IFERROR(INDEX(年齢階層×在院期間区分F3[#All],MATCH($AL5,年齢階層×在院期間区分F3[[#All],[行ラベル]],0),MATCH($AO$3,年齢階層×在院期間区分F3[#Headers],0)),0)+IFERROR(INDEX(年齢階層×在院期間区分F3[#All],MATCH($AL5,年齢階層×在院期間区分F3[[#All],[行ラベル]],0),MATCH($AP$3,年齢階層×在院期間区分F3[#Headers],0)),0)","v":52},5.6399132321041212E-2,{"$f":"IFERROR(INDEX(年齢階層×在院期間区分F3[#All],MATCH($AL5,年齢階層×在院期間区分F3[[#All],[行ラベル]],0),MATCH($AQ$3,年齢階層×在院期間区分F3[#Headers],0)),0)+IFERROR(INDEX(年齢階層×在院期間区分F3[#All],MATCH($AL5,年齢階層×在院期間区分F3[[#All],[行ラベル]],0),MATCH($AR$3,年齢階層×在院期間区分F3[#Headers],0)),0)+IFERROR(INDEX(年齢階層×在院期間区分F3[#All],MATCH($AL5,年齢階層×在院期間区分F3[[#All],[行ラベル]],0),MATCH($AS$3,年齢階層×在院期間区分F3[#Headers],0)),0)+IFERROR(INDEX(年齢階層×在院期間区分F3[#All],MATCH($AL5,年齢階層×在院期間区分F3[[#All],[行ラベル]],0),MATCH($AT$3,年齢階層×在院期間区分F3[#Headers],0)),0)+IFERROR(INDEX(年齢階層×在院期間区分F3[#All],MATCH($AL5,年齢階層×在院期間区分F3[[#All],[行ラベル]],0),MATCH($AU$3,年齢階層×在院期間区分F3[#Headers],0)),0)","v":2},5.1282051282051282E-3,{"$f":"IFERROR(INDEX(年齢階層×在院期間区分F3[#All],MATCH($AL5,年齢階層×在院期間区分F3[[#All],[行ラベル]],0),MATCH($AV$3,年齢階層×在院期間区分F3[#Headers],0)),0)+IFERROR(INDEX(年齢階層×在院期間区分F3[#All],MATCH($AL5,年齢階層×在院期間区分F3[[#All],[行ラベル]],0),MATCH($AW$3,年齢階層×在院期間区分F3[#Headers],0)),0)+IFERROR(INDEX(年齢階層×在院期間区分F3[#All],MATCH($AL5,年齢階層×在院期間区分F3[[#All],[行ラベル]],0),MATCH($AX$3,年齢階層×在院期間区分F3[#Headers],0)),0)+IFERROR(INDEX(年齢階層×在院期間区分F3[#All],MATCH($AL5,年齢階層×在院期間区分F3[[#All],[行ラベル]],0),MATCH($AY$3,年齢階層×在院期間区分F3[#Headers],0)),0)+IFERROR(INDEX(年齢階層×在院期間区分F3[#All],MATCH($AL5,年齢階層×在院期間区分F3[[#All],[行ラベル]],0),MATCH($AZ$3,年齢階層×在院期間区分F3[#Headers],0)),0)","v":0},0,{"$f":"IFERROR(INDEX(年齢階層×在院期間区分F3[#All],MATCH($AL5,年齢階層×在院期間区分F3[[#All],[行ラベル]],0),MATCH($BA$3,年齢階層×在院期間区分F3[#Headers],0)),0)+IFERROR(INDEX(年齢階層×在院期間区分F3[#All],MATCH($AL5,年齢階層×在院期間区分F3[[#All],[行ラベル]],0),MATCH($BB$3,年齢階層×在院期間区分F3[#Headers],0)),0)","v":0},0,54,3.5549703752468728E-2,null,null,"20歳代",31,21,0,0,0,1,1,0,0,0,0,0,0,0,0,0,null,null,null,null,null,null,"20歳代"]
[null,"30歳代",{"$f":"IFERROR(INDEX(年齢階層×在院期間区分F3[#All],MATCH($AL6,年齢階層×在院期間区分F3[[#All],[行ラベル]],0),MATCH($AM$3,年齢階層×在院期間区分F3[#Headers],0)),0)+IFERROR(INDEX(年齢階層×在院期間区分F3[#All],MATCH($AL6,年齢階層×在院期間区分F3[[#All],[行ラベル]],0),MATCH($AN$3,年齢階層×在院期間区分F3[#Headers],0)),0)+IFERROR(INDEX(年齢階層×在院期間区分F3[#All],MATCH($AL6,年齢階層×在院期間区分F3[[#All],[行ラベル]],0),MATCH($AO$3,年齢階層×在院期間区分F3[#Headers],0)),0)+IFERROR(INDEX(年齢階層×在院期間区分F3[#All],MATCH($AL6,年齢階層×在院期間区分F3[[#All],[行ラベル]],0),MATCH($AP$3,年齢階層×在院期間区分F3[#Headers],0)),0)","v":57},6.1822125813449022E-2,{"$f":"IFERROR(INDEX(年齢階層×在院期間区分F3[#All],MATCH($AL6,年齢階層×在院期間区分F3[[#All],[行ラベル]],0),MATCH($AQ$3,年齢階層×在院期間区分F3[#Headers],0)),0)+IFERROR(INDEX(年齢階層×在院期間区分F3[#All],MATCH($AL6,年齢階層×在院期間区分F3[[#All],[行ラベル]],0),MATCH($AR$3,年齢階層×在院期間区分F3[#Headers],0)),0)+IFERROR(INDEX(年齢階層×在院期間区分F3[#All],MATCH($AL6,年齢階層×在院期間区分F3[[#All],[行ラベル]],0),MATCH($AS$3,年齢階層×在院期間区分F3[#Headers],0)),0)+IFERROR(INDEX(年齢階層×在院期間区分F3[#All],MATCH($AL6,年齢階層×在院期間区分F3[[#All],[行ラベル]],0),MATCH($AT$3,年齢階層×在院期間区分F3[#Headers],0)),0)+IFERROR(INDEX(年齢階層×在院期間区分F3[#All],MATCH($AL6,年齢階層×在院期間区分F3[[#All],[行ラベル]],0),MATCH($AU$3,年齢階層×在院期間区分F3[#Headers],0)),0)","v":3},7.6923076923076927E-3,{"$f":"IFERROR(INDEX(年齢階層×在院期間区分F3[#All],MATCH($AL6,年齢階層×在院期間区分F3[[#All],[行ラベル]],0),MATCH($AV$3,年齢階層×在院期間区分F3[#Headers],0)),0)+IFERROR(INDEX(年齢階層×在院期間区分F3[#All],MATCH($AL6,年齢階層×在院期間区分F3[[#All],[行ラベル]],0),MATCH($AW$3,年齢階層×在院期間区分F3[#Headers],0)),0)+IFERROR(INDEX(年齢階層×在院期間区分F3[#All],MATCH($AL6,年齢階層×在院期間区分F3[[#All],[行ラベル]],0),MATCH($AX$3,年齢階層×在院期間区分F3[#Headers],0)),0)+IFERROR(INDEX(年齢階層×在院期間区分F3[#All],MATCH($AL6,年齢階層×在院期間区分F3[[#All],[行ラベル]],0),MATCH($AY$3,年齢階層×在院期間区分F3[#Headers],0)),0)+IFERROR(INDEX(年齢階層×在院期間区分F3[#All],MATCH($AL6,年齢階層×在院期間区分F3[[#All],[行ラベル]],0),MATCH($AZ$3,年齢階層×在院期間区分F3[#Headers],0)),0)","v":0},0,{"$f":"IFERROR(INDEX(年齢階層×在院期間区分F3[#All],MATCH($AL6,年齢階層×在院期間区分F3[[#All],[行ラベル]],0),MATCH($BA$3,年齢階層×在院期間区分F3[#Headers],0)),0)+IFERROR(INDEX(年齢階層×在院期間区分F3[#All],MATCH($AL6,年齢階層×在院期間区分F3[[#All],[行ラベル]],0),MATCH($BB$3,年齢階層×在院期間区分F3[#Headers],0)),0)","v":1},1.3888888888888888E-2,61,4.0157998683344305E-2,null,null,"30歳代",24,25,6,2,0,1,1,1,0,0,0,0,0,0,1,0,null,null,null,null,null,null,"30歳代"]
[null,"40歳代",{"$f":"IFERROR(INDEX(年齢階層×在院期間区分F3[#All],MATCH($AL7,年齢階層×在院期間区分F3[[#All],[行ラベル]],0),MATCH($AM$3,年齢階層×在院期間区分F3[#Headers],0)),0)+IFERROR(INDEX(年齢階層×在院期間区分F3[#All],MATCH($AL7,年齢階層×在院期間区分F3[[#All],[行ラベル]],0),MATCH($AN$3,年齢階層×在院期間区分F3[#Headers],0)),0)+IFERROR(INDEX(年齢階層×在院期間区分F3[#All],MATCH($AL7,年齢階層×在院期間区分F3[[#All],[行ラベル]],0),MATCH($AO$3,年齢階層×在院期間区分F3[#Headers],0)),0)+IFERROR(INDEX(年齢階層×在院期間区分F3[#All],MATCH($AL7,年齢階層×在院期間区分F3[[#All],[行ラベル]],0),MATCH($AP$3,年齢階層×在院期間区分F3[#Headers],0)),0)","v":79},8.5683297180043388E-2,{"$f":"IFERROR(INDEX(年齢階層×在院期間区分F3[#All],MATCH($AL7,年齢階層×在院期間区分F3[[#All],[行ラベル]],0),MATCH($AQ$3,年齢階層×在院期間区分F3[#Headers],0)),0)+IFERROR(INDEX(年齢階層×在院期間区分F3[#All],MATCH($AL7,年齢階層×在院期間区分F3[[#All],[行ラベル]],0),MATCH($AR$3,年齢階層×在院期間区分F3[#Headers],0)),0)+IFERROR(INDEX(年齢階層×在院期間区分F3[#All],MATCH($AL7,年齢階層×在院期間区分F3[[#All],[行ラベル]],0),MATCH($AS$3,年齢階層×在院期間区分F3[#Headers],0)),0)+IFERROR(INDEX(年齢階層×在院期間区分F3[#All],MATCH($AL7,年齢階層×在院期間区分F3[[#All],[行ラベル]],0),MATCH($AT$3,年齢階層×在院期間区分F3[#Headers],0)),0)+IFERROR(INDEX(年齢階層×在院期間区分F3[#All],MATCH($AL7,年齢階層×在院期間区分F3[[#All],[行ラベル]],0),MATCH($AU$3,年齢階層×在院期間区分F3[#Headers],0)),0)","v":8},2.0512820512820513E-2,{"$f":"IFERROR(INDEX(年齢階層×在院期間区分F3[#All],MATCH($AL7,年齢階層×在院期間区分F3[[#All],[行ラベル]],0),MATCH($AV$3,年齢階層×在院期間区分F3[#Headers],0)),0)+IFERROR(INDEX(年齢階層×在院期間区分F3[#All],MATCH($AL7,年齢階層×在院期間区分F3[[#All],[行ラベル]],0),MATCH($AW$3,年齢階層×在院期間区分F3[#Headers],0)),0)+IFERROR(INDEX(年齢階層×在院期間区分F3[#All],MATCH($AL7,年齢階層×在院期間区分F3[[#All],[行ラベル]],0),MATCH($AX$3,年齢階層×在院期間区分F3[#Headers],0)),0)+IFERROR(INDEX(年齢階層×在院期間区分F3[#All],MATCH($AL7,年齢階層×在院期間区分F3[[#All],[行ラベル]],0),MATCH($AY$3,年齢階層×在院期間区分F3[#Headers],0)),0)+IFERROR(INDEX(年齢階層×在院期間区分F3[#All],MATCH($AL7,年齢階層×在院期間区分F3[[#All],[行ラベル]],0),MATCH($AZ$3,年齢階層×在院期間区分F3[#Headers],0)),0)","v":2},1.4814814814814815E-2,{"$f":"IFERROR(INDEX(年齢階層×在院期間区分F3[#All],MATCH($AL7,年齢階層×在院期間区分F3[[#All],[行ラベル]],0),MATCH($BA$3,年齢階層×在院期間区分F3[#Headers],0)),0)+IFERROR(INDEX(年齢階層×在院期間区分F3[#All],MATCH($AL7,年齢階層×在院期間区分F3[[#All],[行ラベル]],0),MATCH($BB$3,年齢階層×在院期間区分F3[#Headers],0)),0)","v":1},1.3888888888888888E-2,90,5.9249506254114549E-2,null,null,"40歳代",51,21,2,5,3,3,0,1,1,1,0,0,1,0,0,1,null,null,null,null,null,null,"40歳代"]
[null,"50歳代",{"$f":"IFERROR(INDEX(年齢階層×在院期間区分F3[#All],MATCH($AL8,年齢階層×在院期間区分F3[[#All],[行ラベル]],0),MATCH($AM$3,年齢階層×在院期間区分F3[#Headers],0)),0)+IFERROR(INDEX(年齢階層×在院期間区分F3[#All],MATCH($AL8,年齢階層×在院期間区分F3[[#All],[行ラベル]],0),MATCH($AN$3,年齢階層×在院期間区分F3[#Headers],0)),0)+IFERROR(INDEX(年齢階層×在院期間区分F3[#All],MATCH($AL8,年齢階層×在院期間区分F3[[#All],[行ラベル]],0),MATCH($AO$3,年齢階層×在院期間区分F3[#Headers],0)),0)+IFERROR(INDEX(年齢階層×在院期間区分F3[#All],MATCH($AL8,年齢階層×在院期間区分F3[[#All],[行ラベル]],0),MATCH($AP$3,年齢階層×在院期間区分F3[#Headers],0)),0)","v":154},0.16702819956616052,{"$f":"IFERROR(INDEX(年齢階層×在院期間区分F3[#All],MATCH($AL8,年齢階層×在院期間区分F3[[#All],[行ラベル]],0),MATCH($AQ$3,年齢階層×在院期間区分F3[#Headers],0)),0)+IFERROR(INDEX(年齢階層×在院期間区分F3[#All],MATCH($AL8,年齢階層×在院期間区分F3[[#All],[行ラベル]],0),MATCH($AR$3,年齢階層×在院期間区分F3[#Headers],0)),0)+IFERROR(INDEX(年齢階層×在院期間区分F3[#All],MATCH($AL8,年齢階層×在院期間区分F3[[#All],[行ラベル]],0),MATCH($AS$3,年齢階層×在院期間区分F3[#Headers],0)),0)+IFERROR(INDEX(年齢階層×在院期間区分F3[#All],MATCH($AL8,年齢階層×在院期間区分F3[[#All],[行ラベル]],0),MATCH($AT$3,年齢階層×在院期間区分F3[#Headers],0)),0)+IFERROR(INDEX(年齢階層×在院期間区分F3[#All],MATCH($AL8,年齢階層×在院期間区分F3[[#All],[行ラベル]],0),MATCH($AU$3,年齢階層×在院期間区分F3[#Headers],0)),0)","v":43},0.11025641025641025,{"$f":"IFERROR(INDEX(年齢階層×在院期間区分F3[#All],MATCH($AL8,年齢階層×在院期間区分F3[[#All],[行ラベル]],0),MATCH($AV$3,年齢階層×在院期間区分F3[#Headers],0)),0)+IFERROR(INDEX(年齢階層×在院期間区分F3[#All],MATCH($AL8,年齢階層×在院期間区分F3[[#All],[行ラベル]],0),MATCH($AW$3,年齢階層×在院期間区分F3[#Headers],0)),0)+IFERROR(INDEX(年齢階層×在院期間区分F3[#All],MATCH($AL8,年齢階層×在院期間区分F3[[#All],[行ラベル]],0),MATCH($AX$3,年齢階層×在院期間区分F3[#Headers],0)),0)+IFERROR(INDEX(年齢階層×在院期間区分F3[#All],MATCH($AL8,年齢階層×在院期間区分F3[[#All],[行ラベル]],0),MATCH($AY$3,年齢階層×在院期間区分F3[#Headers],0)),0)+IFERROR(INDEX(年齢階層×在院期間区分F3[#All],MATCH($AL8,年齢階層×在院期間区分F3[[#All],[行ラベル]],0),MATCH($AZ$3,年齢階層×在院期間区分F3[#Headers],0)),0)","v":10},7.407407407407407E-2,{"$f":"IFERROR(INDEX(年齢階層×在院期間区分F3[#All],MATCH($AL8,年齢階層×在院期間区分F3[[#All],[行ラベル]],0),MATCH($BA$3,年齢階層×在院期間区分F3[#Headers],0)),0)+IFERROR(INDEX(年齢階層×在院期間区分F3[#All],MATCH($AL8,年齢階層×在院期間区分F3[[#All],[行ラベル]],0),MATCH($BB$3,年齢階層×在院期間区分F3[#Headers],0)),0)","v":7},9.7222222222222224E-2,214,0.14088215931533904,null,null,"50歳代",72,54,13,15,13,9,7,8,6,4,3,0,1,2,7,0,null,null,null,null,null,null,"50歳代"]
[null,"60歳代",{"$f":"IFERROR(INDEX(年齢階層×在院期間区分F3[#All],MATCH($AL9,年齢階層×在院期間区分F3[[#All],[行ラベル]],0),MATCH($AM$3,年齢階層×在院期間区分F3[#Headers],0)),0)+IFERROR(INDEX(年齢階層×在院期間区分F3[#All],MATCH($AL9,年齢階層×在院期間区分F3[[#All],[行ラベル]],0),MATCH($AN$3,年齢階層×在院期間区分F3[#Headers],0)),0)+IFERROR(INDEX(年齢階層×在院期間区分F3[#All],MATCH($AL9,年齢階層×在院期間区分F3[[#All],[行ラベル]],0),MATCH($AO$3,年齢階層×在院期間区分F3[#Headers],0)),0)+IFERROR(INDEX(年齢階層×在院期間区分F3[#All],MATCH($AL9,年齢階層×在院期間区分F3[[#All],[行ラベル]],0),MATCH($AP$3,年齢階層×在院期間区分F3[#Headers],0)),0)","v":184},0.19956616052060738,{"$f":"IFERROR(INDEX(年齢階層×在院期間区分F3[#All],MATCH($AL9,年齢階層×在院期間区分F3[[#All],[行ラベル]],0),MATCH($AQ$3,年齢階層×在院期間区分F3[#Headers],0)),0)+IFERROR(INDEX(年齢階層×在院期間区分F3[#All],MATCH($AL9,年齢階層×在院期間区分F3[[#All],[行ラベル]],0),MATCH($AR$3,年齢階層×在院期間区分F3[#Headers],0)),0)+IFERROR(INDEX(年齢階層×在院期間区分F3[#All],MATCH($AL9,年齢階層×在院期間区分F3[[#All],[行ラベル]],0),MATCH($AS$3,年齢階層×在院期間区分F3[#Headers],0)),0)+IFERROR(INDEX(年齢階層×在院期間区分F3[#All],MATCH($AL9,年齢階層×在院期間区分F3[[#All],[行ラベル]],0),MATCH($AT$3,年齢階層×在院期間区分F3[#Headers],0)),0)+IFERROR(INDEX(年齢階層×在院期間区分F3[#All],MATCH($AL9,年齢階層×在院期間区分F3[[#All],[行ラベル]],0),MATCH($AU$3,年齢階層×在院期間区分F3[#Headers],0)),0)","v":80},0.20512820512820512,{"$f":"IFERROR(INDEX(年齢階層×在院期間区分F3[#All],MATCH($AL9,年齢階層×在院期間区分F3[[#All],[行ラベル]],0),MATCH($AV$3,年齢階層×在院期間区分F3[#Headers],0)),0)+IFERROR(INDEX(年齢階層×在院期間区分F3[#All],MATCH($AL9,年齢階層×在院期間区分F3[[#All],[行ラベル]],0),MATCH($AW$3,年齢階層×在院期間区分F3[#Headers],0)),0)+IFERROR(INDEX(年齢階層×在院期間区分F3[#All],MATCH($AL9,年齢階層×在院期間区分F3[[#All],[行ラベル]],0),MATCH($AX$3,年齢階層×在院期間区分F3[#Headers],0)),0)+IFERROR(INDEX(年齢階層×在院期間区分F3[#All],MATCH($AL9,年齢階層×在院期間区分F3[[#All],[行ラベル]],0),MATCH($AY$3,年齢階層×在院期間区分F3[#Headers],0)),0)+IFERROR(INDEX(年齢階層×在院期間区分F3[#All],MATCH($AL9,年齢階層×在院期間区分F3[[#All],[行ラベル]],0),MATCH($AZ$3,年齢階層×在院期間区分F3[#Headers],0)),0)","v":21},0.15555555555555556,{"$f":"IFERROR(INDEX(年齢階層×在院期間区分F3[#All],MATCH($AL9,年齢階層×在院期間区分F3[[#All],[行ラベル]],0),MATCH($BA$3,年齢階層×在院期間区分F3[#Headers],0)),0)+IFERROR(INDEX(年齢階層×在院期間区分F3[#All],MATCH($AL9,年齢階層×在院期間区分F3[[#All],[行ラベル]],0),MATCH($BB$3,年齢階層×在院期間区分F3[#Headers],0)),0)","v":7},9.7222222222222224E-2,292,0.19223173140223832,null,null,"60歳代",61,73,26,24,21,13,26,14,6,9,4,2,4,2,5,2,null,null,null,null,null,null,"60歳代"]
[null,"70歳代",{"$f":"IFERROR(INDEX(年齢階層×在院期間区分F3[#All],MATCH($AL10,年齢階層×在院期間区分F3[[#All],[行ラベル]],0),MATCH($AM$3,年齢階層×在院期間区分F3[#Headers],0)),0)+IFERROR(INDEX(年齢階層×在院期間区分F3[#All],MATCH($AL10,年齢階層×在院期間区分F3[[#All],[行ラベル]],0),MATCH($AN$3,年齢階層×在院期間区分F3[#Headers],0)),0)+IFERROR(INDEX(年齢階層×在院期間区分F3[#All],MATCH($AL10,年齢階層×在院期間区分F3[[#All],[行ラベル]],0),MATCH($AO$3,年齢階層×在院期間区分F3[#Headers],0)),0)+IFERROR(INDEX(年齢階層×在院期間区分F3[#All],MATCH($AL10,年齢階層×在院期間区分F3[[#All],[行ラベル]],0),MATCH($AP$3,年齢階層×在院期間区分F3[#Headers],0)),0)","v":214},0.23210412147505424,{"$f":"IFERROR(INDEX(年齢階層×在院期間区分F3[#All],MATCH($AL10,年齢階層×在院期間区分F3[[#All],[行ラベル]],0),MATCH($AQ$3,年齢階層×在院期間区分F3[#Headers],0)),0)+IFERROR(INDEX(年齢階層×在院期間区分F3[#All],MATCH($AL10,年齢階層×在院期間区分F3[[#All],[行ラベル]],0),MATCH($AR$3,年齢階層×在院期間区分F3[#Headers],0)),0)+IFERROR(INDEX(年齢階層×在院期間区分F3[#All],MATCH($AL10,年齢階層×在院期間区分F3[[#All],[行ラベル]],0),MATCH($AS$3,年齢階層×在院期間区分F3[#Headers],0)),0)+IFERROR(INDEX(年齢階層×在院期間区分F3[#All],MATCH($AL10,年齢階層×在院期間区分F3[[#All],[行ラベル]],0),MATCH($AT$3,年齢階層×在院期間区分F3[#Headers],0)),0)+IFERROR(INDEX(年齢階層×在院期間区分F3[#All],MATCH($AL10,年齢階層×在院期間区分F3[[#All],[行ラベル]],0),MATCH($AU$3,年齢階層×在院期間区分F3[#Headers],0)),0)","v":121},0.31025641025641026,{"$f":"IFERROR(INDEX(年齢階層×在院期間区分F3[#All],MATCH($AL10,年齢階層×在院期間区分F3[[#All],[行ラベル]],0),MATCH($AV$3,年齢階層×在院期間区分F3[#Headers],0)),0)+IFERROR(INDEX(年齢階層×在院期間区分F3[#All],MATCH($AL10,年齢階層×在院期間区分F3[[#All],[行ラベル]],0),MATCH($AW$3,年齢階層×在院期間区分F3[#Headers],0)),0)+IFERROR(INDEX(年齢階層×在院期間区分F3[#All],MATCH($AL10,年齢階層×在院期間区分F3[[#All],[行ラベル]],0),MATCH($AX$3,年齢階層×在院期間区分F3[#Headers],0)),0)+IFERROR(INDEX(年齢階層×在院期間区分F3[#All],MATCH($AL10,年齢階層×在院期間区分F3[[#All],[行ラベル]],0),MATCH($AY$3,年齢階層×在院期間区分F3[#Headers],0)),0)+IFERROR(INDEX(年齢階層×在院期間区分F3[#All],MATCH($AL10,年齢階層×在院期間区分F3[[#All],[行ラベル]],0),MATCH($AZ$3,年齢階層×在院期間区分F3[#Headers],0)),0)","v":45},0.33333333333333331,{"$f":"IFERROR(INDEX(年齢階層×在院期間区分F3[#All],MATCH($AL10,年齢階層×在院期間区分F3[[#All],[行ラベル]],0),MATCH($BA$3,年齢階層×在院期間区分F3[#Headers],0)),0)+IFERROR(INDEX(年齢階層×在院期間区分F3[#All],MATCH($AL10,年齢階層×在院期間区分F3[[#All],[行ラベル]],0),MATCH($BB$3,年齢階層×在院期間区分F3[#Headers],0)),0)","v":32},0.44444444444444442,412,0.27123107307439104,null,null,"70歳代",57,88,40,29,30,21,32,22,16,15,14,7,7,2,25,7,null,null,null,null,null,null,"70歳代"]
[null,"80歳代",{"$f":"IFERROR(INDEX(年齢階層×在院期間区分F3[#All],MATCH($AL11,年齢階層×在院期間区分F3[[#All],[行ラベル]],0),MATCH($AM$3,年齢階層×在院期間区分F3[#Headers],0)),0)+IFERROR(INDEX(年齢階層×在院期間区分F3[#All],MATCH($AL11,年齢階層×在院期間区分F3[[#All],[行ラベル]],0),MATCH($AN$3,年齢階層×在院期間区分F3[#Headers],0)),0)+IFERROR(INDEX(年齢階層×在院期間区分F3[#All],MATCH($AL11,年齢階層×在院期間区分F3[[#All],[行ラベル]],0),MATCH($AO$3,年齢階層×在院期間区分F3[#Headers],0)),0)+IFERROR(INDEX(年齢階層×在院期間区分F3[#All],MATCH($AL11,年齢階層×在院期間区分F3[[#All],[行ラベル]],0),MATCH($AP$3,年齢階層×在院期間区分F3[#Headers],0)),0)","v":140},0.15184381778741865,{"$f":"IFERROR(INDEX(年齢階層×在院期間区分F3[#All],MATCH($AL11,年齢階層×在院期間区分F3[[#All],[行ラベル]],0),MATCH($AQ$3,年齢階層×在院期間区分F3[#Headers],0)),0)+IFERROR(INDEX(年齢階層×在院期間区分F3[#All],MATCH($AL11,年齢階層×在院期間区分F3[[#All],[行ラベル]],0),MATCH($AR$3,年齢階層×在院期間区分F3[#Headers],0)),0)+IFERROR(INDEX(年齢階層×在院期間区分F3[#All],MATCH($AL11,年齢階層×在院期間区分F3[[#All],[行ラベル]],0),MATCH($AS$3,年齢階層×在院期間区分F3[#Headers],0)),0)+IFERROR(INDEX(年齢階層×在院期間区分F3[#All],MATCH($AL11,年齢階層×在院期間区分F3[[#All],[行ラベル]],0),MATCH($AT$3,年齢階層×在院期間区分F3[#Headers],0)),0)+IFERROR(INDEX(年齢階層×在院期間区分F3[#All],MATCH($AL11,年齢階層×在院期間区分F3[[#All],[行ラベル]],0),MATCH($AU$3,年齢階層×在院期間区分F3[#Headers],0)),0)","v":103},0.26410256410256411,{"$f":"IFERROR(INDEX(年齢階層×在院期間区分F3[#All],MATCH($AL11,年齢階層×在院期間区分F3[[#All],[行ラベル]],0),MATCH($AV$3,年齢階層×在院期間区分F3[#Headers],0)),0)+IFERROR(INDEX(年齢階層×在院期間区分F3[#All],MATCH($AL11,年齢階層×在院期間区分F3[[#All],[行ラベル]],0),MATCH($AW$3,年齢階層×在院期間区分F3[#Headers],0)),0)+IFERROR(INDEX(年齢階層×在院期間区分F3[#All],MATCH($AL11,年齢階層×在院期間区分F3[[#All],[行ラベル]],0),MATCH($AX$3,年齢階層×在院期間区分F3[#Headers],0)),0)+IFERROR(INDEX(年齢階層×在院期間区分F3[#All],MATCH($AL11,年齢階層×在院期間区分F3[[#All],[行ラベル]],0),MATCH($AY$3,年齢階層×在院期間区分F3[#Headers],0)),0)+IFERROR(INDEX(年齢階層×在院期間区分F3[#All],MATCH($AL11,年齢階層×在院期間区分F3[[#All],[行ラベル]],0),MATCH($AZ$3,年齢階層×在院期間区分F3[#Headers],0)),0)","v":46},0.34074074074074073,{"$f":"IFERROR(INDEX(年齢階層×在院期間区分F3[#All],MATCH($AL11,年齢階層×在院期間区分F3[[#All],[行ラベル]],0),MATCH($BA$3,年齢階層×在院期間区分F3[#Headers],0)),0)+IFERROR(INDEX(年齢階層×在院期間区分F3[#All],MATCH($AL11,年齢階層×在院期間区分F3[[#All],[行ラベル]],0),MATCH($BB$3,年齢階層×在院期間区分F3[#Headers],0)),0)","v":22},0.30555555555555558,311,0.20473996050032917,null,null,"80歳代",29,43,27,41,20,16,23,32,12,15,11,4,9,7,19,3,null,null,null,null,null,null,"80歳代"]
[null,"90歳以上",{"$f":"IFERROR(INDEX(年齢階層×在院期間区分F3[#All],MATCH($AL12,年齢階層×在院期間区分F3[[#All],[行ラベル]],0),MATCH($AM$3,年齢階層×在院期間区分F3[#Headers],0)),0)+IFERROR(INDEX(年齢階層×在院期間区分F3[#All],MATCH($AL12,年齢階層×在院期間区分F3[[#All],[行ラベル]],0),MATCH($AN$3,年齢階層×在院期間区分F3[#Headers],0)),0)+IFERROR(INDEX(年齢階層×在院期間区分F3[#All],MATCH($AL12,年齢階層×在院期間区分F3[[#All],[行ラベル]],0),MATCH($AO$3,年齢階層×在院期間区分F3[#Headers],0)),0)+IFERROR(INDEX(年齢階層×在院期間区分F3[#All],MATCH($AL12,年齢階層×在院期間区分F3[[#All],[行ラベル]],0),MATCH($AP$3,年齢階層×在院期間区分F3[#Headers],0)),0)","v":27},2.9284164859002169E-2,{"$f":"IFERROR(INDEX(年齢階層×在院期間区分F3[#All],MATCH($AL12,年齢階層×在院期間区分F3[[#All],[行ラベル]],0),MATCH($AQ$3,年齢階層×在院期間区分F3[#Headers],0)),0)+IFERROR(INDEX(年齢階層×在院期間区分F3[#All],MATCH($AL12,年齢階層×在院期間区分F3[[#All],[行ラベル]],0),MATCH($AR$3,年齢階層×在院期間区分F3[#Headers],0)),0)+IFERROR(INDEX(年齢階層×在院期間区分F3[#All],MATCH($AL12,年齢階層×在院期間区分F3[[#All],[行ラベル]],0),MATCH($AS$3,年齢階層×在院期間区分F3[#Headers],0)),0)+IFERROR(INDEX(年齢階層×在院期間区分F3[#All],MATCH($AL12,年齢階層×在院期間区分F3[[#All],[行ラベル]],0),MATCH($AT$3,年齢階層×在院期間区分F3[#Headers],0)),0)+IFERROR(INDEX(年齢階層×在院期間区分F3[#All],MATCH($AL12,年齢階層×在院期間区分F3[[#All],[行ラベル]],0),MATCH($AU$3,年齢階層×在院期間区分F3[#Headers],0)),0)","v":29},7.4358974358974358E-2,{"$f":"IFERROR(INDEX(年齢階層×在院期間区分F3[#All],MATCH($AL12,年齢階層×在院期間区分F3[[#All],[行ラベル]],0),MATCH($AV$3,年齢階層×在院期間区分F3[#Headers],0)),0)+IFERROR(INDEX(年齢階層×在院期間区分F3[#All],MATCH($AL12,年齢階層×在院期間区分F3[[#All],[行ラベル]],0),MATCH($AW$3,年齢階層×在院期間区分F3[#Headers],0)),0)+IFERROR(INDEX(年齢階層×在院期間区分F3[#All],MATCH($AL12,年齢階層×在院期間区分F3[[#All],[行ラベル]],0),MATCH($AX$3,年齢階層×在院期間区分F3[#Headers],0)),0)+IFERROR(INDEX(年齢階層×在院期間区分F3[#All],MATCH($AL12,年齢階層×在院期間区分F3[[#All],[行ラベル]],0),MATCH($AY$3,年齢階層×在院期間区分F3[#Headers],0)),0)+IFERROR(INDEX(年齢階層×在院期間区分F3[#All],MATCH($AL12,年齢階層×在院期間区分F3[[#All],[行ラベル]],0),MATCH($AZ$3,年齢階層×在院期間区分F3[#Headers],0)),0)","v":11},8.1481481481481488E-2,{"$f":"IFERROR(INDEX(年齢階層×在院期間区分F3[#All],MATCH($AL12,年齢階層×在院期間区分F3[[#All],[行ラベル]],0),MATCH($BA$3,年齢階層×在院期間区分F3[#Headers],0)),0)+IFERROR(INDEX(年齢階層×在院期間区分F3[#All],MATCH($AL12,年齢階層×在院期間区分F3[[#All],[行ラベル]],0),MATCH($BB$3,年齢階層×在院期間区分F3[#Headers],0)),0)","v":2},2.7777777777777776E-2,69,4.5424621461487819E-2,null,null,"90歳以上",4,8,5,10,5,7,6,3,8,2,2,3,3,1,1,1,null,null,null,null,null,null,"90歳以上"]
[null,"　総計",{"$f":"SUM(C4:C12)","v":922},1,390,1,135,1,72,1,1519,1,null,null,"列1","01_1ヶ月未満","02_1ヶ月～3ヶ月未満","03_3ヶ月～6ヶ月未満","04_6ヶ月～1年未満","05_1年～1年6ヶ月未満","06_1年6ヶ月～2年未満","07_2年～3年未満","08_3年～4年未満","09_4年～5年未満","10_5年～6年未満","11_6年～7年未満","12_7年～8年未満","13_8年～9年未満","14_9年～10年未満","15_10年～20年未満","16_ 20年以上"]
[null,"65歳未満（再掲）",{"$f":"IFERROR(INDEX(年齢階層×在院期間区分F3_65歳未満以上[#All],MATCH($AL14,年齢階層×在院期間区分F3_65歳未満以上[[#All],[列1]],0),MATCH($AM$3,年齢階層×在院期間区分F3_65歳未満以上[#Headers],0)),0)+IFERROR(INDEX(年齢階層×在院期間区分F3_65歳未満以上[#All],MATCH($AL14,年齢階層×在院期間区分F3_65歳未満以上[[#All],[列1]],0),MATCH($AN$3,年齢階層×在院期間区分F3_65歳未満以上[#Headers],0)),0)+IFERROR(INDEX(年齢階層×在院期間区分F3_65歳未満以上[#All],MATCH($AL14,年齢階層×在院期間区分F3_65歳未満以上[[#All],[列1]],0),MATCH($AO$3,年齢階層×在院期間区分F3_65歳未満以上[#Headers],0)),0)+IFERROR(INDEX(年齢階層×在院期間区分F3_65歳未満以上[#All],MATCH($AL14,年齢階層×在院期間区分F3_65歳未満以上[[#All],[列1]],0),MATCH($AP$3,年齢階層×在院期間区分F3_65歳未満以上[#Headers],0)),0)","v":452},{"$f":"IFERROR(C14/$C$13,\"-\")","v":0.49023861171366595},{"$f":"IFERROR(INDEX(年齢階層×在院期間区分F3_65歳未満以上[#All],MATCH($AL14,年齢階層×在院期間区分F3_65歳未満以上[[#All],[列1]],0),MATCH($AQ$3,年齢階層×在院期間区分F3_65歳未満以上[#Headers],0)),0)+IFERROR(INDEX(年齢階層×在院期間区分F3_65歳未満以上[#All],MATCH($AL14,年齢階層×在院期間区分F3_65歳未満以上[[#All],[列1]],0),MATCH($AR$3,年齢階層×在院期間区分F3_65歳未満以上[#Headers],0)),0)+IFERROR(INDEX(年齢階層×在院期間区分F3_65歳未満以上[#All],MATCH($AL14,年齢階層×在院期間区分F3_65歳未満以上[[#All],[列1]],0),MATCH($AS$3,年齢階層×在院期間区分F3_65歳未満以上[#Headers],0)),0)+IFERROR(INDEX(年齢階層×在院期間区分F3_65歳未満以上[#All],MATCH($AL14,年齢階層×在院期間区分F3_65歳未満以上[[#All],[列1]],0),MATCH($AT$3,年齢階層×在院期間区分F3_65歳未満以上[#Headers],0)),0)+IFERROR(INDEX(年齢階層×在院期間区分F3_65歳未満以上[#All],MATCH($AL14,年齢階層×在院期間区分F3_65歳未満以上[[#All],[列1]],0),MATCH($AU$3,年齢階層×在院期間区分F3_65歳未満以上[#Headers],0)),0)","v":97},{"$f":"IFERROR(E14/$E$13,\"-\")","v":0.24871794871794872},{"$f":"IFERROR(INDEX(年齢階層×在院期間区分F3_65歳未満以上[#All],MATCH($AL14,年齢階層×在院期間区分F3_65歳未満以上[[#All],[列1]],0),MATCH($AV$3,年齢階層×在院期間区分F3_65歳未満以上[#Headers],0)),0)+IFERROR(INDEX(年齢階層×在院期間区分F3_65歳未満以上[#All],MATCH($AL14,年齢階層×在院期間区分F3_65歳未満以上[[#All],[列1]],0),MATCH($AW$3,年齢階層×在院期間区分F3_65歳未満以上[#Headers],0)),0)+IFERROR(INDEX(年齢階層×在院期間区分F3_65歳未満以上[#All],MATCH($AL14,年齢階層×在院期間区分F3_65歳未満以上[[#All],[列1]],0),MATCH($AX$3,年齢階層×在院期間区分F3_65歳未満以上[#Headers],0)),0)+IFERROR(INDEX(年齢階層×在院期間区分F3_65歳未満以上[#All],MATCH($AL14,年齢階層×在院期間区分F3_65歳未満以上[[#All],[列1]],0),MATCH($AY$3,年齢階層×在院期間区分F3_65歳未満以上[#Headers],0)),0)+IFERROR(INDEX(年齢階層×在院期間区分F3_65歳未満以上[#All],MATCH($AL14,年齢階層×在院期間区分F3_65歳未満以上[[#All],[列1]],0),MATCH($AZ$3,年齢階層×在院期間区分F3_65歳未満以上[#Headers],0)),0)","v":22},{"$f":"IFERROR(G14/$G$13,\"-\")","v":0.16296296296296298},{"$f":"IFERROR(INDEX(年齢階層×在院期間区分F3_65歳未満以上[#All],MATCH($AL14,年齢階層×在院期間区分F3_65歳未満以上[[#All],[列1]],0),MATCH($BA$3,年齢階層×在院期間区分F3_65歳未満以上[#Headers],0)),0)+IFERROR(INDEX(年齢階層×在院期間区分F3_65歳未満以上[#All],MATCH($AL14,年齢階層×在院期間区分F3_65歳未満以上[[#All],[列1]],0),MATCH($BB$3,年齢階層×在院期間区分F3_65歳未満以上[#Headers],0)),0)","v":12},{"$f":"IFERROR(I14/$I$13,\"-\")","v":0.16666666666666666},{"$f":"SUM(C14,E14,G14,I14)","v":583},{"$f":"IFERROR(K14/$K$13,\"-\")","v":0.38380513495720869},null,null,"65歳未満",216,170,32,34,29,18,22,18,10,10,4,1,4,3,10,2,null,null,null,null,null,null,"65歳未満"]
[null,"65歳以上（再掲）",{"$f":"IFERROR(INDEX(年齢階層×在院期間区分F3_65歳未満以上[#All],MATCH($AL15,年齢階層×在院期間区分F3_65歳未満以上[[#All],[列1]],0),MATCH($AM$3,年齢階層×在院期間区分F3_65歳未満以上[#Headers],0)),0)+IFERROR(INDEX(年齢階層×在院期間区分F3_65歳未満以上[#All],MATCH($AL15,年齢階層×在院期間区分F3_65歳未満以上[[#All],[列1]],0),MATCH($AN$3,年齢階層×在院期間区分F3_65歳未満以上[#Headers],0)),0)+IFERROR(INDEX(年齢階層×在院期間区分F3_65歳未満以上[#All],MATCH($AL15,年齢階層×在院期間区分F3_65歳未満以上[[#All],[列1]],0),MATCH($AO$3,年齢階層×在院期間区分F3_65歳未満以上[#Headers],0)),0)+IFERROR(INDEX(年齢階層×在院期間区分F3_65歳未満以上[#All],MATCH($AL15,年齢階層×在院期間区分F3_65歳未満以上[[#All],[列1]],0),MATCH($AP$3,年齢階層×在院期間区分F3_65歳未満以上[#Headers],0)),0)","v":470},{"$f":"IFERROR(C15/$C$13,\"-\")","v":0.50976138828633411},{"$f":"IFERROR(INDEX(年齢階層×在院期間区分F3_65歳未満以上[#All],MATCH($AL15,年齢階層×在院期間区分F3_65歳未満以上[[#All],[列1]],0),MATCH($AQ$3,年齢階層×在院期間区分F3_65歳未満以上[#Headers],0)),0)+IFERROR(INDEX(年齢階層×在院期間区分F3_65歳未満以上[#All],MATCH($AL15,年齢階層×在院期間区分F3_65歳未満以上[[#All],[列1]],0),MATCH($AR$3,年齢階層×在院期間区分F3_65歳未満以上[#Headers],0)),0)+IFERROR(INDEX(年齢階層×在院期間区分F3_65歳未満以上[#All],MATCH($AL15,年齢階層×在院期間区分F3_65歳未満以上[[#All],[列1]],0),MATCH($AS$3,年齢階層×在院期間区分F3_65歳未満以上[#Headers],0)),0)+IFERROR(INDEX(年齢階層×在院期間区分F3_65歳未満以上[#All],MATCH($AL15,年齢階層×在院期間区分F3_65歳未満以上[[#All],[列1]],0),MATCH($AT$3,年齢階層×在院期間区分F3_65歳未満以上[#Headers],0)),0)+IFERROR(INDEX(年齢階層×在院期間区分F3_65歳未満以上[#All],MATCH($AL15,年齢階層×在院期間区分F3_65歳未満以上[[#All],[列1]],0),MATCH($AU$3,年齢階層×在院期間区分F3_65歳未満以上[#Headers],0)),0)","v":293},{"$f":"IFERROR(E15/$E$13,\"-\")","v":0.75128205128205128},{"$f":"IFERROR(INDEX(年齢階層×在院期間区分F3_65歳未満以上[#All],MATCH($AL15,年齢階層×在院期間区分F3_65歳未満以上[[#All],[列1]],0),MATCH($AV$3,年齢階層×在院期間区分F3_65歳未満以上[#Headers],0)),0)+IFERROR(INDEX(年齢階層×在院期間区分F3_65歳未満以上[#All],MATCH($AL15,年齢階層×在院期間区分F3_65歳未満以上[[#All],[列1]],0),MATCH($AW$3,年齢階層×在院期間区分F3_65歳未満以上[#Headers],0)),0)+IFERROR(INDEX(年齢階層×在院期間区分F3_65歳未満以上[#All],MATCH($AL15,年齢階層×在院期間区分F3_65歳未満以上[[#All],[列1]],0),MATCH($AX$3,年齢階層×在院期間区分F3_65歳未満以上[#Headers],0)),0)+IFERROR(INDEX(年齢階層×在院期間区分F3_65歳未満以上[#All],MATCH($AL15,年齢階層×在院期間区分F3_65歳未満以上[[#All],[列1]],0),MATCH($AY$3,年齢階層×在院期間区分F3_65歳未満以上[#Headers],0)),0)+IFERROR(INDEX(年齢階層×在院期間区分F3_65歳未満以上[#All],MATCH($AL15,年齢階層×在院期間区分F3_65歳未満以上[[#All],[列1]],0),MATCH($AZ$3,年齢階層×在院期間区分F3_65歳未満以上[#Headers],0)),0)","v":113},{"$f":"IFERROR(G15/$G$13,\"-\")","v":0.83703703703703702},{"$f":"IFERROR(INDEX(年齢階層×在院期間区分F3_65歳未満以上[#All],MATCH($AL15,年齢階層×在院期間区分F3_65歳未満以上[[#All],[列1]],0),MATCH($BA$3,年齢階層×在院期間区分F3_65歳未満以上[#Headers],0)),0)+IFERROR(INDEX(年齢階層×在院期間区分F3_65歳未満以上[#All],MATCH($AL15,年齢階層×在院期間区分F3_65歳未満以上[[#All],[列1]],0),MATCH($BB$3,年齢階層×在院期間区分F3_65歳未満以上[#Headers],0)),0)","v":60},{"$f":"IFERROR(I15/$I13,\"-\")","v":0.83333333333333337},{"$f":"C15+E15+G15+I15","v":936},{"$f":"IFERROR(K15/$K$13,\"-\")","v":0.61619486504279131},null,null,"65歳以上",118,171,88,93,64,53,74,63,39,36,30,15,21,11,48,12,null,null,null,null,null,null,"65歳以上"]
[]
[null,"【年齢階層×在院期間区分】〔気分（感情）障害（Ｆ３）〕&〔寛解・院内寛解群〕"]
[null,"年齢階層","在院期間区分",null,null,null,null,null,null,null,null,null,null,null,"データ貼り付け箇所"]
[null,null,"1年未満",null,"1年以上\n5年未満",null,"5年以上\n10年未満",null,"10年以上",null,"合計",null,null,null,"行ラベル","01_1ヶ月未満","02_1ヶ月～3ヶ月未満","03_3ヶ月～6ヶ月未満","04_6ヶ月～1年未満","05_1年～1年6ヶ月未満","06_1年6ヶ月～2年未満","07_2年～3年未満","08_3年～4年未満","09_4年～5年未満","10_5年～6年未満","11_6年～7年未満","12_7年～8年未満","13_8年～9年未満","14_9年～10年未満","15_10年～20年未満","16_ 20年以上"]
[null,"19歳以下",{"$f":"IFERROR(INDEX(年齢階層×在院期間区分F3＿寛解・院内寛解[#All],MATCH($AL20,年齢階層×在院期間区分F3＿寛解・院内寛解[[#All],[行ラベル]],0),MATCH($AM$3,年齢階層×在院期間区分F3＿寛解・院内寛解[#Headers],0)),0)+IFERROR(INDEX(年齢階層×在院期間区分F3＿寛解・院内寛解[#All],MATCH($AL20,年齢階層×在院期間区分F3＿寛解・院内寛解[[#All],[行ラベル]],0),MATCH($AN$3,年齢階層×在院期間区分F3＿寛解・院内寛解[#Headers],0)),0)+IFERROR(INDEX(年齢階層×在院期間区分F3＿寛解・院内寛解[#All],MATCH($AL20,年齢階層×在院期間区分F3＿寛解・院内寛解[[#All],[行ラベル]],0),MATCH($AO$3,年齢階層×在院期間区分F3＿寛解・院内寛解[#Headers],0)),0)+IFERROR(INDEX(年齢階層×在院期間区分F3＿寛解・院内寛解[#All],MATCH($AL20,年齢階層×在院期間区分F3＿寛解・院内寛解[[#All],[行ラベル]],0),MATCH($AP$3,年齢階層×在院期間区分F3＿寛解・院内寛解[#Headers],0)),0)","v":6},{"$f":"IFERROR(C20/$C$29,\"-\")","v":2.3529411764705882E-2},{"$f":"IFERROR(INDEX(年齢階層×在院期間区分F3＿寛解・院内寛解[#All],MATCH($AL20,年齢階層×在院期間区分F3＿寛解・院内寛解[[#All],[行ラベル]],0),MATCH($AQ$3,年齢階層×在院期間区分F3＿寛解・院内寛解[#Headers],0)),0)+IFERROR(INDEX(年齢階層×在院期間区分F3＿寛解・院内寛解[#All],MATCH($AL20,年齢階層×在院期間区分F3＿寛解・院内寛解[[#All],[行ラベル]],0),MATCH($AR$3,年齢階層×在院期間区分F3＿寛解・院内寛解[#Headers],0)),0)+IFERROR(INDEX(年齢階層×在院期間区分F3＿寛解・院内寛解[#All],MATCH($AL20,年齢階層×在院期間区分F3＿寛解・院内寛解[[#All],[行ラベル]],0),MATCH($AS$3,年齢階層×在院期間区分F3＿寛解・院内寛解[#Headers],0)),0)+IFERROR(INDEX(年齢階層×在院期間区分F3＿寛解・院内寛解[#All],MATCH($AL20,年齢階層×在院期間区分F3＿寛解・院内寛解[[#All],[行ラベル]],0),MATCH($AT$3,年齢階層×在院期間区分F3＿寛解・院内寛解[#Headers],0)),0)+IFERROR(INDEX(年齢階層×在院期間区分F3＿寛解・院内寛解[#All],MATCH($AL20,年齢階層×在院期間区分F3＿寛解・院内寛解[[#All],[行ラベル]],0),MATCH($AU$3,年齢階層×在院期間区分F3＿寛解・院内寛解[#Headers],0)),0)","v":0},{"$f":"IFERROR(E20/$E$29,\"-\")","v":0},{"$f":"IFERROR(INDEX(年齢階層×在院期間区分F3＿寛解・院内寛解[#All],MATCH($AL20,年齢階層×在院期間区分F3＿寛解・院内寛解[[#All],[行ラベル]],0),MATCH($AV$3,年齢階層×在院期間区分F3＿寛解・院内寛解[#Headers],0)),0)+IFERROR(INDEX(年齢階層×在院期間区分F3＿寛解・院内寛解[#All],MATCH($AL20,年齢階層×在院期間区分F3＿寛解・院内寛解[[#All],[行ラベル]],0),MATCH($AW$3,年齢階層×在院期間区分F3＿寛解・院内寛解[#Headers],0)),0)+IFERROR(INDEX(年齢階層×在院期間区分F3＿寛解・院内寛解[#All],MATCH($AL20,年齢階層×在院期間区分F3＿寛解・院内寛解[[#All],[行ラベル]],0),MATCH($AX$3,年齢階層×在院期間区分F3＿寛解・院内寛解[#Headers],0)),0)+IFERROR(INDEX(年齢階層×在院期間区分F3＿寛解・院内寛解[#All],MATCH($AL20,年齢階層×在院期間区分F3＿寛解・院内寛解[[#All],[行ラベル]],0),MATCH($AY$3,年齢階層×在院期間区分F3＿寛解・院内寛解[#Headers],0)),0)+IFERROR(INDEX(年齢階層×在院期間区分F3＿寛解・院内寛解[#All],MATCH($AL20,年齢階層×在院期間区分F3＿寛解・院内寛解[[#All],[行ラベル]],0),MATCH($AZ$3,年齢階層×在院期間区分F3＿寛解・院内寛解[#Headers],0)),0)","v":0},{"$f":"IFERROR(G20/$G$29,\"-\")","v":0},{"$f":"IFERROR(INDEX(年齢階層×在院期間区分F3＿寛解・院内寛解[#All],MATCH($AL20,年齢階層×在院期間区分F3＿寛解・院内寛解[[#All],[行ラベル]],0),MATCH($BA$3,年齢階層×在院期間区分F3＿寛解・院内寛解[#Headers],0)),0)+IFERROR(INDEX(年齢階層×在院期間区分F3＿寛解・院内寛解[#All],MATCH($AL20,年齢階層×在院期間区分F3＿寛解・院内寛解[[#All],[行ラベル]],0),MATCH($BB$3,年齢階層×在院期間区分F3＿寛解・院内寛解[#Headers],0)),0)","v":0},{"$f":"IFERROR(I20/$I$29,\"-\")","v":0},{"$f":"SUM(C20,E20,G20,I20)","v":6},{"$f":"IFERROR(K20/$K$29,\"-\")","v":1.8691588785046728E-2},null,null,"19歳以下",2,3,1,0,0,0,0,0,0,0,0,0,0,0,0,0,null,null,null,null,null,null,"19歳以下"]
[null,"20歳代",{"$f":"IFERROR(INDEX(年齢階層×在院期間区分F3＿寛解・院内寛解[#All],MATCH($AL21,年齢階層×在院期間区分F3＿寛解・院内寛解[[#All],[行ラベル]],0),MATCH($AM$3,年齢階層×在院期間区分F3＿寛解・院内寛解[#Headers],0)),0)+IFERROR(INDEX(年齢階層×在院期間区分F3＿寛解・院内寛解[#All],MATCH($AL21,年齢階層×在院期間区分F3＿寛解・院内寛解[[#All],[行ラベル]],0),MATCH($AN$3,年齢階層×在院期間区分F3＿寛解・院内寛解[#Headers],0)),0)+IFERROR(INDEX(年齢階層×在院期間区分F3＿寛解・院内寛解[#All],MATCH($AL21,年齢階層×在院期間区分F3＿寛解・院内寛解[[#All],[行ラベル]],0),MATCH($AO$3,年齢階層×在院期間区分F3＿寛解・院内寛解[#Headers],0)),0)+IFERROR(INDEX(年齢階層×在院期間区分F3＿寛解・院内寛解[#All],MATCH($AL21,年齢階層×在院期間区分F3＿寛解・院内寛解[[#All],[行ラベル]],0),MATCH($AP$3,年齢階層×在院期間区分F3＿寛解・院内寛解[#Headers],0)),0)","v":19},7.4509803921568626E-2,{"$f":"IFERROR(INDEX(年齢階層×在院期間区分F3＿寛解・院内寛解[#All],MATCH($AL21,年齢階層×在院期間区分F3＿寛解・院内寛解[[#All],[行ラベル]],0),MATCH($AQ$3,年齢階層×在院期間区分F3＿寛解・院内寛解[#Headers],0)),0)+IFERROR(INDEX(年齢階層×在院期間区分F3＿寛解・院内寛解[#All],MATCH($AL21,年齢階層×在院期間区分F3＿寛解・院内寛解[[#All],[行ラベル]],0),MATCH($AR$3,年齢階層×在院期間区分F3＿寛解・院内寛解[#Headers],0)),0)+IFERROR(INDEX(年齢階層×在院期間区分F3＿寛解・院内寛解[#All],MATCH($AL21,年齢階層×在院期間区分F3＿寛解・院内寛解[[#All],[行ラベル]],0),MATCH($AS$3,年齢階層×在院期間区分F3＿寛解・院内寛解[#Headers],0)),0)+IFERROR(INDEX(年齢階層×在院期間区分F3＿寛解・院内寛解[#All],MATCH($AL21,年齢階層×在院期間区分F3＿寛解・院内寛解[[#All],[行ラベル]],0),MATCH($AT$3,年齢階層×在院期間区分F3＿寛解・院内寛解[#Headers],0)),0)+IFERROR(INDEX(年齢階層×在院期間区分F3＿寛解・院内寛解[#All],MATCH($AL21,年齢階層×在院期間区分F3＿寛解・院内寛解[[#All],[行ラベル]],0),MATCH($AU$3,年齢階層×在院期間区分F3＿寛解・院内寛解[#Headers],0)),0)","v":1},2.3255813953488372E-2,{"$f":"IFERROR(INDEX(年齢階層×在院期間区分F3＿寛解・院内寛解[#All],MATCH($AL21,年齢階層×在院期間区分F3＿寛解・院内寛解[[#All],[行ラベル]],0),MATCH($AV$3,年齢階層×在院期間区分F3＿寛解・院内寛解[#Headers],0)),0)+IFERROR(INDEX(年齢階層×在院期間区分F3＿寛解・院内寛解[#All],MATCH($AL21,年齢階層×在院期間区分F3＿寛解・院内寛解[[#All],[行ラベル]],0),MATCH($AW$3,年齢階層×在院期間区分F3＿寛解・院内寛解[#Headers],0)),0)+IFERROR(INDEX(年齢階層×在院期間区分F3＿寛解・院内寛解[#All],MATCH($AL21,年齢階層×在院期間区分F3＿寛解・院内寛解[[#All],[行ラベル]],0),MATCH($AX$3,年齢階層×在院期間区分F3＿寛解・院内寛解[#Headers],0)),0)+IFERROR(INDEX(年齢階層×在院期間区分F3＿寛解・院内寛解[#All],MATCH($AL21,年齢階層×在院期間区分F3＿寛解・院内寛解[[#All],[行ラベル]],0),MATCH($AY$3,年齢階層×在院期間区分F3＿寛解・院内寛解[#Headers],0)),0)+IFERROR(INDEX(年齢階層×在院期間区分F3＿寛解・院内寛解[#All],MATCH($AL21,年齢階層×在院期間区分F3＿寛解・院内寛解[[#All],[行ラベル]],0),MATCH($AZ$3,年齢階層×在院期間区分F3＿寛解・院内寛解[#Headers],0)),0)","v":0},0,{"$f":"IFERROR(INDEX(年齢階層×在院期間区分F3＿寛解・院内寛解[#All],MATCH($AL21,年齢階層×在院期間区分F3＿寛解・院内寛解[[#All],[行ラベル]],0),MATCH($BA$3,年齢階層×在院期間区分F3＿寛解・院内寛解[#Headers],0)),0)+IFERROR(INDEX(年齢階層×在院期間区分F3＿寛解・院内寛解[#All],MATCH($AL21,年齢階層×在院期間区分F3＿寛解・院内寛解[[#All],[行ラベル]],0),MATCH($BB$3,年齢階層×在院期間区分F3＿寛解・院内寛解[#Headers],0)),0)","v":0},0,20,6.2305295950155763E-2,null,null,"20歳代",10,9,0,0,0,1,0,0,0,0,0,0,0,0,0,0,null,null,null,null,null,null,"20歳代"]
[null,"30歳代",{"$f":"IFERROR(INDEX(年齢階層×在院期間区分F3＿寛解・院内寛解[#All],MATCH($AL22,年齢階層×在院期間区分F3＿寛解・院内寛解[[#All],[行ラベル]],0),MATCH($AM$3,年齢階層×在院期間区分F3＿寛解・院内寛解[#Headers],0)),0)+IFERROR(INDEX(年齢階層×在院期間区分F3＿寛解・院内寛解[#All],MATCH($AL22,年齢階層×在院期間区分F3＿寛解・院内寛解[[#All],[行ラベル]],0),MATCH($AN$3,年齢階層×在院期間区分F3＿寛解・院内寛解[#Headers],0)),0)+IFERROR(INDEX(年齢階層×在院期間区分F3＿寛解・院内寛解[#All],MATCH($AL22,年齢階層×在院期間区分F3＿寛解・院内寛解[[#All],[行ラベル]],0),MATCH($AO$3,年齢階層×在院期間区分F3＿寛解・院内寛解[#Headers],0)),0)+IFERROR(INDEX(年齢階層×在院期間区分F3＿寛解・院内寛解[#All],MATCH($AL22,年齢階層×在院期間区分F3＿寛解・院内寛解[[#All],[行ラベル]],0),MATCH($AP$3,年齢階層×在院期間区分F3＿寛解・院内寛解[#Headers],0)),0)","v":22},8.6274509803921567E-2,{"$f":"IFERROR(INDEX(年齢階層×在院期間区分F3＿寛解・院内寛解[#All],MATCH($AL22,年齢階層×在院期間区分F3＿寛解・院内寛解[[#All],[行ラベル]],0),MATCH($AQ$3,年齢階層×在院期間区分F3＿寛解・院内寛解[#Headers],0)),0)+IFERROR(INDEX(年齢階層×在院期間区分F3＿寛解・院内寛解[#All],MATCH($AL22,年齢階層×在院期間区分F3＿寛解・院内寛解[[#All],[行ラベル]],0),MATCH($AR$3,年齢階層×在院期間区分F3＿寛解・院内寛解[#Headers],0)),0)+IFERROR(INDEX(年齢階層×在院期間区分F3＿寛解・院内寛解[#All],MATCH($AL22,年齢階層×在院期間区分F3＿寛解・院内寛解[[#All],[行ラベル]],0),MATCH($AS$3,年齢階層×在院期間区分F3＿寛解・院内寛解[#Headers],0)),0)+IFERROR(INDEX(年齢階層×在院期間区分F3＿寛解・院内寛解[#All],MATCH($AL22,年齢階層×在院期間区分F3＿寛解・院内寛解[[#All],[行ラベル]],0),MATCH($AT$3,年齢階層×在院期間区分F3＿寛解・院内寛解[#Headers],0)),0)+IFERROR(INDEX(年齢階層×在院期間区分F3＿寛解・院内寛解[#All],MATCH($AL22,年齢階層×在院期間区分F3＿寛解・院内寛解[[#All],[行ラベル]],0),MATCH($AU$3,年齢階層×在院期間区分F3＿寛解・院内寛解[#Headers],0)),0)","v":0},0,{"$f":"IFERROR(INDEX(年齢階層×在院期間区分F3＿寛解・院内寛解[#All],MATCH($AL22,年齢階層×在院期間区分F3＿寛解・院内寛解[[#All],[行ラベル]],0),MATCH($AV$3,年齢階層×在院期間区分F3＿寛解・院内寛解[#Headers],0)),0)+IFERROR(INDEX(年齢階層×在院期間区分F3＿寛解・院内寛解[#All],MATCH($AL22,年齢階層×在院期間区分F3＿寛解・院内寛解[[#All],[行ラベル]],0),MATCH($AW$3,年齢階層×在院期間区分F3＿寛解・院内寛解[#Headers],0)),0)+IFERROR(INDEX(年齢階層×在院期間区分F3＿寛解・院内寛解[#All],MATCH($AL22,年齢階層×在院期間区分F3＿寛解・院内寛解[[#All],[行ラベル]],0),MATCH($AX$3,年齢階層×在院期間区分F3＿寛解・院内寛解[#Headers],0)),0)+IFERROR(INDEX(年齢階層×在院期間区分F3＿寛解・院内寛解[#All],MATCH($AL22,年齢階層×在院期間区分F3＿寛解・院内寛解[[#All],[行ラベル]],0),MATCH($AY$3,年齢階層×在院期間区分F3＿寛解・院内寛解[#Headers],0)),0)+IFERROR(INDEX(年齢階層×在院期間区分F3＿寛解・院内寛解[#All],MATCH($AL22,年齢階層×在院期間区分F3＿寛解・院内寛解[[#All],[行ラベル]],0),MATCH($AZ$3,年齢階層×在院期間区分F3＿寛解・院内寛解[#Headers],0)),0)","v":0},0,{"$f":"IFERROR(INDEX(年齢階層×在院期間区分F3＿寛解・院内寛解[#All],MATCH($AL22,年齢階層×在院期間区分F3＿寛解・院内寛解[[#All],[行ラベル]],0),MATCH($BA$3,年齢階層×在院期間区分F3＿寛解・院内寛解[#Headers],0)),0)+IFERROR(INDEX(年齢階層×在院期間区分F3＿寛解・院内寛解[#All],MATCH($AL22,年齢階層×在院期間区分F3＿寛解・院内寛解[[#All],[行ラベル]],0),MATCH($BB$3,年齢階層×在院期間区分F3＿寛解・院内寛解[#Headers],0)),0)","v":0},0,22,6.8535825545171333E-2,null,null,"30歳代",10,11,1,0,0,0,0,0,0,0,0,0,0,0,0,0,null,null,null,null,null,null,"30歳代"]
[null,"40歳代",{"$f":"IFERROR(INDEX(年齢階層×在院期間区分F3＿寛解・院内寛解[#All],MATCH($AL23,年齢階層×在院期間区分F3＿寛解・院内寛解[[#All],[行ラベル]],0),MATCH($AM$3,年齢階層×在院期間区分F3＿寛解・院内寛解[#Headers],0)),0)+IFERROR(INDEX(年齢階層×在院期間区分F3＿寛解・院内寛解[#All],MATCH($AL23,年齢階層×在院期間区分F3＿寛解・院内寛解[[#All],[行ラベル]],0),MATCH($AN$3,年齢階層×在院期間区分F3＿寛解・院内寛解[#Headers],0)),0)+IFERROR(INDEX(年齢階層×在院期間区分F3＿寛解・院内寛解[#All],MATCH($AL23,年齢階層×在院期間区分F3＿寛解・院内寛解[[#All],[行ラベル]],0),MATCH($AO$3,年齢階層×在院期間区分F3＿寛解・院内寛解[#Headers],0)),0)+IFERROR(INDEX(年齢階層×在院期間区分F3＿寛解・院内寛解[#All],MATCH($AL23,年齢階層×在院期間区分F3＿寛解・院内寛解[[#All],[行ラベル]],0),MATCH($AP$3,年齢階層×在院期間区分F3＿寛解・院内寛解[#Headers],0)),0)","v":27},0.10588235294117647,{"$f":"IFERROR(INDEX(年齢階層×在院期間区分F3＿寛解・院内寛解[#All],MATCH($AL23,年齢階層×在院期間区分F3＿寛解・院内寛解[[#All],[行ラベル]],0),MATCH($AQ$3,年齢階層×在院期間区分F3＿寛解・院内寛解[#Headers],0)),0)+IFERROR(INDEX(年齢階層×在院期間区分F3＿寛解・院内寛解[#All],MATCH($AL23,年齢階層×在院期間区分F3＿寛解・院内寛解[[#All],[行ラベル]],0),MATCH($AR$3,年齢階層×在院期間区分F3＿寛解・院内寛解[#Headers],0)),0)+IFERROR(INDEX(年齢階層×在院期間区分F3＿寛解・院内寛解[#All],MATCH($AL23,年齢階層×在院期間区分F3＿寛解・院内寛解[[#All],[行ラベル]],0),MATCH($AS$3,年齢階層×在院期間区分F3＿寛解・院内寛解[#Headers],0)),0)+IFERROR(INDEX(年齢階層×在院期間区分F3＿寛解・院内寛解[#All],MATCH($AL23,年齢階層×在院期間区分F3＿寛解・院内寛解[[#All],[行ラベル]],0),MATCH($AT$3,年齢階層×在院期間区分F3＿寛解・院内寛解[#Headers],0)),0)+IFERROR(INDEX(年齢階層×在院期間区分F3＿寛解・院内寛解[#All],MATCH($AL23,年齢階層×在院期間区分F3＿寛解・院内寛解[[#All],[行ラベル]],0),MATCH($AU$3,年齢階層×在院期間区分F3＿寛解・院内寛解[#Headers],0)),0)","v":2},4.6511627906976744E-2,{"$f":"IFERROR(INDEX(年齢階層×在院期間区分F3＿寛解・院内寛解[#All],MATCH($AL23,年齢階層×在院期間区分F3＿寛解・院内寛解[[#All],[行ラベル]],0),MATCH($AV$3,年齢階層×在院期間区分F3＿寛解・院内寛解[#Headers],0)),0)+IFERROR(INDEX(年齢階層×在院期間区分F3＿寛解・院内寛解[#All],MATCH($AL23,年齢階層×在院期間区分F3＿寛解・院内寛解[[#All],[行ラベル]],0),MATCH($AW$3,年齢階層×在院期間区分F3＿寛解・院内寛解[#Headers],0)),0)+IFERROR(INDEX(年齢階層×在院期間区分F3＿寛解・院内寛解[#All],MATCH($AL23,年齢階層×在院期間区分F3＿寛解・院内寛解[[#All],[行ラベル]],0),MATCH($AX$3,年齢階層×在院期間区分F3＿寛解・院内寛解[#Headers],0)),0)+IFERROR(INDEX(年齢階層×在院期間区分F3＿寛解・院内寛解[#All],MATCH($AL23,年齢階層×在院期間区分F3＿寛解・院内寛解[[#All],[行ラベル]],0),MATCH($AY$3,年齢階層×在院期間区分F3＿寛解・院内寛解[#Headers],0)),0)+IFERROR(INDEX(年齢階層×在院期間区分F3＿寛解・院内寛解[#All],MATCH($AL23,年齢階層×在院期間区分F3＿寛解・院内寛解[[#All],[行ラベル]],0),MATCH($AZ$3,年齢階層×在院期間区分F3＿寛解・院内寛解[#Headers],0)),0)","v":0},0,{"$f":"IFERROR(INDEX(年齢階層×在院期間区分F3＿寛解・院内寛解[#All],MATCH($AL23,年齢階層×在院期間区分F3＿寛解・院内寛解[[#All],[行ラベル]],0),MATCH($BA$3,年齢階層×在院期間区分F3＿寛解・院内寛解[#Headers],0)),0)+IFERROR(INDEX(年齢階層×在院期間区分F3＿寛解・院内寛解[#All],MATCH($AL23,年齢階層×在院期間区分F3＿寛解・院内寛解[[#All],[行ラベル]],0),MATCH($BB$3,年齢階層×在院期間区分F3＿寛解・院内寛解[#Headers],0)),0)","v":0},0,29,9.0342679127725853E-2,null,null,"40歳代",18,8,1,0,2,0,0,0,0,0,0,0,0,0,0,0,null,null,null,null,null,null,"40歳代"]
[null,"50歳代",{"$f":"IFERROR(INDEX(年齢階層×在院期間区分F3＿寛解・院内寛解[#All],MATCH($AL24,年齢階層×在院期間区分F3＿寛解・院内寛解[[#All],[行ラベル]],0),MATCH($AM$3,年齢階層×在院期間区分F3＿寛解・院内寛解[#Headers],0)),0)+IFERROR(INDEX(年齢階層×在院期間区分F3＿寛解・院内寛解[#All],MATCH($AL24,年齢階層×在院期間区分F3＿寛解・院内寛解[[#All],[行ラベル]],0),MATCH($AN$3,年齢階層×在院期間区分F3＿寛解・院内寛解[#Headers],0)),0)+IFERROR(INDEX(年齢階層×在院期間区分F3＿寛解・院内寛解[#All],MATCH($AL24,年齢階層×在院期間区分F3＿寛解・院内寛解[[#All],[行ラベル]],0),MATCH($AO$3,年齢階層×在院期間区分F3＿寛解・院内寛解[#Headers],0)),0)+IFERROR(INDEX(年齢階層×在院期間区分F3＿寛解・院内寛解[#All],MATCH($AL24,年齢階層×在院期間区分F3＿寛解・院内寛解[[#All],[行ラベル]],0),MATCH($AP$3,年齢階層×在院期間区分F3＿寛解・院内寛解[#Headers],0)),0)","v":52},0.20392156862745098,{"$f":"IFERROR(INDEX(年齢階層×在院期間区分F3＿寛解・院内寛解[#All],MATCH($AL24,年齢階層×在院期間区分F3＿寛解・院内寛解[[#All],[行ラベル]],0),MATCH($AQ$3,年齢階層×在院期間区分F3＿寛解・院内寛解[#Headers],0)),0)+IFERROR(INDEX(年齢階層×在院期間区分F3＿寛解・院内寛解[#All],MATCH($AL24,年齢階層×在院期間区分F3＿寛解・院内寛解[[#All],[行ラベル]],0),MATCH($AR$3,年齢階層×在院期間区分F3＿寛解・院内寛解[#Headers],0)),0)+IFERROR(INDEX(年齢階層×在院期間区分F3＿寛解・院内寛解[#All],MATCH($AL24,年齢階層×在院期間区分F3＿寛解・院内寛解[[#All],[行ラベル]],0),MATCH($AS$3,年齢階層×在院期間区分F3＿寛解・院内寛解[#Headers],0)),0)+IFERROR(INDEX(年齢階層×在院期間区分F3＿寛解・院内寛解[#All],MATCH($AL24,年齢階層×在院期間区分F3＿寛解・院内寛解[[#All],[行ラベル]],0),MATCH($AT$3,年齢階層×在院期間区分F3＿寛解・院内寛解[#Headers],0)),0)+IFERROR(INDEX(年齢階層×在院期間区分F3＿寛解・院内寛解[#All],MATCH($AL24,年齢階層×在院期間区分F3＿寛解・院内寛解[[#All],[行ラベル]],0),MATCH($AU$3,年齢階層×在院期間区分F3＿寛解・院内寛解[#Headers],0)),0)","v":8},0.18604651162790697,{"$f":"IFERROR(INDEX(年齢階層×在院期間区分F3＿寛解・院内寛解[#All],MATCH($AL24,年齢階層×在院期間区分F3＿寛解・院内寛解[[#All],[行ラベル]],0),MATCH($AV$3,年齢階層×在院期間区分F3＿寛解・院内寛解[#Headers],0)),0)+IFERROR(INDEX(年齢階層×在院期間区分F3＿寛解・院内寛解[#All],MATCH($AL24,年齢階層×在院期間区分F3＿寛解・院内寛解[[#All],[行ラベル]],0),MATCH($AW$3,年齢階層×在院期間区分F3＿寛解・院内寛解[#Headers],0)),0)+IFERROR(INDEX(年齢階層×在院期間区分F3＿寛解・院内寛解[#All],MATCH($AL24,年齢階層×在院期間区分F3＿寛解・院内寛解[[#All],[行ラベル]],0),MATCH($AX$3,年齢階層×在院期間区分F3＿寛解・院内寛解[#Headers],0)),0)+IFERROR(INDEX(年齢階層×在院期間区分F3＿寛解・院内寛解[#All],MATCH($AL24,年齢階層×在院期間区分F3＿寛解・院内寛解[[#All],[行ラベル]],0),MATCH($AY$3,年齢階層×在院期間区分F3＿寛解・院内寛解[#Headers],0)),0)+IFERROR(INDEX(年齢階層×在院期間区分F3＿寛解・院内寛解[#All],MATCH($AL24,年齢階層×在院期間区分F3＿寛解・院内寛解[[#All],[行ラベル]],0),MATCH($AZ$3,年齢階層×在院期間区分F3＿寛解・院内寛解[#Headers],0)),0)","v":0},0,{"$f":"IFERROR(INDEX(年齢階層×在院期間区分F3＿寛解・院内寛解[#All],MATCH($AL24,年齢階層×在院期間区分F3＿寛解・院内寛解[[#All],[行ラベル]],0),MATCH($BA$3,年齢階層×在院期間区分F3＿寛解・院内寛解[#Headers],0)),0)+IFERROR(INDEX(年齢階層×在院期間区分F3＿寛解・院内寛解[#All],MATCH($AL24,年齢階層×在院期間区分F3＿寛解・院内寛解[[#All],[行ラベル]],0),MATCH($BB$3,年齢階層×在院期間区分F3＿寛解・院内寛解[#Headers],0)),0)","v":1},0.1111111111111111,61,0.19003115264797507,null,null,"50歳代",22,22,4,4,4,1,2,1,0,0,0,0,0,0,1,0,null,null,null,null,null,null,"50歳代"]
[null,"60歳代",{"$f":"IFERROR(INDEX(年齢階層×在院期間区分F3＿寛解・院内寛解[#All],MATCH($AL25,年齢階層×在院期間区分F3＿寛解・院内寛解[[#All],[行ラベル]],0),MATCH($AM$3,年齢階層×在院期間区分F3＿寛解・院内寛解[#Headers],0)),0)+IFERROR(INDEX(年齢階層×在院期間区分F3＿寛解・院内寛解[#All],MATCH($AL25,年齢階層×在院期間区分F3＿寛解・院内寛解[[#All],[行ラベル]],0),MATCH($AN$3,年齢階層×在院期間区分F3＿寛解・院内寛解[#Headers],0)),0)+IFERROR(INDEX(年齢階層×在院期間区分F3＿寛解・院内寛解[#All],MATCH($AL25,年齢階層×在院期間区分F3＿寛解・院内寛解[[#All],[行ラベル]],0),MATCH($AO$3,年齢階層×在院期間区分F3＿寛解・院内寛解[#Headers],0)),0)+IFERROR(INDEX(年齢階層×在院期間区分F3＿寛解・院内寛解[#All],MATCH($AL25,年齢階層×在院期間区分F3＿寛解・院内寛解[[#All],[行ラベル]],0),MATCH($AP$3,年齢階層×在院期間区分F3＿寛解・院内寛解[#Headers],0)),0)","v":44},0.17254901960784313,{"$f":"IFERROR(INDEX(年齢階層×在院期間区分F3＿寛解・院内寛解[#All],MATCH($AL25,年齢階層×在院期間区分F3＿寛解・院内寛解[[#All],[行ラベル]],0),MATCH($AQ$3,年齢階層×在院期間区分F3＿寛解・院内寛解[#Headers],0)),0)+IFERROR(INDEX(年齢階層×在院期間区分F3＿寛解・院内寛解[#All],MATCH($AL25,年齢階層×在院期間区分F3＿寛解・院内寛解[[#All],[行ラベル]],0),MATCH($AR$3,年齢階層×在院期間区分F3＿寛解・院内寛解[#Headers],0)),0)+IFERROR(INDEX(年齢階層×在院期間区分F3＿寛解・院内寛解[#All],MATCH($AL25,年齢階層×在院期間区分F3＿寛解・院内寛解[[#All],[行ラベル]],0),MATCH($AS$3,年齢階層×在院期間区分F3＿寛解・院内寛解[#Headers],0)),0)+IFERROR(INDEX(年齢階層×在院期間区分F3＿寛解・院内寛解[#All],MATCH($AL25,年齢階層×在院期間区分F3＿寛解・院内寛解[[#All],[行ラベル]],0),MATCH($AT$3,年齢階層×在院期間区分F3＿寛解・院内寛解[#Headers],0)),0)+IFERROR(INDEX(年齢階層×在院期間区分F3＿寛解・院内寛解[#All],MATCH($AL25,年齢階層×在院期間区分F3＿寛解・院内寛解[[#All],[行ラベル]],0),MATCH($AU$3,年齢階層×在院期間区分F3＿寛解・院内寛解[#Headers],0)),0)","v":5},0.11627906976744186,{"$f":"IFERROR(INDEX(年齢階層×在院期間区分F3＿寛解・院内寛解[#All],MATCH($AL25,年齢階層×在院期間区分F3＿寛解・院内寛解[[#All],[行ラベル]],0),MATCH($AV$3,年齢階層×在院期間区分F3＿寛解・院内寛解[#Headers],0)),0)+IFERROR(INDEX(年齢階層×在院期間区分F3＿寛解・院内寛解[#All],MATCH($AL25,年齢階層×在院期間区分F3＿寛解・院内寛解[[#All],[行ラベル]],0),MATCH($AW$3,年齢階層×在院期間区分F3＿寛解・院内寛解[#Headers],0)),0)+IFERROR(INDEX(年齢階層×在院期間区分F3＿寛解・院内寛解[#All],MATCH($AL25,年齢階層×在院期間区分F3＿寛解・院内寛解[[#All],[行ラベル]],0),MATCH($AX$3,年齢階層×在院期間区分F3＿寛解・院内寛解[#Headers],0)),0)+IFERROR(INDEX(年齢階層×在院期間区分F3＿寛解・院内寛解[#All],MATCH($AL25,年齢階層×在院期間区分F3＿寛解・院内寛解[[#All],[行ラベル]],0),MATCH($AY$3,年齢階層×在院期間区分F3＿寛解・院内寛解[#Headers],0)),0)+IFERROR(INDEX(年齢階層×在院期間区分F3＿寛解・院内寛解[#All],MATCH($AL25,年齢階層×在院期間区分F3＿寛解・院内寛解[[#All],[行ラベル]],0),MATCH($AZ$3,年齢階層×在院期間区分F3＿寛解・院内寛解[#Headers],0)),0)","v":3},0.21428571428571427,{"$f":"IFERROR(INDEX(年齢階層×在院期間区分F3＿寛解・院内寛解[#All],MATCH($AL25,年齢階層×在院期間区分F3＿寛解・院内寛解[[#All],[行ラベル]],0),MATCH($BA$3,年齢階層×在院期間区分F3＿寛解・院内寛解[#Headers],0)),0)+IFERROR(INDEX(年齢階層×在院期間区分F3＿寛解・院内寛解[#All],MATCH($AL25,年齢階層×在院期間区分F3＿寛解・院内寛解[[#All],[行ラベル]],0),MATCH($BB$3,年齢階層×在院期間区分F3＿寛解・院内寛解[#Headers],0)),0)","v":1},0.1111111111111111,53,0.16510903426791276,null,null,"60歳代",10,17,9,8,2,1,2,0,0,2,0,1,0,0,1,0,null,null,null,null,null,null,"60歳代"]
[null,"70歳代",{"$f":"IFERROR(INDEX(年齢階層×在院期間区分F3＿寛解・院内寛解[#All],MATCH($AL26,年齢階層×在院期間区分F3＿寛解・院内寛解[[#All],[行ラベル]],0),MATCH($AM$3,年齢階層×在院期間区分F3＿寛解・院内寛解[#Headers],0)),0)+IFERROR(INDEX(年齢階層×在院期間区分F3＿寛解・院内寛解[#All],MATCH($AL26,年齢階層×在院期間区分F3＿寛解・院内寛解[[#All],[行ラベル]],0),MATCH($AN$3,年齢階層×在院期間区分F3＿寛解・院内寛解[#Headers],0)),0)+IFERROR(INDEX(年齢階層×在院期間区分F3＿寛解・院内寛解[#All],MATCH($AL26,年齢階層×在院期間区分F3＿寛解・院内寛解[[#All],[行ラベル]],0),MATCH($AO$3,年齢階層×在院期間区分F3＿寛解・院内寛解[#Headers],0)),0)+IFERROR(INDEX(年齢階層×在院期間区分F3＿寛解・院内寛解[#All],MATCH($AL26,年齢階層×在院期間区分F3＿寛解・院内寛解[[#All],[行ラベル]],0),MATCH($AP$3,年齢階層×在院期間区分F3＿寛解・院内寛解[#Headers],0)),0)","v":55},0.21568627450980393,{"$f":"IFERROR(INDEX(年齢階層×在院期間区分F3＿寛解・院内寛解[#All],MATCH($AL26,年齢階層×在院期間区分F3＿寛解・院内寛解[[#All],[行ラベル]],0),MATCH($AQ$3,年齢階層×在院期間区分F3＿寛解・院内寛解[#Headers],0)),0)+IFERROR(INDEX(年齢階層×在院期間区分F3＿寛解・院内寛解[#All],MATCH($AL26,年齢階層×在院期間区分F3＿寛解・院内寛解[[#All],[行ラベル]],0),MATCH($AR$3,年齢階層×在院期間区分F3＿寛解・院内寛解[#Headers],0)),0)+IFERROR(INDEX(年齢階層×在院期間区分F3＿寛解・院内寛解[#All],MATCH($AL26,年齢階層×在院期間区分F3＿寛解・院内寛解[[#All],[行ラベル]],0),MATCH($AS$3,年齢階層×在院期間区分F3＿寛解・院内寛解[#Headers],0)),0)+IFERROR(INDEX(年齢階層×在院期間区分F3＿寛解・院内寛解[#All],MATCH($AL26,年齢階層×在院期間区分F3＿寛解・院内寛解[[#All],[行ラベル]],0),MATCH($AT$3,年齢階層×在院期間区分F3＿寛解・院内寛解[#Headers],0)),0)+IFERROR(INDEX(年齢階層×在院期間区分F3＿寛解・院内寛解[#All],MATCH($AL26,年齢階層×在院期間区分F3＿寛解・院内寛解[[#All],[行ラベル]],0),MATCH($AU$3,年齢階層×在院期間区分F3＿寛解・院内寛解[#Headers],0)),0)","v":15},0.34883720930232559,{"$f":"IFERROR(INDEX(年齢階層×在院期間区分F3＿寛解・院内寛解[#All],MATCH($AL26,年齢階層×在院期間区分F3＿寛解・院内寛解[[#All],[行ラベル]],0),MATCH($AV$3,年齢階層×在院期間区分F3＿寛解・院内寛解[#Headers],0)),0)+IFERROR(INDEX(年齢階層×在院期間区分F3＿寛解・院内寛解[#All],MATCH($AL26,年齢階層×在院期間区分F3＿寛解・院内寛解[[#All],[行ラベル]],0),MATCH($AW$3,年齢階層×在院期間区分F3＿寛解・院内寛解[#Headers],0)),0)+IFERROR(INDEX(年齢階層×在院期間区分F3＿寛解・院内寛解[#All],MATCH($AL26,年齢階層×在院期間区分F3＿寛解・院内寛解[[#All],[行ラベル]],0),MATCH($AX$3,年齢階層×在院期間区分F3＿寛解・院内寛解[#Headers],0)),0)+IFERROR(INDEX(年齢階層×在院期間区分F3＿寛解・院内寛解[#All],MATCH($AL26,年齢階層×在院期間区分F3＿寛解・院内寛解[[#All],[行ラベル]],0),MATCH($AY$3,年齢階層×在院期間区分F3＿寛解・院内寛解[#Headers],0)),0)+IFERROR(INDEX(年齢階層×在院期間区分F3＿寛解・院内寛解[#All],MATCH($AL26,年齢階層×在院期間区分F3＿寛解・院内寛解[[#All],[行ラベル]],0),MATCH($AZ$3,年齢階層×在院期間区分F3＿寛解・院内寛解[#Headers],0)),0)","v":7},0.5,{"$f":"IFERROR(INDEX(年齢階層×在院期間区分F3＿寛解・院内寛解[#All],MATCH($AL26,年齢階層×在院期間区分F3＿寛解・院内寛解[[#All],[行ラベル]],0),MATCH($BA$3,年齢階層×在院期間区分F3＿寛解・院内寛解[#Headers],0)),0)+IFERROR(INDEX(年齢階層×在院期間区分F3＿寛解・院内寛解[#All],MATCH($AL26,年齢階層×在院期間区分F3＿寛解・院内寛解[[#All],[行ラベル]],0),MATCH($BB$3,年齢階層×在院期間区分F3＿寛解・院内寛解[#Headers],0)),0)","v":5},0.55555555555555558,82,0.2554517133956386,null,null,"70歳代",20,28,2,5,7,3,4,0,1,0,2,4,1,0,5,0,null,null,null,null,null,null,"70歳代"]
[null,"80歳代",{"$f":"IFERROR(INDEX(年齢階層×在院期間区分F3＿寛解・院内寛解[#All],MATCH($AL27,年齢階層×在院期間区分F3＿寛解・院内寛解[[#All],[行ラベル]],0),MATCH($AM$3,年齢階層×在院期間区分F3＿寛解・院内寛解[#Headers],0)),0)+IFERROR(INDEX(年齢階層×在院期間区分F3＿寛解・院内寛解[#All],MATCH($AL27,年齢階層×在院期間区分F3＿寛解・院内寛解[[#All],[行ラベル]],0),MATCH($AN$3,年齢階層×在院期間区分F3＿寛解・院内寛解[#Headers],0)),0)+IFERROR(INDEX(年齢階層×在院期間区分F3＿寛解・院内寛解[#All],MATCH($AL27,年齢階層×在院期間区分F3＿寛解・院内寛解[[#All],[行ラベル]],0),MATCH($AO$3,年齢階層×在院期間区分F3＿寛解・院内寛解[#Headers],0)),0)+IFERROR(INDEX(年齢階層×在院期間区分F3＿寛解・院内寛解[#All],MATCH($AL27,年齢階層×在院期間区分F3＿寛解・院内寛解[[#All],[行ラベル]],0),MATCH($AP$3,年齢階層×在院期間区分F3＿寛解・院内寛解[#Headers],0)),0)","v":28},0.10980392156862745,{"$f":"IFERROR(INDEX(年齢階層×在院期間区分F3＿寛解・院内寛解[#All],MATCH($AL27,年齢階層×在院期間区分F3＿寛解・院内寛解[[#All],[行ラベル]],0),MATCH($AQ$3,年齢階層×在院期間区分F3＿寛解・院内寛解[#Headers],0)),0)+IFERROR(INDEX(年齢階層×在院期間区分F3＿寛解・院内寛解[#All],MATCH($AL27,年齢階層×在院期間区分F3＿寛解・院内寛解[[#All],[行ラベル]],0),MATCH($AR$3,年齢階層×在院期間区分F3＿寛解・院内寛解[#Headers],0)),0)+IFERROR(INDEX(年齢階層×在院期間区分F3＿寛解・院内寛解[#All],MATCH($AL27,年齢階層×在院期間区分F3＿寛解・院内寛解[[#All],[行ラベル]],0),MATCH($AS$3,年齢階層×在院期間区分F3＿寛解・院内寛解[#Headers],0)),0)+IFERROR(INDEX(年齢階層×在院期間区分F3＿寛解・院内寛解[#All],MATCH($AL27,年齢階層×在院期間区分F3＿寛解・院内寛解[[#All],[行ラベル]],0),MATCH($AT$3,年齢階層×在院期間区分F3＿寛解・院内寛解[#Headers],0)),0)+IFERROR(INDEX(年齢階層×在院期間区分F3＿寛解・院内寛解[#All],MATCH($AL27,年齢階層×在院期間区分F3＿寛解・院内寛解[[#All],[行ラベル]],0),MATCH($AU$3,年齢階層×在院期間区分F3＿寛解・院内寛解[#Headers],0)),0)","v":11},0.2558139534883721,{"$f":"IFERROR(INDEX(年齢階層×在院期間区分F3＿寛解・院内寛解[#All],MATCH($AL27,年齢階層×在院期間区分F3＿寛解・院内寛解[[#All],[行ラベル]],0),MATCH($AV$3,年齢階層×在院期間区分F3＿寛解・院内寛解[#Headers],0)),0)+IFERROR(INDEX(年齢階層×在院期間区分F3＿寛解・院内寛解[#All],MATCH($AL27,年齢階層×在院期間区分F3＿寛解・院内寛解[[#All],[行ラベル]],0),MATCH($AW$3,年齢階層×在院期間区分F3＿寛解・院内寛解[#Headers],0)),0)+IFERROR(INDEX(年齢階層×在院期間区分F3＿寛解・院内寛解[#All],MATCH($AL27,年齢階層×在院期間区分F3＿寛解・院内寛解[[#All],[行ラベル]],0),MATCH($AX$3,年齢階層×在院期間区分F3＿寛解・院内寛解[#Headers],0)),0)+IFERROR(INDEX(年齢階層×在院期間区分F3＿寛解・院内寛解[#All],MATCH($AL27,年齢階層×在院期間区分F3＿寛解・院内寛解[[#All],[行ラベル]],0),MATCH($AY$3,年齢階層×在院期間区分F3＿寛解・院内寛解[#Headers],0)),0)+IFERROR(INDEX(年齢階層×在院期間区分F3＿寛解・院内寛解[#All],MATCH($AL27,年齢階層×在院期間区分F3＿寛解・院内寛解[[#All],[行ラベル]],0),MATCH($AZ$3,年齢階層×在院期間区分F3＿寛解・院内寛解[#Headers],0)),0)","v":4},0.2857142857142857,{"$f":"IFERROR(INDEX(年齢階層×在院期間区分F3＿寛解・院内寛解[#All],MATCH($AL27,年齢階層×在院期間区分F3＿寛解・院内寛解[[#All],[行ラベル]],0),MATCH($BA$3,年齢階層×在院期間区分F3＿寛解・院内寛解[#Headers],0)),0)+IFERROR(INDEX(年齢階層×在院期間区分F3＿寛解・院内寛解[#All],MATCH($AL27,年齢階層×在院期間区分F3＿寛解・院内寛解[[#All],[行ラベル]],0),MATCH($BB$3,年齢階層×在院期間区分F3＿寛解・院内寛解[#Headers],0)),0)","v":2},0.22222222222222221,45,0.14018691588785046,null,null,"80歳代",5,15,1,7,2,0,3,6,0,0,3,0,1,0,2,0,null,null,null,null,null,null,"80歳代"]
[null,"90歳以上",{"$f":"IFERROR(INDEX(年齢階層×在院期間区分F3＿寛解・院内寛解[#All],MATCH($AL28,年齢階層×在院期間区分F3＿寛解・院内寛解[[#All],[行ラベル]],0),MATCH($AM$3,年齢階層×在院期間区分F3＿寛解・院内寛解[#Headers],0)),0)+IFERROR(INDEX(年齢階層×在院期間区分F3＿寛解・院内寛解[#All],MATCH($AL28,年齢階層×在院期間区分F3＿寛解・院内寛解[[#All],[行ラベル]],0),MATCH($AN$3,年齢階層×在院期間区分F3＿寛解・院内寛解[#Headers],0)),0)+IFERROR(INDEX(年齢階層×在院期間区分F3＿寛解・院内寛解[#All],MATCH($AL28,年齢階層×在院期間区分F3＿寛解・院内寛解[[#All],[行ラベル]],0),MATCH($AO$3,年齢階層×在院期間区分F3＿寛解・院内寛解[#Headers],0)),0)+IFERROR(INDEX(年齢階層×在院期間区分F3＿寛解・院内寛解[#All],MATCH($AL28,年齢階層×在院期間区分F3＿寛解・院内寛解[[#All],[行ラベル]],0),MATCH($AP$3,年齢階層×在院期間区分F3＿寛解・院内寛解[#Headers],0)),0)","v":2},7.8431372549019607E-3,{"$f":"IFERROR(INDEX(年齢階層×在院期間区分F3＿寛解・院内寛解[#All],MATCH($AL28,年齢階層×在院期間区分F3＿寛解・院内寛解[[#All],[行ラベル]],0),MATCH($AQ$3,年齢階層×在院期間区分F3＿寛解・院内寛解[#Headers],0)),0)+IFERROR(INDEX(年齢階層×在院期間区分F3＿寛解・院内寛解[#All],MATCH($AL28,年齢階層×在院期間区分F3＿寛解・院内寛解[[#All],[行ラベル]],0),MATCH($AR$3,年齢階層×在院期間区分F3＿寛解・院内寛解[#Headers],0)),0)+IFERROR(INDEX(年齢階層×在院期間区分F3＿寛解・院内寛解[#All],MATCH($AL28,年齢階層×在院期間区分F3＿寛解・院内寛解[[#All],[行ラベル]],0),MATCH($AS$3,年齢階層×在院期間区分F3＿寛解・院内寛解[#Headers],0)),0)+IFERROR(INDEX(年齢階層×在院期間区分F3＿寛解・院内寛解[#All],MATCH($AL28,年齢階層×在院期間区分F3＿寛解・院内寛解[[#All],[行ラベル]],0),MATCH($AT$3,年齢階層×在院期間区分F3＿寛解・院内寛解[#Headers],0)),0)+IFERROR(INDEX(年齢階層×在院期間区分F3＿寛解・院内寛解[#All],MATCH($AL28,年齢階層×在院期間区分F3＿寛解・院内寛解[[#All],[行ラベル]],0),MATCH($AU$3,年齢階層×在院期間区分F3＿寛解・院内寛解[#Headers],0)),0)","v":1},2.3255813953488372E-2,{"$f":"IFERROR(INDEX(年齢階層×在院期間区分F3＿寛解・院内寛解[#All],MATCH($AL28,年齢階層×在院期間区分F3＿寛解・院内寛解[[#All],[行ラベル]],0),MATCH($AV$3,年齢階層×在院期間区分F3＿寛解・院内寛解[#Headers],0)),0)+IFERROR(INDEX(年齢階層×在院期間区分F3＿寛解・院内寛解[#All],MATCH($AL28,年齢階層×在院期間区分F3＿寛解・院内寛解[[#All],[行ラベル]],0),MATCH($AW$3,年齢階層×在院期間区分F3＿寛解・院内寛解[#Headers],0)),0)+IFERROR(INDEX(年齢階層×在院期間区分F3＿寛解・院内寛解[#All],MATCH($AL28,年齢階層×在院期間区分F3＿寛解・院内寛解[[#All],[行ラベル]],0),MATCH($AX$3,年齢階層×在院期間区分F3＿寛解・院内寛解[#Headers],0)),0)+IFERROR(INDEX(年齢階層×在院期間区分F3＿寛解・院内寛解[#All],MATCH($AL28,年齢階層×在院期間区分F3＿寛解・院内寛解[[#All],[行ラベル]],0),MATCH($AY$3,年齢階層×在院期間区分F3＿寛解・院内寛解[#Headers],0)),0)+IFERROR(INDEX(年齢階層×在院期間区分F3＿寛解・院内寛解[#All],MATCH($AL28,年齢階層×在院期間区分F3＿寛解・院内寛解[[#All],[行ラベル]],0),MATCH($AZ$3,年齢階層×在院期間区分F3＿寛解・院内寛解[#Headers],0)),0)","v":0},0,{"$f":"IFERROR(INDEX(年齢階層×在院期間区分F3＿寛解・院内寛解[#All],MATCH($AL28,年齢階層×在院期間区分F3＿寛解・院内寛解[[#All],[行ラベル]],0),MATCH($BA$3,年齢階層×在院期間区分F3＿寛解・院内寛解[#Headers],0)),0)+IFERROR(INDEX(年齢階層×在院期間区分F3＿寛解・院内寛解[#All],MATCH($AL28,年齢階層×在院期間区分F3＿寛解・院内寛解[[#All],[行ラベル]],0),MATCH($BB$3,年齢階層×在院期間区分F3＿寛解・院内寛解[#Headers],0)),0)","v":0},0,3,9.3457943925233638E-3,null,null,"90歳以上",1,1,0,0,0,0,0,0,1,0,0,0,0,0,0,0,null,null,null,null,null,null,"90歳以上"]
[null,"　総計",{"$f":"SUM(C20:C28)","v":255},1,43,1,14,1,9,1,321,1,null,null,"列1","01_1ヶ月未満","02_1ヶ月～3ヶ月未満","03_3ヶ月～6ヶ月未満","04_6ヶ月～1年未満","05_1年～1年6ヶ月未満","06_1年6ヶ月～2年未満","07_2年～3年未満","08_3年～4年未満","09_4年～5年未満","10_5年～6年未満","11_6年～7年未満","12_7年～8年未満","13_8年～9年未満","14_9年～10年未満","15_10年～20年未満","16_ 20年以上"]
[null,"65歳未満（再掲）",{"$f":"IFERROR(INDEX(年齢階層×在院期間区分F3_65歳未満以上＿寛解・院内寛解[#All],MATCH($AL30,年齢階層×在院期間区分F3_65歳未満以上＿寛解・院内寛解[[#All],[列1]],0),MATCH($AM$3,年齢階層×在院期間区分F3_65歳未満以上＿寛解・院内寛解[#Headers],0)),0)+IFERROR(INDEX(年齢階層×在院期間区分F3_65歳未満以上＿寛解・院内寛解[#All],MATCH($AL30,年齢階層×在院期間区分F3_65歳未満以上＿寛解・院内寛解[[#All],[列1]],0),MATCH($AN$3,年齢階層×在院期間区分F3_65歳未満以上＿寛解・院内寛解[#Headers],0)),0)+IFERROR(INDEX(年齢階層×在院期間区分F3_65歳未満以上＿寛解・院内寛解[#All],MATCH($AL30,年齢階層×在院期間区分F3_65歳未満以上＿寛解・院内寛解[[#All],[列1]],0),MATCH($AO$3,年齢階層×在院期間区分F3_65歳未満以上＿寛解・院内寛解[#Headers],0)),0)+IFERROR(INDEX(年齢階層×在院期間区分F3_65歳未満以上＿寛解・院内寛解[#All],MATCH($AL30,年齢階層×在院期間区分F3_65歳未満以上＿寛解・院内寛解[[#All],[列1]],0),MATCH($AP$3,年齢階層×在院期間区分F3_65歳未満以上＿寛解・院内寛解[#Headers],0)),0)","v":153},{"$f":"IFERROR(C30/$C$29,\"-\")","v":0.6},{"$f":"IFERROR(INDEX(年齢階層×在院期間区分F3_65歳未満以上＿寛解・院内寛解[#All],MATCH($AL30,年齢階層×在院期間区分F3_65歳未満以上＿寛解・院内寛解[[#All],[列1]],0),MATCH($AQ$3,年齢階層×在院期間区分F3_65歳未満以上＿寛解・院内寛解[#Headers],0)),0)+IFERROR(INDEX(年齢階層×在院期間区分F3_65歳未満以上＿寛解・院内寛解[#All],MATCH($AL30,年齢階層×在院期間区分F3_65歳未満以上＿寛解・院内寛解[[#All],[列1]],0),MATCH($AR$3,年齢階層×在院期間区分F3_65歳未満以上＿寛解・院内寛解[#Headers],0)),0)+IFERROR(INDEX(年齢階層×在院期間区分F3_65歳未満以上＿寛解・院内寛解[#All],MATCH($AL30,年齢階層×在院期間区分F3_65歳未満以上＿寛解・院内寛解[[#All],[列1]],0),MATCH($AS$3,年齢階層×在院期間区分F3_65歳未満以上＿寛解・院内寛解[#Headers],0)),0)+IFERROR(INDEX(年齢階層×在院期間区分F3_65歳未満以上＿寛解・院内寛解[#All],MATCH($AL30,年齢階層×在院期間区分F3_65歳未満以上＿寛解・院内寛解[[#All],[列1]],0),MATCH($AT$3,年齢階層×在院期間区分F3_65歳未満以上＿寛解・院内寛解[#Headers],0)),0)+IFERROR(INDEX(年齢階層×在院期間区分F3_65歳未満以上＿寛解・院内寛解[#All],MATCH($AL30,年齢階層×在院期間区分F3_65歳未満以上＿寛解・院内寛解[[#All],[列1]],0),MATCH($AU$3,年齢階層×在院期間区分F3_65歳未満以上＿寛解・院内寛解[#Headers],0)),0)","v":13},{"$f":"IFERROR(E30/$E$29,\"-\")","v":0.30232558139534882},{"$f":"IFERROR(INDEX(年齢階層×在院期間区分F3_65歳未満以上＿寛解・院内寛解[#All],MATCH($AL30,年齢階層×在院期間区分F3_65歳未満以上＿寛解・院内寛解[[#All],[列1]],0),MATCH($AV$3,年齢階層×在院期間区分F3_65歳未満以上＿寛解・院内寛解[#Headers],0)),0)+IFERROR(INDEX(年齢階層×在院期間区分F3_65歳未満以上＿寛解・院内寛解[#All],MATCH($AL30,年齢階層×在院期間区分F3_65歳未満以上＿寛解・院内寛解[[#All],[列1]],0),MATCH($AW$3,年齢階層×在院期間区分F3_65歳未満以上＿寛解・院内寛解[#Headers],0)),0)+IFERROR(INDEX(年齢階層×在院期間区分F3_65歳未満以上＿寛解・院内寛解[#All],MATCH($AL30,年齢階層×在院期間区分F3_65歳未満以上＿寛解・院内寛解[[#All],[列1]],0),MATCH($AX$3,年齢階層×在院期間区分F3_65歳未満以上＿寛解・院内寛解[#Headers],0)),0)+IFERROR(INDEX(年齢階層×在院期間区分F3_65歳未満以上＿寛解・院内寛解[#All],MATCH($AL30,年齢階層×在院期間区分F3_65歳未満以上＿寛解・院内寛解[[#All],[列1]],0),MATCH($AY$3,年齢階層×在院期間区分F3_65歳未満以上＿寛解・院内寛解[#Headers],0)),0)+IFERROR(INDEX(年齢階層×在院期間区分F3_65歳未満以上＿寛解・院内寛解[#All],MATCH($AL30,年齢階層×在院期間区分F3_65歳未満以上＿寛解・院内寛解[[#All],[列1]],0),MATCH($AZ$3,年齢階層×在院期間区分F3_65歳未満以上＿寛解・院内寛解[#Headers],0)),0)","v":1},{"$f":"IFERROR(G30/$G$29,\"-\")","v":7.1428571428571425E-2},{"$f":"IFERROR(INDEX(年齢階層×在院期間区分F3_65歳未満以上＿寛解・院内寛解[#All],MATCH($AL30,年齢階層×在院期間区分F3_65歳未満以上＿寛解・院内寛解[[#All],[列1]],0),MATCH($BA$3,年齢階層×在院期間区分F3_65歳未満以上＿寛解・院内寛解[#Headers],0)),0)+IFERROR(INDEX(年齢階層×在院期間区分F3_65歳未満以上＿寛解・院内寛解[#All],MATCH($AL30,年齢階層×在院期間区分F3_65歳未満以上＿寛解・院内寛解[[#All],[列1]],0),MATCH($BB$3,年齢階層×在院期間区分F3_65歳未満以上＿寛解・院内寛解[#Headers],0)),0)","v":1},{"$f":"IFERROR(I30/$I$29,\"-\")","v":0.1111111111111111},{"$f":"C30+E30+G30+I30","v":168},{"$f":"IFERROR(K30/$K$29,\"-\")","v":0.52336448598130836},null,null,"65歳未満",70,64,12,7,8,2,2,1,0,1,0,0,0,0,1,0,null,null,null,null,null,null,"65歳未満"]
[null,"65歳以上（再掲）",{"$f":"IFERROR(INDEX(年齢階層×在院期間区分F3_65歳未満以上＿寛解・院内寛解[#All],MATCH($AL31,年齢階層×在院期間区分F3_65歳未満以上＿寛解・院内寛解[[#All],[列1]],0),MATCH($AM$3,年齢階層×在院期間区分F3_65歳未満以上＿寛解・院内寛解[#Headers],0)),0)+IFERROR(INDEX(年齢階層×在院期間区分F3_65歳未満以上＿寛解・院内寛解[#All],MATCH($AL31,年齢階層×在院期間区分F3_65歳未満以上＿寛解・院内寛解[[#All],[列1]],0),MATCH($AN$3,年齢階層×在院期間区分F3_65歳未満以上＿寛解・院内寛解[#Headers],0)),0)+IFERROR(INDEX(年齢階層×在院期間区分F3_65歳未満以上＿寛解・院内寛解[#All],MATCH($AL31,年齢階層×在院期間区分F3_65歳未満以上＿寛解・院内寛解[[#All],[列1]],0),MATCH($AO$3,年齢階層×在院期間区分F3_65歳未満以上＿寛解・院内寛解[#Headers],0)),0)+IFERROR(INDEX(年齢階層×在院期間区分F3_65歳未満以上＿寛解・院内寛解[#All],MATCH($AL31,年齢階層×在院期間区分F3_65歳未満以上＿寛解・院内寛解[[#All],[列1]],0),MATCH($AP$3,年齢階層×在院期間区分F3_65歳未満以上＿寛解・院内寛解[#Headers],0)),0)","v":102},{"$f":"IFERROR(C31/$C$29,\"-\")","v":0.4},{"$f":"IFERROR(INDEX(年齢階層×在院期間区分F3_65歳未満以上＿寛解・院内寛解[#All],MATCH($AL31,年齢階層×在院期間区分F3_65歳未満以上＿寛解・院内寛解[[#All],[列1]],0),MATCH($AQ$3,年齢階層×在院期間区分F3_65歳未満以上＿寛解・院内寛解[#Headers],0)),0)+IFERROR(INDEX(年齢階層×在院期間区分F3_65歳未満以上＿寛解・院内寛解[#All],MATCH($AL31,年齢階層×在院期間区分F3_65歳未満以上＿寛解・院内寛解[[#All],[列1]],0),MATCH($AR$3,年齢階層×在院期間区分F3_65歳未満以上＿寛解・院内寛解[#Headers],0)),0)+IFERROR(INDEX(年齢階層×在院期間区分F3_65歳未満以上＿寛解・院内寛解[#All],MATCH($AL31,年齢階層×在院期間区分F3_65歳未満以上＿寛解・院内寛解[[#All],[列1]],0),MATCH($AS$3,年齢階層×在院期間区分F3_65歳未満以上＿寛解・院内寛解[#Headers],0)),0)+IFERROR(INDEX(年齢階層×在院期間区分F3_65歳未満以上＿寛解・院内寛解[#All],MATCH($AL31,年齢階層×在院期間区分F3_65歳未満以上＿寛解・院内寛解[[#All],[列1]],0),MATCH($AT$3,年齢階層×在院期間区分F3_65歳未満以上＿寛解・院内寛解[#Headers],0)),0)+IFERROR(INDEX(年齢階層×在院期間区分F3_65歳未満以上＿寛解・院内寛解[#All],MATCH($AL31,年齢階層×在院期間区分F3_65歳未満以上＿寛解・院内寛解[[#All],[列1]],0),MATCH($AU$3,年齢階層×在院期間区分F3_65歳未満以上＿寛解・院内寛解[#Headers],0)),0)","v":30},{"$f":"IFERROR(E31/$E$29,\"-\")","v":0.69767441860465118},{"$f":"IFERROR(INDEX(年齢階層×在院期間区分F3_65歳未満以上＿寛解・院内寛解[#All],MATCH($AL31,年齢階層×在院期間区分F3_65歳未満以上＿寛解・院内寛解[[#All],[列1]],0),MATCH($AV$3,年齢階層×在院期間区分F3_65歳未満以上＿寛解・院内寛解[#Headers],0)),0)+IFERROR(INDEX(年齢階層×在院期間区分F3_65歳未満以上＿寛解・院内寛解[#All],MATCH($AL31,年齢階層×在院期間区分F3_65歳未満以上＿寛解・院内寛解[[#All],[列1]],0),MATCH($AW$3,年齢階層×在院期間区分F3_65歳未満以上＿寛解・院内寛解[#Headers],0)),0)+IFERROR(INDEX(年齢階層×在院期間区分F3_65歳未満以上＿寛解・院内寛解[#All],MATCH($AL31,年齢階層×在院期間区分F3_65歳未満以上＿寛解・院内寛解[[#All],[列1]],0),MATCH($AX$3,年齢階層×在院期間区分F3_65歳未満以上＿寛解・院内寛解[#Headers],0)),0)+IFERROR(INDEX(年齢階層×在院期間区分F3_65歳未満以上＿寛解・院内寛解[#All],MATCH($AL31,年齢階層×在院期間区分F3_65歳未満以上＿寛解・院内寛解[[#All],[列1]],0),MATCH($AY$3,年齢階層×在院期間区分F3_65歳未満以上＿寛解・院内寛解[#Headers],0)),0)+IFERROR(INDEX(年齢階層×在院期間区分F3_65歳未満以上＿寛解・院内寛解[#All],MATCH($AL31,年齢階層×在院期間区分F3_65歳未満以上＿寛解・院内寛解[[#All],[列1]],0),MATCH($AZ$3,年齢階層×在院期間区分F3_65歳未満以上＿寛解・院内寛解[#Headers],0)),0)","v":13},{"$f":"IFERROR(G31/$G$29,\"-\")","v":0.9285714285714286},{"$f":"IFERROR(INDEX(年齢階層×在院期間区分F3_65歳未満以上＿寛解・院内寛解[#All],MATCH($AL31,年齢階層×在院期間区分F3_65歳未満以上＿寛解・院内寛解[[#All],[列1]],0),MATCH($BA$3,年齢階層×在院期間区分F3_65歳未満以上＿寛解・院内寛解[#Headers],0)),0)+IFERROR(INDEX(年齢階層×在院期間区分F3_65歳未満以上＿寛解・院内寛解[#All],MATCH($AL31,年齢階層×在院期間区分F3_65歳未満以上＿寛解・院内寛解[[#All],[列1]],0),MATCH($BB$3,年齢階層×在院期間区分F3_65歳未満以上＿寛解・院内寛解[#Headers],0)),0)","v":8},{"$f":"IFERROR(I31/$I$29,\"-\")","v":0.88888888888888884},{"$f":"C31+E31+G31+I31","v":153},{"$f":"IFERROR(K31/$K$29,\"-\")","v":0.47663551401869159},null,null,"65歳以上",28,50,7,17,9,4,9,6,2,1,5,5,2,0,8,0,null,null,null,null,null,null,"65歳以上"]

{"sheet":"6-Ⅰ①","index":25,"n_rows":27,"n_cols":36,"rows_kept":27,"cut":false,"hidden":false,"merged":[[25,0,26,0],[3,0,4,0],[5,0,6,0],[7,0,8,0],[9,0,10,0],[11,0,12,0],[13,0,14,0],[15,0,16,0],[17,0,18,0],[19,0,20,0],[21,0,22,0],[23,0,24,0]]}
["【年齢区分×病院所在地（圏域）】"]
[]
[null,"豊能","三島","北河内","中河内","南河内","泉州","大阪市","堺市","合計",null,"行ラベル","01豊能北","02豊能豊中","03豊能吹田","04三島","05三島高槻","06北河内枚方","07北河内寝屋川","08北河内西","09北河内東","10中河内東大阪","11中河内八尾","12中河内南","13南河内北","14南河内南","15泉州北","16泉州中","17泉州南","18大阪市","19堺市","(空白)",null,null,null,"01豊能北"]
["19歳以下",{"$f":"HLOOKUP($AJ$3,'6-Ⅰ①'!$M$3:$AE$16,2,FALSE)+HLOOKUP($AJ$4,'6-Ⅰ①'!$M$3:$AE$16,2,FALSE)+HLOOKUP($AJ$5,'6-Ⅰ①'!$M$3:$AE$16,2,FALSE)","v":7},{"$f":"HLOOKUP($AJ$6,'6-Ⅰ①'!$M$3:$AE$16,2,FALSE)+HLOOKUP($AJ$7,'6-Ⅰ①'!$M$3:$AE$16,2,FALSE)","v":7},{"$f":"HLOOKUP($AJ$8,'6-Ⅰ①'!$M$3:$AE$16,2,FALSE)+HLOOKUP($AJ$9,'6-Ⅰ①'!$M$3:$AE$16,2,FALSE)+HLOOKUP($AJ$10,'6-Ⅰ①'!$M$3:$AE$16,2,FALSE)+HLOOKUP($AJ$11,'6-Ⅰ①'!$M$3:$AE$16,2,FALSE)","v":46},{"$f":"HLOOKUP($AJ$12,'6-Ⅰ①'!$M$3:$AE$16,2,FALSE)+HLOOKUP($AJ$13,'6-Ⅰ①'!$M$3:$AE$16,2,FALSE)+HLOOKUP($AJ$14,'6-Ⅰ①'!$M$3:$AE$16,2,FALSE)","v":9},{"$f":"HLOOKUP($AJ$15,'6-Ⅰ①'!$M$3:$AE$16,2,FALSE)+HLOOKUP($AJ$16,'6-Ⅰ①'!$M$3:$AE$16,2,FALSE)","v":5},{"$f":"HLOOKUP($AJ$17,'6-Ⅰ①'!$M$3:$AE$16,2,FALSE)+HLOOKUP($AJ$18,'6-Ⅰ①'!$M$3:$AE$16,2,FALSE)+HLOOKUP($AJ$19,'6-Ⅰ①'!$M$3:$AE$16,2,FALSE)","v":14},{"$f":"HLOOKUP($AJ$20,'6-Ⅰ①'!$M$3:$AE$16,2,FALSE)","v":23},{"$f":"HLOOKUP($AJ$21,'6-Ⅰ①'!$M$3:$AE$16,2,FALSE)","v":70},{"$f":"SUM(B4:I4)","v":181},null,"19歳以下",1,4,2,0,7,44,1,1,0,4,1,4,1,4,1,3,10,23,70,null,null,null,null,"02豊能豊中"]
[null,{"$f":"B4/B$22","v":4.2813455657492354E-3},{"$f":"C4/C$22","v":3.6382536382536385E-3},3.4560480841472577E-2,7.0754716981132077E-3,4.1493775933609959E-3,2.7977617905675461E-3,0.14556962025316456,3.4313725490196081E-2,1.2423639233989979E-2,null,"20歳代",2,26,1,9,13,25,4,4,0,22,13,5,7,17,14,25,26,16,68,null,null,null,null,"03豊能吹田"]
["20歳代",{"$f":"HLOOKUP($AJ$3,'6-Ⅰ①'!$M$3:$AE$16,3,FALSE)+HLOOKUP($AJ$4,'6-Ⅰ①'!$M$3:$AE$16,3,FALSE)+HLOOKUP($AJ$5,'6-Ⅰ①'!$M$3:$AE$16,3,FALSE)","v":29},{"$f":"HLOOKUP($AJ$6,'6-Ⅰ①'!$M$3:$AE$16,3,FALSE)+HLOOKUP($AJ$7,'6-Ⅰ①'!$M$3:$AE$16,3,FALSE)","v":22},{"$f":"HLOOKUP($AJ$8,'6-Ⅰ①'!$M$3:$AE$16,3,FALSE)+HLOOKUP($AJ$9,'6-Ⅰ①'!$M$3:$AE$16,3,FALSE)+HLOOKUP($AJ$10,'6-Ⅰ①'!$M$3:$AE$16,3,FALSE)+HLOOKUP($AJ$11,'6-Ⅰ①'!$M$3:$AE$16,3,FALSE)","v":33},{"$f":"HLOOKUP($AJ$12,'6-Ⅰ①'!$M$3:$AE$16,3,FALSE)+HLOOKUP($AJ$13,'6-Ⅰ①'!$M$3:$AE$16,3,FALSE)+HLOOKUP($AJ$14,'6-Ⅰ①'!$M$3:$AE$16,3,FALSE)","v":40},{"$f":"HLOOKUP($AJ$15,'6-Ⅰ①'!$M$3:$AE$16,3,FALSE)+HLOOKUP($AJ$16,'6-Ⅰ①'!$M$3:$AE$16,3,FALSE)","v":24},{"$f":"HLOOKUP($AJ$17,'6-Ⅰ①'!$M$3:$AE$16,3,FALSE)+HLOOKUP($AJ$18,'6-Ⅰ①'!$M$3:$AE$16,3,FALSE)+HLOOKUP($AJ$19,'6-Ⅰ①'!$M$3:$AE$16,3,FALSE)","v":65},{"$f":"HLOOKUP($AJ$20,'6-Ⅰ①'!$M$3:$AE$16,3,FALSE)","v":16},{"$f":"HLOOKUP($AJ$21,'6-Ⅰ①'!$M$3:$AE$16,3,FALSE)","v":68},{"$f":"SUM(B6:I6)","v":297},null,"30歳代",9,56,10,31,25,52,16,8,4,31,11,14,14,33,36,73,28,15,87,null,null,null,null,"04三島"]
[null,{"$f":"B6/B$22","v":1.7737003058103974E-2},{"$f":"C6/C$22","v":1.1434511434511435E-2},2.4793388429752067E-2,3.1446540880503145E-2,1.9917012448132779E-2,1.298960831334932E-2,0.10126582278481013,3.3333333333333333E-2,2.0385750566270851E-2,null,"40歳代",21,103,23,64,63,71,24,11,13,69,31,31,25,80,93,154,99,25,181,null,null,null,null,"05三島高槻"]
["30歳代",{"$f":"HLOOKUP($AJ$3,'6-Ⅰ①'!$M$3:$AE$16,4,FALSE)+HLOOKUP($AJ$4,'6-Ⅰ①'!$M$3:$AE$16,4,FALSE)+HLOOKUP($AJ$5,'6-Ⅰ①'!$M$3:$AE$16,4,FALSE)","v":75},{"$f":"HLOOKUP($AJ$6,'6-Ⅰ①'!$M$3:$AE$16,4,FALSE)+HLOOKUP($AJ$7,'6-Ⅰ①'!$M$3:$AE$16,4,FALSE)","v":56},{"$f":"HLOOKUP($AJ$8,'6-Ⅰ①'!$M$3:$AE$16,4,FALSE)+HLOOKUP($AJ$9,'6-Ⅰ①'!$M$3:$AE$16,4,FALSE)+HLOOKUP($AJ$10,'6-Ⅰ①'!$M$3:$AE$16,4,FALSE)+HLOOKUP($AJ$11,'6-Ⅰ①'!$M$3:$AE$16,4,FALSE)","v":80},{"$f":"HLOOKUP($AJ$12,'6-Ⅰ①'!$M$3:$AE$16,4,FALSE)+HLOOKUP($AJ$13,'6-Ⅰ①'!$M$3:$AE$16,4,FALSE)+HLOOKUP($AJ$14,'6-Ⅰ①'!$M$3:$AE$16,4,FALSE)","v":56},{"$f":"HLOOKUP($AJ$15,'6-Ⅰ①'!$M$3:$AE$16,4,FALSE)+HLOOKUP($AJ$16,'6-Ⅰ①'!$M$3:$AE$16,4,FALSE)","v":47},{"$f":"HLOOKUP($AJ$17,'6-Ⅰ①'!$M$3:$AE$16,4,FALSE)+HLOOKUP($AJ$18,'6-Ⅰ①'!$M$3:$AE$16,4,FALSE)+HLOOKUP($AJ$19,'6-Ⅰ①'!$M$3:$AE$16,4,FALSE)","v":137},{"$f":"HLOOKUP($AJ$20,'6-Ⅰ①'!$M$3:$AE$16,4,FALSE)","v":15},{"$f":"HLOOKUP($AJ$21,'6-Ⅰ①'!$M$3:$AE$16,4,FALSE)","v":87},{"$f":"SUM(B8:I8)","v":553},null,"50歳代",50,159,57,181,105,138,49,39,25,150,60,42,73,154,222,290,171,20,350,null,null,null,null,"06北河内枚方"]
[null,{"$f":"B8/B$22","v":4.5871559633027525E-2},{"$f":"C8/C$22","v":2.9106029106029108E-2},6.0105184072126221E-2,4.40251572327044E-2,3.9004149377593361E-2,2.7378097521982413E-2,9.49367088607595E-2,4.2647058823529413E-2,3.7957306609925183E-2,null,"60歳代",94,114,66,213,88,89,30,34,34,140,65,47,90,145,278,336,198,24,321,null,null,null,null,"07北河内寝屋川"]
["40歳代",{"$f":"HLOOKUP($AJ$3,'6-Ⅰ①'!$M$3:$AE$16,5,FALSE)+HLOOKUP($AJ$4,'6-Ⅰ①'!$M$3:$AE$16,5,FALSE)+HLOOKUP($AJ$5,'6-Ⅰ①'!$M$3:$AE$16,5,FALSE)","v":147},{"$f":"HLOOKUP($AJ$6,'6-Ⅰ①'!$M$3:$AE$16,5,FALSE)+HLOOKUP($AJ$7,'6-Ⅰ①'!$M$3:$AE$16,5,FALSE)","v":127},{"$f":"HLOOKUP($AJ$8,'6-Ⅰ①'!$M$3:$AE$16,5,FALSE)+HLOOKUP($AJ$9,'6-Ⅰ①'!$M$3:$AE$16,5,FALSE)+HLOOKUP($AJ$10,'6-Ⅰ①'!$M$3:$AE$16,5,FALSE)+HLOOKUP($AJ$11,'6-Ⅰ①'!$M$3:$AE$16,5,FALSE)","v":119},{"$f":"HLOOKUP($AJ$12,'6-Ⅰ①'!$M$3:$AE$16,5,FALSE)+HLOOKUP($AJ$13,'6-Ⅰ①'!$M$3:$AE$16,5,FALSE)+HLOOKUP($AJ$14,'6-Ⅰ①'!$M$3:$AE$16,5,FALSE)","v":131},{"$f":"HLOOKUP($AJ$15,'6-Ⅰ①'!$M$3:$AE$16,5,FALSE)+HLOOKUP($AJ$16,'6-Ⅰ①'!$M$3:$AE$16,5,FALSE)","v":105},{"$f":"HLOOKUP($AJ$17,'6-Ⅰ①'!$M$3:$AE$16,5,FALSE)+HLOOKUP($AJ$18,'6-Ⅰ①'!$M$3:$AE$16,5,FALSE)+HLOOKUP($AJ$19,'6-Ⅰ①'!$M$3:$AE$16,5,FALSE)","v":346},{"$f":"HLOOKUP($AJ$20,'6-Ⅰ①'!$M$3:$AE$16,5,FALSE)","v":25},{"$f":"HLOOKUP($AJ$21,'6-Ⅰ①'!$M$3:$AE$16,5,FALSE)","v":181},{"$f":"SUM(B10:I10)","v":1181},null,"70歳代",162,180,89,334,142,149,60,65,51,179,76,34,126,162,416,543,299,24,457,null,null,null,null,"08北河内西"]
[null,{"$f":"B10/B$22","v":8.990825688073395E-2},{"$f":"C10/C$22","v":6.6008316008316012E-2},8.9406461307287757E-2,0.1029874213836478,8.7136929460580909E-2,6.9144684252597927E-2,0.15822784810126583,8.8725490196078435E-2,8.1062530029514718E-2,null,"80歳代",163,145,28,370,155,102,41,52,44,128,68,13,82,150,436,534,303,10,425,null,null,null,null,"09北河内東"]
["50歳代",{"$f":"HLOOKUP($AJ$3,'6-Ⅰ①'!$M$3:$AE$16,6,FALSE)+HLOOKUP($AJ$4,'6-Ⅰ①'!$M$3:$AE$16,6,FALSE)+HLOOKUP($AJ$5,'6-Ⅰ①'!$M$3:$AE$16,6,FALSE)","v":266},{"$f":"HLOOKUP($AJ$6,'6-Ⅰ①'!$M$3:$AE$16,6,FALSE)+HLOOKUP($AJ$7,'6-Ⅰ①'!$M$3:$AE$16,6,FALSE)","v":286},{"$f":"HLOOKUP($AJ$8,'6-Ⅰ①'!$M$3:$AE$16,6,FALSE)+HLOOKUP($AJ$9,'6-Ⅰ①'!$M$3:$AE$16,6,FALSE)+HLOOKUP($AJ$10,'6-Ⅰ①'!$M$3:$AE$16,6,FALSE)+HLOOKUP($AJ$11,'6-Ⅰ①'!$M$3:$AE$16,6,FALSE)","v":251},{"$f":"HLOOKUP($AJ$12,'6-Ⅰ①'!$M$3:$AE$16,6,FALSE)+HLOOKUP($AJ$13,'6-Ⅰ①'!$M$3:$AE$16,6,FALSE)+HLOOKUP($AJ$14,'6-Ⅰ①'!$M$3:$AE$16,6,FALSE)","v":252},{"$f":"HLOOKUP($AJ$15,'6-Ⅰ①'!$M$3:$AE$16,6,FALSE)+HLOOKUP($AJ$16,'6-Ⅰ①'!$M$3:$AE$16,6,FALSE)","v":227},{"$f":"HLOOKUP($AJ$17,'6-Ⅰ①'!$M$3:$AE$16,6,FALSE)+HLOOKUP($AJ$18,'6-Ⅰ①'!$M$3:$AE$16,6,FALSE)+HLOOKUP($AJ$19,'6-Ⅰ①'!$M$3:$AE$16,6,FALSE)","v":683},{"$f":"HLOOKUP($AJ$20,'6-Ⅰ①'!$M$3:$AE$16,6,FALSE)","v":20},{"$f":"HLOOKUP($AJ$21,'6-Ⅰ①'!$M$3:$AE$16,6,FALSE)","v":350},{"$f":"SUM(B12:I12)","v":2335},null,"90歳以上",35,32,3,97,27,36,5,2,8,17,16,1,9,33,122,182,112,1,81,null,null,null,null,"10中河内東大阪"]
[null,{"$f":"B12/B$22","v":0.16269113149847095},{"$f":"C12/C$22","v":0.14864864864864866},0.18858001502629601,0.19811320754716982,0.18838174273858921,0.1364908073541167,0.12658227848101267,0.17156862745098039,0.16027181000755028,null,"合計",{"$f":"SUM(M4:M12)","v":537},{"$f":"SUM(N4:N12)","v":819},279,1299,625,706,230,216,179,740,341,191,427,778,1618,2140,1246,158,2040,null,null,null,null,"11中河内八尾"]
["60歳代",{"$f":"HLOOKUP($AJ$3,'6-Ⅰ①'!$M$3:$AE$16,7,FALSE)+HLOOKUP($AJ$4,'6-Ⅰ①'!$M$3:$AE$16,7,FALSE)+HLOOKUP($AJ$5,'6-Ⅰ①'!$M$3:$AE$16,7,FALSE)","v":274},{"$f":"HLOOKUP($AJ$6,'6-Ⅰ①'!$M$3:$AE$16,7,FALSE)+HLOOKUP($AJ$7,'6-Ⅰ①'!$M$3:$AE$16,7,FALSE)","v":301},{"$f":"HLOOKUP($AJ$8,'6-Ⅰ①'!$M$3:$AE$16,7,FALSE)+HLOOKUP($AJ$9,'6-Ⅰ①'!$M$3:$AE$16,7,FALSE)+HLOOKUP($AJ$10,'6-Ⅰ①'!$M$3:$AE$16,7,FALSE)+HLOOKUP($AJ$11,'6-Ⅰ①'!$M$3:$AE$16,7,FALSE)","v":187},{"$f":"HLOOKUP($AJ$12,'6-Ⅰ①'!$M$3:$AE$16,7,FALSE)+HLOOKUP($AJ$13,'6-Ⅰ①'!$M$3:$AE$16,7,FALSE)+HLOOKUP($AJ$14,'6-Ⅰ①'!$M$3:$AE$16,7,FALSE)","v":252},{"$f":"HLOOKUP($AJ$15,'6-Ⅰ①'!$M$3:$AE$16,7,FALSE)+HLOOKUP($AJ$16,'6-Ⅰ①'!$M$3:$AE$16,7,FALSE)","v":235},{"$f":"HLOOKUP($AJ$17,'6-Ⅰ①'!$M$3:$AE$16,7,FALSE)+HLOOKUP($AJ$18,'6-Ⅰ①'!$M$3:$AE$16,7,FALSE)+HLOOKUP($AJ$19,'6-Ⅰ①'!$M$3:$AE$16,7,FALSE)","v":812},{"$f":"HLOOKUP($AJ$20,'6-Ⅰ①'!$M$3:$AE$16,7,FALSE)","v":24},{"$f":"HLOOKUP($AJ$21,'6-Ⅰ①'!$M$3:$AE$16,7,FALSE)","v":321},{"$f":"SUM(B14:I14)","v":2406},null,null,"列1","列2","列3","列4","列5","列6","列7","列8","列9","列10","列11","列12","列13","列14","列15","列16","列17","列18","列19","列20",null,null,null,"12中河内南"]
[null,{"$f":"B14/B$22","v":0.16758409785932721},{"$f":"C14/C$22","v":0.15644490644490644},0.14049586776859505,0.19811320754716982,0.19502074688796681,0.16227018385291767,0.15189873417721519,0.15735294117647058,0.16514517125403252,null,"65歳未満",133,409,125,400,256,369,110,80,58,348,148,120,161,366,514,725,430,110,919,null,null,null,null,"13南河内北"]
["70歳代",{"$f":"HLOOKUP($AJ$3,'6-Ⅰ①'!$M$3:$AE$16,8,FALSE)+HLOOKUP($AJ$4,'6-Ⅰ①'!$M$3:$AE$16,8,FALSE)+HLOOKUP($AJ$5,'6-Ⅰ①'!$M$3:$AE$16,8,FALSE)","v":431},{"$f":"HLOOKUP($AJ$6,'6-Ⅰ①'!$M$3:$AE$16,8,FALSE)+HLOOKUP($AJ$7,'6-Ⅰ①'!$M$3:$AE$16,8,FALSE)","v":476},{"$f":"HLOOKUP($AJ$8,'6-Ⅰ①'!$M$3:$AE$16,8,FALSE)+HLOOKUP($AJ$9,'6-Ⅰ①'!$M$3:$AE$16,8,FALSE)+HLOOKUP($AJ$10,'6-Ⅰ①'!$M$3:$AE$16,8,FALSE)+HLOOKUP($AJ$11,'6-Ⅰ①'!$M$3:$AE$16,8,FALSE)","v":325},{"$f":"HLOOKUP($AJ$12,'6-Ⅰ①'!$M$3:$AE$16,8,FALSE)+HLOOKUP($AJ$13,'6-Ⅰ①'!$M$3:$AE$16,8,FALSE)+HLOOKUP($AJ$14,'6-Ⅰ①'!$M$3:$AE$16,8,FALSE)","v":289},{"$f":"HLOOKUP($AJ$15,'6-Ⅰ①'!$M$3:$AE$16,8,FALSE)+HLOOKUP($AJ$16,'6-Ⅰ①'!$M$3:$AE$16,8,FALSE)","v":288},{"$f":"HLOOKUP($AJ$17,'6-Ⅰ①'!$M$3:$AE$16,8,FALSE)+HLOOKUP($AJ$18,'6-Ⅰ①'!$M$3:$AE$16,8,FALSE)+HLOOKUP($AJ$19,'6-Ⅰ①'!$M$3:$AE$16,8,FALSE)","v":1258},{"$f":"HLOOKUP($AJ$20,'6-Ⅰ①'!$M$3:$AE$16,8,FALSE)","v":24},{"$f":"HLOOKUP($AJ$21,'6-Ⅰ①'!$M$3:$AE$16,8,FALSE)","v":457},{"$f":"SUM(B16:I16)","v":3548},null,"65歳以上",404,410,154,899,369,337,120,136,121,392,193,71,266,412,1104,1415,816,48,1121,null,null,null,null,"14南河内南"]
[null,{"$f":"B16/B$22","v":0.26360856269113148},{"$f":"C16/C$22","v":0.24740124740124741},0.24417731029301276,0.22720125786163523,0.23900414937759337,0.25139888089528378,0.15189873417721519,0.22401960784313726,0.24353078454252181,null,null,null,null,null,null,null,null,null,null,null,null,null,null,null,null,null,null,null,null,null,null,null,null,null,"15泉州北"]
["80歳代",{"$f":"HLOOKUP($AJ$3,'6-Ⅰ①'!$M$3:$AE$16,9,FALSE)+HLOOKUP($AJ$4,'6-Ⅰ①'!$M$3:$AE$16,9,FALSE)+HLOOKUP($AJ$5,'6-Ⅰ①'!$M$3:$AE$16,9,FALSE)","v":336},{"$f":"HLOOKUP($AJ$6,'6-Ⅰ①'!$M$3:$AE$16,9,FALSE)+HLOOKUP($AJ$7,'6-Ⅰ①'!$M$3:$AE$16,9,FALSE)","v":525},{"$f":"HLOOKUP($AJ$8,'6-Ⅰ①'!$M$3:$AE$16,9,FALSE)+HLOOKUP($AJ$9,'6-Ⅰ①'!$M$3:$AE$16,9,FALSE)+HLOOKUP($AJ$10,'6-Ⅰ①'!$M$3:$AE$16,9,FALSE)+HLOOKUP($AJ$11,'6-Ⅰ①'!$M$3:$AE$16,9,FALSE)","v":239},{"$f":"HLOOKUP($AJ$12,'6-Ⅰ①'!$M$3:$AE$16,9,FALSE)+HLOOKUP($AJ$13,'6-Ⅰ①'!$M$3:$AE$16,9,FALSE)+HLOOKUP($AJ$14,'6-Ⅰ①'!$M$3:$AE$16,9,FALSE)","v":209},{"$f":"HLOOKUP($AJ$15,'6-Ⅰ①'!$M$3:$AE$16,9,FALSE)+HLOOKUP($AJ$16,'6-Ⅰ①'!$M$3:$AE$16,9,FALSE)","v":232},{"$f":"HLOOKUP($AJ$17,'6-Ⅰ①'!$M$3:$AE$16,9,FALSE)+HLOOKUP($AJ$18,'6-Ⅰ①'!$M$3:$AE$16,9,FALSE)+HLOOKUP($AJ$19,'6-Ⅰ①'!$M$3:$AE$16,9,FALSE)","v":1273},{"$f":"HLOOKUP($AJ$20,'6-Ⅰ①'!$M$3:$AE$16,9,FALSE)","v":10},{"$f":"HLOOKUP($AJ$21,'6-Ⅰ①'!$M$3:$AE$16,9,FALSE)","v":425},{"$f":"SUM(B18:I18)","v":3249},null,null,null,null,null,null,null,null,null,null,null,null,null,null,null,null,null,null,null,null,null,null,null,null,null,"16泉州中"]
[null,{"$f":"B18/B$22","v":0.20550458715596331},{"$f":"C18/C$22","v":0.27286902286902287},0.17956423741547708,0.16430817610062892,0.19253112033195022,0.25439648281374899,6.3291139240506333E-2,0.20833333333333334,0.2230077561946599,null,null,null,null,null,null,null,null,null,null,null,null,null,null,null,null,null,null,null,null,null,null,null,null,null,"17泉州南"]
["90歳以上",{"$f":"HLOOKUP($AJ$3,'6-Ⅰ①'!$M$3:$AE$16,10,FALSE)+HLOOKUP($AJ$4,'6-Ⅰ①'!$M$3:$AE$16,10,FALSE)+HLOOKUP($AJ$5,'6-Ⅰ①'!$M$3:$AE$16,10,FALSE)","v":70},{"$f":"HLOOKUP($AJ$6,'6-Ⅰ①'!$M$3:$AE$16,10,FALSE)+HLOOKUP($AJ$7,'6-Ⅰ①'!$M$3:$AE$16,10,FALSE)","v":124},{"$f":"HLOOKUP($AJ$8,'6-Ⅰ①'!$M$3:$AE$16,10,FALSE)+HLOOKUP($AJ$9,'6-Ⅰ①'!$M$3:$AE$16,10,FALSE)+HLOOKUP($AJ$10,'6-Ⅰ①'!$M$3:$AE$16,10,FALSE)+HLOOKUP($AJ$11,'6-Ⅰ①'!$M$3:$AE$16,10,FALSE)","v":51},{"$f":"HLOOKUP($AJ$12,'6-Ⅰ①'!$M$3:$AE$16,10,FALSE)+HLOOKUP($AJ$13,'6-Ⅰ①'!$M$3:$AE$16,10,FALSE)+HLOOKUP($AJ$14,'6-Ⅰ①'!$M$3:$AE$16,10,FALSE)","v":34},{"$f":"HLOOKUP($AJ$15,'6-Ⅰ①'!$M$3:$AE$16,10,FALSE)+HLOOKUP($AJ$16,'6-Ⅰ①'!$M$3:$AE$16,10,FALSE)","v":42},{"$f":"HLOOKUP($AJ$17,'6-Ⅰ①'!$M$3:$AE$16,10,FALSE)+HLOOKUP($AJ$18,'6-Ⅰ①'!$M$3:$AE$16,10,FALSE)+HLOOKUP($AJ$19,'6-Ⅰ①'!$M$3:$AE$16,10,FALSE)","v":416},{"$f":"HLOOKUP($AJ$20,'6-Ⅰ①'!$M$3:$AE$16,10,FALSE)","v":1},{"$f":"HLOOKUP($AJ$21,'6-Ⅰ①'!$M$3:$AE$16,10,FALSE)","v":81},{"$f":"SUM(B20:I20)","v":819},null,null,null,null,null,null,null,null,null,null,null,null,null,null,null,null,null,null,null,null,null,null,null,null,null,"18大阪市"]
[null,{"$f":"B20/B$22","v":4.2813455657492352E-2},{"$f":"C20/C$22","v":6.4449064449064453E-2},3.8317054845980462E-2,2.6729559748427674E-2,3.4854771784232366E-2,8.3133493205435657E-2,6.3291139240506328E-3,3.9705882352941174E-2,5.6215251561534764E-2,null,null,null,null,null,null,null,null,null,null,null,null,null,null,null,null,null,null,null,null,null,null,null,null,null,"19堺市"]
["　総計",{"$f":"SUM(M13:O13)","v":1635},{"$f":"SUM(P13:Q13)","v":1924},{"$f":"SUM(R13:U13)","v":1331},{"$f":"SUM(V13:X13)","v":1272},{"$f":"SUM(Y13:Z13)","v":1205},{"$f":"SUM(AA13:AC13)","v":5004},{"$f":"AD13","v":158},{"$f":"AE13","v":2040},{"$f":"SUM(B22:I22)","v":14569}]
[null,{"$f":"SUM(B5,B7,B9,B11,B13,B15,B17,B19,B21)","v":1},{"$f":"SUM(C5,C7,C9,C11,C13,C15,C17,C19,C21)","v":1},1,1,1,1.0000000000000002,1,1,1.0000000000000002]
["65歳未満（再掲）",{"$f":"HLOOKUP($AJ$3,'6-Ⅰ①'!$M$3:$AE$16,13,FALSE)+HLOOKUP($AJ$4,'6-Ⅰ①'!$M$3:$AE$16,13,FALSE)+HLOOKUP($AJ$5,'6-Ⅰ①'!$M$3:$AE$16,13,FALSE)","v":667},{"$f":"HLOOKUP($AJ$6,'6-Ⅰ①'!$M$3:$AE$16,13,FALSE)+HLOOKUP($AJ$7,'6-Ⅰ①'!$M$3:$AE$16,13,FALSE)","v":656},{"$f":"HLOOKUP($AJ$8,'6-Ⅰ①'!$M$3:$AE$16,13,FALSE)+HLOOKUP($AJ$9,'6-Ⅰ①'!$M$3:$AE$16,13,FALSE)+HLOOKUP($AJ$10,'6-Ⅰ①'!$M$3:$AE$16,13,FALSE)+HLOOKUP($AJ$11,'6-Ⅰ①'!$M$3:$AE$16,13,FALSE)","v":617},{"$f":"HLOOKUP($AJ$12,'6-Ⅰ①'!$M$3:$AE$16,13,FALSE)+HLOOKUP($AJ$13,'6-Ⅰ①'!$M$3:$AE$16,13,FALSE)+HLOOKUP($AJ$14,'6-Ⅰ①'!$M$3:$AE$16,13,FALSE)","v":616},{"$f":"HLOOKUP($AJ$15,'6-Ⅰ①'!$M$3:$AE$16,13,FALSE)+HLOOKUP($AJ$16,'6-Ⅰ①'!$M$3:$AE$16,13,FALSE)","v":527},{"$f":"HLOOKUP($AJ$17,'6-Ⅰ①'!$M$3:$AE$16,13,FALSE)+HLOOKUP($AJ$18,'6-Ⅰ①'!$M$3:$AE$16,13,FALSE)+HLOOKUP($AJ$19,'6-Ⅰ①'!$M$3:$AE$16,13,FALSE)","v":1669},{"$f":"HLOOKUP($AJ$20,'6-Ⅰ①'!$M$3:$AE$16,13,FALSE)","v":110},{"$f":"HLOOKUP($AJ$21,'6-Ⅰ①'!$M$3:$AE$16,13,FALSE)","v":919},{"$f":"SUM(B24:I24)","v":5781}]
[null,{"$f":"B24/B$22","v":0.40795107033639144},{"$f":"C24/C$22","v":0.34095634095634098},0.46356123215627348,0.48427672955974843,0.43734439834024896,0.33353317346123101,0.69620253164556967,0.45049019607843138,0.39680142768892857]
["65歳以上（再掲）",{"$f":"HLOOKUP($AJ$3,'6-Ⅰ①'!$M$3:$AE$16,14,FALSE)+HLOOKUP($AJ$4,'6-Ⅰ①'!$M$3:$AE$16,14,FALSE)+HLOOKUP($AJ$5,'6-Ⅰ①'!$M$3:$AE$16,14,FALSE)","v":968},{"$f":"HLOOKUP($AJ$6,'6-Ⅰ①'!$M$3:$AE$16,14,FALSE)+HLOOKUP($AJ$7,'6-Ⅰ①'!$M$3:$AE$16,14,FALSE)","v":1268},{"$f":"HLOOKUP($AJ$8,'6-Ⅰ①'!$M$3:$AE$16,14,FALSE)+HLOOKUP($AJ$9,'6-Ⅰ①'!$M$3:$AE$16,14,FALSE)+HLOOKUP($AJ$10,'6-Ⅰ①'!$M$3:$AE$16,14,FALSE)+HLOOKUP($AJ$11,'6-Ⅰ①'!$M$3:$AE$16,14,FALSE)","v":714},{"$f":"HLOOKUP($AJ$12,'6-Ⅰ①'!$M$3:$AE$16,14,FALSE)+HLOOKUP($AJ$13,'6-Ⅰ①'!$M$3:$AE$16,14,FALSE)+HLOOKUP($AJ$14,'6-Ⅰ①'!$M$3:$AE$16,14,FALSE)","v":656},{"$f":"HLOOKUP($AJ$15,'6-Ⅰ①'!$M$3:$AE$16,14,FALSE)+HLOOKUP($AJ$16,'6-Ⅰ①'!$M$3:$AE$16,14,FALSE)","v":678},{"$f":"HLOOKUP($AJ$17,'6-Ⅰ①'!$M$3:$AE$16,14,FALSE)+HLOOKUP($AJ$18,'6-Ⅰ①'!$M$3:$AE$16,14,FALSE)+HLOOKUP($AJ$19,'6-Ⅰ①'!$M$3:$AE$16,14,FALSE)","v":3335},{"$f":"HLOOKUP($AJ$20,'6-Ⅰ①'!$M$3:$AE$16,14,FALSE)","v":48},{"$f":"HLOOKUP($AJ$21,'6-Ⅰ①'!$M$3:$AE$16,14,FALSE)","v":1121},{"$f":"SUM(B26:I26)","v":8788}]
[null,{"$f":"B26/B$22","v":0.59204892966360856},{"$f":"C26/C$22","v":0.65904365904365902},0.53643876784372657,0.51572327044025157,0.56265560165975104,0.66646682653876899,0.30379746835443039,0.54950980392156867,0.60319857231107143]

{"sheet":"6-Ⅰ②","index":26,"n_rows":15,"n_cols":32,"rows_kept":15,"cut":false,"hidden":false,"merged":[[5,0,6,0],[7,0,8,0],[9,0,10,0],[11,0,12,0],[13,0,14,0]]}
["【入院形態区分×病院所在地（圏域）】"]
[]
[null,"豊能","三島","北河内","中河内","南河内","泉州","大阪市","堺市","合計",null,null,"行ラベル","01豊能北","02豊能豊中","03豊能吹田","04三島","05三島高槻","06北河内枚方","07北河内寝屋川","08北河内西","09北河内東","10中河内東大阪","11中河内八尾","12中河内南","13南河内北","14南河内南","15泉州北","16泉州中","17泉州南","18大阪市","19堺市"]
["措置入院・",{"$f":"SUM(N4:P5)","v":15},{"$f":"SUM(Q4:R5)","v":2},{"$f":"SUM(S4:V5)","v":13},{"$f":"SUM(W4:Y5)","v":11},{"$f":"SUM(Z4:AA5)","v":0},{"$f":"SUM(AB4:AD5)","v":17},{"$f":"SUM(AE4:AE5)","v":4},{"$f":"SUM(AF4:AF5)","v":14},{"$f":"SUM(B4:I4)","v":76},null,null,"措置入院",null,15,null,1,1,10,2,1,null,2,null,9,null,null,4,10,3,4,14]
["緊急措置入院",{"$f":"B4/B$14","v":9.1743119266055051E-3},{"$f":"C4/C$14","v":1.0395010395010396E-3},9.7670924117205116E-3,8.6477987421383646E-3,0,3.3972821742605914E-3,2.5316455696202531E-2,6.8627450980392156E-3,5.2165557004598805E-3,null,null,"(空白)"]
["医療保護入院",{"$f":"SUM(入院形態病院圏域[[#This Row],[01豊能北]:[03豊能吹田]])","v":863},{"$f":"SUM(入院形態病院圏域[[#This Row],[04三島]:[05三島高槻]])","v":1348},{"$f":"SUM(入院形態病院圏域[[#This Row],[06北河内枚方]:[09北河内東]])","v":838},{"$f":"SUM(入院形態病院圏域[[#This Row],[10中河内東大阪]:[12中河内南]])","v":713},{"$f":"SUM(入院形態病院圏域[[#This Row],[13南河内北]:[14南河内南]])","v":603},{"$f":"SUM(入院形態病院圏域[[#This Row],[15泉州北]:[17泉州南]])","v":2395},{"$f":"入院形態病院圏域[[#This Row],[18大阪市]]","v":79},{"$f":"入院形態病院圏域[[#This Row],[19堺市]]","v":1330},{"$f":"SUM(B6:I6)","v":8169},null,null,"医療保護入院",327,430,106,1023,325,452,192,126,68,422,159,132,135,468,661,910,824,79,1330]
[null,{"$f":"B6/B$14","v":0.52782874617737008},{"$f":"C6/C$14","v":0.70062370062370061},0.62960180315552217,0.56053459119496851,0.5004149377593361,0.47861710631494803,0.5,0.65196078431372551,0.56071109890864168,null,null,"任意入院",210,373,173,275,298,210,36,89,111,316,182,50,292,310,953,1220,419,69,696]
["任意入院",{"$f":"SUM(N7:P7)","v":756},{"$f":"SUM(Q7:R7)","v":573},{"$f":"SUM(S7:V7)","v":446},{"$f":"SUM(W7:Y7)","v":548},{"$f":"SUM(Z7:AA7)","v":602},{"$f":"SUM(AB7:AD7)","v":2592},{"$f":"AE7","v":69},{"$f":"AF7","v":696},{"$f":"SUM(B8:I8)","v":6282},null,null,"応急入院",null,null,null,null,null,null,null,null,null,null,null,null,null,null,null,null,null,4]
[null,{"$f":"B8/B$14","v":0.46238532110091746},{"$f":"C8/C$14","v":0.29781704781704782},0.3350864012021037,0.4308176100628931,0.4995850622406639,0.51798561151079137,0.43670886075949367,0.3411764705882353,0.43118951197748645,null,null,"鑑定入院",null,1,null,null,1,2,null,null,null,null,null,null,null,null,null,null,null,2]
["応急入院",{"$f":"SUM(N8:P8)","v":0},{"$f":"SUM(Q8:R8)","v":0},{"$f":"SUM(S8:V8)","v":0},{"$f":"SUM(W8:Y8)","v":0},{"$f":"SUM(Z8:AA8)","v":0},{"$f":"SUM(AB8:AD8)","v":0},{"$f":"AE8","v":4},{"$f":"AF8","v":0},{"$f":"SUM(B10:I10)","v":4},null,null,"医療観察法による入院",null,null,null,null,null,32]
[null,{"$f":"B10/B$14","v":0},{"$f":"C10/C$14","v":0},0,0,0,0,2.5316455696202531E-2,0,2.74555563182099E-4]
["その他",{"$f":"SUM(N9:P11)","v":1},{"$f":"SUM(Q9:R11)","v":1},{"$f":"SUM(S9:V11)","v":34},{"$f":"SUM(W9:Y11)","v":0},{"$f":"SUM(Z9:AA11)","v":0},{"$f":"SUM(AB9:AD11)","v":0},{"$f":"SUM(AE9:AE11)","v":2},{"$f":"SUM(AF9:AF11)","v":0},{"$f":"SUM(B12:I12)","v":38}]
[null,{"$f":"B12/B$14","v":6.116207951070336E-4},{"$f":"C12/C$14","v":5.1975051975051978E-4},2.5544703230653644E-2,0,0,0,1.2658227848101266E-2,0,2.6082778502299403E-3]
["　総計",{"$f":"B4+B6+B8+B10+B12","v":1635},{"$f":"C4+C6+C8+C10+C12","v":1924},1331,1272,1205,5004,158,2040,{"$f":"SUM(B14:I14)","v":14569}]
[null,{"$f":"SUM(B5,B7,B9,B11,B13)","v":1},{"$f":"SUM(C5,C7,C9,C11,C13)","v":1},{"$f":"SUM(D5,D7,D9,D11,D13)","v":0.99999999999999989},1,1,1,1,1,1]

{"sheet":"6-Ⅰ③","index":27,"n_rows":35,"n_cols":34,"rows_kept":35,"cut":false,"hidden":false,"merged":[[27,0,28,0],[29,0,30,0],[31,0,32,0],[33,0,34,0],[15,0,16,0],[17,0,18,0],[19,0,20,0],[21,0,22,0],[23,0,24,0],[25,0,26,0],[13,0,14,0],[3,0,4,0],[5,0,6,0],[7,0,8,0],[9,0,10,0],[11,0,12,0]]}
["【疾患名区分×病院所在地（圏域）】"]
[]
[null,"豊能","三島","北河内","中河内","南河内","泉州","大阪市","堺市","合計",null,null,"行ラベル","01豊能北","02豊能豊中","03豊能吹田","04三島","05三島高槻","06北河内枚方","07北河内寝屋川","08北河内西","09北河内東","10中河内東大阪","11中河内八尾","12中河内南","13南河内北","14南河内南","15泉州北","16泉州中","17泉州南","18大阪市","19堺市","(空白)","総計"]
["症状性を含む器質性精神障害（F0）",{"$f":"B6+B8+B10","v":372},{"$f":"C6+C8+C10","v":699},{"$f":"D6+D8+D10","v":320},276,247,1781,{"$f":"H6+H8+H10","v":17},529,{"$f":"SUM(B4:I4)","v":4241},null,null,"F00アルツハイマー病型認知症",117,63,2,294,115,92,20,41,18,82,71,4,8,97,264,344,242,3,304,null,2181]
[null,{"$f":"B4/B$34","v":0.22752293577981653},{"$f":"C4/C$34","v":0.36330561330561328},0.24042073628850488,0.21698113207547171,0.20497925311203319,0.35591526778577137,0.10759493670886076,0.2593137254901961,{"$f":"J4/J$34","v":0.29109753586382042},null,null,"F01血管性認知症",19,10,null,53,14,19,2,2,2,9,2,1,2,8,64,61,46,null,29,null,343]
["アルツハイマー病の認知症を含む器質性精神障害（F00）",{"$f":"SUM(N4:P4)","v":182},{"$f":"SUM(Q4:R4)","v":409},{"$f":"SUM(S4:V4)","v":171},{"$f":"SUM(W4:Y4)","v":157},{"$f":"SUM(Z4:AA4)","v":105},{"$f":"SUM(AB4:AD4)","v":850},{"$f":"AE4","v":3},{"$f":"AF4","v":304},{"$f":"SUM(B6:I6)","v":2181},null,null,"F02-09上記以外の症状性を含む器質性精神障害",59,92,10,177,46,64,41,10,9,72,27,8,35,97,274,313,173,14,196,null,1717]
[null,{"$f":"B6/B$34","v":0.11131498470948012},{"$f":"C6/C$34","v":0.21257796257796258},0.12847483095416981,0.12342767295597484,8.7136929460580909E-2,0.16986410871302957,1.8987341772151899E-2,0.14901960784313725,0.14970142082503946,null,null,"F10アルコール使用による精神及び行動の障害",19,14,null,30,55,6,4,6,4,9,8,3,10,32,297,79,21,2,79,null,678]
["血管性認知症を含む器質性精神障害（F01）",{"$f":"SUM(N5:P5)","v":29},{"$f":"SUM(Q5:R5)","v":67},{"$f":"SUM(S5:V5)","v":25},{"$f":"SUM(W5:Y5)","v":12},{"$f":"SUM(Z5:AA5)","v":10},{"$f":"SUM(AB5:AD5)","v":171},{"$f":"AE5","v":0},{"$f":"AF5","v":29},{"$f":"SUM(B8:I8)","v":343},null,null,"アルコール覚せい剤を除く精神作用物質使用による精神及び行動の障害※",1,4,null,null,3,7,null,null,2,6,null,6,1,1,9,9,3,null,5,null,57]
[null,{"$f":"B8/B$34","v":1.7737003058103974E-2},{"$f":"C8/C$34","v":3.4823284823284825E-2},1.8782870022539443E-2,9.433962264150943E-3,8.2987551867219917E-3,3.41726618705036E-2,0,1.4215686274509804E-2,2.3543139542864987E-2,null,null,"覚せい剤による精神及び行動の障害※",null,3,null,5,1,7,2,2,null,null,null,3,null,13,2,36,7,1,9,null,91]
["アルツハイマー病の認知症・血管性認知症以外の症状性を含む器質性精神障害（F02-F09）",{"$f":"SUM(N6:P6)","v":161},{"$f":"SUM(Q6:R6)","v":223},{"$f":"SUM(S6:V6)","v":124},{"$f":"SUM(W6:Y6)","v":107},{"$f":"SUM(Z6:AA6)","v":132},{"$f":"SUM(AB6:AD6)","v":760},{"$f":"AE6","v":14},{"$f":"AF6","v":196},{"$f":"SUM(B10:I10)","v":1717},null,null,"F2統合失調症、統合失調症型障害及び妄想性障害",247,485,222,601,273,373,126,105,118,409,146,126,257,385,537,938,558,51,985,null,6942]
[null,{"$f":"B10/B$34","v":9.8470948012232412E-2},{"$f":"C10/C$34","v":0.11590436590436591},9.3163035311795636E-2,8.4119496855345907E-2,0.10954356846473029,0.1518784972022382,8.8607594936708861E-2,9.6078431372549025E-2,0.11785297549591599,null,null,"F30‐31　躁病エピソード・双極性感情障害［躁うつ病］",22,57,12,67,40,33,8,18,3,35,47,7,15,46,57,162,34,18,75,null,756]
["精神作用物質使用による精神及び行動の障害（F1）",{"$f":"SUM(N7:P9)","v":41},{"$f":"SUM(Q7:R9)","v":94},{"$f":"SUM(S7:V9)","v":40},{"$f":"SUM(W7:Y9)","v":35},{"$f":"SUM(Z7:AA9)","v":57},{"$f":"SUM(AB7:AD9)","v":463},{"$f":"SUM(AE7:AE9)","v":3},{"$f":"SUM(AF7:AF9)","v":93},{"$f":"SUM(B12:I12)","v":826},null,null,"F32-39　その他の気分障害",32,26,17,24,41,29,12,22,16,61,null,10,35,50,57,61,85,25,160,null,763]
[null,{"$f":"B12/B$34","v":2.5076452599388378E-2},{"$f":"C12/C$34","v":4.8856548856548859E-2},3.005259203606311E-2,2.7515723270440252E-2,4.7302904564315351E-2,9.2525979216626697E-2,1.8987341772151899E-2,4.5588235294117645E-2,5.6695723797103442E-2,null,null,"F4神経症性障害、ストレス関連障害及び身体表現性障害",5,17,5,10,9,10,10,3,1,14,8,7,19,17,8,23,14,6,52,null,238]
["統合失調症、統合失調症型障害及び妄想性障害（F2）",{"$f":"SUM(N10:P10)","v":954},{"$f":"SUM(Q10:R10)","v":874},{"$f":"SUM(S10:V10)","v":722},{"$f":"SUM(W10:Y10)","v":681},{"$f":"SUM(Z10:AA10)","v":642},{"$f":"SUM(AB10:AD10)","v":2033},{"$f":"AE10","v":51},{"$f":"AF10","v":985},{"$f":"SUM(B14:I14)","v":6942},null,null,"F5生理的障害及び身体的要因に関連した行動症候群",null,null,1,null,4,1,null,1,null,null,2,null,null,8,null,2,1,30,5,null,55]
[null,{"$f":"B14/B$34","v":0.58348623853211012},{"$f":"C14/C$34","v":0.45426195426195426},0.54244928625093913,0.535377358490566,0.53278008298755186,0.40627498001598722,0.32278481012658228,0.48284313725490197,0.47649117990253276,null,null,"F6成人のパーソナリティ及び行動の障害",null,3,null,null,3,2,null,null,1,2,null,3,1,4,4,7,2,null,3,null,35]
["気分（感情）障害（F3）",{"$f":"SUM(N11:P12)","v":166},{"$f":"SUM(Q11:R12)","v":172},{"$f":"SUM(S11:V12)","v":141},{"$f":"SUM(W11:Y12)","v":160},{"$f":"SUM(Z11:AA12)","v":146},{"$f":"SUM(AB11:AD12)","v":456},{"$f":"SUM(AE11:AE12)","v":43},{"$f":"SUM(AF11:AF12)","v":235},{"$f":"SUM(B16:I16)","v":1519},null,null,"F7精神遅滞〔知的障害〕",8,18,2,19,9,17,2,5,5,11,7,3,8,5,27,67,51,4,37,null,305]
[null,{"$f":"B16/B$34","v":0.10152905198776759},{"$f":"C16/C$34","v":8.9397089397089402E-2},0.10593538692712247,0.12578616352201258,0.12116182572614108,9.1127098321342928E-2,0.27215189873417722,0.11519607843137254,0.10426247511840209,null,null,"F8心理的発達の障害",2,12,2,8,6,33,2,1,null,17,2,4,1,9,5,12,5,2,39,null,162]
["神経症性障害、ストレス関連障害及び身体表現性障害（F4）",{"$f":"SUM(N13:P13)","v":27},{"$f":"SUM(Q13:R13)","v":19},{"$f":"SUM(S13:V13)","v":24},{"$f":"SUM(W13:Y13)","v":29},{"$f":"SUM(Z13:AA13)","v":36},{"$f":"SUM(AB13:AD13)","v":45},{"$f":"AE13","v":6},{"$f":"AF13","v":52},{"$f":"SUM(B18:I18)","v":238},null,null,"F9小児期及び青年期に通常発症する行動及び情緒の障害及び特定不能の精神障害",1,null,5,3,1,13,1,null,null,4,4,3,1,2,null,3,null,1,18,null,60]
[null,{"$f":"B18/B$34","v":1.6513761467889909E-2},{"$f":"C18/C$34","v":9.8752598752598758E-3},1.8031555221637866E-2,2.2798742138364778E-2,2.9875518672199172E-2,8.9928057553956831E-3,3.7974683544303799E-2,2.5490196078431372E-2,1.6336056009334889E-2,null,null,"てんかん（F0に属さないものを計上する）",1,4,1,4,1,null,null,null,null,null,9,3,1,null,null,14,2,null,2,null,42]
["生理的障害及び身体的要因に関連した行動症候群（F5）",{"$f":"SUM(N14:P14)","v":1},{"$f":"SUM(Q14:R14)","v":4},{"$f":"SUM(S14:V14)","v":2},{"$f":"SUM(W14:Y14)","v":2},{"$f":"SUM(Z14:AA14)","v":8},{"$f":"SUM(AB14:AD14)","v":3},{"$f":"AE14","v":30},{"$f":"AF14","v":5},{"$f":"SUM(B20:I20)","v":55},null,null,"その他",4,11,null,4,4,null,null,null,null,9,8,null,33,4,13,9,2,null,42,null,143]
[null,{"$f":"B20/B$34","v":6.116207951070336E-4},{"$f":"C20/C$34","v":2.0790020790020791E-3},1.5026296018031556E-3,1.5723270440251573E-3,6.6390041493775932E-3,5.9952038369304552E-4,0.189873417721519,2.4509803921568627E-3,3.7751389937538608E-3,null,null,"不明",null,null,null,null,null,null,null,null,null,null,null,null,null,null,null,null,null,1,null,null,1]
["成人のパーソナリティ及び行動の障害（F6）",{"$f":"SUM(N15:P15)","v":3},{"$f":"SUM(Q15:R15)","v":3},{"$f":"SUM(S15:V15)","v":3},{"$f":"SUM(W15:Y15)","v":5},{"$f":"SUM(Z15:AA15)","v":5},{"$f":"SUM(AB15:AD15)","v":13},{"$f":"AE15","v":0},{"$f":"AF15","v":3},{"$f":"SUM(B22:I22)","v":35},null,null,"(空白)"]
[null,{"$f":"B22/B$34","v":1.834862385321101E-3},{"$f":"C22/C$34","v":1.5592515592515593E-3},2.2539444027047332E-3,3.9308176100628931E-3,4.1493775933609959E-3,2.5979216626698643E-3,0,1.4705882352941176E-3,2.4023611778433659E-3]
["知的障害（F7）",{"$f":"SUM(N16:P16)","v":28},{"$f":"SUM(Q16:R16)","v":28},{"$f":"SUM(S16:V16)","v":29},{"$f":"SUM(W16:Y16)","v":21},{"$f":"SUM(Z16:AA16)","v":13},{"$f":"SUM(AB16:AD16)","v":145},{"$f":"AE16","v":4},{"$f":"AF16","v":37},{"$f":"SUM(B24:I24)","v":305}]
[null,{"$f":"B24/B$34","v":1.7125382262996942E-2},{"$f":"C24/C$34","v":1.4553014553014554E-2},2.1788129226145755E-2,1.6509433962264151E-2,1.0788381742738589E-2,2.897681854516387E-2,2.5316455696202531E-2,1.8137254901960786E-2,2.0934861692635046E-2]
["心理的発達の障害（F8）",{"$f":"SUM(N17:P17)","v":16},{"$f":"SUM(Q17:R17)","v":14},{"$f":"SUM(S17:V17)","v":36},{"$f":"SUM(W17:Y17)","v":23},{"$f":"SUM(Z17:AA17)","v":10},{"$f":"SUM(AB17:AD17)","v":22},{"$f":"AE17","v":2},{"$f":"AF17","v":39},{"$f":"SUM(B26:I26)","v":162}]
[null,{"$f":"B26/B$34","v":9.7859327217125376E-3},{"$f":"C26/C$34","v":7.2765072765072769E-3},2.7047332832456798E-2,1.8081761006289308E-2,8.2987551867219917E-3,4.3964828137490006E-3,1.2658227848101266E-2,1.9117647058823531E-2,1.1119500308875008E-2]
["小児期及び青年期の通常発症する行動及び情緒の障害及び特定不能の精神障害（F9）",{"$f":"SUM(N18:P18)","v":6},{"$f":"SUM(Q18:R18)","v":4},{"$f":"SUM(S18:V18)","v":14},{"$f":"SUM(W18:Y18)","v":11},{"$f":"SUM(Z18:AA18)","v":3},{"$f":"SUM(AB18:AD18)","v":3},{"$f":"AE18","v":1},{"$f":"AF18","v":18},{"$f":"SUM(B28:I28)","v":60}]
[null,{"$f":"B28/B$34","v":3.669724770642202E-3},{"$f":"C28/C$34","v":2.0790020790020791E-3},1.0518407212622089E-2,8.6477987421383646E-3,2.4896265560165973E-3,5.9952038369304552E-4,6.3291139240506328E-3,8.8235294117647058E-3,4.1183334477314848E-3]
["てんかん（症状性を含む器質性障害(F0)に属さないもの）",{"$f":"SUM(N19:P19)","v":6},{"$f":"SUM(Q19:R19)","v":5},{"$f":"SUM(S19:V19)","v":0},{"$f":"SUM(W19:Y19)","v":12},{"$f":"SUM(Z19:AA19)","v":1},{"$f":"SUM(AB19:AD19)","v":16},{"$f":"AE19","v":0},{"$f":"AF19","v":2},{"$f":"SUM(B30:I30)","v":42}]
[null,{"$f":"B30/B$34","v":3.669724770642202E-3},2.5987525987525989E-3,0,9.433962264150943E-3,8.2987551867219915E-4,3.1974420463629096E-3,0,9.8039215686274508E-4,{"$f":"J30/J$34","v":2.8828334134120394E-3}]
["その他・不明",{"$f":"SUM(N20:P21)","v":15},{"$f":"SUM(Q20:R21)","v":8},{"$f":"SUM(S20:V21)","v":0},{"$f":"SUM(W20:Y21)","v":17},{"$f":"SUM(Z20:AA21)","v":37},{"$f":"SUM(AB20:AD21)","v":24},{"$f":"SUM(AE20:AE21)","v":1},{"$f":"SUM(AF20:AF21)","v":42},{"$f":"SUM(B32:I32)","v":144}]
[null,{"$f":"B32/B$34","v":9.1743119266055051E-3},4.1580041580041582E-3,0,1.3364779874213837E-2,3.0705394190871368E-2,4.7961630695443642E-3,6.3291139240506328E-3,2.0588235294117647E-2,{"$f":"J32/J$34","v":9.8840002745555627E-3}]
["　総計",{"$f":"B4+B12+B14+B16+B18+B20+B22+B24+B26+B28+B30+B32","v":1635},1924,1331,1272,1205,5004,158,2040,{"$f":"J4+J12+J14+J16+J18+J20+J22+J24+J26+J28+J30+J32","v":14569}]
[null,{"$f":"SUM(B7,B9,B11,B13,B15,B17,B19,B21,B23,B25,B27,B29,B31,B33)","v":1},{"$f":"SUM(C7,C9,C11,C13,C15,C17,C19,C21,C23,C25,C27,C29,C31,C33)","v":1},0.99999999999999989,0.99999999999999989,0.99999999999999989,1,1,1.0000000000000002,0.99999999999999989]

{"sheet":"6-Ⅰ④ ","index":28,"n_rows":46,"n_cols":33,"rows_kept":46,"cut":false,"hidden":false,"merged":[[3,0,4,0],[33,0,34,0],[35,0,36,0],[37,0,38,0],[43,0,44,0]]}
["【在院期間区分×病院所在地（圏域）】"]
[]
[null,"豊能","三島","北河内","中河内","南河内","泉州","大阪市","堺市","合計",null,null,"行ラベル","01豊能北","02豊能豊中","03豊能吹田","04三島","05三島高槻","06北河内枚方","07北河内寝屋川","08北河内西","09北河内東","10中河内東大阪","11中河内八尾","12中河内南","13南河内北","14南河内南","15泉州北","16泉州中","17泉州南","18大阪市","19堺市","列21"]
["1ヶ月未満",{"$f":"SUM(N4:P4)","v":197},{"$f":"SUM(Q4:R4)","v":237},{"$f":"SUM(S4:V4)","v":175},{"$f":"SUM(W4:Y4)","v":225},{"$f":"SUM(Z4:AA4)","v":134},{"$f":"SUM(AB4:AD4)","v":423},{"$f":"AE4","v":77},{"$f":"AF4","v":349},{"$f":"SUM(B4:I4)","v":1817},null,null,"01_1ヶ月未満",27,139,31,117,120,105,33,30,7,107,80,38,51,83,190,134,99,77,349]
[null,{"$f":"B4/B$36","v":0.12048929663608562},{"$f":"C4/C$36","v":0.12318087318087319},0.13148009015777612,0.17688679245283018,0.11120331950207468,8.4532374100719426E-2,0.48734177215189872,0.17107843137254902,0.12471686457546846,null,null,"02_1ヶ月～3ヶ月未満",60,161,18,134,138,128,51,40,25,153,77,27,50,106,208,179,139,71,370]
["1ヶ月～",{"$f":"SUM(N5:P5)","v":239},{"$f":"SUM(Q5:R5)","v":272},{"$f":"SUM(S5:V5)","v":244},{"$f":"SUM(W5:Y5)","v":257},{"$f":"SUM(Z5:AA5)","v":156},{"$f":"SUM(AB5:AD5)","v":526},{"$f":"AE5","v":71},{"$f":"AF5","v":370},{"$f":"SUM(B6:I6)","v":2135},null,null,"03_3ヶ月～6ヶ月未満",41,85,12,126,45,52,23,15,10,84,41,17,26,66,152,143,100,9,161]
["3ヶ月未満",{"$f":"B6/B$36","v":0.14617737003058104},{"$f":"C6/C$36","v":0.14137214137214138},0.18332081141998496,0.20204402515723272,0.12946058091286308,0.10511590727418066,0.44936708860759494,0.18137254901960784,0.14654403184844533,null,null,"04_6ヶ月～1年未満",53,75,15,131,60,66,21,16,17,66,28,21,24,98,139,195,119,1,132]
["3ヶ月～",{"$f":"SUM(N6:P6)","v":138},{"$f":"SUM(Q6:R6)","v":171},{"$f":"SUM(S6:V6)","v":100},{"$f":"SUM(W6:Y6)","v":142},{"$f":"SUM(Z6:AA6)","v":92},{"$f":"SUM(AB6:AD6)","v":395},{"$f":"AE6","v":9},{"$f":"AF6","v":161},{"$f":"SUM(B8:I8)","v":1208},null,null,"05_1年～1年6ヶ月未満",29,28,14,99,33,52,13,11,11,43,9,10,21,44,90,141,90,null,101]
["6ヶ月未満",{"$f":"B8/B$36","v":8.4403669724770647E-2},{"$f":"C8/C$36","v":8.8877338877338882E-2},7.5131480090157771E-2,0.11163522012578617,7.634854771784233E-2,7.8936850519584337E-2,5.6962025316455694E-2,7.8921568627450978E-2,8.2915780080993887E-2,null,null,"06_1年6ヶ月～2年未満",41,28,10,76,39,29,11,7,12,23,15,7,15,37,91,136,56,null,95]
["6ヶ月～",{"$f":"SUM(N7:P7)","v":143},{"$f":"SUM(Q7:R7)","v":191},{"$f":"SUM(S7:V7)","v":120},{"$f":"SUM(W7:Y7)","v":115},{"$f":"SUM(Z7:AA7)","v":122},{"$f":"SUM(AB7:AD7)","v":453},{"$f":"AE7","v":1},{"$f":"AF7","v":132},{"$f":"SUM(B10:I10)","v":1277},null,null,"07_2年～3年未満",42,48,18,107,33,37,13,11,20,39,16,15,28,49,156,188,99,null,122]
["1年未満",{"$f":"B10/B$36","v":8.7461773700305806E-2},{"$f":"C10/C$36","v":9.9272349272349278E-2},9.0157776108189328E-2,9.0408805031446535E-2,0.1012448132780083,9.0527577937649886E-2,6.3291139240506328E-3,6.4705882352941183E-2,8.7651863545885098E-2,null,null,"08_3年～4年未満",33,35,17,95,22,40,13,17,9,31,7,7,32,50,129,179,98,null,80]
["1年～",{"$f":"SUM(N8:P8)","v":71},{"$f":"SUM(Q8:R8)","v":132},{"$f":"SUM(S8:V8)","v":87},{"$f":"SUM(W8:Y8)","v":62},{"$f":"SUM(Z8:AA8)","v":65},{"$f":"SUM(AB8:AD8)","v":321},{"$f":"AE8","v":0},{"$f":"AF8","v":101},{"$f":"SUM(B12:I12)","v":839},null,null,"09_4年～5年未満",26,21,12,67,18,25,9,15,4,35,7,16,24,29,121,109,65,null,73]
["1年6ヶ月未満",{"$f":"B12/B$36","v":4.3425076452599388E-2},{"$f":"C12/C$36","v":6.8607068607068611E-2},6.5364387678437261E-2,4.8742138364779877E-2,5.3941908713692949E-2,6.4148681055155879E-2,0,4.9509803921568625E-2,5.7588029377445261E-2,null,null,"10_5年～6年未満",22,24,21,97,14,37,6,7,6,18,6,4,17,26,52,101,58,null,58]
["1年6ヶ月",{"$f":"SUM(N9:P9)","v":79},{"$f":"SUM(Q9:R9)","v":115},{"$f":"SUM(S9:V9)","v":59},{"$f":"SUM(W9:Y9)","v":45},{"$f":"SUM(Z9:AA9)","v":52},{"$f":"SUM(AB9:AD9)","v":283},{"$f":"AE9","v":0},{"$f":"AF9","v":95},{"$f":"SUM(B14:I14)","v":728},null,null,"11_6年～7年未満",22,30,5,30,14,15,6,5,11,24,5,7,18,20,47,80,47,null,45]
["～2年未満",{"$f":"B14/B$36","v":4.8318042813455656E-2},{"$f":"C14/C$36","v":5.9771309771309775E-2},4.4327573253193087E-2,3.5377358490566037E-2,4.3153526970954356E-2,5.6554756195043965E-2,0,4.6568627450980393E-2,4.9969112499142015E-2,null,null,"12_7年～8年未満",11,23,12,29,12,12,9,6,4,12,4,2,11,19,21,52,38,null,27]
["2年～",{"$f":"SUM(N10:P10)","v":108},{"$f":"SUM(Q10:R10)","v":140},{"$f":"SUM(S10:V10)","v":81},{"$f":"SUM(W10:Y10)","v":70},{"$f":"SUM(Z10:AA10)","v":77},{"$f":"SUM(AB10:AD10)","v":443},{"$f":"AE10","v":0},{"$f":"AF10","v":122},{"$f":"SUM(B16:I16)","v":1041},null,null,"13_8年～9年未満",12,22,12,18,5,19,5,3,4,12,8,6,17,14,29,63,30,null,37]
["3年未満",{"$f":"B16/B$36","v":6.6055045871559637E-2},{"$f":"C16/C$36","v":7.2765072765072769E-2},6.0856498873027798E-2,5.5031446540880505E-2,6.3900414937759331E-2,8.8529176658673062E-2,0,5.9803921568627454E-2,7.1453085318141263E-2,null,null,"14_9年～10年未満",9,13,3,24,7,5,2,3,6,11,5,4,12,14,20,58,19,null,29]
["3年～",{"$f":"SUM(N11:P11)","v":85},{"$f":"SUM(Q11:R11)","v":117},{"$f":"SUM(S11:V11)","v":79},{"$f":"SUM(W11:Y11)","v":45},{"$f":"SUM(Z11:AA11)","v":82},{"$f":"SUM(AB11:AD11)","v":406},{"$f":"AE11","v":0},{"$f":"AF11","v":80},{"$f":"SUM(B18:I18)","v":894},null,null,"15_10年～20年未満",52,72,35,90,58,55,9,25,19,58,19,9,55,78,108,260,112,null,194]
["4年未満",{"$f":"B18/B$36","v":5.1987767584097858E-2},{"$f":"C18/C$36","v":6.0810810810810814E-2},5.9353869271224644E-2,3.5377358490566037E-2,6.8049792531120326E-2,8.1135091926458833E-2,0,3.9215686274509803E-2,6.1363168371199123E-2,null,null,"16_ 20年以上",57,15,44,59,7,29,6,5,14,24,14,1,26,45,65,122,77,null,167]
["4年～",{"$f":"SUM(N12:P12)","v":59},{"$f":"SUM(Q12:R12)","v":85},{"$f":"SUM(S12:V12)","v":53},{"$f":"SUM(W12:Y12)","v":58},{"$f":"SUM(Z12:AA12)","v":53},{"$f":"SUM(AB12:AD12)","v":295},{"$f":"AE12","v":0},{"$f":"AF12","v":73},{"$f":"SUM(B20:I20)","v":676},null,null,"(空白)"]
["5年未満",{"$f":"B20/B$36","v":3.6085626911314984E-2},{"$f":"C20/C$36","v":4.4178794178794181E-2},3.9819684447783624E-2,4.5597484276729557E-2,4.3983402489626559E-2,5.8952837729816146E-2,0,3.5784313725490194E-2,4.6399890177774725E-2]
["5年～",{"$f":"SUM(N13:P13)","v":67},{"$f":"SUM(Q13:R13)","v":111},{"$f":"SUM(S13:V13)","v":56},{"$f":"SUM(W13:Y13)","v":28},{"$f":"SUM(Z13:AA13)","v":43},{"$f":"SUM(AB13:AD13)","v":211},{"$f":"AE13","v":0},{"$f":"AF13","v":58},{"$f":"SUM(B22:I22)","v":574}]
["6年未満",{"$f":"B22/B$36","v":4.0978593272171251E-2},{"$f":"C22/C$36","v":5.7692307692307696E-2},4.2073628850488355E-2,2.20125786163522E-2,3.5684647302904562E-2,4.2166266986410871E-2,0,2.8431372549019607E-2,3.9398723316631204E-2]
["6年～",{"$f":"SUM(N14:P14)","v":57},{"$f":"SUM(Q14:R14)","v":44},{"$f":"SUM(S14:V14)","v":37},{"$f":"SUM(W14:Y14)","v":36},{"$f":"SUM(Z14:AA14)","v":38},{"$f":"SUM(AB14:AD14)","v":174},{"$f":"AE14","v":0},{"$f":"AF14","v":45},{"$f":"SUM(B24:I24)","v":431}]
["7年未満",{"$f":"B24/B$36","v":3.4862385321100919E-2},{"$f":"C24/C$36","v":2.286902286902287E-2},2.7798647633358379E-2,2.8301886792452831E-2,3.1535269709543567E-2,3.4772182254196642E-2,0,2.2058823529411766E-2,2.9583361932871165E-2]
["7年～",{"$f":"SUM(N15:P15)","v":46},{"$f":"SUM(Q15:R15)","v":41},{"$f":"SUM(S15:V15)","v":31},{"$f":"SUM(W15:Y15)","v":18},{"$f":"SUM(Z15:AA15)","v":30},{"$f":"SUM(AB15:AD15)","v":111},{"$f":"AE15","v":0},{"$f":"AF15","v":27},{"$f":"SUM(B26:I26)","v":304}]
["8年未満",{"$f":"B26/B$36","v":2.8134556574923548E-2},{"$f":"C26/C$36","v":2.1309771309771311E-2},2.3290758827948909E-2,1.4150943396226415E-2,2.4896265560165973E-2,2.2182254196642687E-2,0,1.3235294117647059E-2,2.0866222801839522E-2]
["8年～",{"$f":"SUM(N16:P16)","v":46},{"$f":"SUM(Q16:R16)","v":23},{"$f":"SUM(S16:V16)","v":31},{"$f":"SUM(W16:Y16)","v":26},{"$f":"SUM(Z16:AA16)","v":31},{"$f":"SUM(AB16:AD16)","v":122},{"$f":"AE16","v":0},{"$f":"AF16","v":37},{"$f":"SUM(B28:I28)","v":316}]
["9年未満",{"$f":"B28/B$36","v":2.8134556574923548E-2},{"$f":"C28/C$36","v":1.1954261954261955E-2},2.3290758827948909E-2,2.0440251572327043E-2,2.5726141078838173E-2,2.4380495603517186E-2,0,1.8137254901960786E-2,2.1689889491385818E-2]
["9年～",{"$f":"SUM(N17:P17)","v":25},{"$f":"SUM(Q17:R17)","v":31},{"$f":"SUM(S17:V17)","v":16},{"$f":"SUM(W17:Y17)","v":20},{"$f":"SUM(Z17:AA17)","v":26},{"$f":"SUM(AB17:AD17)","v":97},{"$f":"AE17","v":0},{"$f":"AF17","v":29},{"$f":"SUM(B30:I30)","v":244}]
["10年未満",{"$f":"B30/B$36","v":1.5290519877675841E-2},{"$f":"C30/C$36","v":1.6112266112266113E-2},1.2021036814425245E-2,1.5723270440251572E-2,2.1576763485477178E-2,1.9384492406075138E-2,0,1.4215686274509804E-2,1.6747889354108036E-2]
["10年～",{"$f":"SUM(N18:P18)","v":159},{"$f":"SUM(Q18:R18)","v":148},{"$f":"SUM(S18:V18)","v":108},{"$f":"SUM(W18:Y18)","v":86},{"$f":"SUM(Z18:AA18)","v":133},{"$f":"SUM(AB18:AD18)","v":480},{"$f":"AE18","v":0},{"$f":"AF18","v":194},{"$f":"SUM(B32:I32)","v":1308}]
["20年未満",{"$f":"B32/B$36","v":9.7247706422018354E-2},{"$f":"C32/C$36","v":7.6923076923076927E-2},8.1141998497370402E-2,6.761006289308176E-2,0.11037344398340249,9.5923261390887291E-2,0,9.509803921568627E-2,8.977966916054636E-2]
["20年以上",{"$f":"SUM(N19:P19)","v":116},{"$f":"SUM(Q19:R19)","v":66},{"$f":"SUM(S19:V19)","v":54},{"$f":"SUM(W19:Y19)","v":39},{"$f":"SUM(Z19:AA19)","v":71},{"$f":"SUM(AB19:AD19)","v":264},{"$f":"AE19","v":0},{"$f":"AF19","v":167},{"$f":"SUM(B34:I34)","v":777}]
[null,{"$f":"B34/B$36","v":7.0948012232415897E-2},{"$f":"C34/C$36","v":3.4303534303534305E-2},4.0570999248685201E-2,3.0660377358490566E-2,5.892116182572614E-2,5.2757793764988008E-2,0,8.1862745098039216E-2,5.3332418148122729E-2]
["　総計",{"$f":"SUM(B4,B6,B8,B10,B12,B14,B16,B18,B20,B22,B24,B26,B28,B30,B32,B34)","v":1635},{"$f":"SUM(C4,C6,C8,C10,C12,C14,C16,C18,C20,C22,C24,C26,C28,C30,C32,C34)","v":1924},1331,1272,1205,5004,158,2040,14569]
[null,{"$f":"SUM(B5,B7,B9,B11,B13,B15,B17,B19,B21,B23,B25,B27,B29,B31,B33,B35)","v":0.99999999999999989},1.0000000000000002,1,1.0000000000000002,1,1,1,0.99999999999999989,1]
["1年未満（再掲）",{"$f":"SUM(B4,B6,B8,B10)","v":717},{"$f":"SUM(C4,C6,C8,C10)","v":871},639,739,504,1797,158,1012,{"$f":"SUM(B38:I38)","v":6437}]
[null,{"$f":"B38/B$36","v":0.43853211009174314},{"$f":"C38/C$36","v":0.45270270270270269},0.4800901577761082,0.58097484276729561,0.41825726141078839,0.35911270983213428,1,0.49607843137254903,0.44182854005079281]
["1年以上",{"$f":"SUM(B12,B14,B16,B18,B20)","v":402},{"$f":"SUM(C12,C14,C16,C18,C20)","v":589},359,280,329,1748,0,471,{"$f":"SUM(B40:I40)","v":4178}]
["5年未満（再掲）",{"$f":"B40/B$36","v":0.24587155963302754},{"$f":"C40/C$36","v":0.30613305613305614},0.26972201352366643,0.22012578616352202,0.2730290456431535,0.34932054356514786,0,0.23088235294117648,0.28677328574370237]
["5年以上",{"$f":"SUM(B22,B24,B26,B28,B30)","v":241},{"$f":"SUM(C22,C24,C26,C28,C30)","v":250},171,128,168,715,0,196,{"$f":"SUM(B42:I42)","v":1869}]
["10年未満（再掲）",{"$f":"B42/B$36","v":0.1474006116207951},{"$f":"C42/C$36","v":0.12993762993762994},0.12847483095416981,0.10062893081761007,0.13941908713692946,0.14288569144684252,0,9.6078431372549025E-2,0.12828608689683574]
["10年以上（再掲）",{"$f":"SUM(B32,B34)","v":275},{"$f":"SUM(C32,C34)","v":214},162,125,204,744,0,361,{"$f":"SUM(B44:I44)","v":2085}]
[null,{"$f":"B44/B$36","v":0.16819571865443425},{"$f":"C44/C$36","v":0.11122661122661123},0.1217129977460556,9.8270440251572333E-2,0.16929460580912864,0.14868105515587529,0,0.1769607843137255,0.14311208730866909]
[null,{"$f":"SUM(B38,B40,B42,B44)","v":1635},{"$f":"SUM(C38,C40,C42,C44)","v":1924},1331,1272,1205,{"$f":"SUM(G38,G40,G42,G44)","v":5004},158,2040]

{"sheet":"6-Ⅰ⑤","index":29,"n_rows":38,"n_cols":54,"rows_kept":38,"cut":false,"hidden":false,"merged":[[13,0,14,0],[3,0,4,0],[5,0,6,0],[7,0,8,0],[9,0,10,0],[11,0,12,0],[34,0,35,0],[36,0,37,0],[15,0,16,0],[24,0,25,0],[26,0,27,0],[28,0,29,0],[30,0,31,0],[32,0,33,0]]}
["【状態像区分×病院所在地（圏域）】"]
[null,null,null,null,null,null,null,null,null,null,null,null,null,null,null,null,null,null,null,null,null,null,null,null,null,null,null,null,null,null,null,null,null,null,null,"01豊能北","02豊能豊中","03豊能吹田","04三島","05三島高槻","06北河内枚方","07北河内寝屋川","08北河内西","09北河内東","10中河内東大阪","11中河内八尾","12中河内南","13南河内北","14南河内南","15泉州北","16泉州中","17泉州南","18大阪市","19堺市"]
[null,"豊能","三島","北河内","中河内","南河内","泉州","大阪市","堺市","合計",null,null,"行ラベル","01豊能北","02豊能豊中","03豊能吹田","04三島","05三島高槻","06北河内枚方","07北河内寝屋川","08北河内西","09北河内東","10中河内東大阪","11中河内八尾","12中河内南","13南河内北","14南河内南","15泉州北","16泉州中","17泉州南","18大阪市","19堺市","列21"]
["寛解",{"$f":"AJ5","v":21},{"$f":"AK5","v":83},64,51,34,47,9,19,{"$f":"SUM(B4:I4)","v":328},null,null,1,2,16,3,39,44,18,33,11,2,29,22,null,8,26,32,15,null,9,19,null,null,null,"豊能","三島","北河内","中河内","南河内","泉州","大阪市","堺市"]
[null,{"$f":"B4/B$16","v":1.2844036697247707E-2},{"$f":"C4/C$16","v":4.3139293139293142E-2},4.8084147257700979E-2,4.0094339622641507E-2,2.8215767634854772E-2,9.3924860111910466E-3,5.6962025316455694E-2,9.3137254901960783E-3,2.2513556180932117E-2,null,null,2,29,72,38,46,50,54,44,14,14,136,138,35,14,54,287,135,47,26,203,null,null,1,{"$f":"IFERROR(INDEX(状態像区分病院所在地[#All],MATCH(1,状態像区分病院所在地[[#All],[行ラベル]]),MATCH($AJ$2,状態像区分病院所在地[#Headers],0)),0)+IFERROR(INDEX(状態像区分病院所在地[#All],MATCH(1,状態像区分病院所在地[[#All],[行ラベル]]),MATCH($AK$2,状態像区分病院所在地[#Headers],0)),0)+IFERROR(INDEX(状態像区分病院所在地[#All],MATCH(1,状態像区分病院所在地[[#All],[行ラベル]]),MATCH($AL$2,状態像区分病院所在地[#Headers],0)),0)","v":21},{"$f":"IFERROR(INDEX(状態像区分病院所在地[#All],MATCH(1,状態像区分病院所在地[[#All],[行ラベル]]),MATCH($AM$2,状態像区分病院所在地[#Headers],0)),0)+IFERROR(INDEX(状態像区分病院所在地[#All],MATCH(1,状態像区分病院所在地[[#All],[行ラベル]]),MATCH($AN$2,状態像区分病院所在地[#Headers],0)),0)","v":83},{"$f":"IFERROR(INDEX(状態像区分病院所在地[#All],MATCH(1,状態像区分病院所在地[[#All],[行ラベル]]),MATCH($AO$2,状態像区分病院所在地[#Headers],0)),0)+IFERROR(INDEX(状態像区分病院所在地[#All],MATCH(1,状態像区分病院所在地[[#All],[行ラベル]]),MATCH($AP$2,状態像区分病院所在地[#Headers],0)),0)+IFERROR(INDEX(状態像区分病院所在地[#All],MATCH(1,状態像区分病院所在地[[#All],[行ラベル]]),MATCH($AQ$2,状態像区分病院所在地[#Headers],0)),0)+IFERROR(INDEX(状態像区分病院所在地[#All],MATCH(1,状態像区分病院所在地[[#All],[行ラベル]]),MATCH($AR$2,状態像区分病院所在地[#Headers],0)),0)","v":64},{"$f":"IFERROR(INDEX(状態像区分病院所在地[#All],MATCH(1,状態像区分病院所在地[[#All],[行ラベル]]),MATCH($AS$2,状態像区分病院所在地[#Headers],0)),0)+IFERROR(INDEX(状態像区分病院所在地[#All],MATCH(1,状態像区分病院所在地[[#All],[行ラベル]]),MATCH($AT$2,状態像区分病院所在地[#Headers],0)),0)+IFERROR(INDEX(状態像区分病院所在地[#All],MATCH(1,状態像区分病院所在地[[#All],[行ラベル]]),MATCH($AU$2,状態像区分病院所在地[#Headers],0)),0)","v":51},{"$f":"IFERROR(INDEX(状態像区分病院所在地[#All],MATCH(1,状態像区分病院所在地[[#All],[行ラベル]]),MATCH($AV$2,状態像区分病院所在地[#Headers],0)),0)+IFERROR(INDEX(状態像区分病院所在地[#All],MATCH(1,状態像区分病院所在地[[#All],[行ラベル]]),MATCH($AW$2,状態像区分病院所在地[#Headers],0)),0)","v":34},{"$f":"IFERROR(INDEX(状態像区分病院所在地[#All],MATCH(1,状態像区分病院所在地[[#All],[行ラベル]]),MATCH($AX$2,状態像区分病院所在地[#Headers],0)),0)+IFERROR(INDEX(状態像区分病院所在地[#All],MATCH(1,状態像区分病院所在地[[#All],[行ラベル]]),MATCH($AY$2,状態像区分病院所在地[#Headers],0)),0)+IFERROR(INDEX(状態像区分病院所在地[#All],MATCH(1,状態像区分病院所在地[[#All],[行ラベル]]),MATCH($AZ$2,状態像区分病院所在地[#Headers],0)),0)","v":47},{"$f":"IFERROR(INDEX(状態像区分病院所在地[#All],MATCH(1,状態像区分病院所在地[[#All],[行ラベル]]),MATCH($BA$2,状態像区分病院所在地[#Headers],0)),0)","v":9},{"$f":"IFERROR(INDEX(状態像区分病院所在地[#All],MATCH(1,状態像区分病院所在地[[#All],[行ラベル]]),MATCH($BB$2,状態像区分病院所在地[#Headers],0)),0)","v":19}]
["院内寛解",{"$f":"AJ6","v":139},{"$f":"AK6","v":96},126,309,68,469,26,203,{"$f":"SUM(B6:I6)","v":1436},null,null,3,51,129,48,87,180,133,56,7,37,236,73,18,105,132,313,325,281,24,476,null,null,2,{"$f":"IFERROR(INDEX(状態像区分病院所在地[#All],MATCH(2,状態像区分病院所在地[[#All],[行ラベル]]),MATCH($AJ$2,状態像区分病院所在地[#Headers],0)),0)+IFERROR(INDEX(状態像区分病院所在地[#All],MATCH(2,状態像区分病院所在地[[#All],[行ラベル]]),MATCH($AK$2,状態像区分病院所在地[#Headers],0)),0)+IFERROR(INDEX(状態像区分病院所在地[#All],MATCH(2,状態像区分病院所在地[[#All],[行ラベル]]),MATCH($AL$2,状態像区分病院所在地[#Headers],0)),0)","v":139},{"$f":"IFERROR(INDEX(状態像区分病院所在地[#All],MATCH(2,状態像区分病院所在地[[#All],[行ラベル]]),MATCH($AM$2,状態像区分病院所在地[#Headers],0)),0)+IFERROR(INDEX(状態像区分病院所在地[#All],MATCH(2,状態像区分病院所在地[[#All],[行ラベル]]),MATCH($AN$2,状態像区分病院所在地[#Headers],0)),0)","v":96},{"$f":"IFERROR(INDEX(状態像区分病院所在地[#All],MATCH(2,状態像区分病院所在地[[#All],[行ラベル]]),MATCH($AO$2,状態像区分病院所在地[#Headers],0)),0)+IFERROR(INDEX(状態像区分病院所在地[#All],MATCH(2,状態像区分病院所在地[[#All],[行ラベル]]),MATCH($AP$2,状態像区分病院所在地[#Headers],0)),0)+IFERROR(INDEX(状態像区分病院所在地[#All],MATCH(2,状態像区分病院所在地[[#All],[行ラベル]]),MATCH($AQ$2,状態像区分病院所在地[#Headers],0)),0)+IFERROR(INDEX(状態像区分病院所在地[#All],MATCH(2,状態像区分病院所在地[[#All],[行ラベル]]),MATCH($AR$2,状態像区分病院所在地[#Headers],0)),0)","v":126},{"$f":"IFERROR(INDEX(状態像区分病院所在地[#All],MATCH(2,状態像区分病院所在地[[#All],[行ラベル]]),MATCH($AS$2,状態像区分病院所在地[#Headers],0)),0)+IFERROR(INDEX(状態像区分病院所在地[#All],MATCH(2,状態像区分病院所在地[[#All],[行ラベル]]),MATCH($AT$2,状態像区分病院所在地[#Headers],0)),0)+IFERROR(INDEX(状態像区分病院所在地[#All],MATCH(2,状態像区分病院所在地[[#All],[行ラベル]]),MATCH($AU$2,状態像区分病院所在地[#Headers],0)),0)","v":309},{"$f":"IFERROR(INDEX(状態像区分病院所在地[#All],MATCH(2,状態像区分病院所在地[[#All],[行ラベル]]),MATCH($AV$2,状態像区分病院所在地[#Headers],0)),0)+IFERROR(INDEX(状態像区分病院所在地[#All],MATCH(2,状態像区分病院所在地[[#All],[行ラベル]]),MATCH($AW$2,状態像区分病院所在地[#Headers],0)),0)","v":68},{"$f":"IFERROR(INDEX(状態像区分病院所在地[#All],MATCH(2,状態像区分病院所在地[[#All],[行ラベル]]),MATCH($AX$2,状態像区分病院所在地[#Headers],0)),0)+IFERROR(INDEX(状態像区分病院所在地[#All],MATCH(2,状態像区分病院所在地[[#All],[行ラベル]]),MATCH($AY$2,状態像区分病院所在地[#Headers],0)),0)+IFERROR(INDEX(状態像区分病院所在地[#All],MATCH(2,状態像区分病院所在地[[#All],[行ラベル]]),MATCH($AZ$2,状態像区分病院所在地[#Headers],0)),0)","v":469},{"$f":"IFERROR(INDEX(状態像区分病院所在地[#All],MATCH(2,状態像区分病院所在地[[#All],[行ラベル]]),MATCH($BA$2,状態像区分病院所在地[#Headers],0)),0)","v":26},{"$f":"IFERROR(INDEX(状態像区分病院所在地[#All],MATCH(2,状態像区分病院所在地[[#All],[行ラベル]]),MATCH($BB$2,状態像区分病院所在地[#Headers],0)),0)","v":203}]
[null,{"$f":"B6/B$16","v":8.5015290519877676E-2},{"$f":"C6/C$16","v":4.9896049896049899E-2},9.4665664913598804E-2,0.24292452830188679,5.6431535269709544E-2,9.3725019984012795E-2,0.16455696202531644,9.9509803921568621E-2,9.8565447182373533E-2,null,null,4,244,341,107,513,209,314,60,82,78,264,73,54,185,372,545,1105,648,59,731,null,null,3,{"$f":"IFERROR(INDEX(状態像区分病院所在地[#All],MATCH(3,状態像区分病院所在地[[#All],[行ラベル]]),MATCH($AJ$2,状態像区分病院所在地[#Headers],0)),0)+IFERROR(INDEX(状態像区分病院所在地[#All],MATCH(3,状態像区分病院所在地[[#All],[行ラベル]]),MATCH($AK$2,状態像区分病院所在地[#Headers],0)),0)+IFERROR(INDEX(状態像区分病院所在地[#All],MATCH(3,状態像区分病院所在地[[#All],[行ラベル]]),MATCH($AL$2,状態像区分病院所在地[#Headers],0)),0)","v":228},{"$f":"IFERROR(INDEX(状態像区分病院所在地[#All],MATCH(3,状態像区分病院所在地[[#All],[行ラベル]]),MATCH($AM$2,状態像区分病院所在地[#Headers],0)),0)+IFERROR(INDEX(状態像区分病院所在地[#All],MATCH(3,状態像区分病院所在地[[#All],[行ラベル]]),MATCH($AN$2,状態像区分病院所在地[#Headers],0)),0)","v":267},{"$f":"IFERROR(INDEX(状態像区分病院所在地[#All],MATCH(3,状態像区分病院所在地[[#All],[行ラベル]]),MATCH($AO$2,状態像区分病院所在地[#Headers],0)),0)+IFERROR(INDEX(状態像区分病院所在地[#All],MATCH(3,状態像区分病院所在地[[#All],[行ラベル]]),MATCH($AP$2,状態像区分病院所在地[#Headers],0)),0)+IFERROR(INDEX(状態像区分病院所在地[#All],MATCH(3,状態像区分病院所在地[[#All],[行ラベル]]),MATCH($AQ$2,状態像区分病院所在地[#Headers],0)),0)+IFERROR(INDEX(状態像区分病院所在地[#All],MATCH(3,状態像区分病院所在地[[#All],[行ラベル]]),MATCH($AR$2,状態像区分病院所在地[#Headers],0)),0)","v":233},{"$f":"IFERROR(INDEX(状態像区分病院所在地[#All],MATCH(3,状態像区分病院所在地[[#All],[行ラベル]]),MATCH($AS$2,状態像区分病院所在地[#Headers],0)),0)+IFERROR(INDEX(状態像区分病院所在地[#All],MATCH(3,状態像区分病院所在地[[#All],[行ラベル]]),MATCH($AT$2,状態像区分病院所在地[#Headers],0)),0)+IFERROR(INDEX(状態像区分病院所在地[#All],MATCH(3,状態像区分病院所在地[[#All],[行ラベル]]),MATCH($AU$2,状態像区分病院所在地[#Headers],0)),0)","v":327},{"$f":"IFERROR(INDEX(状態像区分病院所在地[#All],MATCH(3,状態像区分病院所在地[[#All],[行ラベル]]),MATCH($AV$2,状態像区分病院所在地[#Headers],0)),0)+IFERROR(INDEX(状態像区分病院所在地[#All],MATCH(3,状態像区分病院所在地[[#All],[行ラベル]]),MATCH($AW$2,状態像区分病院所在地[#Headers],0)),0)","v":237},{"$f":"IFERROR(INDEX(状態像区分病院所在地[#All],MATCH(3,状態像区分病院所在地[[#All],[行ラベル]]),MATCH($AX$2,状態像区分病院所在地[#Headers],0)),0)+IFERROR(INDEX(状態像区分病院所在地[#All],MATCH(3,状態像区分病院所在地[[#All],[行ラベル]]),MATCH($AY$2,状態像区分病院所在地[#Headers],0)),0)+IFERROR(INDEX(状態像区分病院所在地[#All],MATCH(3,状態像区分病院所在地[[#All],[行ラベル]]),MATCH($AZ$2,状態像区分病院所在地[#Headers],0)),0)","v":919},{"$f":"IFERROR(INDEX(状態像区分病院所在地[#All],MATCH(3,状態像区分病院所在地[[#All],[行ラベル]]),MATCH($BA$2,状態像区分病院所在地[#Headers],0)),0)","v":24},{"$f":"IFERROR(INDEX(状態像区分病院所在地[#All],MATCH(3,状態像区分病院所在地[[#All],[行ラベル]]),MATCH($BB$2,状態像区分病院所在地[#Headers],0)),0)","v":476}]
["軽度",{"$f":"AJ7","v":228},{"$f":"AK7","v":267},233,327,237,919,24,476,{"$f":"SUM(B8:I8)","v":2711},null,null,5,185,221,72,474,131,161,32,53,38,72,31,47,101,163,395,497,240,36,518,null,null,4,{"$f":"IFERROR(INDEX(状態像区分病院所在地[#All],MATCH(4,状態像区分病院所在地[[#All],[行ラベル]]),MATCH($AJ$2,状態像区分病院所在地[#Headers],0)),0)+IFERROR(INDEX(状態像区分病院所在地[#All],MATCH(4,状態像区分病院所在地[[#All],[行ラベル]]),MATCH($AK$2,状態像区分病院所在地[#Headers],0)),0)+IFERROR(INDEX(状態像区分病院所在地[#All],MATCH(4,状態像区分病院所在地[[#All],[行ラベル]]),MATCH($AL$2,状態像区分病院所在地[#Headers],0)),0)","v":692},{"$f":"IFERROR(INDEX(状態像区分病院所在地[#All],MATCH(4,状態像区分病院所在地[[#All],[行ラベル]]),MATCH($AM$2,状態像区分病院所在地[#Headers],0)),0)+IFERROR(INDEX(状態像区分病院所在地[#All],MATCH(4,状態像区分病院所在地[[#All],[行ラベル]]),MATCH($AN$2,状態像区分病院所在地[#Headers],0)),0)","v":722},{"$f":"IFERROR(INDEX(状態像区分病院所在地[#All],MATCH(4,状態像区分病院所在地[[#All],[行ラベル]]),MATCH($AO$2,状態像区分病院所在地[#Headers],0)),0)+IFERROR(INDEX(状態像区分病院所在地[#All],MATCH(4,状態像区分病院所在地[[#All],[行ラベル]]),MATCH($AP$2,状態像区分病院所在地[#Headers],0)),0)+IFERROR(INDEX(状態像区分病院所在地[#All],MATCH(4,状態像区分病院所在地[[#All],[行ラベル]]),MATCH($AQ$2,状態像区分病院所在地[#Headers],0)),0)+IFERROR(INDEX(状態像区分病院所在地[#All],MATCH(4,状態像区分病院所在地[[#All],[行ラベル]]),MATCH($AR$2,状態像区分病院所在地[#Headers],0)),0)","v":534},{"$f":"IFERROR(INDEX(状態像区分病院所在地[#All],MATCH(4,状態像区分病院所在地[[#All],[行ラベル]]),MATCH($AS$2,状態像区分病院所在地[#Headers],0)),0)+IFERROR(INDEX(状態像区分病院所在地[#All],MATCH(4,状態像区分病院所在地[[#All],[行ラベル]]),MATCH($AT$2,状態像区分病院所在地[#Headers],0)),0)+IFERROR(INDEX(状態像区分病院所在地[#All],MATCH(4,状態像区分病院所在地[[#All],[行ラベル]]),MATCH($AU$2,状態像区分病院所在地[#Headers],0)),0)","v":391},{"$f":"IFERROR(INDEX(状態像区分病院所在地[#All],MATCH(4,状態像区分病院所在地[[#All],[行ラベル]]),MATCH($AV$2,状態像区分病院所在地[#Headers],0)),0)+IFERROR(INDEX(状態像区分病院所在地[#All],MATCH(4,状態像区分病院所在地[[#All],[行ラベル]]),MATCH($AW$2,状態像区分病院所在地[#Headers],0)),0)","v":557},{"$f":"IFERROR(INDEX(状態像区分病院所在地[#All],MATCH(4,状態像区分病院所在地[[#All],[行ラベル]]),MATCH($AX$2,状態像区分病院所在地[#Headers],0)),0)+IFERROR(INDEX(状態像区分病院所在地[#All],MATCH(4,状態像区分病院所在地[[#All],[行ラベル]]),MATCH($AY$2,状態像区分病院所在地[#Headers],0)),0)+IFERROR(INDEX(状態像区分病院所在地[#All],MATCH(4,状態像区分病院所在地[[#All],[行ラベル]]),MATCH($AZ$2,状態像区分病院所在地[#Headers],0)),0)","v":2298},{"$f":"IFERROR(INDEX(状態像区分病院所在地[#All],MATCH(4,状態像区分病院所在地[[#All],[行ラベル]]),MATCH($BA$2,状態像区分病院所在地[#Headers],0)),0)","v":59},{"$f":"IFERROR(INDEX(状態像区分病院所在地[#All],MATCH(4,状態像区分病院所在地[[#All],[行ラベル]]),MATCH($BB$2,状態像区分病院所在地[#Headers],0)),0)","v":731}]
[null,{"$f":"B8/B$16","v":0.13944954128440368},{"$f":"C8/C$16","v":0.13877338877338877},0.17505634861006761,0.25707547169811323,0.1966804979253112,0.18365307753796961,0.15189873417721519,0.23333333333333334,0.18608003294666758,null,null,6,26,40,11,140,11,26,5,49,10,3,4,37,14,31,46,63,30,4,93,null,null,5,{"$f":"IFERROR(INDEX(状態像区分病院所在地[#All],MATCH(5,状態像区分病院所在地[[#All],[行ラベル]]),MATCH($AJ$2,状態像区分病院所在地[#Headers],0)),0)+IFERROR(INDEX(状態像区分病院所在地[#All],MATCH(5,状態像区分病院所在地[[#All],[行ラベル]]),MATCH($AK$2,状態像区分病院所在地[#Headers],0)),0)+IFERROR(INDEX(状態像区分病院所在地[#All],MATCH(5,状態像区分病院所在地[[#All],[行ラベル]]),MATCH($AL$2,状態像区分病院所在地[#Headers],0)),0)","v":478},{"$f":"IFERROR(INDEX(状態像区分病院所在地[#All],MATCH(5,状態像区分病院所在地[[#All],[行ラベル]]),MATCH($AM$2,状態像区分病院所在地[#Headers],0)),0)+IFERROR(INDEX(状態像区分病院所在地[#All],MATCH(5,状態像区分病院所在地[[#All],[行ラベル]]),MATCH($AN$2,状態像区分病院所在地[#Headers],0)),0)","v":605},{"$f":"IFERROR(INDEX(状態像区分病院所在地[#All],MATCH(5,状態像区分病院所在地[[#All],[行ラベル]]),MATCH($AO$2,状態像区分病院所在地[#Headers],0)),0)+IFERROR(INDEX(状態像区分病院所在地[#All],MATCH(5,状態像区分病院所在地[[#All],[行ラベル]]),MATCH($AP$2,状態像区分病院所在地[#Headers],0)),0)+IFERROR(INDEX(状態像区分病院所在地[#All],MATCH(5,状態像区分病院所在地[[#All],[行ラベル]]),MATCH($AQ$2,状態像区分病院所在地[#Headers],0)),0)+IFERROR(INDEX(状態像区分病院所在地[#All],MATCH(5,状態像区分病院所在地[[#All],[行ラベル]]),MATCH($AR$2,状態像区分病院所在地[#Headers],0)),0)","v":284},{"$f":"IFERROR(INDEX(状態像区分病院所在地[#All],MATCH(5,状態像区分病院所在地[[#All],[行ラベル]]),MATCH($AS$2,状態像区分病院所在地[#Headers],0)),0)+IFERROR(INDEX(状態像区分病院所在地[#All],MATCH(5,状態像区分病院所在地[[#All],[行ラベル]]),MATCH($AT$2,状態像区分病院所在地[#Headers],0)),0)+IFERROR(INDEX(状態像区分病院所在地[#All],MATCH(5,状態像区分病院所在地[[#All],[行ラベル]]),MATCH($AU$2,状態像区分病院所在地[#Headers],0)),0)","v":150},{"$f":"IFERROR(INDEX(状態像区分病院所在地[#All],MATCH(5,状態像区分病院所在地[[#All],[行ラベル]]),MATCH($AV$2,状態像区分病院所在地[#Headers],0)),0)+IFERROR(INDEX(状態像区分病院所在地[#All],MATCH(5,状態像区分病院所在地[[#All],[行ラベル]]),MATCH($AW$2,状態像区分病院所在地[#Headers],0)),0)","v":264},{"$f":"IFERROR(INDEX(状態像区分病院所在地[#All],MATCH(5,状態像区分病院所在地[[#All],[行ラベル]]),MATCH($AX$2,状態像区分病院所在地[#Headers],0)),0)+IFERROR(INDEX(状態像区分病院所在地[#All],MATCH(5,状態像区分病院所在地[[#All],[行ラベル]]),MATCH($AY$2,状態像区分病院所在地[#Headers],0)),0)+IFERROR(INDEX(状態像区分病院所在地[#All],MATCH(5,状態像区分病院所在地[[#All],[行ラベル]]),MATCH($AZ$2,状態像区分病院所在地[#Headers],0)),0)","v":1132},{"$f":"IFERROR(INDEX(状態像区分病院所在地[#All],MATCH(5,状態像区分病院所在地[[#All],[行ラベル]]),MATCH($BA$2,状態像区分病院所在地[#Headers],0)),0)","v":36},{"$f":"IFERROR(INDEX(状態像区分病院所在地[#All],MATCH(5,状態像区分病院所在地[[#All],[行ラベル]]),MATCH($BB$2,状態像区分病院所在地[#Headers],0)),0)","v":518}]
["中等度",{"$f":"AJ8","v":692},{"$f":"AK8","v":722},534,391,557,2298,59,731,{"$f":"SUM(B10:I10)","v":5984},null,null,"(空白)",null,null,null,null,null,null,null,null,null,null,null,null,null,null,null,null,null,null,null,null,null,6,{"$f":"IFERROR(INDEX(状態像区分病院所在地[#All],MATCH(6,状態像区分病院所在地[[#All],[行ラベル]]),MATCH($AJ$2,状態像区分病院所在地[#Headers],0)),0)+IFERROR(INDEX(状態像区分病院所在地[#All],MATCH(6,状態像区分病院所在地[[#All],[行ラベル]]),MATCH($AK$2,状態像区分病院所在地[#Headers],0)),0)+IFERROR(INDEX(状態像区分病院所在地[#All],MATCH(6,状態像区分病院所在地[[#All],[行ラベル]]),MATCH($AL$2,状態像区分病院所在地[#Headers],0)),0)","v":77},{"$f":"IFERROR(INDEX(状態像区分病院所在地[#All],MATCH(6,状態像区分病院所在地[[#All],[行ラベル]]),MATCH($AM$2,状態像区分病院所在地[#Headers],0)),0)+IFERROR(INDEX(状態像区分病院所在地[#All],MATCH(6,状態像区分病院所在地[[#All],[行ラベル]]),MATCH($AN$2,状態像区分病院所在地[#Headers],0)),0)","v":151},{"$f":"IFERROR(INDEX(状態像区分病院所在地[#All],MATCH(6,状態像区分病院所在地[[#All],[行ラベル]]),MATCH($AO$2,状態像区分病院所在地[#Headers],0)),0)+IFERROR(INDEX(状態像区分病院所在地[#All],MATCH(61,状態像区分病院所在地[[#All],[行ラベル]]),MATCH($AP$2,状態像区分病院所在地[#Headers],0)),0)+IFERROR(INDEX(状態像区分病院所在地[#All],MATCH(6,状態像区分病院所在地[[#All],[行ラベル]]),MATCH($AQ$2,状態像区分病院所在地[#Headers],0)),0)+IFERROR(INDEX(状態像区分病院所在地[#All],MATCH(6,状態像区分病院所在地[[#All],[行ラベル]]),MATCH($AR$2,状態像区分病院所在地[#Headers],0)),0)","v":90},{"$f":"IFERROR(INDEX(状態像区分病院所在地[#All],MATCH(6,状態像区分病院所在地[[#All],[行ラベル]]),MATCH($AS$2,状態像区分病院所在地[#Headers],0)),0)+IFERROR(INDEX(状態像区分病院所在地[#All],MATCH(6,状態像区分病院所在地[[#All],[行ラベル]]),MATCH($AT$2,状態像区分病院所在地[#Headers],0)),0)+IFERROR(INDEX(状態像区分病院所在地[#All],MATCH(6,状態像区分病院所在地[[#All],[行ラベル]]),MATCH($AU$2,状態像区分病院所在地[#Headers],0)),0)","v":44},{"$f":"IFERROR(INDEX(状態像区分病院所在地[#All],MATCH(6,状態像区分病院所在地[[#All],[行ラベル]]),MATCH($AV$2,状態像区分病院所在地[#Headers],0)),0)+IFERROR(INDEX(状態像区分病院所在地[#All],MATCH(6,状態像区分病院所在地[[#All],[行ラベル]]),MATCH($AW$2,状態像区分病院所在地[#Headers],0)),0)","v":45},{"$f":"IFERROR(INDEX(状態像区分病院所在地[#All],MATCH(6,状態像区分病院所在地[[#All],[行ラベル]]),MATCH($AX$2,状態像区分病院所在地[#Headers],0)),0)+IFERROR(INDEX(状態像区分病院所在地[#All],MATCH(6,状態像区分病院所在地[[#All],[行ラベル]]),MATCH($AY$2,状態像区分病院所在地[#Headers],0)),0)+IFERROR(INDEX(状態像区分病院所在地[#All],MATCH(6,状態像区分病院所在地[[#All],[行ラベル]]),MATCH($AZ$2,状態像区分病院所在地[#Headers],0)),0)","v":139},{"$f":"IFERROR(INDEX(状態像区分病院所在地[#All],MATCH(6,状態像区分病院所在地[[#All],[行ラベル]]),MATCH($BA$2,状態像区分病院所在地[#Headers],0)),0)","v":4},{"$f":"IFERROR(INDEX(状態像区分病院所在地[#All],MATCH(6,状態像区分病院所在地[[#All],[行ラベル]]),MATCH($BB$2,状態像区分病院所在地[#Headers],0)),0)","v":93}]
[null,{"$f":"B10/B$16","v":0.42324159021406726},{"$f":"C10/C$16","v":0.37525987525987525},0.40120210368144255,0.30738993710691825,0.46224066390041496,0.45923261390887288,0.37341772151898733,0.35833333333333334,0.41073512252042005]
["重度",{"$f":"AJ9","v":478},{"$f":"AK9","v":605},284,150,264,1132,36,518,{"$f":"SUM(B12:I12)","v":3467}]
[null,{"$f":"B12/B$16","v":0.29235474006116208},{"$f":"C12/C$16","v":0.31444906444906445},0.21337340345604808,0.11792452830188679,0.21908713692946058,0.22621902478017586,0.22784810126582278,0.25392156862745097,0.23797103438808428]
["最重度",{"$f":"AJ10","v":77},{"$f":"AK10","v":151},90,44,45,139,4,93,{"$f":"SUM(B14:I14)","v":643}]
[null,{"$f":"B14/B$16","v":4.7094801223241591E-2},{"$f":"C14/C$16","v":7.8482328482328487E-2},6.7618332081141999E-2,3.4591194968553458E-2,3.7344398340248962E-2,2.7777777777777776E-2,2.5316455696202531E-2,4.5588235294117645E-2,4.4134806781522408E-2]
["　総計",{"$f":"SUM(B4,B6,B8,B10,B12,B14)","v":1635},{"$f":"SUM(C4,C6,C8,C10,C12,C14)","v":1924},1331,1272,1205,5004,158,2040,14569]
[null,{"$f":"SUM(B5,B7,B9,B11,B13,B15)","v":1},1,1,1.0000000000000002,1,0.99999999999999989,1,0.99999999999999989,1]
[]
[]
[]
[]
["【状態像区分×病院所在地（圏域）＿1年以上】"]
[]
[null,"豊能","三島","北河内","中河内","南河内","泉州","大阪市","堺市","合計",null,null,"行ラベル","01豊能北","02豊能豊中","03豊能吹田","04三島","05三島高槻","06北河内枚方","07北河内寝屋川","08北河内西","09北河内東","10中河内東大阪","11中河内八尾","12中河内南","13南河内北","14南河内南","15泉州北","16泉州中","17泉州南","19堺市","(空白)","列21"]
["寛解",{"$f":"AJ26","v":7},{"$f":"AK26","v":12},21,6,10,14,0,7,{"$f":"SUM(B25:I25)","v":77},null,null,1,1,5,1,11,1,6,14,null,1,6,null,null,null,10,7,7,null,7,null,null,null,null,"豊能","三島","北河内","中河内","南河内","泉州","大阪市","堺市"]
[null,{"$f":"B25/B$37","v":7.6252723311546842E-3},{"$f":"C25/C$37","v":1.1396011396011397E-2},3.0346820809248554E-2,1.125703564727955E-2,1.4265335235378032E-2,4.3654505768631119E-3,{"$f":"IFERROR(H25/H$37,\"-\")","v":"-"},6.8093385214007783E-3,9.4687653713723553E-3,null,null,2,18,18,26,20,8,20,18,null,8,40,30,5,7,27,104,57,12,54,null,null,null,1,{"$f":"IFERROR(INDEX(状態像区分病院所在地_1年以上[#All],MATCH(1,状態像区分病院所在地_1年以上[[#All],[行ラベル]]),MATCH($AJ$2,状態像区分病院所在地_1年以上[#Headers],0)),0)+IFERROR(INDEX(状態像区分病院所在地_1年以上[#All],MATCH(1,状態像区分病院所在地_1年以上[[#All],[行ラベル]]),MATCH($AK$2,状態像区分病院所在地_1年以上[#Headers],0)),0)+IFERROR(INDEX(状態像区分病院所在地_1年以上[#All],MATCH(1,状態像区分病院所在地_1年以上[[#All],[行ラベル]]),MATCH($AL$2,状態像区分病院所在地_1年以上[#Headers],0)),0)","v":7},{"$f":"IFERROR(INDEX(状態像区分病院所在地_1年以上[#All],MATCH(1,状態像区分病院所在地_1年以上[[#All],[行ラベル]]),MATCH($AM$2,状態像区分病院所在地_1年以上[#Headers],0)),0)+IFERROR(INDEX(状態像区分病院所在地_1年以上[#All],MATCH(1,状態像区分病院所在地_1年以上[[#All],[行ラベル]]),MATCH($AN$2,状態像区分病院所在地_1年以上[#Headers],0)),0)","v":12},{"$f":"IFERROR(INDEX(状態像区分病院所在地_1年以上[#All],MATCH(1,状態像区分病院所在地_1年以上[[#All],[行ラベル]]),MATCH($AO$2,状態像区分病院所在地_1年以上[#Headers],0)),0)+IFERROR(INDEX(状態像区分病院所在地_1年以上[#All],MATCH(1,状態像区分病院所在地_1年以上[[#All],[行ラベル]]),MATCH($AP$2,状態像区分病院所在地_1年以上[#Headers],0)),0)+IFERROR(INDEX(状態像区分病院所在地_1年以上[#All],MATCH(1,状態像区分病院所在地_1年以上[[#All],[行ラベル]]),MATCH($AQ$2,状態像区分病院所在地_1年以上[#Headers],0)),0)+IFERROR(INDEX(状態像区分病院所在地_1年以上[#All],MATCH(1,状態像区分病院所在地_1年以上[[#All],[行ラベル]]),MATCH($AR$2,状態像区分病院所在地_1年以上[#Headers],0)),0)","v":21},{"$f":"IFERROR(INDEX(状態像区分病院所在地_1年以上[#All],MATCH(1,状態像区分病院所在地_1年以上[[#All],[行ラベル]]),MATCH($AS$2,状態像区分病院所在地_1年以上[#Headers],0)),0)+IFERROR(INDEX(状態像区分病院所在地_1年以上[#All],MATCH(1,状態像区分病院所在地_1年以上[[#All],[行ラベル]]),MATCH($AT$2,状態像区分病院所在地_1年以上[#Headers],0)),0)+IFERROR(INDEX(状態像区分病院所在地_1年以上[#All],MATCH(1,状態像区分病院所在地_1年以上[[#All],[行ラベル]]),MATCH($AU$2,状態像区分病院所在地_1年以上[#Headers],0)),0)","v":6},{"$f":"IFERROR(INDEX(状態像区分病院所在地_1年以上[#All],MATCH(1,状態像区分病院所在地_1年以上[[#All],[行ラベル]]),MATCH($AV$2,状態像区分病院所在地_1年以上[#Headers],0)),0)+IFERROR(INDEX(状態像区分病院所在地_1年以上[#All],MATCH(1,状態像区分病院所在地_1年以上[[#All],[行ラベル]]),MATCH($AW$2,状態像区分病院所在地_1年以上[#Headers],0)),0)","v":10},{"$f":"IFERROR(INDEX(状態像区分病院所在地_1年以上[#All],MATCH(1,状態像区分病院所在地_1年以上[[#All],[行ラベル]]),MATCH($AX$2,状態像区分病院所在地_1年以上[#Headers],0)),0)+IFERROR(INDEX(状態像区分病院所在地_1年以上[#All],MATCH(1,状態像区分病院所在地_1年以上[[#All],[行ラベル]]),MATCH($AY$2,状態像区分病院所在地_1年以上[#Headers],0)),0)+IFERROR(INDEX(状態像区分病院所在地_1年以上[#All],MATCH(1,状態像区分病院所在地_1年以上[[#All],[行ラベル]]),MATCH($AZ$2,状態像区分病院所在地_1年以上[#Headers],0)),0)","v":14},{"$f":"IFERROR(INDEX(状態像区分病院所在地_1年以上[#All],MATCH(1,状態像区分病院所在地_1年以上[[#All],[行ラベル]]),MATCH($BA$2,状態像区分病院所在地_1年以上[#Headers],0)),0)","v":0},{"$f":"IFERROR(INDEX(状態像区分病院所在地_1年以上[#All],MATCH(1,状態像区分病院所在地_1年以上[[#All],[行ラベル]]),MATCH($BB$2,状態像区分病院所在地_1年以上[#Headers],0)),0)","v":7}]
["院内寛解",{"$f":"AJ27","v":62},{"$f":"AK27","v":28},46,75,34,173,0,54,{"$f":"SUM(B27:I27)","v":472},null,null,3,32,42,31,50,60,56,27,1,23,92,37,10,44,55,144,219,142,229,null,null,null,2,{"$f":"IFERROR(INDEX(状態像区分病院所在地_1年以上[#All],MATCH(2,状態像区分病院所在地_1年以上[[#All],[行ラベル]]),MATCH($AJ$2,状態像区分病院所在地_1年以上[#Headers],0)),0)+IFERROR(INDEX(状態像区分病院所在地_1年以上[#All],MATCH(2,状態像区分病院所在地_1年以上[[#All],[行ラベル]]),MATCH($AK$2,状態像区分病院所在地_1年以上[#Headers],0)),0)+IFERROR(INDEX(状態像区分病院所在地_1年以上[#All],MATCH(2,状態像区分病院所在地_1年以上[[#All],[行ラベル]]),MATCH($AL$2,状態像区分病院所在地_1年以上[#Headers],0)),0)","v":62},{"$f":"IFERROR(INDEX(状態像区分病院所在地_1年以上[#All],MATCH(2,状態像区分病院所在地_1年以上[[#All],[行ラベル]]),MATCH($AM$2,状態像区分病院所在地_1年以上[#Headers],0)),0)+IFERROR(INDEX(状態像区分病院所在地_1年以上[#All],MATCH(2,状態像区分病院所在地_1年以上[[#All],[行ラベル]]),MATCH($AN$2,状態像区分病院所在地_1年以上[#Headers],0)),0)","v":28},{"$f":"IFERROR(INDEX(状態像区分病院所在地_1年以上[#All],MATCH(2,状態像区分病院所在地_1年以上[[#All],[行ラベル]]),MATCH($AO$2,状態像区分病院所在地_1年以上[#Headers],0)),0)+IFERROR(INDEX(状態像区分病院所在地_1年以上[#All],MATCH(2,状態像区分病院所在地_1年以上[[#All],[行ラベル]]),MATCH($AP$2,状態像区分病院所在地_1年以上[#Headers],0)),0)+IFERROR(INDEX(状態像区分病院所在地_1年以上[#All],MATCH(2,状態像区分病院所在地_1年以上[[#All],[行ラベル]]),MATCH($AQ$2,状態像区分病院所在地_1年以上[#Headers],0)),0)+IFERROR(INDEX(状態像区分病院所在地_1年以上[#All],MATCH(2,状態像区分病院所在地_1年以上[[#All],[行ラベル]]),MATCH($AR$2,状態像区分病院所在地_1年以上[#Headers],0)),0)","v":46},{"$f":"IFERROR(INDEX(状態像区分病院所在地_1年以上[#All],MATCH(2,状態像区分病院所在地_1年以上[[#All],[行ラベル]]),MATCH($AS$2,状態像区分病院所在地_1年以上[#Headers],0)),0)+IFERROR(INDEX(状態像区分病院所在地_1年以上[#All],MATCH(2,状態像区分病院所在地_1年以上[[#All],[行ラベル]]),MATCH($AT$2,状態像区分病院所在地_1年以上[#Headers],0)),0)+IFERROR(INDEX(状態像区分病院所在地_1年以上[#All],MATCH(2,状態像区分病院所在地_1年以上[[#All],[行ラベル]]),MATCH($AU$2,状態像区分病院所在地_1年以上[#Headers],0)),0)","v":75},{"$f":"IFERROR(INDEX(状態像区分病院所在地_1年以上[#All],MATCH(2,状態像区分病院所在地_1年以上[[#All],[行ラベル]]),MATCH($AV$2,状態像区分病院所在地_1年以上[#Headers],0)),0)+IFERROR(INDEX(状態像区分病院所在地_1年以上[#All],MATCH(2,状態像区分病院所在地_1年以上[[#All],[行ラベル]]),MATCH($AW$2,状態像区分病院所在地_1年以上[#Headers],0)),0)","v":34},{"$f":"IFERROR(INDEX(状態像区分病院所在地_1年以上[#All],MATCH(2,状態像区分病院所在地_1年以上[[#All],[行ラベル]]),MATCH($AX$2,状態像区分病院所在地_1年以上[#Headers],0)),0)+IFERROR(INDEX(状態像区分病院所在地_1年以上[#All],MATCH(2,状態像区分病院所在地_1年以上[[#All],[行ラベル]]),MATCH($AY$2,状態像区分病院所在地_1年以上[#Headers],0)),0)+IFERROR(INDEX(状態像区分病院所在地_1年以上[#All],MATCH(2,状態像区分病院所在地_1年以上[[#All],[行ラベル]]),MATCH($AZ$2,状態像区分病院所在地_1年以上[#Headers],0)),0)","v":173},{"$f":"IFERROR(INDEX(状態像区分病院所在地_1年以上[#All],MATCH(2,状態像区分病院所在地_1年以上[[#All],[行ラベル]]),MATCH($BA$2,状態像区分病院所在地_1年以上[#Headers],0)),0)","v":0},{"$f":"IFERROR(INDEX(状態像区分病院所在地_1年以上[#All],MATCH(2,状態像区分病院所在地_1年以上[[#All],[行ラベル]]),MATCH($BB$2,状態像区分病院所在地_1年以上[#Headers],0)),0)","v":54}]
[null,{"$f":"B27/B$37","v":6.7538126361655779E-2},2.6590693257359924E-2,6.6473988439306353E-2,0.14071294559099437,4.850213980028531E-2,5.394449641409417E-2,{"$f":"IFERROR(H27/H$37,\"-\")","v":"-"},5.2529182879377433E-2,5.804230201672405E-2,null,null,4,173,162,91,336,121,164,26,54,57,154,38,36,145,208,362,814,448,412,null,null,null,3,{"$f":"IFERROR(INDEX(状態像区分病院所在地_1年以上[#All],MATCH(3,状態像区分病院所在地_1年以上[[#All],[行ラベル]]),MATCH($AJ$2,状態像区分病院所在地_1年以上[#Headers],0)),0)+IFERROR(INDEX(状態像区分病院所在地_1年以上[#All],MATCH(3,状態像区分病院所在地_1年以上[[#All],[行ラベル]]),MATCH($AK$2,状態像区分病院所在地_1年以上[#Headers],0)),0)+IFERROR(INDEX(状態像区分病院所在地_1年以上[#All],MATCH(3,状態像区分病院所在地_1年以上[[#All],[行ラベル]]),MATCH($AL$2,状態像区分病院所在地_1年以上[#Headers],0)),0)","v":105},{"$f":"IFERROR(INDEX(状態像区分病院所在地_1年以上[#All],MATCH(3,状態像区分病院所在地_1年以上[[#All],[行ラベル]]),MATCH($AM$2,状態像区分病院所在地_1年以上[#Headers],0)),0)+IFERROR(INDEX(状態像区分病院所在地_1年以上[#All],MATCH(3,状態像区分病院所在地_1年以上[[#All],[行ラベル]]),MATCH($AN$2,状態像区分病院所在地_1年以上[#Headers],0)),0)","v":110},{"$f":"IFERROR(INDEX(状態像区分病院所在地_1年以上[#All],MATCH(3,状態像区分病院所在地_1年以上[[#All],[行ラベル]]),MATCH($AO$2,状態像区分病院所在地_1年以上[#Headers],0)),0)+IFERROR(INDEX(状態像区分病院所在地_1年以上[#All],MATCH(3,状態像区分病院所在地_1年以上[[#All],[行ラベル]]),MATCH($AP$2,状態像区分病院所在地_1年以上[#Headers],0)),0)+IFERROR(INDEX(状態像区分病院所在地_1年以上[#All],MATCH(3,状態像区分病院所在地_1年以上[[#All],[行ラベル]]),MATCH($AQ$2,状態像区分病院所在地_1年以上[#Headers],0)),0)+IFERROR(INDEX(状態像区分病院所在地_1年以上[#All],MATCH(3,状態像区分病院所在地_1年以上[[#All],[行ラベル]]),MATCH($AR$2,状態像区分病院所在地_1年以上[#Headers],0)),0)","v":107},{"$f":"IFERROR(INDEX(状態像区分病院所在地_1年以上[#All],MATCH(3,状態像区分病院所在地_1年以上[[#All],[行ラベル]]),MATCH($AS$2,状態像区分病院所在地_1年以上[#Headers],0)),0)+IFERROR(INDEX(状態像区分病院所在地_1年以上[#All],MATCH(3,状態像区分病院所在地_1年以上[[#All],[行ラベル]]),MATCH($AT$2,状態像区分病院所在地_1年以上[#Headers],0)),0)+IFERROR(INDEX(状態像区分病院所在地_1年以上[#All],MATCH(3,状態像区分病院所在地_1年以上[[#All],[行ラベル]]),MATCH($AU$2,状態像区分病院所在地_1年以上[#Headers],0)),0)","v":139},{"$f":"IFERROR(INDEX(状態像区分病院所在地_1年以上[#All],MATCH(3,状態像区分病院所在地_1年以上[[#All],[行ラベル]]),MATCH($AV$2,状態像区分病院所在地_1年以上[#Headers],0)),0)+IFERROR(INDEX(状態像区分病院所在地_1年以上[#All],MATCH(3,状態像区分病院所在地_1年以上[[#All],[行ラベル]]),MATCH($AW$2,状態像区分病院所在地_1年以上[#Headers],0)),0)","v":99},{"$f":"IFERROR(INDEX(状態像区分病院所在地_1年以上[#All],MATCH(3,状態像区分病院所在地_1年以上[[#All],[行ラベル]]),MATCH($AX$2,状態像区分病院所在地_1年以上[#Headers],0)),0)+IFERROR(INDEX(状態像区分病院所在地_1年以上[#All],MATCH(3,状態像区分病院所在地_1年以上[[#All],[行ラベル]]),MATCH($AY$2,状態像区分病院所在地_1年以上[#Headers],0)),0)+IFERROR(INDEX(状態像区分病院所在地_1年以上[#All],MATCH(3,状態像区分病院所在地_1年以上[[#All],[行ラベル]]),MATCH($AZ$2,状態像区分病院所在地_1年以上[#Headers],0)),0)","v":505},{"$f":"IFERROR(INDEX(状態像区分病院所在地_1年以上[#All],MATCH(3,状態像区分病院所在地_1年以上[[#All],[行ラベル]]),MATCH($BA$2,状態像区分病院所在地_1年以上[#Headers],0)),0)","v":0},{"$f":"IFERROR(INDEX(状態像区分病院所在地_1年以上[#All],MATCH(3,状態像区分病院所在地_1年以上[[#All],[行ラベル]]),MATCH($BB$2,状態像区分病院所在地_1年以上[#Headers],0)),0)","v":229}]
["軽度",{"$f":"AJ28","v":105},{"$f":"AK28","v":110},107,139,99,505,0,229,{"$f":"SUM(B29:I29)","v":1294},null,null,5,114,116,47,290,64,94,16,34,24,37,9,24,68,98,285,348,162,276,null,null,null,4,{"$f":"IFERROR(INDEX(状態像区分病院所在地_1年以上[#All],MATCH(4,状態像区分病院所在地_1年以上[[#All],[行ラベル]]),MATCH($AJ$2,状態像区分病院所在地_1年以上[#Headers],0)),0)+IFERROR(INDEX(状態像区分病院所在地_1年以上[#All],MATCH(4,状態像区分病院所在地_1年以上[[#All],[行ラベル]]),MATCH($AK$2,状態像区分病院所在地_1年以上[#Headers],0)),0)+IFERROR(INDEX(状態像区分病院所在地_1年以上[#All],MATCH(4,状態像区分病院所在地_1年以上[[#All],[行ラベル]]),MATCH($AL$2,状態像区分病院所在地_1年以上[#Headers],0)),0)","v":426},{"$f":"IFERROR(INDEX(状態像区分病院所在地_1年以上[#All],MATCH(4,状態像区分病院所在地_1年以上[[#All],[行ラベル]]),MATCH($AM$2,状態像区分病院所在地_1年以上[#Headers],0)),0)+IFERROR(INDEX(状態像区分病院所在地_1年以上[#All],MATCH(4,状態像区分病院所在地_1年以上[[#All],[行ラベル]]),MATCH($AN$2,状態像区分病院所在地_1年以上[#Headers],0)),0)","v":457},{"$f":"IFERROR(INDEX(状態像区分病院所在地_1年以上[#All],MATCH(4,状態像区分病院所在地_1年以上[[#All],[行ラベル]]),MATCH($AO$2,状態像区分病院所在地_1年以上[#Headers],0)),0)+IFERROR(INDEX(状態像区分病院所在地_1年以上[#All],MATCH(4,状態像区分病院所在地_1年以上[[#All],[行ラベル]]),MATCH($AP$2,状態像区分病院所在地_1年以上[#Headers],0)),0)+IFERROR(INDEX(状態像区分病院所在地_1年以上[#All],MATCH(4,状態像区分病院所在地_1年以上[[#All],[行ラベル]]),MATCH($AQ$2,状態像区分病院所在地_1年以上[#Headers],0)),0)+IFERROR(INDEX(状態像区分病院所在地_1年以上[#All],MATCH(4,状態像区分病院所在地_1年以上[[#All],[行ラベル]]),MATCH($AR$2,状態像区分病院所在地_1年以上[#Headers],0)),0)","v":301},{"$f":"IFERROR(INDEX(状態像区分病院所在地_1年以上[#All],MATCH(4,状態像区分病院所在地_1年以上[[#All],[行ラベル]]),MATCH($AS$2,状態像区分病院所在地_1年以上[#Headers],0)),0)+IFERROR(INDEX(状態像区分病院所在地_1年以上[#All],MATCH(4,状態像区分病院所在地_1年以上[[#All],[行ラベル]]),MATCH($AT$2,状態像区分病院所在地_1年以上[#Headers],0)),0)+IFERROR(INDEX(状態像区分病院所在地_1年以上[#All],MATCH(4,状態像区分病院所在地_1年以上[[#All],[行ラベル]]),MATCH($AU$2,状態像区分病院所在地_1年以上[#Headers],0)),0)","v":228},{"$f":"IFERROR(INDEX(状態像区分病院所在地_1年以上[#All],MATCH(4,状態像区分病院所在地_1年以上[[#All],[行ラベル]]),MATCH($AV$2,状態像区分病院所在地_1年以上[#Headers],0)),0)+IFERROR(INDEX(状態像区分病院所在地_1年以上[#All],MATCH(4,状態像区分病院所在地_1年以上[[#All],[行ラベル]]),MATCH($AW$2,状態像区分病院所在地_1年以上[#Headers],0)),0)","v":353},{"$f":"IFERROR(INDEX(状態像区分病院所在地_1年以上[#All],MATCH(4,状態像区分病院所在地_1年以上[[#All],[行ラベル]]),MATCH($AX$2,状態像区分病院所在地_1年以上[#Headers],0)),0)+IFERROR(INDEX(状態像区分病院所在地_1年以上[#All],MATCH(4,状態像区分病院所在地_1年以上[[#All],[行ラベル]]),MATCH($AY$2,状態像区分病院所在地_1年以上[#Headers],0)),0)+IFERROR(INDEX(状態像区分病院所在地_1年以上[#All],MATCH(4,状態像区分病院所在地_1年以上[[#All],[行ラベル]]),MATCH($AZ$2,状態像区分病院所在地_1年以上[#Headers],0)),0)","v":1624},{"$f":"IFERROR(INDEX(状態像区分病院所在地_1年以上[#All],MATCH(4,状態像区分病院所在地_1年以上[[#All],[行ラベル]]),MATCH($BA$2,状態像区分病院所在地_1年以上[#Headers],0)),0)","v":0},{"$f":"IFERROR(INDEX(状態像区分病院所在地_1年以上[#All],MATCH(4,状態像区分病院所在地_1年以上[[#All],[行ラベル]]),MATCH($BB$2,状態像区分病院所在地_1年以上[#Headers],0)),0)","v":412}]
[null,{"$f":"B29/B$37","v":0.11437908496732026},0.10446343779677113,0.15462427745664739,0.2607879924953096,0.14122681883024252,0.15746803866541939,{"$f":"IFERROR(H29/H$37,\"-\")","v":"-"},0.2227626459143969,0.15912444663059519,null,null,6,18,16,7,84,8,15,1,26,7,1,1,13,12,27,27,44,25,50,null,null,null,5,{"$f":"IFERROR(INDEX(状態像区分病院所在地_1年以上[#All],MATCH(5,状態像区分病院所在地_1年以上[[#All],[行ラベル]]),MATCH($AJ$2,状態像区分病院所在地_1年以上[#Headers],0)),0)+IFERROR(INDEX(状態像区分病院所在地_1年以上[#All],MATCH(5,状態像区分病院所在地_1年以上[[#All],[行ラベル]]),MATCH($AK$2,状態像区分病院所在地_1年以上[#Headers],0)),0)+IFERROR(INDEX(状態像区分病院所在地_1年以上[#All],MATCH(5,状態像区分病院所在地_1年以上[[#All],[行ラベル]]),MATCH($AL$2,状態像区分病院所在地_1年以上[#Headers],0)),0)","v":277},{"$f":"IFERROR(INDEX(状態像区分病院所在地_1年以上[#All],MATCH(5,状態像区分病院所在地_1年以上[[#All],[行ラベル]]),MATCH($AM$2,状態像区分病院所在地_1年以上[#Headers],0)),0)+IFERROR(INDEX(状態像区分病院所在地_1年以上[#All],MATCH(5,状態像区分病院所在地_1年以上[[#All],[行ラベル]]),MATCH($AN$2,状態像区分病院所在地_1年以上[#Headers],0)),0)","v":354},{"$f":"IFERROR(INDEX(状態像区分病院所在地_1年以上[#All],MATCH(5,状態像区分病院所在地_1年以上[[#All],[行ラベル]]),MATCH($AO$2,状態像区分病院所在地_1年以上[#Headers],0)),0)+IFERROR(INDEX(状態像区分病院所在地_1年以上[#All],MATCH(5,状態像区分病院所在地_1年以上[[#All],[行ラベル]]),MATCH($AP$2,状態像区分病院所在地_1年以上[#Headers],0)),0)+IFERROR(INDEX(状態像区分病院所在地_1年以上[#All],MATCH(5,状態像区分病院所在地_1年以上[[#All],[行ラベル]]),MATCH($AQ$2,状態像区分病院所在地_1年以上[#Headers],0)),0)+IFERROR(INDEX(状態像区分病院所在地_1年以上[#All],MATCH(5,状態像区分病院所在地_1年以上[[#All],[行ラベル]]),MATCH($AR$2,状態像区分病院所在地_1年以上[#Headers],0)),0)","v":168},{"$f":"IFERROR(INDEX(状態像区分病院所在地_1年以上[#All],MATCH(5,状態像区分病院所在地_1年以上[[#All],[行ラベル]]),MATCH($AS$2,状態像区分病院所在地_1年以上[#Headers],0)),0)+IFERROR(INDEX(状態像区分病院所在地_1年以上[#All],MATCH(5,状態像区分病院所在地_1年以上[[#All],[行ラベル]]),MATCH($AT$2,状態像区分病院所在地_1年以上[#Headers],0)),0)+IFERROR(INDEX(状態像区分病院所在地_1年以上[#All],MATCH(5,状態像区分病院所在地_1年以上[[#All],[行ラベル]]),MATCH($AU$2,状態像区分病院所在地_1年以上[#Headers],0)),0)","v":70},{"$f":"IFERROR(INDEX(状態像区分病院所在地_1年以上[#All],MATCH(5,状態像区分病院所在地_1年以上[[#All],[行ラベル]]),MATCH($AV$2,状態像区分病院所在地_1年以上[#Headers],0)),0)+IFERROR(INDEX(状態像区分病院所在地_1年以上[#All],MATCH(5,状態像区分病院所在地_1年以上[[#All],[行ラベル]]),MATCH($AW$2,状態像区分病院所在地_1年以上[#Headers],0)),0)","v":166},{"$f":"IFERROR(INDEX(状態像区分病院所在地_1年以上[#All],MATCH(5,状態像区分病院所在地_1年以上[[#All],[行ラベル]]),MATCH($AX$2,状態像区分病院所在地_1年以上[#Headers],0)),0)+IFERROR(INDEX(状態像区分病院所在地_1年以上[#All],MATCH(5,状態像区分病院所在地_1年以上[[#All],[行ラベル]]),MATCH($AY$2,状態像区分病院所在地_1年以上[#Headers],0)),0)+IFERROR(INDEX(状態像区分病院所在地_1年以上[#All],MATCH(5,状態像区分病院所在地_1年以上[[#All],[行ラベル]]),MATCH($AZ$2,状態像区分病院所在地_1年以上[#Headers],0)),0)","v":795},{"$f":"IFERROR(INDEX(状態像区分病院所在地_1年以上[#All],MATCH(5,状態像区分病院所在地_1年以上[[#All],[行ラベル]]),MATCH($BA$2,状態像区分病院所在地_1年以上[#Headers],0)),0)","v":0},{"$f":"IFERROR(INDEX(状態像区分病院所在地_1年以上[#All],MATCH(5,状態像区分病院所在地_1年以上[[#All],[行ラベル]]),MATCH($BB$2,状態像区分病院所在地_1年以上[#Headers],0)),0)","v":276}]
["中等度",{"$f":"AJ29","v":426},{"$f":"AK29","v":457},301,228,353,1624,0,412,{"$f":"SUM(B31:I31)","v":3801},null,null,"(空白)",null,null,null,null,null,null,null,null,null,null,null,null,null,null,null,null,null,null,null,null,null,6,{"$f":"IFERROR(INDEX(状態像区分病院所在地_1年以上[#All],MATCH(6,状態像区分病院所在地_1年以上[[#All],[行ラベル]]),MATCH($AJ$2,状態像区分病院所在地_1年以上[#Headers],0)),0)+IFERROR(INDEX(状態像区分病院所在地_1年以上[#All],MATCH(6,状態像区分病院所在地_1年以上[[#All],[行ラベル]]),MATCH($AK$2,状態像区分病院所在地_1年以上[#Headers],0)),0)+IFERROR(INDEX(状態像区分病院所在地_1年以上[#All],MATCH(6,状態像区分病院所在地_1年以上[[#All],[行ラベル]]),MATCH($AL$2,状態像区分病院所在地_1年以上[#Headers],0)),0)","v":41},{"$f":"IFERROR(INDEX(状態像区分病院所在地_1年以上[#All],MATCH(6,状態像区分病院所在地_1年以上[[#All],[行ラベル]]),MATCH($AM$2,状態像区分病院所在地_1年以上[#Headers],0)),0)+IFERROR(INDEX(状態像区分病院所在地_1年以上[#All],MATCH(6,状態像区分病院所在地_1年以上[[#All],[行ラベル]]),MATCH($AN$2,状態像区分病院所在地_1年以上[#Headers],0)),0)","v":92},{"$f":"IFERROR(INDEX(状態像区分病院所在地_1年以上[#All],MATCH(6,状態像区分病院所在地_1年以上[[#All],[行ラベル]]),MATCH($AO$2,状態像区分病院所在地_1年以上[#Headers],0)),0)+IFERROR(INDEX(状態像区分病院所在地_1年以上[#All],MATCH(6,状態像区分病院所在地_1年以上[[#All],[行ラベル]]),MATCH($AP$2,状態像区分病院所在地_1年以上[#Headers],0)),0)+IFERROR(INDEX(状態像区分病院所在地_1年以上[#All],MATCH(6,状態像区分病院所在地_1年以上[[#All],[行ラベル]]),MATCH($AQ$2,状態像区分病院所在地_1年以上[#Headers],0)),0)+IFERROR(INDEX(状態像区分病院所在地_1年以上[#All],MATCH(6,状態像区分病院所在地_1年以上[[#All],[行ラベル]]),MATCH($AR$2,状態像区分病院所在地_1年以上[#Headers],0)),0)","v":49},{"$f":"IFERROR(INDEX(状態像区分病院所在地_1年以上[#All],MATCH(6,状態像区分病院所在地_1年以上[[#All],[行ラベル]]),MATCH($AS$2,状態像区分病院所在地_1年以上[#Headers],0)),0)+IFERROR(INDEX(状態像区分病院所在地_1年以上[#All],MATCH(6,状態像区分病院所在地_1年以上[[#All],[行ラベル]]),MATCH($AT$2,状態像区分病院所在地_1年以上[#Headers],0)),0)+IFERROR(INDEX(状態像区分病院所在地_1年以上[#All],MATCH(6,状態像区分病院所在地_1年以上[[#All],[行ラベル]]),MATCH($AU$2,状態像区分病院所在地_1年以上[#Headers],0)),0)","v":15},{"$f":"IFERROR(INDEX(状態像区分病院所在地_1年以上[#All],MATCH(6,状態像区分病院所在地_1年以上[[#All],[行ラベル]]),MATCH($AV$2,状態像区分病院所在地_1年以上[#Headers],0)),0)+IFERROR(INDEX(状態像区分病院所在地_1年以上[#All],MATCH(6,状態像区分病院所在地_1年以上[[#All],[行ラベル]]),MATCH($AW$2,状態像区分病院所在地_1年以上[#Headers],0)),0)","v":39},{"$f":"IFERROR(INDEX(状態像区分病院所在地_1年以上[#All],MATCH(6,状態像区分病院所在地_1年以上[[#All],[行ラベル]]),MATCH($AX$2,状態像区分病院所在地_1年以上[#Headers],0)),0)+IFERROR(INDEX(状態像区分病院所在地_1年以上[#All],MATCH(6,状態像区分病院所在地_1年以上[[#All],[行ラベル]]),MATCH($AY$2,状態像区分病院所在地_1年以上[#Headers],0)),0)+IFERROR(INDEX(状態像区分病院所在地_1年以上[#All],MATCH(6,状態像区分病院所在地_1年以上[[#All],[行ラベル]]),MATCH($AZ$2,状態像区分病院所在地_1年以上[#Headers],0)),0)","v":96},{"$f":"IFERROR(INDEX(状態像区分病院所在地_1年以上[#All],MATCH(6,状態像区分病院所在地_1年以上[[#All],[行ラベル]]),MATCH($BA$2,状態像区分病院所在地_1年以上[#Headers],0)),0)","v":0},{"$f":"IFERROR(INDEX(状態像区分病院所在地_1年以上[#All],MATCH(6,状態像区分病院所在地_1年以上[[#All],[行ラベル]]),MATCH($BB$2,状態像区分病院所在地_1年以上[#Headers],0)),0)","v":50}]
[null,{"$f":"B31/B$37","v":0.46405228758169936},0.43399810066476735,0.43497109826589597,0.42776735459662291,0.50356633380884452,0.50639226691612094,{"$f":"IFERROR(H31/H$37,\"-\")","v":"-"},0.40077821011673154,0.46741269060501722]
["重度",{"$f":"AJ30","v":277},{"$f":"AK30","v":354},168,70,166,795,0,276,{"$f":"SUM(B33:I33)","v":2106}]
[null,{"$f":"B33/B$37","v":0.30174291938997821},0.33618233618233617,0.24277456647398843,0.13133208255159476,0.23680456490727533,0.24789522918615528,{"$f":"IFERROR(H33/H$37,\"-\")","v":"-"},0.26848249027237353,0.25897688145597642]
["最重度",{"$f":"AJ31","v":41},{"$f":"AK31","v":92},49,15,39,96,0,50,{"$f":"SUM(B35:I35)","v":382}]
[null,{"$f":"B35/B$37","v":4.4662309368191724E-2},8.7369420702754039E-2,7.0809248554913301E-2,2.8142589118198873E-2,5.5634807417974323E-2,2.9934518241347054E-2,{"$f":"IFERROR(H35/H$37,\"-\")","v":"-"},4.8638132295719845E-2,4.6974913920314804E-2]
["　総計",{"$f":"SUM(B25,B27,B29,B31,B33,B35)","v":918},{"$f":"SUM(C25,C27,C29,C31,C33,C35)","v":1053},692,533,701,3207,0,1028,8132]
[null,{"$f":"SUM(B26,B28,B30,B32,B34,B36)","v":1},1,1,1,1,0.99999999999999989,0,1,1]

{"sheet":"6-Ⅰ⑥ ","index":30,"n_rows":63,"n_cols":33,"rows_kept":63,"cut":false,"hidden":false,"merged":[[61,0,62,0],[45,0,46,0],[47,0,48,0],[49,0,50,0],[51,0,52,0],[53,0,54,0],[55,0,56,0],[57,0,58,0],[59,0,60,0],[43,0,44,0],[17,0,18,0],[23,0,24,0],[25,0,26,0],[27,0,28,0],[29,0,30,0],[31,0,32,0],[33,0,34,0],[35,0,36,0],[37,0,38,0],[39,0,40,0],[41,0,42,0],[15,0,16,0],[3,0,4,0],[5,0,6,0],[7,0,8,0],[9,0,10,0],[13,0,14,0]]}
["【退院阻害要因の有無×病院所在地（圏域）】"]
[]
["退院予定の有無","豊能","三島","北河内","中河内","南河内","泉州","大阪市","堺市","合計",null,null,"行ラベル","01豊能北","02豊能豊中","03豊能吹田","04三島","05三島高槻","06北河内枚方","07北河内寝屋川","08北河内西","09北河内東","10中河内東大阪","11中河内八尾","12中河内南","13南河内北","14南河内南","15泉州北","16泉州中","17泉州南","18大阪市","19堺市"]
["病状（主症状）が落ち着き、入院によらない形で治療ができるまで回復",{"$f":"SUM(N4:P4)","v":303},{"$f":"SUM(Q4:R4)","v":282},{"$f":"SUM(S4:V4)","v":284},{"$f":"SUM(W4:Y4)","v":244},{"$f":"SUM(Z4:AA4)","v":256},{"$f":"SUM(AB4:AD4)","v":583},{"$f":"AE4","v":15},{"$f":"AF4","v":221},{"$f":"SUM(B4:I4)","v":2188},null,null,97,109,137,57,97,185,180,66,20,18,160,81,3,83,173,304,157,122,15,221]
[null,{"$f":"B4/B$10","v":0.1853211009174312},0.14656964656964658,0.21337340345604808,0.1918238993710692,0.21244813278008298,0.11650679456434852,9.49367088607595E-2,0.10833333333333334,0.15018189306060814,null,null,98,408,596,201,1024,302,446,142,135,154,496,178,145,264,550,1163,1871,1047,115,1578]
["病状（主症状）が不安定で入院による治療が必要",{"$f":"SUM(N5:P5)","v":1205},{"$f":"SUM(Q5:R5)","v":1326},{"$f":"SUM(S5:V5)","v":877},{"$f":"SUM(W5:Y5)","v":819},{"$f":"SUM(Z5:AA5)","v":814},{"$f":"SUM(AB5:AD5)","v":4081},{"$f":"AE5","v":115},{"$f":"AF5","v":1578},{"$f":"SUM(B6:I6)","v":10815},null,null,99,20,86,21,178,138,80,22,61,7,84,82,43,80,55,151,112,77,28,241]
[null,{"$f":"B6/B$10","v":0.73700305810397548},0.68918918918918914,0.65890308039068368,0.64386792452830188,0.67551867219917017,0.81554756195043965,0.72784810126582278,0.77352941176470591,0.74232960395360015,null,null,"(空白)"]
["退院予定",{"$f":"SUM(N6:P6)","v":127},{"$f":"SUM(Q6:R6)","v":316},{"$f":"SUM(S6:V6)","v":170},{"$f":"SUM(W6:Y6)","v":209},{"$f":"SUM(Z6:AA6)","v":135},{"$f":"SUM(AB6:AD6)","v":340},{"$f":"AE6","v":28},{"$f":"AF6","v":241},{"$f":"SUM(B8:I8)","v":1566}]
[null,{"$f":"B8/B$10","v":7.7675840978593272E-2},{"$f":"C8/C$10","v":0.16424116424116425},0.12772351615326821,0.16430817610062892,0.11203319502074689,6.7945643485211829E-2,0.17721518987341772,0.11813725490196078,0.10748850298579175]
["　総計",{"$f":"SUM(B4,B6,B8)","v":1635},{"$f":"SUM(C4,C6,C8)","v":1924},1331,1272,1205,5004,158,2040,{"$f":"SUM(J4,J6,J8)","v":14569}]
[null,{"$f":"SUM(B5,B7,B9)","v":0.99999999999999989},1,1,1,1,1,1,1,1]
[]
["退院阻害要因の有無","豊能","三島","北河内","中河内","南河内","泉州","大阪市","堺市","合計",null,null,"行ラベル","01豊能北","02豊能豊中","03豊能吹田","04三島","05三島高槻","06北河内枚方","07北河内寝屋川","08北河内西","09北河内東","10中河内東大阪","11中河内八尾","12中河内南","13南河内北","14南河内南","15泉州北","16泉州中","17泉州南","18大阪市","19堺市"]
["退院阻害要因がある",{"$f":"SUM(N14:P14)","v":273},{"$f":"SUM(Q14:R14)","v":233},{"$f":"SUM(S14:V14)","v":269},{"$f":"SUM(W14:Y14)","v":204},{"$f":"SUM(Z14:AA14)","v":222},{"$f":"SUM(AB14:AD14)","v":550},{"$f":"AE14","v":9},{"$f":"AF14","v":196},{"$f":"SUM(B14:I14)","v":1956},null,null,91,104,117,52,90,143,173,58,20,18,125,76,3,83,139,291,145,114,9,196]
[null,{"$f":"B14/B$18","v":0.90099009900990101},{"$f":"C14/C$18","v":0.82624113475177308},0.94718309859154926,0.83606557377049184,0.8671875,0.94339622641509435,0.6,0.8868778280542986,0.89396709323583179,null,null,90,5,20,5,7,42,7,8,null,null,35,5,null,null,34,13,12,8,6,25]
["退院阻害要因はない",{"$f":"SUM(N15:P15)","v":30},{"$f":"SUM(Q15:R15)","v":49},{"$f":"SUM(S15:V15)","v":15},{"$f":"SUM(W15:Y15)","v":40},{"$f":"SUM(Z15:AA15)","v":34},{"$f":"SUM(AB15:AD15)","v":33},{"$f":"AE15","v":6},{"$f":"AF15","v":25},{"$f":"SUM(B16:I16)","v":232},null,null,null,428,682,222,1202,440,526,164,196,161,577,260,188,344,605,1314,1983,1124,143,1808]
[null,{"$f":"B16/B$18","v":9.9009900990099015E-2},{"$f":"C16/C$18","v":0.17375886524822695},5.2816901408450703E-2,0.16393442622950818,0.1328125,5.6603773584905662E-2,0.4,0.11312217194570136,0.10603290676416818]
["　総計",{"$f":"SUM(B14,B16)","v":303},{"$f":"SUM(C14,C16)","v":282},284,244,256,583,15,221,2188]
[null,{"$f":"SUM(B15,B17)","v":1},1,1,1,1,1,1,1,1]
[]
["【退院阻害要因（複数回答）×病院所在地（圏域）】"]
[]
[null,"豊能","三島","北河内","中河内","南河内","泉州","大阪市","堺市","合計",null,null,"値","01豊能北","02豊能豊中","03豊能吹田","04三島","05三島高槻","06北河内枚方","07北河内寝屋川","08北河内西","09北河内東","10中河内東大阪","11中河内八尾","12中河内南","13南河内北","14南河内南","15泉州北","16泉州中","17泉州南","18大阪市","19堺市","列21"]
["病状は落ち着いているが、ときどき不安定な病状が見られ、そのことが退院を阻害する要因になっている",{"$f":"SUM(N24:P24)","v":86},{"$f":"SUM(Q24:R24)","v":71},{"$f":"SUM(S24:V24)","v":99},{"$f":"SUM(W24:Y24)","v":81},{"$f":"SUM(Z24:AA24)","v":87},{"$f":"SUM(AB24:AD24)","v":183},{"$f":"AE24","v":3},{"$f":"AF24","v":50},{"$f":"SUM(B24:I24)","v":660},null,null,"合計 / 病状は落ち着いているが、ときどき不安定な病状が見られ、そのことが退院を阻害する要因になっている",47,26,13,12,59,62,26,5,6,57,24,0,31,56,92,55,36,3,50]
[null,{"$f":"B24/B$14","v":0.31501831501831501},{"$f":"C24/C$14","v":0.30472103004291845},0.36802973977695169,0.39705882352941174,0.39189189189189189,0.3327272727272727,0.33333333333333331,0.25510204081632654,0.33742331288343558,null,null,"合計 / 病識がなく通院服薬の中断が予測される",36,25,3,13,74,32,7,0,1,36,0,2,29,46,84,57,24,1,39]
["病識がなく通院服薬の中断が予測される",{"$f":"SUM(N25:P25)","v":64},{"$f":"SUM(Q25:R25)","v":87},{"$f":"SUM(S25:V25)","v":40},{"$f":"SUM(W25:Y25)","v":38},{"$f":"SUM(Z25:AA25)","v":75},{"$f":"SUM(AB25:AD25)","v":165},{"$f":"AE25","v":1},{"$f":"AF25","v":39},{"$f":"SUM(B26:I26)","v":509},null,null,"合計 / 反社会的行動が予測される",5,3,1,1,4,13,1,0,1,3,0,2,4,8,19,6,3,1,7]
[null,{"$f":"B26/B$14","v":0.23443223443223443},{"$f":"C26/C$14","v":0.37339055793991416},0.14869888475836432,0.18627450980392157,0.33783783783783783,0.3,0.1111111111111111,0.19897959183673469,0.2602249488752556,null,null,"合計 / 退院意欲が乏しい",54,24,24,22,88,66,12,8,4,52,17,1,46,52,88,63,34,1,70]
["反社会的行動が予測される",{"$f":"SUM(N26:P26)","v":9},{"$f":"SUM(Q26:R26)","v":5},{"$f":"SUM(S26:V26)","v":15},{"$f":"SUM(W26:Y26)","v":5},{"$f":"SUM(Z26:AA26)","v":12},{"$f":"SUM(AB26:AD26)","v":28},{"$f":"AE26","v":1},{"$f":"AF26","v":7},{"$f":"SUM(B28:I28)","v":82},null,null,"合計 / 現実認識が乏しい",48,24,16,13,108,76,24,3,5,55,13,2,44,59,109,58,22,3,55]
[null,{"$f":"B28/B$14","v":3.2967032967032968E-2},{"$f":"C28/C$14","v":2.1459227467811159E-2},5.5762081784386616E-2,{"$f":"E28/E$14","v":2.4509803921568627E-2},5.4054054054054057E-2,5.0909090909090911E-2,0.1111111111111111,3.5714285714285712E-2,4.1922290388548056E-2,null,null,"合計 / 退院による環境変化への不安が強い",32,16,11,2,77,31,16,2,1,48,26,1,35,34,56,38,19,0,54]
["退院意欲が乏しい",{"$f":"SUM(N27:P27)","v":102},{"$f":"SUM(Q27:R27)","v":110},{"$f":"SUM(S27:V27)","v":90},{"$f":"SUM(W27:Y27)","v":70},{"$f":"SUM(Z27:AA27)","v":98},{"$f":"SUM(AB27:AD27)","v":185},{"$f":"AE27","v":1},{"$f":"AF27","v":70},{"$f":"SUM(B30:I30)","v":726},null,null,"合計 / 援助者との対人関係がもてない",10,7,2,7,17,15,7,0,2,12,0,1,5,15,26,6,5,0,14]
[null,{"$f":"B30/B$14","v":0.37362637362637363},{"$f":"C30/C$14","v":0.47210300429184548},0.33457249070631973,{"$f":"E30/E$14","v":0.34313725490196079},0.44144144144144143,0.33636363636363636,0.1111111111111111,0.35714285714285715,0.37116564417177916,null,null,"合計 / 家事（食事,洗濯,金銭管理など）ができない",21,32,6,3,83,63,15,1,5,33,10,2,22,68,90,61,26,2,36]
["現実認識が乏しい",{"$f":"SUM(N28:P28)","v":88},{"$f":"SUM(Q28:R28)","v":121},{"$f":"SUM(S28:V28)","v":108},{"$f":"SUM(W28:Y28)","v":70},{"$f":"SUM(Z28:AA28)","v":103},{"$f":"SUM(AB28:AD28)","v":189},{"$f":"AE28","v":3},{"$f":"AF28","v":55},{"$f":"SUM(B32:I32)","v":737},null,null,"合計 / 家族がいない、本人をサポートする機能が実質ない",17,30,6,2,32,41,18,2,4,17,1,2,17,14,53,22,10,2,27]
[null,{"$f":"B32/B$14","v":0.32234432234432236},{"$f":"C32/C$14","v":0.51931330472102999},0.40148698884758366,0.34313725490196079,0.46396396396396394,0.34363636363636363,0.33333333333333331,0.28061224489795916,0.37678936605316976,null,null,"合計 / 家族から退院に反対がある",16,13,12,0,25,69,13,1,2,31,9,0,16,26,72,36,40,3,36]
["退院による環境変化への不安が強い",{"$f":"SUM(N29:P29)","v":59},{"$f":"SUM(Q29:R29)","v":79},{"$f":"SUM(S29:V29)","v":50},{"$f":"SUM(W29:Y29)","v":75},{"$f":"SUM(Z29:AA29)","v":69},{"$f":"SUM(AB29:AD29)","v":113},{"$f":"AE29","v":0},{"$f":"AF29","v":54},{"$f":"SUM(B34:I34)","v":499},null,null,"合計 / 住まいの確保ができない",7,62,6,6,84,81,25,4,9,29,38,2,1,20,107,57,32,3,42]
[null,{"$f":"B34/B$14","v":0.21611721611721613},{"$f":"C34/C$14","v":0.33905579399141633},0.18587360594795538,0.36764705882352944,0.3108108108108108,0.20545454545454545,0,0.27551020408163263,0.2551124744376278,null,null,"合計 / 生活費の確保ができない",0,7,3,1,3,39,4,1,3,6,1,0,1,0,22,9,8,2,4]
["援助者との対人関係がもてない",{"$f":"SUM(N30:P30)","v":19},{"$f":"SUM(Q30:R30)","v":24},{"$f":"SUM(S30:V30)","v":24},{"$f":"SUM(W30:Y30)","v":13},{"$f":"SUM(Z30:AA30)","v":20},{"$f":"SUM(AB30:AD30)","v":37},{"$f":"AE30","v":0},{"$f":"AF30","v":14},{"$f":"SUM(B36:I36)","v":151},null,null,"合計 / 日常生活を支える制度がない",15,12,0,2,17,7,3,1,3,5,8,1,0,5,18,29,2,2,2]
[null,{"$f":"B36/B$14","v":6.95970695970696E-2},{"$f":"C36/C$14","v":0.10300429184549356},8.9219330855018583E-2,6.3725490196078427E-2,9.0090090090090086E-2,6.7272727272727276E-2,0,7.1428571428571425E-2,7.7198364008179962E-2,null,null,"合計 / 救急診療体制がない",0,0,0,0,0,5,0,0,0,0,0,0,0,0,0,0,0,0,0]
["家事（食事・洗濯・金銭管理など）ができない",{"$f":"SUM(N31:P31)","v":59},{"$f":"SUM(Q31:R31)","v":86},{"$f":"SUM(S31:V31)","v":84},{"$f":"SUM(W31:Y31)","v":45},{"$f":"SUM(Z31:AA31)","v":90},{"$f":"SUM(AB31:AD31)","v":177},{"$f":"AE31","v":2},{"$f":"AF31","v":36},{"$f":"SUM(B38:I38)","v":579},null,null,"合計 / 退院に向けてサポートする人的資源が乏しい",2,2,4,0,8,30,8,2,0,15,0,1,2,2,42,13,10,1,4]
[null,{"$f":"B38/B$14","v":0.21611721611721613},{"$f":"C38/C$14","v":0.36909871244635195},0.31226765799256506,{"$f":"E38/E$14","v":0.22058823529411764},0.40540540540540543,0.32181818181818184,0.22222222222222221,0.18367346938775511,0.29601226993865032,null,null,"合計 / 退院後サポート・マネジメントする人的資源が乏しい",19,8,2,1,3,25,5,1,0,9,0,0,0,6,13,8,4,0,6]
["家族がいない、本人をサポートする機能が実質ない",{"$f":"SUM(N32:P32)","v":53},{"$f":"SUM(Q32:R32)","v":34},{"$f":"SUM(S32:V32)","v":65},{"$f":"SUM(W32:Y32)","v":20},{"$f":"SUM(Z32:AA32)","v":31},{"$f":"SUM(AB32:AD32)","v":85},{"$f":"AE32","v":2},{"$f":"AF32","v":27},{"$f":"SUM(B40:I40)","v":317},null,null,"合計 / 住所地と入院先の距離があり支援体制をとりにくい",2,3,0,0,1,4,0,0,0,0,0,1,0,1,14,2,2,0,0]
[null,{"$f":"B40/B$14","v":0.19413919413919414},{"$f":"C40/C$14","v":0.14592274678111589},0.24163568773234201,9.8039215686274508E-2,0.13963963963963963,0.15454545454545454,0.22222222222222221,0.13775510204081631,0.16206543967280163,null,null,"合計 / 身体的機能や状態を原因としたADLの低下がある",15,27,10,22,26,38,4,0,3,4,1,1,26,26,56,10,10,2,50]
["家族が退院に反対している",{"$f":"SUM(N33:P33)","v":41},{"$f":"SUM(Q33:R33)","v":25},{"$f":"SUM(S33:V33)","v":85},{"$f":"SUM(W33:Y33)","v":40},{"$f":"SUM(Z33:AA33)","v":42},{"$f":"SUM(AB33:AD33)","v":148},{"$f":"AE33","v":3},{"$f":"AF33","v":36},{"$f":"SUM(B42:I42)","v":420},null,null,"合計 / 身体合併症の程度が重いなど身体面のフォローが必要であり、地域での生活が困難",5,5,0,19,15,24,1,1,0,2,2,0,13,10,29,4,29,1,51]
[null,{"$f":"B42/B$14","v":0.15018315018315018},{"$f":"C42/C$14","v":0.1072961373390558},0.31598513011152418,{"$f":"E42/E$14","v":0.19607843137254902},0.1891891891891892,0.2690909090909091,0.33333333333333331,0.18367346938775511,0.21472392638036811,null,null,"合計 / その他の退院阻害要因がある",0,2,0,1,0,4,4,0,0,5,3,0,0,1,12,4,6,0,2]
["住まいの確保ができない",{"$f":"SUM(N34:P34)","v":75},{"$f":"SUM(Q34:R34)","v":90},{"$f":"SUM(S34:V34)","v":119},{"$f":"SUM(W34:Y34)","v":69},{"$f":"SUM(Z34:AA34)","v":21},{"$f":"SUM(AB34:AD34)","v":196},{"$f":"AE34","v":3},{"$f":"AF34","v":42},{"$f":"SUM(B44:I44)","v":615}]
[null,{"$f":"B44/B$14","v":0.27472527472527475},{"$f":"C44/C$14","v":0.38626609442060084},0.44237918215613381,0.33823529411764708,9.45945945945946E-2,0.35636363636363638,0.33333333333333331,0.21428571428571427,0.31441717791411045]
["生活費の確保ができない",{"$f":"SUM(N35:P35)","v":10},{"$f":"SUM(Q35:R35)","v":4},{"$f":"SUM(S35:V35)","v":47},{"$f":"SUM(W35:Y35)","v":7},{"$f":"SUM(Z35:AA35)","v":1},{"$f":"SUM(AB35:AD35)","v":39},{"$f":"AE35","v":2},{"$f":"AF35","v":4},{"$f":"SUM(B46:I46)","v":114}]
[null,{"$f":"B46/B$14","v":3.6630036630036632E-2},{"$f":"C46/C$14","v":1.7167381974248927E-2},0.17472118959107807,3.4313725490196081E-2,4.5045045045045045E-3,7.0909090909090908E-2,0.22222222222222221,2.0408163265306121E-2,5.8282208588957052E-2]
["日常生活を支える制度がない",{"$f":"SUM(N36:P36)","v":27},{"$f":"SUM(Q36:R36)","v":19},{"$f":"SUM(S36:V36)","v":14},{"$f":"SUM(W36:Y36)","v":14},{"$f":"SUM(Z36:AA36)","v":5},{"$f":"SUM(AB36:AD36)","v":49},{"$f":"AE36","v":2},{"$f":"AF36","v":2},{"$f":"SUM(B48:I48)","v":132}]
[null,{"$f":"B48/B$14","v":9.8901098901098897E-2},{"$f":"C48/C$14","v":8.15450643776824E-2},5.204460966542751E-2,6.8627450980392163E-2,2.2522522522522521E-2,8.9090909090909096E-2,0.22222222222222221,1.020408163265306E-2,6.7484662576687116E-2]
["救急診療体制がない",{"$f":"SUM(N37:P37)","v":0},{"$f":"SUM(Q37:R37)","v":0},{"$f":"SUM(S37:V37)","v":5},{"$f":"SUM(W37:Y37)","v":0},{"$f":"SUM(Z37:AA37)","v":0},{"$f":"SUM(AB37:AD37)","v":0},{"$f":"AE37","v":0},{"$f":"AF37","v":0},{"$f":"SUM(B50:I50)","v":5}]
[null,{"$f":"B50/B$14","v":0},{"$f":"C50/C$14","v":0},1.858736059479554E-2,0,0,0,0,0,2.5562372188139061E-3]
["退院に向けてサポートする人的資源が乏しい",{"$f":"SUM(N38:P38)","v":8},{"$f":"SUM(Q38:R38)","v":8},{"$f":"SUM(S38:V38)","v":40},{"$f":"SUM(W38:Y38)","v":16},{"$f":"SUM(Z38:AA38)","v":4},{"$f":"SUM(AB38:AD38)","v":65},{"$f":"AE38","v":1},{"$f":"AF38","v":4},{"$f":"SUM(B52:I52)","v":146}]
[null,{"$f":"B52/B$14","v":2.9304029304029304E-2},{"$f":"C52/C$14","v":3.4334763948497854E-2},0.14869888475836432,7.8431372549019607E-2,1.8018018018018018E-2,0.11818181818181818,0.1111111111111111,2.0408163265306121E-2,7.4642126789366048E-2]
["退院後サポート・マネジメントする人的資源が乏しい",{"$f":"SUM(N39:P39)","v":29},{"$f":"SUM(Q39:R39)","v":4},{"$f":"SUM(S39:V39)","v":31},{"$f":"SUM(W39:Y39)","v":9},{"$f":"SUM(Z39:AA39)","v":6},{"$f":"SUM(AB39:AD39)","v":25},{"$f":"AE39","v":0},{"$f":"AF39","v":6},{"$f":"SUM(B54:I54)","v":110}]
[null,{"$f":"B54/B$14","v":0.10622710622710622},{"$f":"C54/C$14","v":1.7167381974248927E-2},0.11524163568773234,4.4117647058823532E-2,2.7027027027027029E-2,4.5454545454545456E-2,0,3.0612244897959183E-2,5.6237218813905927E-2]
["住所地と入院先の距離があり支援体制がとりにくい",{"$f":"SUM(N40:P40)","v":5},{"$f":"SUM(Q40:R40)","v":1},{"$f":"SUM(S40:V40)","v":4},{"$f":"SUM(W40:Y40)","v":1},{"$f":"SUM(Z40:AA40)","v":1},{"$f":"SUM(AB40:AD40)","v":18},{"$f":"AE40","v":0},{"$f":"AF40","v":0},{"$f":"SUM(B56:I56)","v":30}]
[null,{"$f":"B56/B$14","v":1.8315018315018316E-2},{"$f":"C56/C$14","v":4.2918454935622317E-3},1.4869888475836431E-2,4.9019607843137254E-3,4.5045045045045045E-3,3.272727272727273E-2,0,0,1.5337423312883436E-2]
["身体的機能や状態を原因としたADLの低下がある",{"$f":"SUM(N41:P41)","v":52},{"$f":"SUM(Q41:R41)","v":48},{"$f":"SUM(S41:V41)","v":45},{"$f":"SUM(W41:Y41)","v":6},{"$f":"SUM(Z41:AA41)","v":52},{"$f":"SUM(AB41:AD41)","v":76},{"$f":"SUM(AE41)","v":2},{"$f":"SUM(AF41)","v":50},{"$f":"SUM(B58:I58)","v":331}]
[null,{"$f":"B58/B$14","v":0.19047619047619047},{"$f":"C58/C$14","v":0.20600858369098712},0.16728624535315986,2.9411764705882353E-2,0.23423423423423423,0.13818181818181818,0.22222222222222221,0.25510204081632654,0.16922290388548059]
["身体合併症の程度が重いなど身体面のフォローが必要であり、地域での生活が困難",{"$f":"SUM(N42:P42)","v":10},{"$f":"SUM(Q42:R42)","v":34},{"$f":"SUM(S42:V42)","v":26},{"$f":"SUM(W42:Y42)","v":4},{"$f":"SUM(Z42:AA42)","v":23},{"$f":"SUM(AB42:AD42)","v":62},{"$f":"SUM(AE42)","v":1},{"$f":"SUM(AF42)","v":51},{"$f":"SUM(B60:I60)","v":211}]
[null,{"$f":"B60/B$14","v":3.6630036630036632E-2},{"$f":"C60/C$14","v":0.14592274678111589},9.6654275092936809E-2,1.9607843137254902E-2,0.1036036036036036,0.11272727272727273,0.1111111111111111,0.26020408163265307,0.10787321063394684]
["その他の退院阻害要因がある",{"$f":"SUM(N43:P43)","v":2},{"$f":"SUM(Q43:R43)","v":1},{"$f":"SUM(S43:V43)","v":8},{"$f":"SUM(W43:Y43)","v":8},{"$f":"SUM(Z43:AA43)","v":1},{"$f":"SUM(AB43:AD43)","v":22},{"$f":"SUM(AE43)","v":0},{"$f":"SUM(AF43)","v":2},{"$f":"SUM(B62:I62)","v":44}]
[null,{"$f":"B62/B$14","v":7.326007326007326E-3},{"$f":"C62/C$14","v":4.2918454935622317E-3},2.9739776951672861E-2,3.9215686274509803E-2,4.5045045045045045E-3,0.04,0,1.020408163265306E-2,2.2494887525562373E-2]

{"sheet":"6-Ⅱ①","index":31,"n_rows":27,"n_cols":36,"rows_kept":27,"cut":false,"hidden":false,"merged":[[15,0,16,0],[17,0,18,0],[19,0,20,0],[23,0,24,0],[25,0,26,0],[13,0,14,0],[3,0,4,0],[5,0,6,0],[7,0,8,0],[9,0,10,0],[11,0,12,0]]}
["【年齢区分×入院時住所地（圏域）】"]
[]
[null,"豊能","三島","北河内","中河内","南河内","泉州","大阪市","堺市","府外・\nその他","合計",null,null,"行ラベル","01豊能北","02豊能豊中","03豊能吹田","04三島","05三島高槻","06北河内枚方","07北河内寝屋川","08北河内西","09北河内東","10中河内東大阪","11中河内八尾","12中河内南","13南河内北","14南河内南","15泉州北","16泉州中","17泉州南","18大阪市","19堺市","98他府県","99不明その他","列23"]
["19歳以下",{"$f":"SUM('6-Ⅱ①'!$O4:$Q4)","v":18},{"$f":"SUM('6-Ⅱ①'!$R4:$S4)","v":19},{"$f":"SUM('6-Ⅱ①'!$T4:$W4)","v":21},{"$f":"SUM('6-Ⅱ①'!$X4:$Z4)","v":15},{"$f":"SUM('6-Ⅱ①'!$AA4:$AB4)","v":14},{"$f":"SUM('6-Ⅱ①'!$AC4:$AE4)","v":24},{"$f":"SUM('6-Ⅱ①'!$AF4)","v":31},{"$f":"SUM('6-Ⅱ①'!$AG4)","v":30},{"$f":"SUM('6-Ⅱ①'!$AH4:$AI4)","v":9},{"$f":"SUM(B4:J4)","v":181},null,null,"19歳以下",5,8,5,7,12,12,3,2,4,8,4,3,6,8,8,9,7,31,30,8,1]
[null,{"$f":"B4/B$22","v":1.5228426395939087E-2},1.5459723352318959E-2,1.6759776536312849E-2,1.3562386980108499E-2,1.3820335636722606E-2,7.6335877862595417E-3,1.0641949879848954E-2,2.0066889632107024E-2,{"$f":"J4/J$22","v":7.2933549432739062E-3},1.2423639233989979E-2,null,null,"20歳代",12,8,3,11,6,12,6,4,3,24,13,2,11,8,10,16,11,80,33,23,1]
["20歳代",{"$f":"SUM('6-Ⅱ①'!$O5:$Q5)","v":23},{"$f":"SUM('6-Ⅱ①'!$R5:$S5)","v":17},{"$f":"SUM('6-Ⅱ①'!$T5:$W5)","v":25},{"$f":"SUM('6-Ⅱ①'!$X5:$Z5)","v":39},{"$f":"SUM('6-Ⅱ①'!$AA5:$AB5)","v":19},{"$f":"SUM('6-Ⅱ①'!$AC5:$AE5)","v":37},{"$f":"SUM('6-Ⅱ①'!$AF5)","v":80},{"$f":"SUM('6-Ⅱ①'!$AG5)","v":33},{"$f":"SUM('6-Ⅱ①'!$AH5:$AI5)","v":24},{"$f":"SUM(B6:J6)","v":297},null,null,"30歳代",10,29,18,15,22,15,13,12,14,32,16,2,14,21,18,35,25,141,51,46,4]
[null,{"$f":"B6/B$22","v":1.94585448392555E-2},1.3832384052074858E-2,1.9952114924181964E-2,3.5262206148282099E-2,1.8756169792694965E-2,1.1768447837150127E-2,2.746309646412633E-2,2.2073578595317726E-2,{"$f":"J6/J$22","v":1.9448946515397084E-2},2.0385750566270851E-2,null,null,"40歳代",33,37,37,48,39,48,24,21,25,54,33,5,31,45,60,58,55,288,137,89,14]
["30歳代",{"$f":"SUM('6-Ⅱ①'!$O6:$Q6)","v":57},{"$f":"SUM('6-Ⅱ①'!$R6:$S6)","v":37},{"$f":"SUM('6-Ⅱ①'!$T6:$W6)","v":54},{"$f":"SUM('6-Ⅱ①'!$X6:$Z6)","v":50},{"$f":"SUM('6-Ⅱ①'!$AA6:$AB6)","v":35},{"$f":"SUM('6-Ⅱ①'!$AC6:$AE6)","v":78},{"$f":"SUM('6-Ⅱ①'!$AF6)","v":141},{"$f":"SUM('6-Ⅱ①'!$AG6)","v":51},{"$f":"SUM('6-Ⅱ①'!$AH6:$AI6)","v":50},{"$f":"SUM(B8:J8)","v":553},null,null,"50歳代",48,69,52,92,87,86,71,53,39,139,79,16,80,96,134,154,116,512,227,163,22]
[null,{"$f":"B8/B$22","v":4.8223350253807105E-2},3.0105777054515868E-2,4.3096568236233042E-2,4.5207956600361664E-2,3.4550839091806514E-2,2.4809160305343511E-2,4.8403707518022657E-2,3.4113712374581939E-2,{"$f":"J8/J$22","v":4.0518638573743923E-2},3.7957306609925183E-2,null,null,"60歳代",54,73,74,97,72,69,36,51,33,126,62,21,75,99,135,207,127,523,241,218,13]
["40歳代",{"$f":"SUM('6-Ⅱ①'!$O7:$Q7)","v":107},{"$f":"SUM('6-Ⅱ①'!$R7:$S7)","v":87},{"$f":"SUM('6-Ⅱ①'!$T7:$W7)","v":118},{"$f":"SUM('6-Ⅱ①'!$X7:$Z7)","v":92},{"$f":"SUM('6-Ⅱ①'!$AA7:$AB7)","v":76},{"$f":"SUM('6-Ⅱ①'!$AC7:$AE7)","v":173},{"$f":"SUM('6-Ⅱ①'!$AF7)","v":288},{"$f":"SUM('6-Ⅱ①'!$AG7)","v":137},{"$f":"SUM('6-Ⅱ①'!$AH7:$AI7)","v":103},{"$f":"SUM(B10:J10)","v":1181},null,null,"70歳代",86,96,99,150,138,99,65,77,63,155,80,23,126,122,229,310,244,736,342,286,22]
[null,{"$f":"B10/B$22","v":9.0524534686971234E-2},7.0789259560618392E-2,9.417398244213887E-2,8.3182640144665462E-2,7.5024679170779859E-2,5.5025445292620864E-2,9.8867147270854785E-2,9.1638795986622071E-2,{"$f":"J10/J$22","v":8.3468395461912481E-2},8.1062530029514718E-2,null,null,"80歳代",75,108,87,188,164,73,39,68,58,98,56,19,119,108,236,351,289,505,345,251,12]
["50歳代",{"$f":"SUM('6-Ⅱ①'!$O8:$Q8)","v":169},{"$f":"SUM('6-Ⅱ①'!$R8:$S8)","v":179},{"$f":"SUM('6-Ⅱ①'!$T8:$W8)","v":249},{"$f":"SUM('6-Ⅱ①'!$X8:$Z8)","v":234},{"$f":"SUM('6-Ⅱ①'!$AA8:$AB8)","v":176},{"$f":"SUM('6-Ⅱ①'!$AC8:$AE8)","v":404},{"$f":"SUM('6-Ⅱ①'!$AF8)","v":512},{"$f":"SUM('6-Ⅱ①'!$AG8)","v":227},{"$f":"SUM('6-Ⅱ①'!$AH8:$AI8)","v":185},{"$f":"SUM(B12:J12)","v":2335},null,null,"90歳以上",23,22,11,41,40,22,13,6,14,19,14,3,13,31,63,132,105,97,89,61,0]
[null,{"$f":"B12/B$22","v":0.14297800338409475},0.14564686737184704,0.19872306464485234,0.2115732368896926,0.17374136229022705,0.12849872773536897,0.17576381737040853,0.15183946488294314,{"$f":"J12/J$22","v":0.14991896272285252},0.16027181000755028,null,null,"合計"]
["60歳代",{"$f":"SUM('6-Ⅱ①'!$O9:$Q9)","v":201},{"$f":"SUM('6-Ⅱ①'!$R9:$S9)","v":169},{"$f":"SUM('6-Ⅱ①'!$T9:$W9)","v":189},{"$f":"SUM('6-Ⅱ①'!$X9:$Z9)","v":209},{"$f":"SUM('6-Ⅱ①'!$AA9:$AB9)","v":174},{"$f":"SUM('6-Ⅱ①'!$AC9:$AE9)","v":469},{"$f":"SUM('6-Ⅱ①'!$AF9)","v":523},{"$f":"SUM('6-Ⅱ①'!$AG9)","v":241},{"$f":"SUM('6-Ⅱ①'!$AH9:$AI9)","v":231},{"$f":"SUM(B14:J14)","v":2406},null,null,null,"列2","列3","列4","列5","列6","列7","列8","列9","列10","列11","列12","列13","列14","列15","列16","列17","列18","列19","列20","列21","列22","列23"]
[null,{"$f":"B14/B$22","v":0.17005076142131981},0.13751017087062653,0.15083798882681565,0.18896925858951175,0.1717670286278381,0.14917302798982188,0.17953999313422589,0.16120401337792642,{"$f":"J14/J$22","v":0.18719611021069693},0.16514517125403252,null,null,"65歳未満",140,189,158,223,203,202,136,119,99,324,176,36,177,232,296,395,267,1325,600,434,50]
["70歳代",{"$f":"SUM('6-Ⅱ①'!$O10:$Q10)","v":281},{"$f":"SUM('6-Ⅱ①'!$R10:$S10)","v":288},{"$f":"SUM('6-Ⅱ①'!$T10:$W10)","v":304},{"$f":"SUM('6-Ⅱ①'!$X10:$Z10)","v":258},{"$f":"SUM('6-Ⅱ①'!$AA10:$AB10)","v":248},{"$f":"SUM('6-Ⅱ①'!$AC10:$AE10)","v":783},{"$f":"SUM('6-Ⅱ①'!$AF10)","v":736},{"$f":"SUM('6-Ⅱ①'!$AG10)","v":342},{"$f":"SUM('6-Ⅱ①'!$AH10:$AI10)","v":308},{"$f":"SUM(B16:J16)","v":3548},null,null,"65歳以上",206,261,228,426,377,234,134,175,154,331,181,58,298,306,597,877,712,1588,895,711,39]
[null,{"$f":"B16/B$22","v":0.23773265651438241},0.23433685923515052,0.24261771747805266,0.23327305605786619,0.24481737413622903,0.24904580152671757,0.25266048746996222,0.22876254180602007,{"$f":"J16/J$22","v":0.24959481361426256},0.24353078454252181]
["80歳代",{"$f":"SUM('6-Ⅱ①'!$O11:$Q11)","v":270},{"$f":"SUM('6-Ⅱ①'!$R11:$S11)","v":352},{"$f":"SUM('6-Ⅱ①'!$T11:$W11)","v":238},{"$f":"SUM('6-Ⅱ①'!$X11:$Z11)","v":173},{"$f":"SUM('6-Ⅱ①'!$AA11:$AB11)","v":227},{"$f":"SUM('6-Ⅱ①'!$AC11:$AE11)","v":876},{"$f":"SUM('6-Ⅱ①'!$AF11)","v":505},{"$f":"SUM('6-Ⅱ①'!$AG11)","v":345},{"$f":"SUM('6-Ⅱ①'!$AH11:$AI11)","v":263},{"$f":"SUM(B18:J18)","v":3249}]
[null,{"$f":"B18/B$22","v":0.22842639593908629},0.28641171684296174,0.18994413407821228,0.15641952983725135,0.22408687068114511,0.2786259541984733,0.17336079642979746,0.23076923076923078,{"$f":"J18/J$22","v":0.21312803889789303},0.2230077561946599]
["90歳以上",{"$f":"SUM('6-Ⅱ①'!$O12:$Q12)","v":56},{"$f":"SUM('6-Ⅱ①'!$R12:$S12)","v":81},{"$f":"SUM('6-Ⅱ①'!$T12:$W12)","v":55},{"$f":"SUM('6-Ⅱ①'!$X12:$Z12)","v":36},{"$f":"SUM('6-Ⅱ①'!$AA12:$AB12)","v":44},{"$f":"SUM('6-Ⅱ①'!$AC12:$AE12)","v":300},{"$f":"SUM('6-Ⅱ①'!$AF12)","v":97},{"$f":"SUM('6-Ⅱ①'!$AG12)","v":89},{"$f":"SUM('6-Ⅱ①'!$AH12:$AI12)","v":61},{"$f":"SUM(B20:J20)","v":819}]
[null,{"$f":"B20/B$22","v":4.7377326565143825E-2},6.5907241659886082E-2,4.3894652833200321E-2,3.25497287522604E-2,4.3435340572556762E-2,9.5419847328244281E-2,3.3299004462753176E-2,5.9531772575250837E-2,{"$f":"J20/J$22","v":4.9432739059967583E-2},5.6215251561534764E-2]
["総計",{"$f":"B4+B6+B8+B10+B12+B14+B16+B18+B20","v":1182},{"$f":"C4+C6+C8+C10+C12+C14+C16+C18+C20","v":1229},1253,1106,1013,3144,2913,1495,1234,{"$f":"SUM(B22:J22)","v":14569}]
[null,{"$f":"SUM(B5,B7,B9,B11,B13,B15,B17,B19,B21)","v":1.0000000000000002},0.99999999999999989,1,1,0.99999999999999989,0.99999999999999989,0.99999999999999989,1,{"$f":"SUM(J5,J7,J9,J11,J13,J15,J17,J19,J21)","v":0.99999999999999989},1.0000000000000002]
["65歳未満（再掲）",{"$f":"SUM('6-Ⅱ①'!$O15:$Q15)","v":487},{"$f":"SUM('6-Ⅱ①'!$R15:$S15)","v":426},{"$f":"SUM('6-Ⅱ①'!$T15:$W15)","v":556},{"$f":"SUM('6-Ⅱ①'!$X15:$Z15)","v":536},{"$f":"SUM('6-Ⅱ①'!$AA15:$AB15)","v":409},{"$f":"SUM('6-Ⅱ①'!$AC15:$AE15)","v":958},{"$f":"SUM('6-Ⅱ①'!$AF15)","v":1325},{"$f":"SUM('6-Ⅱ①'!$AG15)","v":600},{"$f":"SUM('6-Ⅱ①'!$AH15:$AI15)","v":484},{"$f":"SUM(B24:J24)","v":5781}]
[null,{"$f":"B24/B$22","v":0.41201353637901861},0.34662327095199347,0.44373503591380686,0.48462929475587702,0.40375123395853901,0.30470737913486007,0.45485753518709232,0.40133779264214048,{"$f":"J24/J$22","v":0.39222042139384117},0.39680142768892857]
["65歳以上（再掲）",{"$f":"SUM('6-Ⅱ①'!$O16:$Q16)","v":695},{"$f":"SUM('6-Ⅱ①'!$R16:$S16)","v":803},{"$f":"SUM('6-Ⅱ①'!$T16:$W16)","v":697},{"$f":"SUM('6-Ⅱ①'!$X16:$Z16)","v":570},{"$f":"SUM('6-Ⅱ①'!$AA16:$AB16)","v":604},{"$f":"SUM('6-Ⅱ①'!$AC16:$AE16)","v":2186},{"$f":"SUM('6-Ⅱ①'!$AF16)","v":1588},{"$f":"SUM('6-Ⅱ①'!$AG16)","v":895},{"$f":"SUM('6-Ⅱ①'!$AH16:$AI16)","v":750},{"$f":"SUM(B26:J26)","v":8788}]
[null,{"$f":"B26/B$22","v":0.58798646362098139},0.65337672904800648,0.55626496408619308,0.51537070524412298,0.59624876604146104,0.69529262086513999,0.54514246481290762,0.59866220735785958,{"$f":"J26/J$22","v":0.60777957860615883},0.60319857231107143]

{"sheet":"6-Ⅱ②","index":32,"n_rows":15,"n_cols":35,"rows_kept":15,"cut":false,"hidden":false,"merged":[[5,0,6,0],[7,0,8,0],[9,0,10,0],[11,0,12,0],[13,0,14,0]]}
["【入院形態区分×入院時住所地（圏域）】"]
[]
[null,"豊能","三島","北河内","中河内","南河内","泉州","大阪市","堺市","府外・\nその他","合計",null,"行ラベル","01豊能北","02豊能豊中","03豊能吹田","04三島","05三島高槻","06北河内枚方","07北河内寝屋川","08北河内西","09北河内東","10中河内東大阪","11中河内八尾","12中河内南","13南河内北","14南河内南","15泉州北","16泉州中","17泉州南","18大阪市","19堺市","98他府県","99不明その他","列23"]
["措置入院・",{"$f":"SUM(N4:P5)","v":4},{"$f":"SUM(Q4:R5)","v":3},{"$f":"SUM(S4:V5)","v":11},{"$f":"SUM(W4:Y5)","v":5},{"$f":"SUM(Z4:AA5)","v":1},{"$f":"SUM(AB4:AD5)","v":7},{"$f":"SUM(AE4:AE5)","v":30},{"$f":"SUM(AF4:AF5)","v":8},{"$f":"SUM(AG4:AH5)","v":7},{"$f":"SUM(B4:J4)","v":76},null,"措置入院",3,1,null,1,2,5,4,2,null,3,2,null,null,1,4,1,2,30,8,4,3]
["緊急措置入院",{"$f":"B4/B$14","v":3.3840947546531302E-3},2.4410089503661514E-3,8.7789305666400638E-3,4.5207956600361665E-3,9.871668311944718E-4,2.2264631043256997E-3,1.0298661174047374E-2,5.3511705685618726E-3,{"$f":"J4/J$14","v":5.6726094003241492E-3},{"$f":"K4/K$14","v":5.2165557004598805E-3},null,"(空白)"]
["医療保護入院",{"$f":"SUM(N6:P6)","v":663},{"$f":"SUM(Q6:R6)","v":868},{"$f":"SUM(S6:V6)","v":825},{"$f":"SUM(W6:Y6)","v":589},{"$f":"SUM(Z6:AA6)","v":560},{"$f":"SUM(AB6:AD6)","v":1605},{"$f":"SUM(AE6)","v":1559},{"$f":"SUM(AF6)","v":888},{"$f":"SUM(AG6:AH6)","v":612},{"$f":"SUM(B6:J6)","v":8169},null,"医療保護入院",206,235,222,466,402,296,188,184,157,361,168,60,243,317,457,547,601,1559,888,574,38]
[null,{"$f":"B6/B$14","v":0.56091370558375631},0.70626525630593984,0.65841979249800475,0.53254972875226037,0.55281342546890422,0.5104961832061069,0.53518709234466189,0.5939799331103679,{"$f":"J6/J$14","v":0.49594813614262562},{"$f":"K6/K$14","v":0.56071109890864168},null,"任意入院",136,213,163,180,174,133,74,107,96,290,185,34,231,219,431,724,376,1311,596,564,45]
["任意入院",{"$f":"SUM(N7:P7)","v":512},{"$f":"SUM(Q7:R7)","v":354},{"$f":"SUM(S7:V7)","v":410},{"$f":"SUM(W7:Y7)","v":509},{"$f":"SUM(Z7:AA7)","v":450},{"$f":"SUM(AB7:AD7)","v":1531},{"$f":"AE7","v":1311},{"$f":"AF7","v":596},{"$f":"SUM(AG7:AH7)","v":609},{"$f":"SUM(B8:J8)","v":6282},null,"応急入院",null,null,null,1,null,null,null,null,null,null,null,null,null,null,null,null,null,3]
[null,{"$f":"B8/B$14","v":0.43316412859560066},0.28803905614320585,0.32721468475658422,0.46021699819168171,0.44422507403751232,0.48695928753180662,0.45005149330587024,0.39866220735785951,{"$f":"J8/J$14","v":0.49351701782820095},{"$f":"K8/K$14","v":0.43118951197748645},null,"鑑定入院",null,null,null,null,null,null,1,1,null,null,null,null,null,null,null,null,null,2,null,null,2]
["応急入院",{"$f":"SUM(N8:P8)","v":0},{"$f":"SUM(Q8:R8)","v":1},{"$f":"SUM(S8:V8)","v":0},{"$f":"SUM(W8:Y8)","v":0},{"$f":"SUM(Z8:AA8)","v":0},{"$f":"SUM(AB8:AD8)","v":0},{"$f":"AE8","v":3},{"$f":"AF8","v":0},{"$f":"SUM(AG8:AH8)","v":0},{"$f":"SUM(B10:J10)","v":4},null,"医療観察法による入院",1,1,1,1,2,2,3,null,null,1,2,null,1,1,1,null,null,8,3,3,1]
[null,{"$f":"B10/B$14","v":0},8.1366965012205042E-4,0,0,0,0,1.0298661174047373E-3,0,{"$f":"J10/J$14","v":0},{"$f":"K10/K$14","v":2.74555563182099E-4}]
["その他",{"$f":"SUM(N9:P11)","v":3},{"$f":"SUM(Q9:R11)","v":3},{"$f":"SUM(S9:V11)","v":7},{"$f":"SUM(W9:Y11)","v":3},{"$f":"SUM(Z9:AA11)","v":2},{"$f":"SUM(AB9:AD11)","v":1},{"$f":"SUM(AE9:AE11)","v":10},{"$f":"SUM(AF9:AF11)","v":3},{"$f":"SUM(AG9:AH11)","v":6},{"$f":"SUM(B12:J12)","v":38}]
[null,{"$f":"B12/B$14","v":2.5380710659898475E-3},2.4410089503661514E-3,5.5865921787709499E-3,2.7124773960216998E-3,1.9743336623889436E-3,3.1806615776081427E-4,3.4328870580157913E-3,2.0066889632107021E-3,{"$f":"J12/J$14","v":4.8622366288492711E-3},{"$f":"K12/K$14","v":2.6082778502299403E-3}]
["総計",{"$f":"SUM(B4,B6,B8,B10,B12)","v":1182},{"$f":"SUM(C4,C6,C8,C10,C12)","v":1229},1253,1106,1013,3144,2913,1495,1234,{"$f":"SUM(B14:J14)","v":14569}]
[null,{"$f":"SUM(B5,B7,B9,B11,B13)","v":0.99999999999999989},1.0000000000000002,1,0.99999999999999989,1,1,1,0.99999999999999989,1,{"$f":"SUM(K5,K7,K9,K11,K13)","v":1}]

{"sheet":"6-Ⅱ③","index":33,"n_rows":35,"n_cols":35,"rows_kept":35,"cut":false,"hidden":false,"merged":[[27,0,28,0],[29,0,30,0],[31,0,32,0],[33,0,34,0],[15,0,16,0],[17,0,18,0],[19,0,20,0],[21,0,22,0],[23,0,24,0],[25,0,26,0],[13,0,14,0],[3,0,4,0],[5,0,6,0],[7,0,8,0],[9,0,10,0],[11,0,12,0]]}
["【疾患名区分×入院時住所地（圏域）】"]
[]
[null,"豊能","三島","北河内","中河内","南河内","泉州","大阪市","堺市","府外・\nその他","合計",null,"行ラベル","01豊能北","02豊能豊中","03豊能吹田","04三島","05三島高槻","06北河内枚方","07北河内寝屋川","08北河内西","09北河内東","10中河内東大阪","11中河内八尾","12中河内南","13南河内北","14南河内南","15泉州北","16泉州中","17泉州南","18大阪市","19堺市","98他府県","99不明その他","列23"]
["症状性を含む器質性精神障害（F0）",{"$f":"B6+B8+B10","v":289},{"$f":"C6+C8+C10","v":442},344,252,267,1214,665,438,{"$f":"SUM(J6,J8,J10)","v":330},{"$f":"SUM(B4:J4)","v":4241},null,"F00アルツハイマー病型認知症",59,48,58,148,109,65,28,46,32,59,53,16,59,70,141,252,237,299,253,145,4]
[null,{"$f":"B4/B$34","v":0.24450084602368866},0.35964198535394631,0.27454110135674381,0.22784810126582278,0.26357354392892401,0.38613231552162852,0.22828698935805011,0.29297658862876252,{"$f":"J4/J$34","v":0.26742301458670986},{"$f":"K4/K$34","v":0.29109753586382042},null,"F01血管性認知症",7,9,5,17,21,15,5,4,7,9,4,1,4,10,35,41,41,46,22,40]
["アルツハイマー病の認知症を含む器質性精神障害（F00）",{"$f":"SUM(N4:P4)","v":165},{"$f":"SUM(Q4:R4)","v":257},{"$f":"SUM(S4:V4)","v":171},{"$f":"SUM(W4:Y4)","v":128},{"$f":"SUM(Z4:AA4)","v":129},{"$f":"SUM(AB4:AD4)","v":630},{"$f":"AE4","v":299},{"$f":"AF4","v":253},{"$f":"SUM(AG4:AH4)","v":149},{"$f":"SUM(B6:J6)","v":2181},null,"F02-09上記以外の症状性を含む器質性精神障害",25,43,35,70,77,48,36,28,30,75,26,9,52,72,147,172,148,320,163,132,9]
[null,{"$f":"B6/B$34","v":0.13959390862944163},0.20911310008136696,0.13647246608140462,0.11573236889692586,0.12734452122408688,0.20038167938931298,0.10264332303467216,0.16923076923076924,{"$f":"J6/J$34","v":0.12074554294975688},{"$f":"K6/K$34","v":0.14970142082503946},null,"F10アルコール使用による精神及び行動の障害",13,13,8,21,19,10,6,14,5,23,12,4,27,24,60,56,26,155,90,88,4]
["血管性認知症を含む器質性精神障害（F01）",{"$f":"SUM(N5:P5)","v":21},{"$f":"SUM(Q5:R5)","v":38},{"$f":"SUM(S5:V5)","v":31},{"$f":"SUM(W5:Y5)","v":14},{"$f":"SUM(Z5:AA5)","v":14},{"$f":"SUM(AB5:AD5)","v":117},{"$f":"AE5","v":46},{"$f":"AF5","v":22},{"$f":"SUM(AG5:AH5)","v":40},{"$f":"SUM(B8:J8)","v":343},null,"アルコール覚せい剤を除く精神作用物質使用による精神及び行動の障害※",null,3,1,null,3,1,null,3,1,6,3,1,null,2,1,3,4,17,3,3,2]
[null,{"$f":"B8/B$34","v":1.7766497461928935E-2},3.0919446704637917E-2,2.4740622505985636E-2,1.2658227848101266E-2,1.3820335636722606E-2,3.7213740458015267E-2,1.5791280466872639E-2,1.471571906354515E-2,{"$f":"J8/J$34","v":3.2414910858995137E-2},{"$f":"K8/K$34","v":2.3543139542864987E-2},null,"覚せい剤による精神及び行動の障害※",null,4,null,3,1,null,3,1,1,1,1,null,1,2,3,11,5,31,13,4,6]
["アルツハイマー病の認知症・血管性認知症以外の症状性を含む器質性精神障害（F02-F09）",{"$f":"SUM(N6:P6)","v":103},{"$f":"SUM(Q6:R6)","v":147},{"$f":"SUM(S6:V6)","v":142},{"$f":"SUM(W6:Y6)","v":110},{"$f":"SUM(Z6:AA6)","v":124},{"$f":"SUM(AB6:AD6)","v":467},{"$f":"AE6","v":320},{"$f":"AF6","v":163},{"$f":"SUM(AG6:AH6)","v":141},{"$f":"SUM(B10:J10)","v":1717},null,"F2統合失調症、統合失調症型障害及び妄想性障害",175,235,216,299,262,211,137,152,141,352,176,44,224,248,373,518,351,1493,693,587,55]
[null,{"$f":"B10/B$34","v":8.7140439932318112E-2},0.11960943856794141,0.11332801276935354,9.9457504520795659E-2,0.12240868706811452,0.14853689567430026,0.10985238585650532,0.10903010033444815,{"$f":"J10/J$34","v":0.11426256077795786},{"$f":"K10/K$34","v":0.11785297549591599},null,"F30‐31　躁病エピソード・双極性感情障害［躁うつ病］",19,29,22,31,34,21,17,17,9,34,28,3,15,29,47,106,29,154,61,51]
["精神作用物質使用による精神及び行動の障害（F1）",{"$f":"SUM(N7:P9)","v":42},{"$f":"SUM(Q7:R9)","v":47},{"$f":"SUM(S7:V9)","v":45},{"$f":"SUM(W7:Y9)","v":51},{"$f":"SUM(Z7:AA9)","v":56},{"$f":"SUM(AB7:AD9)","v":169},{"$f":"SUM(AE7:AE9)","v":203},{"$f":"SUM(AF7:AF9)","v":106},{"$f":"SUM(AG7:AH9)","v":107},{"$f":"SUM(B12:J12)","v":826},null,"F32-39　その他の気分障害",21,22,17,22,22,24,14,16,14,38,9,5,39,43,42,51,79,159,86,39,1]
[null,{"$f":"B12/B$34","v":3.553299492385787E-2},3.8242473555736373E-2,3.5913806863527534E-2,4.6112115732368897E-2,5.5281342546890426E-2,5.375318066157761E-2,6.9687607277720567E-2,7.0903010033444819E-2,{"$f":"J12/J$34","v":8.670988654781199E-2},{"$f":"K12/K$34","v":5.6695723797103442E-2},null,"F4神経症性障害、ストレス関連障害及び身体表現性障害",7,14,4,6,5,11,9,5,null,15,12,3,8,10,8,14,13,55,27,10,2]
["統合失調症、統合失調症型障害及び妄想性障害（F2）",{"$f":"SUM(N10:P10)","v":626},{"$f":"SUM(Q10:R10)","v":561},{"$f":"SUM(S10:V10)","v":641},{"$f":"SUM(W10:Y10)","v":572},{"$f":"SUM(Z10:AA10)","v":472},{"$f":"SUM(AB10:AD10)","v":1242},{"$f":"AE10","v":1493},{"$f":"AF10","v":693},{"$f":"SUM(AG10:AH10)","v":642},{"$f":"SUM(B14:J14)","v":6942},null,"F5生理的障害及び身体的要因に関連した行動症候群",1,3,3,1,2,null,1,1,1,1,3,1,3,1,1,1,2,16,8,5]
[null,{"$f":"B14/B$34","v":0.52961082910321489},0.45646867371847027,0.51157222665602553,0.51717902350813738,0.46594274432379074,0.39503816793893132,0.51253003776175765,0.46354515050167222,{"$f":"J14/J$34","v":0.52025931928687197},{"$f":"K14/K$34","v":0.47649117990253276},null,"F6成人のパーソナリティ及び行動の障害",null,1,null,2,3,1,1,null,1,4,null,1,1,4,1,1,1,7,2,3,1]
["気分（感情）障害（F3）",{"$f":"SUM(N11:P12)","v":130},{"$f":"SUM(Q11:R12)","v":109},{"$f":"SUM(S11:V12)","v":132},{"$f":"SUM(W11:Y12)","v":117},{"$f":"SUM(Z11:AA12)","v":126},{"$f":"SUM(AB11:AD12)","v":354},{"$f":"SUM(AE11:AE12)","v":313},{"$f":"SUM(AF11:AF12)","v":147},{"$f":"SUM(AG11:AH12)","v":91},{"$f":"SUM(B16:J16)","v":1519},null,"F7精神遅滞〔知的障害〕",13,8,7,14,8,12,5,4,7,13,10,1,9,10,19,26,31,65,26,15,2]
[null,{"$f":"B16/B$34","v":0.10998307952622674},8.8689991863303494E-2,0.10534716679968077,0.1057866184448463,0.12438302073050346,0.11259541984732824,0.10744936491589427,9.8327759197324421E-2,{"$f":"J16/J$34","v":7.3743922204213941E-2},{"$f":"K16/K$34","v":0.10426247511840209},null,"F8心理的発達の障害",5,7,3,9,9,11,6,2,3,12,3,2,2,8,5,3,4,35,23,7,3]
["神経症性障害、ストレス関連障害及び身体表現性障害（F4）",{"$f":"SUM(N13:P13)","v":25},{"$f":"SUM(Q13:R13)","v":11},{"$f":"SUM(S13:V13)","v":25},{"$f":"SUM(W13:Y13)","v":30},{"$f":"SUM(Z13:AA13)","v":18},{"$f":"SUM(AB13:AD13)","v":35},{"$f":"AE13","v":55},{"$f":"AF13","v":27},{"$f":"SUM(AG13:AH13)","v":12},{"$f":"SUM(B18:J18)","v":238},null,"F9小児期及び青年期に通常発症する行動及び情緒の障害及び特定不能の精神障害",null,3,3,4,1,4,2,1,1,5,3,null,2,2,4,4,2,8,6,5]
[null,{"$f":"B18/B$34","v":2.1150592216582064E-2},8.9503661513425543E-3,1.9952114924181964E-2,2.7124773960216998E-2,1.7769002961500493E-2,1.1132315521628499E-2,1.8880878819086851E-2,1.8060200668896322E-2,{"$f":"J18/J$34","v":9.7244732576985422E-3},{"$f":"K18/K$34","v":1.6336056009334889E-2},null,"てんかん（F0に属さないものを計上する）",null,2,2,null,1,2,null,null,null,null,6,2,1,1,null,7,1,12,1,4]
["生理的障害及び身体的要因に関連した行動症候群（F5）",{"$f":"SUM(N14:P14)","v":7},{"$f":"SUM(Q14:R14)","v":3},{"$f":"SUM(S14:V14)","v":3},{"$f":"SUM(W14:Y14)","v":5},{"$f":"SUM(Z14:AA14)","v":4},{"$f":"SUM(AB14:AD14)","v":4},{"$f":"AE14","v":16},{"$f":"AF14","v":8},{"$f":"SUM(AG14:AH14)","v":5},{"$f":"SUM(B20:J20)","v":55},null,"その他",1,6,2,2,3,null,null,null,null,8,8,1,28,2,6,6,5,40,18,7]
[null,{"$f":"B20/B$34","v":5.9221658206429781E-3},2.4410089503661514E-3,2.3942537909018356E-3,4.5207956600361665E-3,3.9486673247778872E-3,1.2722646310432571E-3,5.4926192928252664E-3,5.3511705685618726E-3,{"$f":"J20/J$34","v":4.0518638573743921E-3},{"$f":"K20/K$34","v":3.7751389937538608E-3},null,"不明",null,null,null,null,null,null,null,null,null,null,null,null,null,null,null,null,null,1]
["成人のパーソナリティ及び行動の障害（F6）",{"$f":"SUM(N15:P15)","v":1},{"$f":"SUM(Q15:R15)","v":5},{"$f":"SUM(S15:V15)","v":3},{"$f":"SUM(W15:Y15)","v":5},{"$f":"SUM(Z15:AA15)","v":5},{"$f":"SUM(AB15:AD15)","v":3},{"$f":"AE15","v":7},{"$f":"AF15","v":2},{"$f":"SUM(AG15:AH15)","v":4},{"$f":"SUM(B22:J22)","v":35},null,"(空白)"]
[null,{"$f":"B22/B$34","v":8.4602368866328254E-4},4.0683482506102524E-3,2.3942537909018356E-3,4.5207956600361665E-3,4.9358341559723592E-3,9.5419847328244271E-4,2.403020940611054E-3,1.3377926421404682E-3,{"$f":"J22/J$34","v":3.2414910858995136E-3},{"$f":"K22/K$34","v":2.4023611778433659E-3}]
["知的障害（F7）",{"$f":"SUM(N16:P16)","v":28},{"$f":"SUM(Q16:R16)","v":22},{"$f":"SUM(S16:V16)","v":28},{"$f":"SUM(W16:Y16)","v":24},{"$f":"SUM(Z16:AA16)","v":19},{"$f":"SUM(AB16:AD16)","v":76},{"$f":"AE16","v":65},{"$f":"AF16","v":26},{"$f":"SUM(AG16:AH16)","v":17},{"$f":"SUM(B24:J24)","v":305}]
[null,{"$f":"B24/B$34","v":2.3688663282571912E-2},1.7900732302685109E-2,2.23463687150838E-2,2.1699819168173599E-2,1.8756169792694965E-2,2.4173027989821884E-2,2.2313765877102643E-2,1.7391304347826087E-2,{"$f":"J24/J$34","v":1.3776337115072933E-2},{"$f":"K24/K$34","v":2.0934861692635046E-2}]
["心理的発達の障害（F8）",{"$f":"SUM(N17:P17)","v":15},{"$f":"SUM(Q17:R17)","v":18},{"$f":"SUM(S17:V17)","v":22},{"$f":"SUM(W17:Y17)","v":17},{"$f":"SUM(Z17:AA17)","v":10},{"$f":"SUM(AB17:AD17)","v":12},{"$f":"AE17","v":35},{"$f":"AF17","v":23},{"$f":"SUM(AG17:AH17)","v":10},{"$f":"SUM(B26:J26)","v":162}]
[null,{"$f":"B26/B$34","v":1.2690355329949238E-2},1.4646053702196907E-2,1.7557861133280128E-2,1.5370705244122965E-2,9.8716683119447184E-3,3.8167938931297708E-3,1.2015104703055269E-2,1.5384615384615385E-2,{"$f":"J26/J$34","v":8.1037277147487843E-3},{"$f":"K26/K$34","v":1.1119500308875008E-2}]
["小児期及び青年期の通常発症する行動及び情緒の障害及び特定不能の精神障害（F9）",{"$f":"SUM(N18:P18)","v":6},{"$f":"SUM(Q18:R18)","v":5},{"$f":"SUM(S18:V18)","v":8},{"$f":"SUM(W18:Y18)","v":8},{"$f":"SUM(Z18:AA18)","v":4},{"$f":"SUM(AB18:AD18)","v":10},{"$f":"AE18","v":8},{"$f":"AF18","v":6},{"$f":"SUM(AG18:AH18)","v":5},{"$f":"SUM(B28:J28)","v":60}]
[null,{"$f":"B28/B$34","v":5.076142131979695E-3},4.0683482506102524E-3,6.3846767757382286E-3,7.2332730560578659E-3,3.9486673247778872E-3,3.1806615776081423E-3,2.7463096464126332E-3,4.0133779264214043E-3,{"$f":"J28/J$34","v":4.0518638573743921E-3},{"$f":"K28/K$34","v":4.1183334477314848E-3}]
["てんかん（症状性を含む器質性障害(F0)に属さないもの）",{"$f":"SUM(N19:P19)","v":4},{"$f":"SUM(Q19:R19)","v":1},{"$f":"SUM(S19:V19)","v":2},{"$f":"SUM(W19:Y19)","v":8},{"$f":"SUM(Z19:AA19)","v":2},{"$f":"SUM(AB19:AD19)","v":8},{"$f":"AE19","v":12},{"$f":"AF19","v":1},{"$f":"SUM(AG19:AH19)","v":4},{"$f":"SUM(B30:J30)","v":42}]
[null,{"$f":"B30/B$34","v":3.3840947546531302E-3},8.1366965012205042E-4,1.5961691939345571E-3,7.2332730560578659E-3,1.9743336623889436E-3,2.5445292620865142E-3,4.1194644696189494E-3,6.6889632107023408E-4,{"$f":"J30/J$34","v":3.2414910858995136E-3},{"$f":"K30/K$34","v":2.8828334134120394E-3}]
["その他・不明",{"$f":"SUM(N20:P21)","v":9},{"$f":"SUM(Q20:R21)","v":5},{"$f":"SUM(S20:V21)","v":0},{"$f":"SUM(W20:Y21)","v":17},{"$f":"SUM(Z20:AA21)","v":30},{"$f":"SUM(AB20:AD21)","v":17},{"$f":"SUM(AE20:AE22)","v":41},{"$f":"SUM(AF20:AF21)","v":18},{"$f":"SUM(AG20:AH21)","v":7},{"$f":"SUM(B32:J32)","v":144}]
[null,{"$f":"B32/B$34","v":7.6142131979695434E-3},4.0683482506102524E-3,0,1.5370705244122965E-2,2.9615004935834157E-2,5.407124681933842E-3,1.4074836937864744E-2,1.2040133779264214E-2,{"$f":"J32/J$34","v":5.6726094003241492E-3},{"$f":"K32/K$34","v":9.8840002745555627E-3}]
["　総計",{"$f":"SUM(B6,B8,B10,B12,B14,B16,B18,B20,B22,B24,B26,B28,B30,B32)","v":1182},{"$f":"SUM(C6,C8,C10,C12,C14,C16,C18,C20,C22,C24,C26,C28,C30,C32)","v":1229},1253,1106,1013,3144,2913,1495,1234,{"$f":"SUM(B34:J34)","v":14569}]
[null,{"$f":"SUM(B7,B9,B11,B13,B15,B17,B19,B21,B23,B25,B27,B29,B31,B33)","v":1},1,1,1,1,1,1.0000000000000002,1,1.0000000000000002,{"$f":"SUM(K7,K9,K11,K13,K15,K17,K19,K21,K23,K25,K27,K29,K31,K33)","v":0.99999999999999989}]

{"sheet":"6-Ⅱ④","index":34,"n_rows":46,"n_cols":35,"rows_kept":46,"cut":false,"hidden":false,"merged":[[3,0,4,0],[33,0,34,0],[35,0,36,0],[37,0,38,0],[43,0,44,0]]}
["【在院期間区分×入院時住所地（圏域）】"]
[]
[null,"豊能","三島","北河内","中河内","南河内","泉州","大阪市","堺市","府外・\nその他","合計",null,"行ラベル","01豊能北","02豊能豊中","03豊能吹田","04三島","05三島高槻","06北河内枚方","07北河内寝屋川","08北河内西","09北河内東","10中河内東大阪","11中河内八尾","12中河内南","13南河内北","14南河内南","15泉州北","16泉州中","17泉州南","18大阪市","19堺市","98他府県","99不明その他","列23"]
["1ヶ月未満",{"$f":"SUM(N4:P4)","v":154},{"$f":"SUM(Q4:R4)","v":147},{"$f":"SUM(S4:V4)","v":156},{"$f":"SUM(W4:Y4)","v":174},{"$f":"SUM(Z4:AA4)","v":135},{"$f":"SUM(AB4:AD4)","v":252},{"$f":"AE4","v":452},{"$f":"AF4","v":207},{"$f":"SUM(AG4:AH4)","v":140},{"$f":"SUM(B4:J4)","v":1817},null,"01_1ヶ月未満",34,75,45,69,78,60,39,30,27,90,67,17,60,75,85,85,82,452,207,128,12]
[null,{"$f":"B4/B$36","v":0.13028764805414553},0.11960943856794141,0.12450119712689545,0.15732368896925858,0.13326752221125371,8.0152671755725186E-2,0.15516649502231378,0.13846153846153847,{"$f":"J4/J$36","v":0.11345218800648298},{"$f":"K4/K$36","v":0.12471686457546846},null,"02_1ヶ月～3ヶ月未満",51,70,63,87,92,89,51,44,43,114,70,23,70,76,92,106,100,498,238,143,15]
["1ヶ月～",{"$f":"SUM(N5:P5)","v":184},{"$f":"SUM(Q5:R5)","v":179},{"$f":"SUM(S5:V5)","v":227},{"$f":"SUM(W5:Y5)","v":207},{"$f":"SUM(Z5:AA5)","v":146},{"$f":"SUM(AB5:AD5)","v":298},{"$f":"AE5","v":498},{"$f":"AF5","v":238},{"$f":"SUM(AG5:AH5)","v":158},{"$f":"SUM(B6:J6)","v":2135},null,"03_3ヶ月～6ヶ月未満",27,43,36,48,49,35,25,23,19,58,42,7,36,45,76,97,80,253,121,83,5]
["3ヶ月未満",{"$f":"B6/B$36","v":0.155668358714044},0.14564686737184704,0.18116520351157223,0.18716094032549729,0.14412635735439289,9.4783715012722647E-2,0.17095777548918639,0.15919732441471571,{"$f":"J6/J$36","v":0.1280388978930308},{"$f":"K6/K$36","v":0.14654403184844533},null,"04_6ヶ月～1年未満",21,44,27,63,67,38,29,25,25,63,31,8,37,57,69,129,98,225,116,100,5]
["3ヶ月～",{"$f":"SUM(N6:P6)","v":106},{"$f":"SUM(Q6:R6)","v":97},{"$f":"SUM(S6:V6)","v":102},{"$f":"SUM(W6:Y6)","v":107},{"$f":"SUM(Z6:AA6)","v":81},{"$f":"SUM(AB6:AD6)","v":253},{"$f":"AE6","v":253},{"$f":"AF6","v":121},{"$f":"SUM(AG6:AH6)","v":88},{"$f":"SUM(B8:J8)","v":1208},null,"05_1年～1年6ヶ月未満",16,18,19,44,47,19,14,16,18,37,8,2,23,40,47,90,85,149,72,71,4]
["6ヶ月未満",{"$f":"B8/B$36","v":8.9678510998307953E-2},7.8925956061838887E-2,8.1404628890662412E-2,9.6745027124773966E-2,7.9960513326752219E-2,8.047073791348601E-2,8.685204256779952E-2,8.0936454849498324E-2,{"$f":"J8/J$36","v":7.1312803889789306E-2},{"$f":"K8/K$36","v":8.2915780080993887E-2},null,"06_1年6ヶ月～2年未満",19,30,21,44,29,15,10,14,19,17,10,1,27,27,57,79,59,122,72,54,2]
["6ヶ月～",{"$f":"SUM(N7:P7)","v":92},{"$f":"SUM(Q7:R7)","v":130},{"$f":"SUM(S7:V7)","v":117},{"$f":"SUM(W7:Y7)","v":102},{"$f":"SUM(Z7:AA7)","v":94},{"$f":"SUM(AB7:AD7)","v":296},{"$f":"AE7","v":225},{"$f":"AF7","v":116},{"$f":"SUM(AG7:AH7)","v":105},{"$f":"SUM(B10:J10)","v":1277},null,"07_2年～3年未満",31,25,19,58,46,26,14,18,21,47,21,5,40,31,95,115,86,175,92,72,4]
["1年未満",{"$f":"B10/B$36","v":7.7834179357021999E-2},0.10577705451586655,9.3375897845171585E-2,9.2224231464737794E-2,9.2793682132280356E-2,9.4147582697201013E-2,7.7239958805355308E-2,7.7591973244147155E-2,{"$f":"J10/J$36","v":8.5089141004862243E-2},{"$f":"K10/K$36","v":8.7651863545885098E-2},null,"08_3年～4年未満",15,16,25,36,30,29,18,18,16,46,12,5,22,33,61,101,81,182,78,68,2]
["1年～",{"$f":"SUM(N8:P8)","v":53},{"$f":"SUM(Q8:R8)","v":91},{"$f":"SUM(S8:V8)","v":67},{"$f":"SUM(W8:Y8)","v":47},{"$f":"SUM(Z8:AA8)","v":63},{"$f":"SUM(AB8:AD8)","v":222},{"$f":"AE8","v":149},{"$f":"AF8","v":72},{"$f":"SUM(AG8:AH8)","v":75},{"$f":"SUM(B12:J12)","v":839},null,"09_4年～5年未満",17,16,16,33,28,16,13,16,9,41,19,4,17,19,54,64,62,131,55,43,3]
["1年6ヶ月未満",{"$f":"B12/B$36","v":4.4839255499153977E-2},7.404393816110659E-2,5.3471667996807665E-2,4.2495479204339964E-2,6.219151036525173E-2,7.061068702290077E-2,5.1150017164435291E-2,4.8160535117056855E-2,{"$f":"J12/J$36","v":6.0777957860615885E-2},{"$f":"K12/K$36","v":5.7588029377445261E-2},null,"10_5年～6年未満",13,13,26,39,20,18,10,11,3,26,11,null,17,16,37,61,45,85,50,71,2]
["1年6ヶ月",{"$f":"SUM(N9:P9)","v":70},{"$f":"SUM(Q9:R9)","v":73},{"$f":"SUM(S9:V9)","v":58},{"$f":"SUM(W9:Y9)","v":28},{"$f":"SUM(Z9:AA9)","v":54},{"$f":"SUM(AB9:AD9)","v":195},{"$f":"AE9","v":122},{"$f":"AF9","v":72},{"$f":"SUM(AG9:AH9)","v":56},{"$f":"SUM(B14:J14)","v":728},null,"11_6年～7年未満",15,12,9,16,16,11,4,12,10,16,7,2,11,12,34,39,39,83,42,34,7]
["～2年未満",{"$f":"B14/B$36","v":5.9221658206429779E-2},5.9397884458909686E-2,4.6288906624102157E-2,2.5316455696202531E-2,5.3307008884501482E-2,6.2022900763358778E-2,4.1881222107792652E-2,4.8160535117056855E-2,{"$f":"J14/J$36","v":4.5380875202593193E-2},{"$f":"K14/K$36","v":4.9969112499142015E-2},null,"12_7年～8年未満",9,14,13,14,8,9,8,8,3,9,7,2,13,12,16,27,23,52,22,33,2]
["2年～",{"$f":"SUM(N10:P10)","v":75},{"$f":"SUM(Q10:R10)","v":104},{"$f":"SUM(S10:V10)","v":79},{"$f":"SUM(W10:Y10)","v":73},{"$f":"SUM(Z10:AA10)","v":71},{"$f":"SUM(AB10:AD10)","v":296},{"$f":"AE10","v":175},{"$f":"AF10","v":92},{"$f":"SUM(AG10:AH10)","v":76},{"$f":"SUM(B16:J16)","v":1041},null,"13_8年～9年未満",8,8,11,12,4,9,5,13,6,14,5,4,13,13,19,36,23,59,26,26,2]
["3年未満",{"$f":"B16/B$36","v":6.3451776649746189E-2},8.462164361269324E-2,6.3048683160415009E-2,6.6003616636528026E-2,7.0088845014807499E-2,9.4147582697201013E-2,6.0075523515276348E-2,6.1538461538461542E-2,{"$f":"J16/J$36","v":6.1588330632090758E-2},{"$f":"K16/K$36","v":7.1453085318141263E-2},null,"14_9年～10年未満",9,3,8,11,5,7,3,6,5,8,5,2,11,7,19,29,13,39,28,24,2]
["3年～",{"$f":"SUM(N11:P11)","v":56},{"$f":"SUM(Q11:R11)","v":66},{"$f":"SUM(S11:V11)","v":81},{"$f":"SUM(W11:Y11)","v":63},{"$f":"SUM(Z11:AA11)","v":55},{"$f":"SUM(AB11:AD11)","v":243},{"$f":"AE11","v":182},{"$f":"AF11","v":78},{"$f":"SUM(AG11:AH11)","v":70},{"$f":"SUM(B18:J18)","v":894},null,"15_10年～20年未満",32,41,24,43,45,41,18,30,19,42,28,9,56,47,83,143,64,252,159,114,18]
["4年未満",{"$f":"B18/B$36","v":4.7377326565143825E-2},5.3702196908055333E-2,6.4644852354349566E-2,5.6962025316455694E-2,5.4294175715695954E-2,7.7290076335877866E-2,6.2478544455887401E-2,5.2173913043478258E-2,{"$f":"J18/J$36","v":5.6726094003241488E-2},{"$f":"K18/K$36","v":6.1363168371199123E-2},null,"16_ 20年以上",29,22,24,32,16,14,9,10,10,27,14,3,22,28,49,71,39,156,117,81,4]
["4年～",{"$f":"SUM(N12:P12)","v":49},{"$f":"SUM(Q12:R12)","v":61},{"$f":"SUM(S12:V12)","v":54},{"$f":"SUM(W12:Y12)","v":64},{"$f":"SUM(Z12:AA12)","v":36},{"$f":"SUM(AB12:AD12)","v":180},{"$f":"AE12","v":131},{"$f":"AF12","v":55},{"$f":"SUM(AG12:AH12)","v":46},{"$f":"SUM(B20:J20)","v":676}]
["5年未満",{"$f":"B20/B$36","v":4.1455160744500848E-2},4.9633848657445079E-2,4.3096568236233042E-2,5.7866184448462928E-2,3.5538005923000986E-2,5.7251908396946563E-2,4.4970820460006868E-2,3.678929765886288E-2,{"$f":"J20/J$36","v":3.7277147487844407E-2},{"$f":"K20/K$36","v":4.6399890177774725E-2}]
["5年～",{"$f":"SUM(N13:P13)","v":52},{"$f":"SUM(Q13:R13)","v":59},{"$f":"SUM(S13:V13)","v":42},{"$f":"SUM(W13:Y13)","v":37},{"$f":"SUM(Z13:AA13)","v":33},{"$f":"SUM(AB13:AD13)","v":143},{"$f":"AE13","v":85},{"$f":"AF13","v":50},{"$f":"SUM(AG13:AH13)","v":73},{"$f":"SUM(B22:J22)","v":574}]
["6年未満",{"$f":"B22/B$36","v":4.3993231810490696E-2},4.8006509357200973E-2,3.3519553072625698E-2,3.3453887884267633E-2,3.257650542941757E-2,4.5483460559796435E-2,2.9179539993134225E-2,3.3444816053511704E-2,{"$f":"J22/J$36","v":5.9157212317666123E-2},{"$f":"K22/K$36","v":3.9398723316631204E-2}]
["6年～",{"$f":"SUM(N14:P14)","v":36},{"$f":"SUM(Q14:R14)","v":32},{"$f":"SUM(S14:V14)","v":37},{"$f":"SUM(W14:Y14)","v":25},{"$f":"SUM(Z14:AA14)","v":23},{"$f":"SUM(AB14:AD14)","v":112},{"$f":"AE14","v":83},{"$f":"AF14","v":42},{"$f":"SUM(AG14:AH14)","v":41},{"$f":"SUM(B24:J24)","v":431}]
["7年未満",{"$f":"B24/B$36","v":3.0456852791878174E-2},2.6037428803905614E-2,2.9529130087789304E-2,2.2603978300180832E-2,2.2704837117472853E-2,3.5623409669211195E-2,2.8492962581531067E-2,2.8093645484949834E-2,{"$f":"J24/J$36","v":3.3225283630470018E-2},{"$f":"K24/K$36","v":2.9583361932871165E-2}]
["7年～",{"$f":"SUM(N15:P15)","v":36},{"$f":"SUM(Q15:R15)","v":22},{"$f":"SUM(S15:V15)","v":28},{"$f":"SUM(W15:Y15)","v":18},{"$f":"SUM(Z15:AA15)","v":25},{"$f":"SUM(AB15:AD15)","v":66},{"$f":"AE15","v":52},{"$f":"AF15","v":22},{"$f":"SUM(AG15:AH15)","v":35},{"$f":"SUM(B26:J26)","v":304}]
["8年未満",{"$f":"B26/B$36","v":3.0456852791878174E-2},1.7900732302685109E-2,2.23463687150838E-2,1.62748643761302E-2,2.4679170779861797E-2,2.0992366412213741E-2,1.7851012701682115E-2,1.471571906354515E-2,{"$f":"J26/J$36","v":2.8363047001620744E-2},{"$f":"K26/K$36","v":2.0866222801839522E-2}]
["8年～",{"$f":"SUM(N16:P16)","v":27},{"$f":"SUM(Q16:R16)","v":16},{"$f":"SUM(S16:V16)","v":33},{"$f":"SUM(W16:Y16)","v":23},{"$f":"SUM(Z16:AA16)","v":26},{"$f":"SUM(AB16:AD16)","v":78},{"$f":"AE16","v":59},{"$f":"AF16","v":26},{"$f":"SUM(AG16:AH16)","v":28},{"$f":"SUM(B28:J28)","v":316}]
["9年未満",{"$f":"B28/B$36","v":2.2842639593908629E-2},1.3018714401952807E-2,2.6336791699920193E-2,2.0795660036166366E-2,2.5666337611056269E-2,2.4809160305343511E-2,2.0254033642293168E-2,1.7391304347826087E-2,{"$f":"J28/J$36","v":2.2690437601296597E-2},{"$f":"K28/K$36","v":2.1689889491385818E-2}]
["9年～",{"$f":"SUM(N17:P17)","v":20},{"$f":"SUM(Q17:R17)","v":16},{"$f":"SUM(S17:V17)","v":21},{"$f":"SUM(W17:Y17)","v":15},{"$f":"SUM(Z17:AA17)","v":18},{"$f":"SUM(AB17:AD17)","v":61},{"$f":"AE17","v":39},{"$f":"AF17","v":28},{"$f":"SUM(AG17:AH17)","v":26},{"$f":"SUM(B30:J30)","v":244}]
["10年未満",{"$f":"B30/B$36","v":1.6920473773265651E-2},1.3018714401952807E-2,1.6759776536312849E-2,1.3562386980108499E-2,1.7769002961500493E-2,1.9402035623409669E-2,1.3388259526261586E-2,1.8729096989966554E-2,{"$f":"J30/J$36","v":2.1069692058346839E-2},{"$f":"K30/K$36","v":1.6747889354108036E-2}]
["10年～",{"$f":"SUM(N18:P18)","v":97},{"$f":"SUM(Q18:R18)","v":88},{"$f":"SUM(S18:V18)","v":108},{"$f":"SUM(W18:Y18)","v":79},{"$f":"SUM(Z18:AA18)","v":103},{"$f":"SUM(AB18:AD18)","v":290},{"$f":"AE18","v":252},{"$f":"AF18","v":159},{"$f":"SUM(AG18:AH18)","v":132},{"$f":"SUM(B32:J32)","v":1308}]
["20年未満",{"$f":"B32/B$36","v":8.2064297800338415E-2},7.1602929210740435E-2,8.6193136472466084E-2,7.1428571428571425E-2,0.1016781836130306,9.2239185750636138E-2,8.6508753861997939E-2,0.10635451505016723,{"$f":"J32/J$36","v":0.10696920583468396},{"$f":"K32/K$36","v":8.977966916054636E-2}]
["20年以上",{"$f":"SUM(N19:P19)","v":75},{"$f":"SUM(Q19:R19)","v":48},{"$f":"SUM(S19:V19)","v":43},{"$f":"SUM(W19:Y19)","v":44},{"$f":"SUM(Z19:AA19)","v":50},{"$f":"SUM(AB19:AD19)","v":159},{"$f":"AE19","v":156},{"$f":"AF19","v":117},{"$f":"SUM(AG19:AH19)","v":85},{"$f":"SUM(B34:J34)","v":777}]
[null,{"$f":"B34/B$36","v":6.3451776649746189E-2},3.9056143205858422E-2,3.4317637669592976E-2,3.9783001808318265E-2,4.9358341559723594E-2,5.0572519083969467E-2,5.3553038105046344E-2,7.8260869565217397E-2,{"$f":"J34/J$36","v":6.8881685575364671E-2},{"$f":"K34/K$36","v":5.3332418148122729E-2}]
["総計",{"$f":"SUM(B4,B6,B8,B10,B12,B14,B16,B18,B20,B22,B24,B26,B28,B30,B32,B34)","v":1182},1229,1253,1106,1013,3144,2913,1495,{"$f":"SUM(J4,J6,J8,J10,J12,J14,J16,J18,J20,J22,J24,J26,J28,J30,J32,J34)","v":1234},{"$f":"SUM(B36:J36)","v":14569}]
[null,1,0.99999999999999978,1,0.99999999999999989,1,1,1,1,1,{"$f":"SUM(K5,K7,K9,K11,K13,K15,K17,K19,K21,K23,K25,K27,K29,K31,K33,K35)","v":1}]
["1年未満（再掲）",{"$f":"SUM(B4,B6,B8,B10)","v":536},553,602,590,456,1099,1428,682,{"$f":"SUM(J4,J6,J8,J10)","v":491},{"$f":"SUM(B38:J38)","v":6437}]
[null,{"$f":"B38/B$36","v":0.45346869712351945},0.44995931651749388,0.48044692737430167,0.53345388788426762,0.45014807502467918,0.34955470737913485,0.490216271884655,0.45618729096989968,{"$f":"J38/J$36","v":0.39789303079416533},{"$f":"K38/K$36","v":0.44182854005079281}]
["1年以上",{"$f":"SUM(B12,B14,B16,B18,B20)","v":303},395,339,275,279,1136,759,369,{"$f":"SUM(J12,J14,J16,J18,J20)","v":323},{"$f":"SUM(B40:J40)","v":4178}]
["5年未満（再掲）",{"$f":"B40/B$36","v":0.25634517766497461},0.32139951179820991,0.27055067837190744,0.24864376130198915,0.27541954590325762,0.361323155216285,0.26055612770339853,0.2468227424749164,0.26175040518638576,{"$f":"K40/K$36","v":0.28677328574370237}]
["5年以上",{"$f":"SUM(B22,B24,B26,B28,B30)","v":171},145,161,118,125,460,318,168,{"$f":"SUM(J22,J24,J26,J28,J30)","v":203},{"$f":"SUM(B42:J42)","v":1869}]
["10年未満（再掲）",{"$f":"B42/B$36","v":0.14467005076142131},0.11798209926769732,0.12849162011173185,0.10669077757685352,0.12339585389930899,0.14631043256997456,0.10916580844490216,0.11237458193979934,0.16450567260940033,{"$f":"K42/K$36","v":0.12828608689683574}]
["10年以上（再掲）",{"$f":"SUM(B32,B34)","v":172},136,151,123,153,449,408,276,{"$f":"SUM(J32,J34)","v":217},{"$f":"SUM(B44:J44)","v":2085}]
[null,{"$f":"B44/B$36","v":0.1455160744500846},0.11065907241659886,0.12051077414205906,0.1112115732368897,0.1510365251727542,0.14281170483460559,0.1400617919670443,0.18461538461538463,0.17585089141004862,{"$f":"K44/K$36","v":0.14311208730866909}]
[null,{"$f":"SUM(B38,B40,B42,B44)","v":1182},{"$f":"SUM(C38,C40,C42,C44)","v":1229},1253,1106,1013,3144,2913,1495,1234]

{"sheet":"6-Ⅱ⑤","index":35,"n_rows":17,"n_cols":35,"rows_kept":17,"cut":false,"hidden":false,"merged":[[15,0,16,0],[3,0,4,0],[5,0,6,0],[7,0,8,0],[9,0,10,0],[11,0,12,0],[13,0,14,0]]}
["【状態像区分×入院時住所地（圏域）】"]
[]
[null,"豊能","三島","北河内","中河内","南河内","泉州","大阪市","堺市","府外・\nその他","合計",null,"行ラベル","01豊能北","02豊能豊中","03豊能吹田","04三島","05三島高槻","06北河内枚方","07北河内寝屋川","08北河内西","09北河内東","10中河内東大阪","11中河内八尾","12中河内南","13南河内北","14南河内南","15泉州北","16泉州中","17泉州南","18大阪市","19堺市","98他府県","99不明その他","列23"]
["寛解",{"$f":"SUM(N4:P4)","v":18},{"$f":"SUM(Q4:R4)","v":52},{"$f":"SUM(S4:V4)","v":58},{"$f":"SUM(W4:Y4)","v":41},{"$f":"SUM(Z4:AA4)","v":27},{"$f":"SUM(AB4:AD4)","v":19},{"$f":"AE4","v":72},{"$f":"AF4","v":18},{"$f":"SUM(AG4:AH4)","v":23},{"$f":"SUM(B4:J4)","v":328},null,1,5,6,7,25,27,11,25,11,11,20,20,1,7,20,10,6,3,72,18,23]
[null,{"$f":"B4/B$16","v":1.5228426395939087E-2},4.231082180634662E-2,4.6288906624102157E-2,3.7070524412296565E-2,2.6653504442250741E-2,6.043256997455471E-3,2.4716786817713696E-2,1.2040133779264214E-2,{"$f":"J4/J$16","v":1.8638573743922204E-2},{"$f":"K4/K$16","v":2.2513556180932117E-2},null,2,26,37,31,29,42,41,36,24,26,115,101,24,41,43,96,92,40,332,152,102,6]
["院内寛解",{"$f":"SUM(N5:P5)","v":94},{"$f":"SUM(Q5:R5)","v":71},{"$f":"SUM(S5:V5)","v":127},{"$f":"SUM(W5:Y5)","v":240},{"$f":"SUM(Z5:AA5)","v":84},{"$f":"SUM(AB5:AD5)","v":228},{"$f":"AE5","v":332},{"$f":"AF5","v":152},{"$f":"SUM(AG5:AH5)","v":108},{"$f":"SUM(B6:J6)","v":1436},null,3,51,80,58,69,97,75,43,38,49,186,80,14,109,99,115,213,226,584,334,175,16]
[null,{"$f":"B6/B$16","v":7.952622673434856E-2},5.777054515866558E-2,0.10135674381484437,0.21699819168173598,8.2922013820335636E-2,7.2519083969465645E-2,0.11397185032612427,0.10167224080267559,{"$f":"J6/J$16","v":8.7520259319286878E-2},{"$f":"K6/K$16","v":9.8565447182373533E-2},null,4,139,167,165,270,189,193,103,107,96,230,90,27,203,234,370,634,479,1172,586,490,40]
["軽度",{"$f":"SUM(N6:P6)","v":189},{"$f":"SUM(Q6:R6)","v":166},{"$f":"SUM(S6:V6)","v":205},{"$f":"SUM(W6:Y6)","v":280},{"$f":"SUM(Z6:AA6)","v":208},{"$f":"SUM(AB6:AD6)","v":554},{"$f":"AE6","v":584},{"$f":"AF6","v":334},{"$f":"SUM(AG6:AH6)","v":191},{"$f":"SUM(B8:J8)","v":2711},null,5,105,131,113,209,178,96,55,84,55,92,55,19,99,116,268,284,216,629,343,296,24]
[null,{"$f":"B8/B$16","v":0.15989847715736041},0.13506916192026036,0.16360734237829211,0.25316455696202533,0.20533070088845015,0.1762086513994911,0.20048060418812222,0.22341137123745819,{"$f":"J8/J$16","v":0.15478119935170179},{"$f":"K8/K$16","v":0.18608003294666758},null,6,20,29,12,47,47,20,8,30,16,12,11,9,16,26,34,43,15,124,62,59,3]
["中等度",{"$f":"SUM(N7:P7)","v":471},{"$f":"SUM(Q7:R7)","v":459},{"$f":"SUM(S7:V7)","v":499},{"$f":"SUM(W7:Y7)","v":347},{"$f":"SUM(Z7:AA7)","v":437},{"$f":"SUM(AB7:AD7)","v":1483},{"$f":"AE7","v":1172},{"$f":"AF7","v":586},{"$f":"SUM(AG7:AH7)","v":530},{"$f":"SUM(B10:J10)","v":5984}]
[null,{"$f":"B10/B$16","v":0.39847715736040606},0.37347436940602113,0.39824421388667197,0.31374321880650996,0.43139190523198423,0.47169211195928751,0.40233436319945076,0.39197324414715717,{"$f":"J10/J$16","v":0.42949756888168555},{"$f":"K10/K$16","v":0.41073512252042005}]
["重度",{"$f":"SUM(N8:P8)","v":349},{"$f":"SUM(Q8:R8)","v":387},{"$f":"SUM(S8:V8)","v":290},{"$f":"SUM(W8:Y8)","v":166},{"$f":"SUM(Z8:AA8)","v":215},{"$f":"SUM(AB8:AD8)","v":768},{"$f":"AE8","v":629},{"$f":"AF8","v":343},{"$f":"SUM(AG8:AH8)","v":320},{"$f":"SUM(B12:J12)","v":3467}]
[null,{"$f":"B12/B$16","v":0.2952622673434856},0.31489015459723352,0.23144453312051078,0.15009041591320071,0.21224086870681144,0.24427480916030533,0.21592859594919328,0.2294314381270903,{"$f":"J12/J$16","v":0.2593192868719611},{"$f":"K12/K$16","v":0.23797103438808428}]
["最重度",{"$f":"SUM(N9:P9)","v":61},{"$f":"SUM(Q9:R9)","v":94},{"$f":"SUM(S9:V9)","v":74},{"$f":"SUM(W9:Y9)","v":32},{"$f":"SUM(Z9:AA9)","v":42},{"$f":"SUM(AB9:AD9)","v":92},{"$f":"AE9","v":124},{"$f":"AF9","v":62},{"$f":"SUM(AG9:AH9)","v":62},{"$f":"SUM(B14:J14)","v":643}]
[null,{"$f":"B14/B$16","v":5.1607445008460234E-2},7.6484947111472745E-2,5.9058260175578609E-2,2.8933092224231464E-2,4.1461006910167818E-2,2.9262086513994912E-2,4.2567799519395814E-2,4.1471571906354518E-2,{"$f":"J14/J$16","v":5.0243111831442464E-2},{"$f":"K14/K$16","v":4.4134806781522408E-2}]
["総計",{"$f":"SUM(B4,B6,B8,B10,B12,B14)","v":1182},{"$f":"SUM(C4,C6,C8,C10,C12,C14)","v":1229},1253,1106,1013,3144,2913,1495,1234,{"$f":"SUM(K4,K6,K8,K10,K12,K14)","v":14569}]
[null,{"$f":"SUM(B5,B7,B9,B11,B13,B15)","v":1},1,0.99999999999999989,0.99999999999999989,1,0.99999999999999989,1,1,1,{"$f":"SUM(K5,K7,K9,K11,K13,K15)","v":1}]

{"sheet":"6-Ⅱ⑥","index":36,"n_rows":63,"n_cols":35,"rows_kept":63,"cut":false,"hidden":false,"merged":[[49,0,50,0],[51,0,52,0],[53,0,54,0],[55,0,56,0],[61,0,62,0],[57,0,58,0],[59,0,60,0],[47,0,48,0],[25,0,26,0],[27,0,28,0],[29,0,30,0],[31,0,32,0],[33,0,34,0],[35,0,36,0],[37,0,38,0],[39,0,40,0],[41,0,42,0],[43,0,44,0],[45,0,46,0],[23,0,24,0],[3,0,4,0],[5,0,6,0],[7,0,8,0],[13,0,14,0],[15,0,16,0]]}
["【退院阻害要因の有無×入院時住所地（圏域）】"]
[]
["退院予定の有無","豊能","三島","北河内","中河内","南河内","泉州","大阪市","堺市","府外・\nその他","合計",null,"行ラベル","01豊能北","02豊能豊中","03豊能吹田","04三島","05三島高槻","06北河内枚方","07北河内寝屋川","08北河内西","09北河内東","10中河内東大阪","11中河内八尾","12中河内南","13南河内北","14南河内南","15泉州北","16泉州中","17泉州南","18大阪市","19堺市","98他府県","99不明その他","軽"]
["病状（主症状）が落ち着き、入院によらない形で治療ができるまで回復",{"$f":"SUM(N4:P4)","v":205},{"$f":"SUM(Q4:R4)","v":197},{"$f":"SUM(S4:V4)","v":232},{"$f":"SUM(W4:Y4)","v":207},{"$f":"SUM(Z4:AA4)","v":184},{"$f":"SUM(AB4:AD4)","v":354},{"$f":"AE4","v":415},{"$f":"AF4","v":210},{"$f":"SUM(AG4:AH4)","v":184},{"$f":"SUM(B4:J4)","v":2188},null,97,58,79,68,84,113,102,55,37,38,125,69,13,69,115,138,100,116,415,210,170,14,{"$f":"SUBTOTAL(109,退院予定有無入院時住所地[[#This Row],[01豊能北]:[99不明その他]])","v":2188}]
[null,{"$f":"B4/B$10","v":0.17343485617597293},0.16029292107404394,0.18515562649640863,0.18716094032549729,0.18163869693978282,0.11259541984732824,0.14246481290765534,0.14046822742474915,0.14910858995137763,0.15018189306060814,null,98,253,332,274,485,372,274,176,209,193,456,227,59,347,382,677,1098,813,2114,1131,873,70,{"$f":"SUBTOTAL(109,退院予定有無入院時住所地[[#This Row],[01豊能北]:[99不明その他]])","v":10815}]
["病状（主症状）が不安定で入院による治療が必要",{"$f":"SUM(N5:P5)","v":859},{"$f":"SUM(Q5:R5)","v":857},{"$f":"SUM(S5:V5)","v":852},{"$f":"SUM(W5:Y5)","v":742},{"$f":"SUM(Z5:AA5)","v":729},{"$f":"SUM(AB5:AD5)","v":2588},{"$f":"AE5","v":2114},{"$f":"AF5","v":1131},{"$f":"SUM(AG5:AH5)","v":943},{"$f":"SUM(B6:J6)","v":10815},null,99,35,39,44,80,95,60,39,48,22,74,61,22,59,41,78,74,50,384,154,102,5,{"$f":"SUBTOTAL(109,退院予定有無入院時住所地[[#This Row],[01豊能北]:[99不明その他]])","v":1566}]
[null,{"$f":"B6/B$10","v":0.72673434856175978},0.69731489015459724,0.67996807661612135,0.67088607594936711,0.71964461994077,0.82315521628498722,0.72571232406453823,0.75652173913043474,0.76418152350081037,0.74232960395360015]
["退院予定",{"$f":"SUM(N6:P6)","v":118},{"$f":"SUM(Q6:R6)","v":175},{"$f":"SUM(S6:V6)","v":169},{"$f":"SUM(W6:Y6)","v":157},{"$f":"SUM(Z6:AA6)","v":100},{"$f":"SUM(AB6:AD6)","v":202},{"$f":"AE6","v":384},{"$f":"AF6","v":154},{"$f":"SUM(AG6:AH6)","v":107},{"$f":"SUM(B8:J8)","v":1566}]
[null,{"$f":"B8/B$10","v":9.9830795262267347E-2},{"$f":"C8/C$10","v":0.14239218877135884},0.13487629688747008,0.14195298372513562,9.8716683119447188E-2,6.4249363867684484E-2,0.13182286302780638,0.10301003344481606,8.670988654781199E-2,{"$f":"K8/K$10","v":0.10748850298579175}]
["総計",{"$f":"SUM(B4,B6,B8)","v":1182},{"$f":"SUM(C4,C6,C8)","v":1229},1253,1106,1013,3144,2913,1495,1234,14569]
[null,{"$f":"SUM(B5,B7,B9)","v":1},1,1,1,1,1,1,1,1,1]
[]
["退院阻害要因の有無","豊能","三島","北河内","中河内","南河内","泉州","大阪市","堺市","府外・\nその他","合計",null,"行ラベル","01豊能北","02豊能豊中","03豊能吹田","04三島","05三島高槻","06北河内枚方","07北河内寝屋川","08北河内西","09北河内東","10中河内東大阪","11中河内八尾","12中河内南","13南河内北","14南河内南","15泉州北","16泉州中","17泉州南","18大阪市","19堺市","98他府県","99不明その他","列23"]
["退院阻害要因がある",{"$f":"SUM(N14:P14)","v":180},{"$f":"SUM(Q14:R14)","v":170},{"$f":"SUM(S14:V14)","v":212},{"$f":"SUM(W14:Y14)","v":176},{"$f":"SUM(Z14:AA14)","v":161},{"$f":"SUM(AB14:AD14)","v":334},{"$f":"AE14","v":367},{"$f":"AF14","v":188},{"$f":"SUM(AG14:AH14)","v":168},{"$f":"SUM(B14:J14)","v":1956},null,91,56,65,59,77,93,97,47,35,33,105,60,11,66,95,133,91,110,367,188,154,14]
[null,{"$f":"B14/B$18","v":0.87804878048780488},0.86294416243654826,0.91379310344827591,0.85024154589371981,0.875,0.94350282485875703,0.88433734939759034,0.89523809523809528,{"$f":"J14/J18","v":0.91304347826086951},0.89396709323583179,null,90,2,14,9,7,20,5,8,2,5,20,9,2,3,20,5,9,6,48,22,16]
["退院阻害要因はない",{"$f":"SUM(N15:P15)","v":25},{"$f":"SUM(Q15:R15)","v":27},{"$f":"SUM(S15:V15)","v":20},{"$f":"SUM(W15:Y15)","v":31},{"$f":"SUM(Z15:AA15)","v":23},{"$f":"SUM(AB15:AD15)","v":20},{"$f":"AE15","v":48},{"$f":"AF15","v":22},{"$f":"SUM(AG15:AH15)","v":16},{"$f":"SUM(B16:J16)","v":232}]
[null,{"$f":"B16/B$18","v":0.12195121951219512},0.13705583756345177,8.6206896551724144E-2,0.14975845410628019,0.125,5.6497175141242938E-2,0.11566265060240964,0.10476190476190476,{"$f":"J16/J18","v":8.6956521739130432E-2},0.10603290676416818]
["総計",{"$f":"SUM(B14,B16)","v":205},{"$f":"SUM(C14,C16)","v":197},232,207,184,354,415,210,184,2188]
[null,{"$f":"SUM(B15,B17)","v":1},1,1,1,1,1,1,1,1,{"$f":"SUM(K15,K17)","v":1}]
[]
["【退院阻害要因（複数回答）×入院時住所地（圏域）】"]
[]
[null,"豊能","三島","北河内","中河内","南河内","泉州","大阪市","堺市","府外・\nその他","合計",null,"値","01豊能北","02豊能豊中","03豊能吹田","04三島","05三島高槻","06北河内枚方","07北河内寝屋川","08北河内西","09北河内東","10中河内東大阪","11中河内八尾","12中河内南","13南河内北","14南河内南","15泉州北","16泉州中","17泉州南","18大阪市","19堺市","98他府県","99不明その他","列23"]
["病状は落ち着いているが、ときどき不安定な病状が見られ、そのことが退院を阻害する要因になっている",{"$f":"SUM(N24:P24)","v":58},{"$f":"SUM(Q24:R24)","v":58},{"$f":"SUM(S24:V24)","v":89},{"$f":"SUM(W24:Y24)","v":75},{"$f":"SUM(Z24:AA24)","v":56},{"$f":"SUM(AB24:AD24)","v":118},{"$f":"AE24","v":109},{"$f":"AF24","v":49},{"$f":"SUM(AG24:AH24)","v":48},{"$f":"SUM(B24:J24)","v":660},null,"合計 / 病状は落ち着いているが、ときどき不安定な病状が見られ、そのことが退院を阻害する要因になっている",25,19,14,27,31,39,24,17,9,52,18,5,26,30,52,30,36,109,49,45,3]
[null,{"$f":"B24/B$14","v":0.32222222222222224},0.3411764705882353,0.419811320754717,0.42613636363636365,0.34782608695652173,0.3532934131736527,0.29700272479564033,0.26063829787234044,{"$f":"J24/J$14","v":0.2857142857142857},0.33742331288343558,null,"合計 / 病識がなく通院服薬の中断が予測される",15,13,10,22,38,20,5,6,6,28,5,1,19,33,37,41,25,86,48,47,4]
["病識がなく通院服薬の中断が予測される",{"$f":"SUM(N25:P25)","v":38},{"$f":"SUM(Q25:R25)","v":60},{"$f":"SUM(S25:V25)","v":37},{"$f":"SUM(W25:Y25)","v":34},{"$f":"SUM(Z25:AA25)","v":52},{"$f":"SUM(AB25:AD25)","v":103},{"$f":"AE25","v":86},{"$f":"AF25","v":48},{"$f":"SUM(AG25:AH25)","v":51},{"$f":"SUM(B26:J26)","v":509},null,"合計 / 反社会的行動が予測される",1,3,2,1,1,6,2,1,1,6,0,0,5,5,7,2,4,16,6,11,2]
[null,{"$f":"B26/B$14","v":0.21111111111111111},0.35294117647058826,0.17452830188679244,0.19318181818181818,0.32298136645962733,0.30838323353293412,0.23433242506811988,0.25531914893617019,{"$f":"J26/J$14","v":0.30357142857142855},0.2602249488752556,null,"合計 / 退院意欲が乏しい",23,17,27,35,48,35,17,14,9,36,14,5,30,34,52,35,34,124,76,55,6]
["反社会的行動が予測される",{"$f":"SUM(N26:P26)","v":6},{"$f":"SUM(Q26:R26)","v":2},{"$f":"SUM(S26:V26)","v":10},{"$f":"SUM(W26:Y26)","v":6},{"$f":"SUM(Z26:AA26)","v":10},{"$f":"SUM(AB26:AD26)","v":13},{"$f":"AE26","v":16},{"$f":"AF26","v":6},{"$f":"SUM(AG26:AH26)","v":13},{"$f":"SUM(B28:J28)","v":82},null,"合計 / 現実認識が乏しい",24,24,20,26,60,37,19,15,14,47,13,4,29,39,55,41,21,115,70,59,5]
[null,{"$f":"B28/B$14","v":3.3333333333333333E-2},1.1764705882352941E-2,4.716981132075472E-2,3.4090909090909088E-2,6.2111801242236024E-2,3.8922155688622756E-2,4.3596730245231606E-2,3.1914893617021274E-2,{"$f":"J28/J$14","v":7.7380952380952384E-2},4.1922290388548056E-2,null,"合計 / 退院による環境変化への不安が強い",16,15,11,16,39,19,14,6,5,38,20,5,24,18,30,17,17,95,55,34,5]
["退院意欲が乏しい",{"$f":"SUM(N27:P27)","v":67},{"$f":"SUM(Q27:R27)","v":83},{"$f":"SUM(S27:V27)","v":75},{"$f":"SUM(W27:Y27)","v":55},{"$f":"SUM(Z27:AA27)","v":64},{"$f":"SUM(AB27:AD27)","v":121},{"$f":"AE27","v":124},{"$f":"AF27","v":76},{"$f":"SUM(AG27:AH27)","v":61},{"$f":"SUM(B30:J30)","v":726},null,"合計 / 援助者との対人関係がもてない",6,2,5,3,11,7,8,3,2,11,1,0,2,10,14,4,4,24,20,14,0]
[null,{"$f":"B30/B$14","v":0.37222222222222223},0.48823529411764705,0.35377358490566035,0.3125,0.39751552795031053,0.36227544910179643,0.33787465940054495,0.40425531914893614,{"$f":"J30/J$14","v":0.36309523809523808},0.37116564417177916,null,"合計 / 家事（食事,洗濯,金銭管理など）ができない",10,23,16,20,39,36,12,15,14,34,6,3,18,45,45,40,19,86,43,49,6]
["現実認識が乏しい",{"$f":"SUM(N28:P28)","v":68},{"$f":"SUM(Q28:R28)","v":86},{"$f":"SUM(S28:V28)","v":85},{"$f":"SUM(W28:Y28)","v":64},{"$f":"SUM(Z28:AA28)","v":68},{"$f":"SUM(AB28:AD28)","v":117},{"$f":"AE28","v":115},{"$f":"AF28","v":70},{"$f":"SUM(AG28:AH28)","v":64},{"$f":"SUM(B32:J32)","v":737},null,"合計 / 家族がいない、本人をサポートする機能が実質ない",10,25,7,5,16,22,14,4,6,15,2,1,8,11,29,12,9,59,24,33,5]
[null,{"$f":"B32/B$14","v":0.37777777777777777},0.50588235294117645,0.40094339622641512,0.36363636363636365,0.42236024844720499,0.35029940119760478,0.3133514986376022,0.37234042553191488,{"$f":"J32/J$14","v":0.38095238095238093},0.37678936605316976,null,"合計 / 家族から退院に反対がある",8,8,7,10,12,30,12,9,12,24,14,1,17,19,24,19,42,78,34,40,0]
["退院による環境変化への不安が強い",{"$f":"SUM(N29:P29)","v":42},{"$f":"SUM(Q29:R29)","v":55},{"$f":"SUM(S29:V29)","v":44},{"$f":"SUM(W29:Y29)","v":63},{"$f":"SUM(Z29:AA29)","v":42},{"$f":"SUM(AB29:AD29)","v":64},{"$f":"AE29","v":95},{"$f":"AF29","v":55},{"$f":"SUM(AG29:AH29)","v":39},{"$f":"SUM(B34:J34)","v":499},null,"合計 / 住まいの確保ができない",7,26,18,22,40,45,18,16,13,30,27,6,9,17,42,32,33,119,38,49,8]
[null,{"$f":"B34/B$14","v":0.23333333333333334},0.3235294117647059,0.20754716981132076,0.35795454545454547,0.2608695652173913,0.19161676646706588,0.25885558583106266,0.29255319148936171,{"$f":"J34/J$14","v":0.23214285714285715},0.2551124744376278,null,"合計 / 生活費の確保ができない",1,6,1,1,3,20,5,4,7,5,0,0,0,1,13,6,6,15,6,13,1]
["援助者との対人関係がもてない",{"$f":"SUM(N30:P30)","v":13},{"$f":"SUM(Q30:R30)","v":14},{"$f":"SUM(S30:V30)","v":20},{"$f":"SUM(W30:Y30)","v":12},{"$f":"SUM(Z30:AA30)","v":12},{"$f":"SUM(AB30:AD30)","v":22},{"$f":"AE30","v":24},{"$f":"AF30","v":20},{"$f":"SUM(AG30:AH30)","v":14},{"$f":"SUM(B36:J36)","v":151},null,"合計 / 日常生活を支える制度がない",7,14,1,5,12,4,1,0,3,10,4,2,1,6,10,21,0,15,2,14,0]
[null,{"$f":"B36/B$14","v":7.2222222222222215E-2},8.2352941176470587E-2,9.4339622641509441E-2,6.8181818181818177E-2,7.4534161490683232E-2,6.5868263473053898E-2,6.5395095367847406E-2,0.10638297872340426,{"$f":"J36/J$14","v":8.3333333333333329E-2},7.7198364008179962E-2,null,"合計 / 救急診療体制がない",0,0,0,0,0,2,0,0,0,1,0,0,0,0,0,0,0,0,0,2,0]
["家事（食事・洗濯・金銭管理など）ができない",{"$f":"SUM(N31:P31)","v":49},{"$f":"SUM(Q31:R31)","v":59},{"$f":"SUM(S31:V31)","v":77},{"$f":"SUM(W31:Y31)","v":43},{"$f":"SUM(Z31:AA31)","v":63},{"$f":"SUM(AB31:AD31)","v":104},{"$f":"AE31","v":86},{"$f":"AF31","v":43},{"$f":"SUM(AG31:AH31)","v":55},{"$f":"SUM(B38:J38)","v":579},null,"合計 / 退院に向けてサポートする人的資源が乏しい",1,1,2,2,4,17,5,4,2,14,2,1,5,2,11,9,8,29,6,17,4]
[null,{"$f":"B38/B$14","v":0.2722222222222222},0.34705882352941175,0.3632075471698113,0.24431818181818182,0.39130434782608697,0.31137724550898205,0.23433242506811988,0.22872340425531915,{"$f":"J38/J$14","v":0.32738095238095238},0.29601226993865032,null,"合計 / 退院後サポート・マネジメントする人的資源が乏しい",10,9,1,3,2,15,3,2,2,7,2,1,0,2,5,5,2,21,3,15,0]
["家族がいない、本人をサポートする機能が実質ない",{"$f":"SUM(N32:P32)","v":42},{"$f":"SUM(Q32:R32)","v":21},{"$f":"SUM(S32:V32)","v":46},{"$f":"SUM(W32:Y32)","v":18},{"$f":"SUM(Z32:AA32)","v":19},{"$f":"SUM(AB32:AD32)","v":50},{"$f":"AE32","v":59},{"$f":"AF32","v":24},{"$f":"SUM(AG32:AH32)","v":38},{"$f":"SUM(B40:J40)","v":317},null,"合計 / 住所地と入院先の距離があり支援体制をとりにくい",0,0,0,0,0,0,0,0,1,3,1,0,0,2,1,0,0,4,1,16,1]
[null,{"$f":"B40/B$14","v":0.23333333333333334},0.12352941176470589,0.21698113207547171,0.10227272727272728,0.11801242236024845,0.1497005988023952,0.16076294277929154,0.1276595744680851,{"$f":"J40/J$14","v":0.22619047619047619},0.16206543967280163,null,"合計 / 身体的機能や状態を原因としたADLの低下がある",8,19,15,15,16,20,7,5,7,4,2,1,12,18,31,9,10,59,44,27,2]
["家族が退院に反対している",{"$f":"SUM(N33:P33)","v":23},{"$f":"SUM(Q33:R33)","v":22},{"$f":"SUM(S33:V33)","v":63},{"$f":"SUM(W33:Y33)","v":39},{"$f":"SUM(Z33:AA33)","v":36},{"$f":"SUM(AB33:AD33)","v":85},{"$f":"AE33","v":78},{"$f":"AF33","v":34},{"$f":"SUM(AG33:AH33)","v":40},{"$f":"SUM(B42:J42)","v":420},null,"合計 / 身体合併症の程度が重いなど身体面のフォローが必要であり、地域での生活が困難",4,2,4,11,11,15,4,3,4,4,2,0,7,7,15,6,24,40,35,12,1]
[null,{"$f":"B42/B$14","v":0.12777777777777777},0.12941176470588237,0.29716981132075471,0.22159090909090909,0.2236024844720497,0.25449101796407186,0.21253405994550409,0.18085106382978725,{"$f":"J42/J$14","v":0.23809523809523808},0.21472392638036811,null,"合計 / その他の退院阻害要因がある",1,0,1,1,0,5,3,0,1,2,2,1,1,0,4,2,4,9,3,4,0]
["住まいの確保ができない",{"$f":"SUM(N34:P34)","v":51},{"$f":"SUM(Q34:R34)","v":62},{"$f":"SUM(S34:V34)","v":92},{"$f":"SUM(W34:Y34)","v":63},{"$f":"SUM(Z34:AA34)","v":26},{"$f":"SUM(AB34:AD34)","v":107},{"$f":"AE34","v":119},{"$f":"AF34","v":38},{"$f":"SUM(AG34:AH34)","v":57},{"$f":"SUM(B44:J44)","v":615}]
[null,{"$f":"B44/B$14","v":0.28333333333333333},0.36470588235294116,0.43396226415094341,0.35795454545454547,0.16149068322981366,0.32035928143712578,0.3242506811989101,0.20212765957446807,{"$f":"J44/J$14","v":0.3392857142857143},0.31441717791411045]
["生活費の確保ができない",{"$f":"SUM(N35:P35)","v":8},{"$f":"SUM(Q35:R35)","v":4},{"$f":"SUM(S35:V35)","v":36},{"$f":"SUM(W35:Y35)","v":5},{"$f":"SUM(Z35:AA35)","v":1},{"$f":"SUM(AB35:AD35)","v":25},{"$f":"AE35","v":15},{"$f":"AF35","v":6},{"$f":"SUM(AG35:AH35)","v":14},{"$f":"SUM(B46:J46)","v":114}]
[null,{"$f":"B46/B$14","v":4.4444444444444446E-2},2.3529411764705882E-2,0.16981132075471697,2.8409090909090908E-2,6.2111801242236021E-3,7.4850299401197598E-2,4.0871934604904632E-2,3.1914893617021274E-2,{"$f":"J46/J$14","v":8.3333333333333329E-2},5.8282208588957052E-2]
["日常生活を支える制度がない",{"$f":"SUM(N36:P36)","v":22},{"$f":"SUM(Q36:R36)","v":17},{"$f":"SUM(S36:V36)","v":8},{"$f":"SUM(W36:Y36)","v":16},{"$f":"SUM(Z36:AA36)","v":7},{"$f":"SUM(AB36:AD36)","v":31},{"$f":"AE36","v":15},{"$f":"AF36","v":2},{"$f":"SUM(AG36:AH36)","v":14},{"$f":"SUM(B48:J48)","v":132}]
[null,{"$f":"B48/B$14","v":0.12222222222222222},0.1,3.7735849056603772E-2,9.0909090909090912E-2,4.3478260869565216E-2,9.2814371257485026E-2,4.0871934604904632E-2,1.0638297872340425E-2,{"$f":"J48/J$14","v":8.3333333333333329E-2},6.7484662576687116E-2]
["救急診療体制がない",{"$f":"SUM(N37:P37)","v":0},{"$f":"SUM(Q37:R37)","v":0},{"$f":"SUM(S37:V37)","v":2},{"$f":"SUM(W37:Y37)","v":1},{"$f":"SUM(Z37:AA37)","v":0},{"$f":"SUM(AB37:AD37)","v":0},{"$f":"AE37","v":0},{"$f":"AF37","v":0},{"$f":"SUM(AG37:AH37)","v":2},{"$f":"SUM(B50:J50)","v":5}]
[null,{"$f":"B50/B$14","v":0},0,9.433962264150943E-3,5.681818181818182E-3,0,0,0,0,{"$f":"J50/J$14","v":1.1904761904761904E-2},2.5562372188139061E-3]
["退院に向けてサポートする人的資源が乏しい",{"$f":"SUM(N38:P38)","v":4},{"$f":"SUM(Q38:R38)","v":6},{"$f":"SUM(S38:V38)","v":28},{"$f":"SUM(W38:Y38)","v":17},{"$f":"SUM(Z38:AA38)","v":7},{"$f":"SUM(AB38:AD38)","v":28},{"$f":"AE38","v":29},{"$f":"AF38","v":6},{"$f":"SUM(AG38:AH38)","v":21},{"$f":"SUM(B52:J52)","v":146}]
[null,{"$f":"B52/B$14","v":2.2222222222222223E-2},3.5294117647058823E-2,0.13207547169811321,9.6590909090909088E-2,4.3478260869565216E-2,8.3832335329341312E-2,7.901907356948229E-2,3.1914893617021274E-2,{"$f":"J52/J$14","v":0.125},7.4642126789366048E-2]
["退院後サポート・マネジメントする人的資源が乏しい",{"$f":"SUM(N39:P39)","v":20},{"$f":"SUM(Q39:R39)","v":5},{"$f":"SUM(S39:V39)","v":22},{"$f":"SUM(W39:Y39)","v":10},{"$f":"SUM(Z39:AA39)","v":2},{"$f":"SUM(AB39:AD39)","v":12},{"$f":"AE39","v":21},{"$f":"AF39","v":3},{"$f":"SUM(AG39:AH39)","v":15},{"$f":"SUM(B54:J54)","v":110}]
[null,{"$f":"B54/B$14","v":0.1111111111111111},2.9411764705882353E-2,0.10377358490566038,5.6818181818181816E-2,1.2422360248447204E-2,3.5928143712574849E-2,5.7220708446866483E-2,1.5957446808510637E-2,{"$f":"J54/J$14","v":8.9285714285714288E-2},5.6237218813905927E-2]
["住所地と入院先の距離があり支援体制がとりにくい",{"$f":"SUM(N40:P40)","v":0},{"$f":"SUM(Q40:R40)","v":0},{"$f":"SUM(S40:V40)","v":1},{"$f":"SUM(W40:Y40)","v":4},{"$f":"SUM(Z40:AA40)","v":2},{"$f":"SUM(AB40:AD40)","v":1},{"$f":"AE40","v":4},{"$f":"AF40","v":1},{"$f":"SUM(AG40:AH40)","v":17},{"$f":"SUM(B56:J56)","v":30}]
[null,{"$f":"B56/B$14","v":0},0,4.7169811320754715E-3,2.2727272727272728E-2,1.2422360248447204E-2,2.9940119760479044E-3,1.0899182561307902E-2,5.3191489361702126E-3,{"$f":"J56/J$14","v":0.10119047619047619},1.5337423312883436E-2]
["身体的機能や状態を原因としたADLの低下がある",{"$f":"SUM(N41:P41)","v":42},{"$f":"SUM(Q41:R41)","v":31},{"$f":"SUM(S41:V41)","v":39},{"$f":"SUM(W41:Y41)","v":7},{"$f":"SUM(Z41:AA41)","v":30},{"$f":"SUM(AB41:AD41)","v":50},{"$f":"SUM(AE41)","v":59},{"$f":"SUM(AF41)","v":44},{"$f":"SUM(AG41:AH41)","v":29},{"$f":"SUM(B58:J58)","v":331}]
[null,{"$f":"B58/B$14","v":0.23333333333333334},0.18235294117647058,0.18396226415094338,3.9772727272727272E-2,0.18633540372670807,0.1497005988023952,0.16076294277929154,0.23404255319148937,{"$f":"J58/J$14","v":0.17261904761904762},0.16922290388548059]
["身体合併症の程度が重いなど身体面のフォローが必要であり、地域での生活が困難",{"$f":"SUM(N42:P42)","v":10},{"$f":"SUM(Q42:R42)","v":22},{"$f":"SUM(S42:V42)","v":26},{"$f":"SUM(W42:Y42)","v":6},{"$f":"SUM(Z42:AA42)","v":14},{"$f":"SUM(AB42:AD42)","v":45},{"$f":"SUM(AE42)","v":40},{"$f":"SUM(AF42)","v":35},{"$f":"SUM(AG42:AH42)","v":13},{"$f":"SUM(B60:J60)","v":211}]
[null,{"$f":"B60/B$14","v":5.5555555555555552E-2},0.12941176470588237,0.12264150943396226,3.4090909090909088E-2,8.6956521739130432E-2,0.1347305389221557,0.10899182561307902,0.18617021276595744,{"$f":"J60/J$14","v":7.7380952380952384E-2},0.10787321063394684]
["その他の退院阻害要因がある",{"$f":"SUM(N43:P43)","v":2},{"$f":"SUM(Q43:R43)","v":1},{"$f":"SUM(S43:V43)","v":9},{"$f":"SUM(W43:Y43)","v":5},{"$f":"SUM(Z43:AA43)","v":1},{"$f":"SUM(AB43:AD43)","v":10},{"$f":"SUM(AE43)","v":9},{"$f":"SUM(AF43)","v":3},{"$f":"SUM(AG43:AH43)","v":4},{"$f":"SUM(B62:J62)","v":44}]
[null,{"$f":"B62/B$14","v":1.1111111111111112E-2},5.8823529411764705E-3,4.2452830188679243E-2,2.8409090909090908E-2,6.2111801242236021E-3,2.9940119760479042E-2,2.4523160762942781E-2,1.5957446808510637E-2,{"$f":"J62/J$14","v":2.3809523809523808E-2},2.2494887525562373E-2]

{"sheet":"6-Ⅲ","index":37,"n_rows":46,"n_cols":48,"rows_kept":46,"cut":false,"hidden":false,"merged":[[37,0,38,0],[39,0,40,0],[41,0,42,0],[43,0,44,0],[25,1,25,10],[27,0,28,0],[29,0,30,0],[31,0,32,0],[33,0,34,0],[35,0,36,0],[25,0,26,0],[12,0,13,0],[14,0,15,0],[16,0,17,0],[18,0,19,0],[20,0,21,0],[10,0,11,0],[2,0,3,0],[2,1,2,10],[4,0,5,0],[6,0,7,0],[8,0,9,0]]}
["【病院所在地（圏域）×入院時住所地（圏域）】"]
[]
["病院所在地","入院時住所地",null,null,null,null,null,null,null,null,null,null,null,null,null,null,null,null,null,null,null,null,null,null,null,null,null,null,null,null,null,null,null,null,null,null,null,"（触らない）"]
[null,"豊能","三島","北河内","中河内","南河内","泉州","大阪市","堺市","府外・\nその他","合計",null,null,"行ラベル","01豊能北","02豊能豊中","03豊能吹田","04三島","05三島高槻","06北河内枚方","07北河内寝屋川","08北河内西","09北河内東","10中河内東大阪","11中河内八尾","12中河内南","13南河内北","14南河内南","15泉州北","16泉州中","17泉州南","18大阪市","19堺市","98他府県","99不明その他",null,null,"1_豊能","2_三島","3_北河内","4_中河内","5_南河内","6_泉州","7_大阪市","8_堺市","他府県・不明"]
["豊能",{"$f":"SUM(AL5:AL7)","v":828},65,36,10,12,3,394,7,280,{"$f":"SUM(B5:J5)","v":1635},null,null,"01豊能北",199,61,62,17,4,2,1,4,null,2,null,null,1,2,null,1,1,64,1,111,4,null,"01豊能北",{"$f":"SUM(O5:Q5)","v":322},{"$f":"SUM(R5:S5)","v":21},{"$f":"SUM(T5:W5)","v":7},{"$f":"SUM(X5:Z5)","v":2},{"$f":"SUM(AA5:AB5)","v":3},{"$f":"SUM(AC5:AE5)","v":2},{"$f":"AF5","v":64},{"$f":"AG5","v":1},{"$f":"SUM(AH5:AI5)","v":115}]
[null,{"$f":"B5/B$21","v":0.70050761421319796},{"$f":"C5/C$21","v":5.2888527257933277E-2},2.8731045490822026E-2,9.0415913200723331E-3,1.1846001974333662E-2,9.5419847328244271E-4,0.13525575008582216,4.6822742474916385E-3,0.22690437601296595,0.11222458645068295,null,null,"02豊能豊中",50,261,56,19,11,7,3,7,3,6,1,null,2,3,null,null,null,265,3,118,4,null,"02豊能豊中",367,30,20,7,5,0,265,3,122]
["三島",{"$f":"SUM(AL8:AL9)","v":194},1078,137,27,6,6,265,8,203,{"$f":"SUM(B7:J7)","v":1924},null,null,"03豊能吹田",10,18,111,13,1,2,4,2,1,null,1,null,2,2,null,1,null,65,3,40,3,null,"03豊能吹田",139,14,9,1,4,1,65,3,43]
[null,{"$f":"B7/B$21","v":0.16412859560067683},{"$f":"C7/C$21","v":0.8771358828315704},0.10933758978451716,2.4412296564195298E-2,5.9230009871668312E-3,1.9083969465648854E-3,9.0971507037418464E-2,5.3511705685618726E-3,0.16450567260940033,0.13206122589058961,null,null,"04三島",36,31,74,463,230,45,17,20,10,16,3,1,2,1,2,1,2,193,7,143,2,null,"04三島",141,693,92,20,3,5,193,7,145]
["北河内",{"$f":"SUM(AL10:AL13)","v":39},39,852,45,8,13,169,13,153,{"$f":"SUM(B9:J9)","v":1331},null,null,"05三島高槻",8,12,33,95,290,23,10,7,5,7,null,null,2,1,null,null,1,72,1,57,1,null,"05三島高槻",53,385,45,7,3,1,72,1,58]
[null,{"$f":"B9/B$21","v":3.2994923857868022E-2},{"$f":"C9/C$21","v":3.173311635475997E-2},0.67996807661612135,4.0687160940325498E-2,7.8973346495557744E-3,4.1348600508905849E-3,5.8015791280466876E-2,8.6956521739130436E-3,0.1239870340356564,9.1358363648843435E-2,null,null,"06北河内枚方",8,16,8,14,16,287,57,41,44,16,4,4,1,5,3,2,3,77,12,84,4,null,"06北河内枚方",32,30,429,24,6,8,77,12,88]
["中河内",{"$f":"SUM(AL14:AL16)","v":11},3,55,748,34,8,353,11,49,{"$f":"SUM(B11:J11)","v":1272},null,null,"07北河内寝屋川",1,1,2,null,3,18,105,19,41,7,2,null,null,null,1,2,2,14,1,11,null,null,"07北河内寝屋川",4,3,183,9,0,5,14,1,11]
[null,{"$f":"B11/B$21","v":9.3062605752961079E-3},{"$f":"C11/C$21","v":2.4410089503661514E-3},4.3894652833200321E-2,0.67631103074141052,3.3563672260612042E-2,2.5445292620865142E-3,0.12118091314795743,7.3578595317725752E-3,3.9708265802269042E-2,8.7308669091907473E-2,null,null,"08北河内西",2,null,1,2,1,5,13,111,4,2,2,null,2,null,null,null,null,66,null,5,null,null,"08北河内西",3,3,133,4,2,0,66,0,5]
["南河内",{"$f":"SUM(AL17:AL18)","v":9},8,24,57,606,20,280,141,60,{"$f":"SUM(B13:J13)","v":1205},null,null,"09北河内東",null,null,null,2,1,5,10,6,86,8,null,null,null,null,null,null,null,12,null,48,1,null,"09北河内東",0,3,107,8,0,0,12,0,49]
[null,{"$f":"B13/B$21","v":7.6142131979695434E-3},{"$f":"C13/C$21","v":6.5093572009764034E-3},1.9154030327214685E-2,5.1537070524412296E-2,0.5982230997038499,6.3613231552162846E-3,9.6120837624442151E-2,9.4314381270903011E-2,4.8622366288492709E-2,8.2709863408607323E-2,null,null,"10中河内東大阪",1,3,1,1,null,3,9,12,15,387,30,2,3,3,1,null,null,242,4,23,null,null,"10中河内東大阪",5,1,39,419,6,1,242,4,23]
["泉州",{"$f":"SUM(AL19:AL21)","v":51},24,108,135,122,3000,819,333,412,{"$f":"SUM(B15:J15)","v":5004},null,null,"11中河内八尾",null,null,1,null,null,null,null,5,2,27,204,21,13,null,null,null,2,58,2,6,null,null,"11中河内八尾",1,0,7,252,13,2,58,2,6]
[null,{"$f":"B15/B$21","v":4.3147208121827409E-2},{"$f":"C15/C$21","v":1.9528071602929211E-2},8.6193136472466084E-2,0.12206148282097649,0.12043435340572557,0.95419847328244278,0.28115345005149328,0.22274247491638796,0.33387358184764993,0.34346900954080584,null,null,"12中河内南",1,2,2,1,1,1,1,4,3,23,18,36,9,6,4,null,1,53,5,15,5,null,"12中河内南",5,2,9,77,15,5,53,5,20]
["大阪市",{"$f":"AL22","v":6},3,8,15,7,4,97,9,9,{"$f":"SUM(B17:J17)","v":158},null,null,"13南河内北",3,null,null,1,null,1,null,4,null,8,6,5,176,16,1,null,null,175,18,11,2,null,"13南河内北",3,1,5,19,192,1,175,18,13]
[null,{"$f":"B17/B$21","v":5.076142131979695E-3},{"$f":"C17/C$21","v":2.4410089503661514E-3},6.3846767757382286E-3,1.3562386980108499E-2,6.9101678183613032E-3,1.2722646310432571E-3,3.3299004462753176E-2,6.0200668896321068E-3,7.2933549432739062E-3,1.0844944745692909E-2,null,null,"14南河内南",1,5,null,4,3,4,6,5,4,16,19,3,51,363,12,3,4,105,123,43,4,null,"14南河内南",6,7,19,38,414,19,105,123,47]
["堺市",{"$f":"AL23","v":44},9,33,69,218,90,536,973,68,{"$f":"SUM(B19:J19)","v":2040},null,null,"15泉州北",2,7,10,2,4,8,7,8,10,52,16,4,24,26,663,80,29,321,199,140,6,null,"15泉州北",19,6,33,72,50,772,321,199,146]
[null,{"$f":"B19/B$21","v":3.7225042301184431E-2},{"$f":"C19/C$21","v":7.3230268510984537E-3},2.6336791699920193E-2,6.2386980108499093E-2,0.21520236920039487,2.8625954198473282E-2,0.18400274630964641,0.65083612040133776,5.5105348460291734E-2,0.14002333722287047,null,null,"16泉州中",8,12,4,10,3,5,9,11,10,26,10,6,23,29,119,1048,152,375,99,140,41,null,"16泉州中",24,13,35,42,52,1319,375,99,181]
["総計",{"$f":"SUM(B5,B7,B9,B11,B13,B15,B17,B19)","v":1182},{"$f":"SUM(C5,C7,C9,C11,C13,C15,C17,C19)","v":1229},1253,1106,1013,3144,2913,1495,1234,14569,null,null,"17泉州南",2,4,2,1,4,12,7,16,5,8,11,2,10,10,32,113,764,123,35,81,4,null,"17泉州南",8,5,40,21,20,909,123,35,85]
[null,{"$f":"SUM(B6,B8,B10,B12,B14,B16,B18,B20)","v":1},1,1,1,1,1,0.99999999999999989,1,0.99999999999999989,1,null,null,"18大阪市",1,2,3,1,2,1,null,2,5,6,8,1,4,3,3,null,1,97,9,9,null,null,"18大阪市",6,3,8,15,7,4,97,9,9]
[null,null,null,null,null,null,null,null,null,null,null,null,null,"19堺市",13,15,16,3,6,7,11,10,5,38,22,9,150,68,52,21,17,536,973,60,8,null,"19堺市",44,9,33,69,218,90,536,973,68]
["【病院所在地（圏域）×入院時住所地（圏域）】〔１年以上入院患者〕"]
[]
["病院所在地","入院時住所地",null,null,null,null,null,null,null,null,null,null,null,null,null,null,null,null,null,null,null,null,null,null,null,null,null,null,null,null,null,null,null,null,null,null,null,"（触らない）"]
[null,"豊能","三島","北河内","中河内","南河内","泉州","大阪市","堺市","府外・\nその他","合計",null,null,"行ラベル","01豊能北","02豊能豊中","03豊能吹田","04三島","05三島高槻","06北河内枚方","07北河内寝屋川","08北河内西","09北河内東","10中河内東大阪","11中河内八尾","12中河内南","13南河内北","14南河内南","15泉州北","16泉州中","17泉州南","18大阪市","19堺市","98他府県","99不明その他","列23",null,null,"1_豊能","2_三島","3_北河内","4_中河内","5_南河内","6_泉州","7_大阪市","8_堺市","他府県・不明"]
["豊能",{"$f":"SUM(AM28:AM30)","v":467},38,18,5,8,1,204,3,{"$f":"SUM(AU28:AU30)","v":174},{"$f":"SUM(B28:J28)","v":918},null,null,"01豊能北",140,36,36,9,3,2,1,2,null,1,null,null,1,1,null,null,null,41,null,80,3,null,null,"01豊能北",{"$f":"SUM(O28:Q28)","v":212},{"$f":"SUM(R28:S28)","v":12},{"$f":"SUM(T28:W28)","v":5},{"$f":"SUM(X28:Z28)","v":1},{"$f":"SUM(AA28:AB28)","v":2},{"$f":"SUM(AC28:AE28)","v":0},{"$f":"AF28","v":41},{"$f":"AG28","v":0},{"$f":"SUM(AH28:AI28)","v":83},{"$f":"SUM(AM28:AU28)","v":356}]
[null,{"$f":"B28/B$44","v":0.72291021671826627},{"$f":"C28/C$44","v":5.6213017751479293E-2},2.7649769585253458E-2,9.6899224806201549E-3,1.4362657091561939E-2,4.8899755501222489E-4,0.13737373737373737,3.6900369003690036E-3,0.23418573351278602,0.11288735858337433,null,null,"02豊能豊中",21,114,22,11,6,3,null,4,null,3,null,null,1,1,null,null,null,113,1,59,null,null,null,"02豊能豊中",{"$f":"SUM(O29:Q29)","v":157},{"$f":"SUM(R29:S29)","v":17},{"$f":"SUM(T29:W29)","v":7},{"$f":"SUM(X29:Z29)","v":3},{"$f":"SUM(AA29:AB29)","v":2},{"$f":"SUM(AC29:AE29)","v":0},{"$f":"AF29","v":113},{"$f":"AG29","v":1},{"$f":"SUM(AH29:AI29)","v":59},{"$f":"SUM(AM29:AU29)","v":359}]
["三島",{"$f":"SUM(AM31:AM32)","v":105},{"$f":"SUM(AN31:AN32)","v":595},66,15,5,5,133,5,124,{"$f":"SUM(B30:J30)","v":1053},null,null,"03豊能吹田",6,11,81,8,1,1,4,null,1,null,1,null,2,2,null,1,null,50,2,30,2,null,null,"03豊能吹田",98,9,6,1,4,1,50,2,32,203]
[null,{"$f":"B30/B$44","v":0.16253869969040247},{"$f":"C30/C$44","v":0.88017751479289941},0.10138248847926268,2.9069767441860465E-2,8.9766606822262122E-3,2.4449877750611247E-3,8.9562289562289565E-2,6.1500615006150061E-3,0.16689098250336473,0.12948844072798821,null,null,"04三島",26,19,43,299,127,23,7,14,7,9,3,1,2,1,2,1,2,103,5,97,null,null,null,"04三島",88,426,51,13,3,5,103,5,97,791]
["北河内",{"$f":"SUM(AM33:AM36)","v":18},{"$f":"SUM(AN33:AN36)","v":19},445,24,2,5,87,5,87,{"$f":"SUM(B32:J32)","v":692},null,null,"05三島高槻",2,1,14,35,134,8,3,2,2,2,null,null,2,null,null,null,null,30,null,27,null,null,null,"05三島高槻",17,169,15,2,2,0,30,0,27,262]
[null,{"$f":"B32/B$44","v":2.7863777089783281E-2},{"$f":"C32/C$44","v":2.8106508875739646E-2},0.68356374807987708,4.6511627906976744E-2,3.5906642728904849E-3,2.4449877750611247E-3,5.8585858585858588E-2,6.1500615006150061E-3,0.11709286675639301,8.5095917363502208E-2,null,null,"06北河内枚方",2,10,4,6,10,136,28,24,21,11,2,1,null,1,2,null,1,37,5,52,2,null,null,"06北河内枚方",16,16,209,14,1,3,37,5,54,355]
["中河内",{"$f":"SUM(AM37:AM39)","v":7},1,23,323,11,5,136,6,21,{"$f":"SUM(B34:J34)","v":533},null,null,"07北河内寝屋川",null,null,null,null,1,9,41,12,20,2,1,null,null,null,null,2,null,8,null,6,null,null,null,"07北河内寝屋川",0,1,82,3,0,2,8,0,6,102]
[null,{"$f":"B34/B$44","v":1.0835913312693499E-2},{"$f":"C34/C$44","v":1.4792899408284023E-3},3.5330261136712747E-2,0.62596899224806202,1.9748653500897665E-2,2.4449877750611247E-3,9.1582491582491585E-2,7.3800738007380072E-3,2.826379542395693E-2,6.5543531726512547E-2,null,null,"08北河内西",1,null,1,null,null,2,5,68,2,null,1,null,1,null,null,null,null,33,null,1,null,null,null,"08北河内西",2,0,77,1,1,0,33,0,1,115]
["南河内",{"$f":"SUM(AM40:AM41)","v":5},5,12,34,349,13,165,79,39,{"$f":"SUM(B36:J36)","v":701},null,null,"09北河内東",null,null,null,1,1,4,8,3,62,6,null,null,null,null,null,null,null,9,null,26,null,null,null,"09北河内東",0,2,77,6,0,0,9,0,26,120]
[null,{"$f":"B36/B$44","v":7.7399380804953561E-3},{"$f":"C36/C$44","v":7.3964497041420114E-3},1.8433179723502304E-2,6.589147286821706E-2,0.6265709156193896,6.3569682151589238E-3,0.1111111111111111,9.7170971709717099E-2,5.2489905787348586E-2,8.6202656173143141E-2,null,null,"10中河内東大阪",1,3,null,1,null,null,6,5,6,182,15,1,null,1,null,null,null,96,2,11,null,null,null,"10中河内東大阪",4,1,17,198,1,0,96,2,11,330]
["泉州",{"$f":"SUM(AM42:AM44)","v":29},16,75,87,72,1975,503,190,260,{"$f":"SUM(B38:J38)","v":3207},null,null,"11中河内八尾",null,null,1,null,null,null,null,2,null,12,68,5,5,null,null,null,2,18,1,1,null,null,null,"11中河内八尾",1,0,2,85,5,2,18,1,1,115]
[null,{"$f":"B38/B$44","v":4.4891640866873063E-2},{"$f":"C38/C$44","v":2.3668639053254437E-2},0.1152073732718894,0.16860465116279069,0.12926391382405744,0.96577017114914421,0.3387205387205387,0.23370233702337023,0.34993270524899056,0.39436792916871616,null,null,"12中河内南",null,1,1,null,null,null,1,2,1,12,10,18,3,2,2,null,1,22,3,8,1,null,null,"12中河内南",2,0,4,40,5,3,22,3,9,88]
["大阪市",{"$f":"AM45","v":0},0,0,0,0,0,0,0,0,{"$f":"SUM(B40:J40)","v":0},null,null,"13南河内北",3,null,null,1,null,null,null,3,null,6,5,4,119,11,null,null,null,102,11,9,2,null,null,"13南河内北",3,1,3,15,130,0,102,11,11,276]
[null,{"$f":"B40/B$44","v":0},{"$f":"C40/C$44","v":0},0,0,0,0,0,0,0,0,null,null,"14南河内南",null,2,null,2,2,4,2,2,1,9,10,null,27,192,9,2,2,63,68,26,2,null,null,"14南河内南",2,4,9,19,219,13,63,68,28,425]
["堺市",{"$f":"AM46","v":15},2,12,28,110,41,257,525,38,{"$f":"SUM(B42:J42)","v":1028},null,null,"15泉州北",null,3,6,2,3,5,3,5,7,35,6,3,11,14,435,38,9,173,103,64,4,null,null,"15泉州北",9,5,20,44,25,482,173,103,68,929]
[null,{"$f":"B42/B$44","v":2.3219814241486069E-2},{"$f":"C42/C$44","v":2.9585798816568047E-3},1.8433179723502304E-2,5.4263565891472867E-2,0.19748653500897667,2.0048899755501223E-2,0.17306397306397306,0.64575645756457567,5.1144010767160158E-2,0.12641416625676341,null,null,"16泉州中",5,9,3,5,2,4,7,7,7,20,6,4,17,22,80,739,102,251,70,99,30,null,null,"16泉州中",17,7,25,30,39,921,251,70,129,1489]
["総計",{"$f":"SUM(B28,B30,B32,B34,B36,B38,B40,B42)","v":646},{"$f":"SUM(C28,C30,C32,C34,C36,C38,C40,C42)","v":676},651,516,557,2045,1485,813,743,{"$f":"SUM(K28,K30,K32,K34,K36,K38,K40,K42)","v":8132},null,null,"17泉州南",1,2,null,1,3,8,7,14,1,5,7,1,2,6,18,63,491,79,17,61,2,null,null,"17泉州南",3,4,30,13,8,572,79,17,63,789]
[null,{"$f":"SUM(B29,B31,B33,B35,B37,B39,B41,B43)","v":1},0.99999999999999989,1,1,1,0.99999999999999989,0.99999999999999989,1,1,1,null,null,null,null,null,null,null,null,null,null,null,null,null,null,null,null,null,null,null,null,null,null,null,null,null,null,"18大阪市",{"$f":"SUM(O45:Q45)","v":0},{"$f":"SUM(R45:S45)","v":0},{"$f":"SUM(T45:W45)","v":0},{"$f":"SUM(X45:Z45)","v":0},{"$f":"SUM(AA45:AB45)","v":0},{"$f":"SUM(AC45:AE45)","v":0},{"$f":"AF45","v":0},{"$f":"AG45","v":0},{"$f":"SUM(AH45:AI45)","v":0},0]
[null,null,null,null,null,null,null,null,null,null,null,null,null,"19堺市",5,7,3,1,1,5,3,3,1,15,12,1,79,31,23,9,9,257,525,34,4,null,null,"19堺市",{"$f":"SUM(O46:Q46)","v":15},{"$f":"SUM(R46:S46)","v":2},{"$f":"SUM(T46:W46)","v":12},{"$f":"SUM(X46:Z46)","v":28},{"$f":"SUM(AA46:AB46)","v":110},{"$f":"SUM(AC46:AE46)","v":41},{"$f":"AF46","v":257},{"$f":"AG46","v":525},{"$f":"SUM(AH46:AI46)","v":38},1028]

{"sheet":"6-Ⅳ","index":38,"n_rows":91,"n_cols":17,"rows_kept":91,"cut":false,"hidden":false,"merged":[[2,2,2,8],[2,9,2,15],[2,16,3,16],[45,2,45,8],[45,9,45,15],[45,16,46,16]]}
[null,"【入院時住所地別在院患者の状況】"]
[]
[null,null,"在院1年以上",null,null,null,null,null,null,"在院1年未満",null,null,null,null,null,null,"合計"]
[null,null,"寛解","院内寛解","軽度","中等度","重度","最重度","小計","寛解","院内寛解","軽度","中等度","重度","最重度","小計"]
[1,"池田市",0,5,2,32,13,3,{"$f":"SUM(C5:H5)","v":55},2,4,7,10,8,1,{"$f":"SUM(J5:O5)","v":32},{"$f":"SUM(I5,P5)","v":87}]
[2,"箕面市",1,9,17,51,40,6,{"$f":"SUM(C6:H6)","v":124},1,6,16,23,33,6,{"$f":"SUM(J6:O6)","v":85},{"$f":"SUM(I6,P6)","v":209}]
[3,"能勢町",0,0,0,10,2,2,14,1,0,4,2,2,1,10,24]
[4,"豊能町",0,2,4,7,6,1,20,0,0,1,4,1,0,6,26]
[5,"豊中市",3,13,26,79,77,20,218,3,24,54,88,54,9,232,450]
[6,"吹田市",3,14,30,98,63,7,215,4,17,28,67,50,5,171,386]
[7,"摂津市",0,4,7,23,12,4,50,4,7,9,12,16,1,49,99]
[8,"茨木市",5,5,19,145,119,25,318,13,12,30,74,56,13,198,516]
[9,"島本町",0,0,2,8,2,2,14,3,1,2,8,4,2,20,34]
[10,"高槻市",5,9,39,113,104,24,294,22,33,58,76,74,23,286,580]
[11,"枚方市",4,11,33,105,51,10,214,7,30,42,88,45,10,222,436]
[12,"寝屋川市",5,12,17,55,32,5,126,20,24,26,48,23,3,144,270]
[13,"交野市",0,7,7,10,5,0,29,3,4,8,12,6,0,33,62]
[14,"四條畷市",2,3,13,33,12,6,69,1,2,6,11,9,2,31,100]
[15,"大東市",1,3,4,17,11,5,41,4,7,11,13,12,3,50,91]
[16,"守口市",2,4,12,40,26,11,95,5,7,6,21,21,5,65,160]
[17,"門真市",1,1,14,34,20,7,77,3,12,6,12,17,7,57,134]
[18,"東大阪市",5,37,81,148,52,7,330,15,78,105,82,40,5,325,655]
[19,"八尾市",2,20,41,54,24,6,147,18,81,39,36,31,5,210,357]
[20,"柏原市",0,3,4,17,11,4,39,1,21,10,10,8,5,55,94]
[21,"松原市",0,5,26,69,41,6,147,2,11,31,39,19,0,102,249]
[22,"藤井寺市",0,3,6,13,2,1,25,1,7,7,13,5,1,34,59]
[23,"羽曳野市",1,8,20,46,19,6,100,3,7,19,23,13,2,67,167]
[24,"大阪狭山市",3,5,7,26,20,2,63,2,6,4,19,6,0,37,100]
[25,"富田林市",4,7,23,55,23,9,121,3,11,25,42,20,3,104,225]
[26,"太子町",0,0,1,5,1,1,8,0,0,1,7,1,1,10,18]
[27,"河南町",0,0,2,5,2,0,9,0,1,2,2,3,0,8,17]
[28,"千早赤阪村",0,0,3,3,0,0,6,0,0,2,0,0,0,2,8]
[29,"河内長野市",2,4,11,41,15,5,78,6,9,18,29,25,5,92,170]
[31,"和泉市",4,21,29,99,96,14,263,4,45,34,43,41,13,180,443]
[32,"泉大津市",0,4,6,54,22,1,87,2,10,13,25,8,1,59,146]
[33,"高石市",0,5,23,95,66,3,192,0,7,6,28,27,1,69,261]
[34,"忠岡町",0,1,3,17,7,1,29,0,3,1,9,1,0,14,43]
[35,"岸和田市",1,15,65,218,100,19,418,1,38,51,119,46,11,266,684]
[36,"貝塚市",3,23,74,224,103,10,437,1,16,23,73,35,3,151,588]
[37,"熊取町",0,0,9,48,27,3,87,0,0,17,21,12,2,52,139]
[38,"泉佐野市",0,6,35,136,36,6,219,0,12,39,41,28,1,121,340]
[39,"田尻町",0,0,3,6,5,1,15,0,1,1,5,1,0,8,23]
[40,"泉南市",0,4,45,91,49,0,189,1,8,29,43,21,0,102,291]
[41,"阪南市",0,0,19,48,17,2,86,2,7,17,24,10,0,60,146]
[42,"岬町",0,1,3,11,8,0,23,0,1,9,5,2,0,17,40]
[null,null,"在院1年以上",null,null,null,null,null,null,"在院1年未満",null,null,null,null,null,null,"合計"]
[null,null,"寛解","院内寛解","軽度","中等度","重度","最重度","小計","寛解","院内寛解","軽度","中等度","重度","最重度","小計"]
[null,"大阪市",{"$f":"SUM(C49:C73)","v":12},{"$f":"SUM(D49:D73)","v":113},255,691,354,60,{"$f":"SUM(I49:I73)","v":1485},{"$f":"SUM(J49:J73)","v":60},{"$f":"SUM(K49:K73)","v":219},329,481,275,64,1428,{"$f":"SUM(I48,P48)","v":2913}]
[43,"北区",1,3,8,15,13,1,{"$f":"SUM(C49:H49)","v":41},2,5,9,14,9,0,{"$f":"SUM(J49:O49)","v":39},{"$f":"SUM(I49,P49)","v":80}]
[44,"都島区",0,4,5,22,9,4,44,5,8,6,10,11,3,43,87]
[45,"福島区",0,0,5,12,10,3,30,0,2,5,5,4,1,17,47]
[46,"此花区",0,3,5,15,13,1,37,0,6,8,12,4,2,32,69]
[47,"中央区",0,0,3,13,5,1,22,0,1,4,8,5,0,18,40]
[48,"西区",0,2,6,11,6,1,26,2,3,6,14,7,0,32,58]
[49,"港区",0,3,8,17,11,2,41,1,4,10,23,9,2,49,90]
[50,"大正区",1,5,6,12,8,3,35,1,2,7,6,6,0,22,57]
[51,"天王寺区",0,4,3,13,3,1,24,1,0,4,13,3,1,22,46]
[52,"浪速区",1,2,6,12,3,0,24,4,6,5,10,6,3,34,58]
[53,"西淀川区",0,3,8,21,15,3,50,0,7,8,13,9,3,40,90]
[54,"淀川区",0,8,12,37,29,5,91,3,14,24,28,20,1,90,181]
[55,"東淀川区",2,5,17,60,30,5,119,5,13,20,41,36,7,122,241]
[56,"東成区",1,6,8,15,11,0,41,3,6,12,6,4,1,32,73]
[57,"生野区",1,7,11,36,20,3,78,5,20,17,24,10,2,78,156]
[58,"旭区",0,4,11,30,14,2,61,1,6,6,19,4,7,43,104]
[59,"城東区",0,6,14,42,8,3,73,4,7,13,27,17,4,72,145]
[60,"鶴見区",0,3,5,24,3,0,35,0,8,9,14,4,3,38,73]
[61,"阿倍野区",1,5,11,28,11,4,60,0,7,17,19,12,0,55,115]
[62,"住之江区",1,3,12,42,24,5,87,2,14,12,23,17,4,72,159]
[63,"住吉区",2,8,26,44,19,2,101,5,16,25,36,14,3,99,200]
[64,"東住吉区",1,9,18,32,27,2,89,4,18,28,20,15,3,88,177]
[65,"平野区",0,16,21,61,34,6,138,9,30,42,37,23,7,148,286]
[66,"西成区",0,4,26,77,28,3,138,3,16,32,59,26,7,143,{"$f":"SUM(I72,P72)","v":281}]
[null,"その他大阪市",0,0,0,0,0,0,0,0,0,0,0,0,0,0,0]
[30,"堺市",{"$f":"SUM(C75:C82)","v":5},{"$f":"SUM(D75:D82)","v":47},156,356,211,38,813,13,105,178,230,{"$f":"SUM(N75:N82)","v":132},24,682,{"$f":"SUM(I74,P74)","v":1495}]
[70,"堺区",1,17,61,116,54,6,255,1,21,43,50,28,2,{"$f":"SUM(J75:O75)","v":145},{"$f":"SUM(I75,P75)","v":400}]
[71,"西区",1,2,17,54,27,7,108,4,9,26,35,26,6,106,214]
[72,"中区",0,2,17,41,31,9,100,1,16,35,28,17,3,100,200]
[73,"南区",2,14,19,32,20,5,92,3,15,29,29,23,5,104,196]
[74,"北区",1,6,13,64,51,4,139,2,27,19,42,23,6,119,258]
[75,"東区",0,1,10,24,21,7,63,0,10,14,27,12,2,65,128]
[76,"美原区",0,5,19,25,7,0,56,2,7,12,19,3,0,43,99]
[null,"その他堺市",0,0,0,0,0,0,0,0,0,0,0,0,0,0,0]
[null,"他府県",{"$f":"SUM(C84:C89)","v":3},{"$f":"SUM(D84:D89)","v":37},90,336,188,37,691,20,65,85,154,108,22,{"$f":"SUM(P84:P89)","v":454},{"$f":"SUM(I83,P83)","v":1145}]
[80,"滋賀県",0,1,3,2,4,1,11,1,1,5,1,4,0,{"$f":"SUM(J84:O84)","v":12},23]
[81,"京都府",1,5,22,48,15,9,100,6,9,12,23,15,5,{"$f":"SUM(J85:O85)","v":70},170]
[82,"奈良県",0,10,13,51,30,2,106,4,22,19,23,10,2,80,186]
[83,"兵庫県",1,14,32,137,80,16,280,6,14,24,69,51,9,173,453]
[84,"和歌山県",0,5,11,62,35,4,117,2,10,18,26,16,3,75,192]
[85,"その他",1,2,9,36,24,5,77,1,9,7,12,12,3,44,121]
[99,"不明",0,1,8,29,12,2,52,0,5,8,11,12,1,37,89]
[null,"総計",{"$f":"SUM(C5:C45,C49:C72,C75:C81,C84:C89,C90)","v":77},{"$f":"SUM(D5:D45,D49:D72,D75:D81,D84:D89,D90)","v":472},1294,{"$f":"SUM(F5:F45,F49:F72,F75:F81,F84:F89,F90)","v":3801},{"$f":"SUM(G5:G45,G49:G72,G75:G81,G84:G89,G90)","v":2106},{"$f":"SUM(H5:H45,H49:H72,H75:H81,H84:H89,H90)","v":382},{"$f":"SUM(I5:I45,I49:I72,I75:I81,I84:I89,I90)","v":8132},251,964,1417,2183,1361,261,{"$f":"SUM(P5:P45,P49:P72,P75:P81,P84:P89,P90)","v":6437},{"$f":"SUM(Q5:Q45,Q49:Q73,Q75:Q82,Q84:Q89,Q90)","v":14569}]

{"sheet":"一覧表","index":39,"n_rows":121,"n_cols":18,"rows_kept":121,"cut":false,"hidden":false,"merged":[[22,4,22,5],[2,4,2,5],[3,4,3,5],[4,4,4,5],[5,4,5,5],[6,4,6,5],[7,4,7,5],[8,4,8,5],[9,4,9,5],[10,4,10,5],[17,4,17,5],[18,4,18,5],[39,4,39,5],[23,4,23,5],[24,4,24,5],[25,4,25,5],[26,4,26,5],[27,4,27,5],[28,4,28,5],[29,4,29,5],[30,4,30,5],[31,4,31,5],[32,4,32,5],[38,4,38,5],[60,4,60,5],[40,4,40,5],[41,4,41,5],[42,4,42,5],[43,4,43,5],[44,4,44,5],[45,4,45,5],[67,4,67,5],[68,4,68,5],[33,4,33,5],[69,4,69,5],[70,4,70,5],[61,4,61,5],[62,4,62,5],[63,4,63,5],[64,4,64,5],[65,4,65,5],[66,4,66,5],[46,4,46,5],[53,4,53,5],[54,4,54,5],[58,4,58,5],[59,4,59,5]]}
["<患者全体>",null,null,null,null,null,null,null,null,"＜自動計算＿患者全体＞"]
[null,null,null,null,null,null,null,null,null,null,"全体","寛解","院内寛解",null,null,"全体","寛解","院内寛解"]
["年齢","全人数","寛解・院内寛解",null,"入院病院圏域",null,"全人数","寛解・院内寛解",null,"19歳以下",{"$f":"'2-Ⅰ'!B5","v":181},{"$f":"'2-Ⅰ'!F5","v":9},{"$f":"'2-Ⅰ'!G5","v":20},null,"65-69歳",0,0]
["19歳以下",{"$f":"K3","v":181},{"$f":"L3+M3","v":29},null,"豊能",null,{"$f":"P24","v":1635},{"$f":"Q24+R24","v":160},null,"20歳代",{"$f":"'2-Ⅰ'!B6","v":297},{"$f":"'2-Ⅰ'!F6","v":15},{"$f":"'2-Ⅰ'!G6","v":55},null,"70-74歳",0,0]
["20歳代",297,70,null,"三島",null,1924,179,null,"30歳代",{"$f":"'2-Ⅰ'!B7","v":553},{"$f":"'2-Ⅰ'!F7","v":21},{"$f":"'2-Ⅰ'!G7","v":83},null,"75-79歳",0,0]
["30歳代",553,104,null,"北河内",null,1331,190,null,"40歳代",{"$f":"'2-Ⅰ'!B8","v":1181},{"$f":"'2-Ⅰ'!F8","v":36},{"$f":"'2-Ⅰ'!G8","v":147},null,"80-84歳",0,0]
["40歳代",1181,183,null,"中河内",null,1272,360,null,"50歳代",{"$f":"'2-Ⅰ'!B9","v":2335},{"$f":"'2-Ⅰ'!F9","v":62},{"$f":"'2-Ⅰ'!G9","v":234},null,"85-89歳",0,0]
["50歳代",2335,296,null,"南河内",null,1205,102,null,"60歳代",{"$f":"'2-Ⅰ'!B10","v":2406},{"$f":"'2-Ⅰ'!F10","v":55},{"$f":"'2-Ⅰ'!G10","v":249},null,"90歳以上",0,0]
["60歳代",2406,304,null,"泉州",null,5004,516,null,"70歳代",{"$f":"'2-Ⅰ'!B11","v":3548},{"$f":"'2-Ⅰ'!F11","v":63},{"$f":"'2-Ⅰ'!G11","v":343},null,"総計",0,0]
["70歳代",3548,406,null,"大阪市",null,158,35,null,"80歳代",{"$f":"'2-Ⅰ'!B12","v":3249},{"$f":"'2-Ⅰ'!F12","v":55},{"$f":"'2-Ⅰ'!G12","v":255}]
["80歳代",3249,310,null,"堺市",null,2040,222,null,"90歳以上",{"$f":"'2-Ⅰ'!B13","v":819},{"$f":"'2-Ⅰ'!F13","v":12},{"$f":"'2-Ⅰ'!G13","v":50}]
["90歳以上",819,62,null,"総計",null,14569,1764,null,"総計",{"$f":"'2-Ⅰ'!B14","v":14569},{"$f":"'2-Ⅰ'!F14","v":328},{"$f":"'2-Ⅰ'!G14","v":1436}]
["総計",14569,1764,null,null,null,null,null,null,"65歳未満",{"$f":"'2-Ⅰ'!B15","v":5781},{"$f":"'2-Ⅰ'!F15","v":171},{"$f":"'2-Ⅰ'!G15","v":669}]
["65歳未満",5781,840,null,null,null,null,null,null,"65歳以上",{"$f":"'2-Ⅰ'!B16","v":8788},{"$f":"'2-Ⅰ'!F16","v":157},{"$f":"'2-Ⅰ'!G16","v":767}]
["65歳以上",8788,924]
[]
[]
["在院期間","全人数","寛解・院内寛解",null,"疾患名区分",null,"全人数","寛解・院内寛解"]
["1年未満",{"$f":"SUM(K24:K27)","v":6437},{"$f":"SUM(L24:M27)","v":1215},null,"症状性を含む器質性精神障害（F0）",null,{"$f":"K43","v":4241},{"$f":"SUM(L43:M43)","v":416}]
["1年以上5年未満",{"$f":"SUM(K28:K32)","v":4178},{"$f":"SUM(L28:M32)","v":334},null,null,"アルツハイマー病の認知症を含む器質性精神障害（F00）",{"$f":"K44","v":2181},{"$f":"SUM(L44:M44)","v":187}]
["5年以上10年未満",{"$f":"SUM(K33:K37)","v":1869},{"$f":"SUM(L33:M37)","v":98},null,null,"血管性認知症を含む器質性精神障害（F01）",{"$f":"K45","v":343},38]
["10年以上20年未満",{"$f":"K38","v":1308},{"$f":"SUM(L38:M38)","v":73},null,null,"アルツハイマー病の認知症・血管性認知症以外の、\n症状性を含む器質性精神障害（F02-F09）",1717,191]
["20年以上",{"$f":"K39","v":777},{"$f":"SUM(L39:M39)","v":44},null,"精神作用物質使用による精神及び行動の障害（F1）",null,826,215,null,null,"全体","寛解","院内寛解",null,null,"全体","寛解","院内寛解"]
["総計",{"$f":"K40","v":14569},{"$f":"SUM(L40:M40)","v":1764},null,"統合失調症、統合失調症型障害及び妄想性障害（F2）",null,6942,650,null,"1ヶ月未満",{"$f":"'２-Ⅳ'!B5","v":1817},{"$f":"'２-Ⅳ'!F5","v":91},{"$f":"'２-Ⅳ'!G5","v":294},null,"豊能",{"$f":"'6-Ⅰ⑤'!B16","v":1635},{"$f":"'6-Ⅰ⑤'!B4","v":21},{"$f":"'6-Ⅰ⑤'!B6","v":139}]
[null,null,null,null,"気分（感情）障害（F3）",null,1519,321,null,"1ヶ月～3ヶ月未満",{"$f":"'２-Ⅳ'!B6","v":2135},{"$f":"'２-Ⅳ'!F6","v":96},{"$f":"'２-Ⅳ'!G6","v":395},null,"三島",{"$f":"'6-Ⅰ⑤'!C16","v":1924},{"$f":"'6-Ⅰ⑤'!C4","v":83},{"$f":"'6-Ⅰ⑤'!C6","v":96}]
[null,null,null,null,"神経症性障害、ストレス関連障害及び身体表現性障害（F4）",null,238,54,null,"3ヶ月～6ヶ月未満",{"$f":"'２-Ⅳ'!B7","v":1208},{"$f":"'２-Ⅳ'!F7","v":39},{"$f":"'２-Ⅳ'!G7","v":149},null,"北河内",{"$f":"'6-Ⅰ⑤'!D16","v":1331},{"$f":"'6-Ⅰ⑤'!D4","v":64},{"$f":"'6-Ⅰ⑤'!D6","v":126}]
["状態像","全人数","割合",null,"生理的障害及び身体的要因に関連した行動症候群（F5）",null,55,12,null,"6ヶ月～1年未満",{"$f":"'２-Ⅳ'!B8","v":1277},{"$f":"'２-Ⅳ'!F8","v":25},{"$f":"'２-Ⅳ'!G8","v":126},null,"中河内",{"$f":"'6-Ⅰ⑤'!E16","v":1272},{"$f":"'6-Ⅰ⑤'!E4","v":51},{"$f":"'6-Ⅰ⑤'!E6","v":309}]
["寛解",{"$f":"P43","v":328},{"$f":"Q43","v":2.2513556180932117E-2},null,"成人のパーソナリティ及び行動の障害（F6)",null,35,8,null,"1年～1年6ヶ月未満",{"$f":"'２-Ⅳ'!B9","v":839},{"$f":"'２-Ⅳ'!F9","v":17},{"$f":"'２-Ⅳ'!G9","v":64},null,"南河内",{"$f":"'6-Ⅰ⑤'!F16","v":1205},{"$f":"'6-Ⅰ⑤'!F4","v":34},{"$f":"'6-Ⅰ⑤'!F6","v":68}]
["院内寛解",{"$f":"P44","v":1436},9.8565447182373533E-2,null,"精神遅滞〔知的障害〕（F7)",null,305,28,null,"1年6ヶ月～2年未満",{"$f":"'２-Ⅳ'!B10","v":728},{"$f":"'２-Ⅳ'!F10","v":4},{"$f":"'２-Ⅳ'!G10","v":55},null,"泉州",{"$f":"'6-Ⅰ⑤'!G16","v":5004},{"$f":"'6-Ⅰ⑤'!G4","v":47},{"$f":"'6-Ⅰ⑤'!G6","v":469}]
["軽度",2711,0.18608003294666758,null,"心理的発達の障害（F8）",null,162,30,null,"2年～3年未満",{"$f":"'２-Ⅳ'!B11","v":1041},{"$f":"'２-Ⅳ'!F11","v":12},{"$f":"'２-Ⅳ'!G11","v":60},null,"大阪市",{"$f":"'6-Ⅰ⑤'!H16","v":158},{"$f":"'6-Ⅰ⑤'!H4","v":9},{"$f":"'6-Ⅰ⑤'!H6","v":26}]
["中等度",5984,0.41073512252042005,null,"小児期及び青年期に通常発症する行動及び情緒の障害及び特定不能の精神障害（F9)",null,60,10,null,"3年～4年未満",{"$f":"'２-Ⅳ'!B12","v":894},{"$f":"'２-Ⅳ'!F12","v":7},{"$f":"'２-Ⅳ'!G12","v":65},null,"堺市",{"$f":"'6-Ⅰ⑤'!I16","v":2040},{"$f":"'6-Ⅰ⑤'!I4","v":19},{"$f":"'6-Ⅰ⑤'!I6","v":203}]
["重度",3467,0.23797103438808428,null,"てんかん（症状性を含む器質性障害(F0)に属さないもの）",null,42,4,null,"4年～5年未満",{"$f":"'２-Ⅳ'!B13","v":676},{"$f":"'２-Ⅳ'!F13","v":6},{"$f":"'２-Ⅳ'!G13","v":44},null,"総計",{"$f":"'6-Ⅰ⑤'!J16","v":14569},{"$f":"'6-Ⅰ⑤'!J4","v":328},{"$f":"'6-Ⅰ⑤'!J6","v":1436}]
["最重度",643,4.4134806781522408E-2,null,"不明",null,143,16,null,"5年～6年未満",{"$f":"'２-Ⅳ'!B14","v":574},{"$f":"'２-Ⅳ'!F14","v":4},{"$f":"'２-Ⅳ'!G14","v":20}]
["総計",14569,1,null,"その他",null,{"$f":"K58","v":1},{"$f":"SUM(L58:M58)","v":0},null,"6年～7年未満",{"$f":"'２-Ⅳ'!B15","v":431},{"$f":"'２-Ⅳ'!F15","v":5},{"$f":"'２-Ⅳ'!G15","v":23}]
[null,null,null,null,"総計",null,{"$f":"K59","v":14569},{"$f":"SUM(L59:M59)","v":1764},null,"7年～8年未満",{"$f":"'２-Ⅳ'!B16","v":304},{"$f":"'２-Ⅳ'!F16","v":5},{"$f":"'２-Ⅳ'!G16","v":15}]
[null,null,null,null,null,null,null,null,null,"8年～9年未満",{"$f":"'２-Ⅳ'!B17","v":316},{"$f":"'２-Ⅳ'!F17","v":3},{"$f":"'２-Ⅳ'!G17","v":13}]
["<1年以上>",null,null,null,null,null,null,null,null,"9年～10年未満",{"$f":"'２-Ⅳ'!B18","v":244},{"$f":"'２-Ⅳ'!F18","v":2},{"$f":"'２-Ⅳ'!G18","v":8}]
[null,null,null,null,null,null,null,null,null,"10年～20年未満",{"$f":"'２-Ⅳ'!B19","v":1308},{"$f":"'２-Ⅳ'!F19","v":9},{"$f":"'２-Ⅳ'!G19","v":64}]
["年齢","全人数","寛解・院内寛解",null,"入院病院圏域",null,"全人数","寛解・院内寛解",null,"20年以上",{"$f":"'２-Ⅳ'!B20","v":777},{"$f":"'２-Ⅳ'!F20","v":3},{"$f":"'２-Ⅳ'!G20","v":41}]
["19歳以下",{"$f":"K65","v":3},{"$f":"L65+M65","v":0},null,"豊能",null,{"$f":"P86","v":918},{"$f":"Q86+R86","v":69},null,"総計",{"$f":"'２-Ⅳ'!B21","v":14569},{"$f":"'２-Ⅳ'!F21","v":328},{"$f":"'２-Ⅳ'!G21","v":1436}]
["20歳代",50,4,null,"三島",null,1053,40]
["30歳代",192,14,null,"北河内",null,692,67,null,"疾患名区分","全体","寛解","院内寛解",null,"状態像","全人数","割合"]
["40歳代",580,33,null,"中河内",null,533,81,null,"症状性を含む器質性精神障害（F0）",{"$f":"'２-Ⅲ'!C5","v":4241},{"$f":"'２-Ⅲ'!H5","v":84},{"$f":"'２-Ⅲ'!I5","v":332},null,"寛解",{"$f":"'２-Ⅴ'!B5","v":328},{"$f":"'２-Ⅴ'!C5","v":2.2513556180932117E-2}]
["50歳代",1394,83,null,"南河内",null,701,44,null,"アルツハイマー病の認知症を含む器質性精神障害（F00）",{"$f":"'２-Ⅲ'!C6","v":2181},{"$f":"'２-Ⅲ'!H6","v":33},{"$f":"'２-Ⅲ'!I6","v":154},null,"院内寛解",{"$f":"'２-Ⅴ'!B6","v":1436},{"$f":"'２-Ⅴ'!C6","v":9.8565447182373533E-2}]
["60歳代",1519,115,null,"泉州",null,3207,187,null,"血管性認知症を含む器質性精神障害（F01）",{"$f":"'２-Ⅲ'!C7","v":343},{"$f":"'２-Ⅲ'!H7","v":6},{"$f":"'２-Ⅲ'!I7","v":32},null,"軽度",{"$f":"'２-Ⅴ'!B7","v":2711},{"$f":"'２-Ⅴ'!C7","v":0.18608003294666758}]
["70歳代",2184,161,null,"大阪市",null,0,0,null,"アルツハイマー病の認知症・血管性認知症以外の、\r\n症状性を含む器質性精神障害（F02-F09）",{"$f":"'２-Ⅲ'!C8","v":1717},{"$f":"'２-Ⅲ'!H8","v":45},{"$f":"'２-Ⅲ'!I8","v":146},null,"中等度",{"$f":"'２-Ⅴ'!B8","v":5984},{"$f":"'２-Ⅴ'!C8","v":0.41073512252042005}]
["80歳代",1738,111,null,"堺市",null,1028,61,null,"精神作用物質使用による精神及び行動の障害（F1）",{"$f":"'２-Ⅲ'!C9","v":826},{"$f":"'２-Ⅲ'!H9","v":25},{"$f":"'２-Ⅲ'!I9","v":190},null,"重度",{"$f":"'２-Ⅴ'!B9","v":3467},{"$f":"'２-Ⅴ'!C9","v":0.23797103438808428}]
["90歳以上",472,28,null,"総計",null,8132,549,null,"統合失調症、統合失調症型障害及び妄想性障害（F2）",{"$f":"'２-Ⅲ'!C10","v":6942},{"$f":"'２-Ⅲ'!H10","v":110},{"$f":"'２-Ⅲ'!I10","v":540},null,"最重度",{"$f":"'２-Ⅴ'!B10","v":643},{"$f":"'２-Ⅴ'!C10","v":4.4134806781522408E-2}]
["総計",8132,549,null,null,null,null,null,null,"気分（感情）障害（F3）",{"$f":"'２-Ⅲ'!C11","v":1519},{"$f":"'２-Ⅲ'!H11","v":81},{"$f":"'２-Ⅲ'!I11","v":240},null,"総計",{"$f":"'２-Ⅴ'!B11","v":14569},{"$f":"'２-Ⅴ'!C11","v":1}]
["65歳未満",3015,197,null,null,null,null,null,null,"神経症性障害、ストレス関連障害及び身体表現性障害（F4）",{"$f":"'２-Ⅲ'!C12","v":238},{"$f":"'２-Ⅲ'!H12","v":8},{"$f":"'２-Ⅲ'!I12","v":46}]
["65歳以上",5117,352,null,null,null,null,null,null,"生理的障害及び身体的要因に関連した行動症候群（F5）",{"$f":"'２-Ⅲ'!C13","v":55},{"$f":"'２-Ⅲ'!H13","v":4},{"$f":"'２-Ⅲ'!I13","v":8}]
[null,null,null,null,null,null,null,null,null,"成人のパーソナリティ及び行動の障害（F6)",{"$f":"'２-Ⅲ'!C14","v":35},{"$f":"'２-Ⅲ'!H14","v":1},{"$f":"'２-Ⅲ'!I14","v":7}]
[null,null,null,null,null,null,null,null,null,"精神遅滞〔知的障害〕（F7)",{"$f":"'２-Ⅲ'!C15","v":305},{"$f":"'２-Ⅲ'!H15","v":6},{"$f":"'２-Ⅲ'!I15","v":22}]
["状態像","全人数","割合",null,"疾患名区分",null,"全人数","寛解・院内寛解",null,"心理的発達の障害（F8）",{"$f":"'２-Ⅲ'!C16","v":162},{"$f":"'２-Ⅲ'!H16","v":5},{"$f":"'２-Ⅲ'!I16","v":25}]
["寛解",{"$f":"P105","v":77},9.4687653713723553E-3,null,"症状性を含む器質性精神障害（F0）",null,{"$f":"K105","v":2031},{"$f":"SUM(L105:M105)","v":139},null,"小児期及び青年期に通常発症する行動及び情緒の障害及び特定不能の精神障害（F9)",{"$f":"'２-Ⅲ'!C17","v":60},{"$f":"'２-Ⅲ'!H17","v":2},{"$f":"'２-Ⅲ'!I17","v":8}]
["院内寛解",472,5.804230201672405E-2,null,null,"アルツハイマー病の認知症を含む器質性精神障害（F00）",998,50,null,"てんかん（症状性を含む器質性障害(F0)に属さないもの）",{"$f":"'２-Ⅲ'!C18","v":42},{"$f":"'２-Ⅲ'!H18","v":0},{"$f":"'２-Ⅲ'!I18","v":4}]
["軽度",1294,0.15912444663059519,null,null,"血管性認知症を含む器質性精神障害（F01）",180,13,null,"その他",{"$f":"'２-Ⅲ'!C19","v":143},{"$f":"'２-Ⅲ'!H19","v":2},{"$f":"'２-Ⅲ'!I19","v":14}]
["中等度",3801,0.46741269060501722,null,null,"アルツハイマー病の認知症・血管性認知症以外の、\n症状性を含む器質性精神障害（F02-F09）",853,76,null,"不明",{"$f":"'２-Ⅲ'!C20","v":1},{"$f":"'２-Ⅲ'!H20","v":0},{"$f":"'２-Ⅲ'!I20","v":0}]
["重度",2106,0.25897688145597642,null,"精神作用物質使用による精神及び行動の障害（F1）",null,320,39,null,"総計",{"$f":"'２-Ⅲ'!C21","v":14569},{"$f":"'２-Ⅲ'!H21","v":328},{"$f":"'２-Ⅲ'!I21","v":1436}]
["最重度",382,4.6974913920314804E-2,null,"統合失調症、統合失調症型障害及び妄想性障害（F2）",null,4793,278]
["総計",8132,1,null,"気分（感情）障害（F3）",null,597,66]
[null,null,null,null,"神経症性障害、ストレス関連障害及び身体表現性障害（F4）",null,75,10]
[null,null,null,null,"生理的障害及び身体的要因に関連した行動症候群（F5）",null,5,1,null,"＜自動計算＿1年以上＞"]
[null,null,null,null,"成人のパーソナリティ及び行動の障害（F6)",null,14,1,null,null,"全体","寛解","院内寛解",null,null,"全体","寛解","院内寛解"]
[null,null,null,null,"精神遅滞〔知的障害〕（F7)",null,153,6,null,"19歳以下",{"$f":"'３-Ⅰ'!B5","v":3},{"$f":"'３-Ⅰ'!F5","v":0},{"$f":"'３-Ⅰ'!G5","v":0},null,"65-69歳",0,0]
[null,null,null,null,"心理的発達の障害（F8）",null,46,5,null,"20歳代",{"$f":"'３-Ⅰ'!B6","v":50},{"$f":"'３-Ⅰ'!F6","v":0},{"$f":"'３-Ⅰ'!G6","v":4},null,"70-74歳",0,0]
[null,null,null,null,"小児期及び青年期に通常発症する行動及び情緒の障害及び特定不能の精神障害（F9)",null,7,1,null,"30歳代",{"$f":"'３-Ⅰ'!B7","v":192},{"$f":"'３-Ⅰ'!F7","v":3},{"$f":"'３-Ⅰ'!G7","v":11},null,"75-79歳",0,0]
[null,null,null,null,"てんかん（症状性を含む器質性障害(F0)に属さないもの）",null,31,1,null,"40歳代",{"$f":"'３-Ⅰ'!B8","v":580},{"$f":"'３-Ⅰ'!F8","v":4},{"$f":"'３-Ⅰ'!G8","v":29},null,"80-84歳",0,0]
[null,null,null,null,"その他",null,60,2,null,"50歳代",{"$f":"'３-Ⅰ'!B9","v":1394},{"$f":"'３-Ⅰ'!F9","v":14},{"$f":"'３-Ⅰ'!G9","v":69},null,"85-89歳",0,0]
[null,null,null,null,"不明",null,0,0,null,"60歳代",{"$f":"'３-Ⅰ'!B10","v":1519},{"$f":"'３-Ⅰ'!F10","v":18},{"$f":"'３-Ⅰ'!G10","v":97},null,"90歳以上",0,0]
[null,null,null,null,"総計",null,8132,549,null,"70歳代",{"$f":"'３-Ⅰ'!B11","v":2184},{"$f":"'３-Ⅰ'!F11","v":22},{"$f":"'３-Ⅰ'!G11","v":139},null,"総計",0,0]
[null,null,null,null,null,null,null,null,null,"80歳代",{"$f":"'３-Ⅰ'!B12","v":1738},{"$f":"'３-Ⅰ'!F12","v":11},{"$f":"'３-Ⅰ'!G12","v":100}]
[null,null,null,null,null,null,null,null,null,"90歳以上",{"$f":"'３-Ⅰ'!B13","v":472},{"$f":"'３-Ⅰ'!F13","v":5},{"$f":"'３-Ⅰ'!G13","v":23}]
[null,null,null,null,null,null,null,null,null,"総計",{"$f":"'３-Ⅰ'!B14","v":8132},{"$f":"'３-Ⅰ'!F14","v":77},{"$f":"'３-Ⅰ'!G14","v":472}]
[null,null,null,null,null,null,null,null,null,"65歳未満",{"$f":"'３-Ⅰ'!B15","v":3015},{"$f":"'３-Ⅰ'!F15","v":30},{"$f":"'３-Ⅰ'!G15","v":167}]
[null,null,null,null,null,null,null,null,null,"65歳以上",{"$f":"'３-Ⅰ'!B16","v":5117},{"$f":"'３-Ⅰ'!F16","v":47},{"$f":"'３-Ⅰ'!G16","v":305}]
[]
[]
[]
[]
[]
[]
[]
[]
[null,null,null,null,null,null,null,null,null,null,"全体","寛解","院内寛解",null,null,"全体","寛解","院内寛解"]
[null,null,null,null,null,null,null,null,null,"1ヶ月未満",{"$f":"'２-Ⅳ'!B67","v":0},{"$f":"'２-Ⅳ'!F67","v":0},{"$f":"'２-Ⅳ'!G67","v":0},null,"豊能",{"$f":"'6-Ⅰ⑤'!B37","v":918},{"$f":"'6-Ⅰ⑤'!B25","v":7},{"$f":"'6-Ⅰ⑤'!B27","v":62}]
[null,null,null,null,null,null,null,null,null,"1ヶ月～3ヶ月未満",{"$f":"'２-Ⅳ'!B68","v":0},{"$f":"'２-Ⅳ'!F68","v":0},{"$f":"'２-Ⅳ'!G68","v":0},null,"三島",{"$f":"'6-Ⅰ⑤'!C37","v":1053},{"$f":"'6-Ⅰ⑤'!C25","v":12},{"$f":"'6-Ⅰ⑤'!C27","v":28}]
[null,null,null,null,null,null,null,null,null,"3ヶ月～6ヶ月未満",{"$f":"'２-Ⅳ'!B69","v":0},{"$f":"'２-Ⅳ'!F69","v":0},{"$f":"'２-Ⅳ'!G69","v":0},null,"北河内",{"$f":"'6-Ⅰ⑤'!D37","v":692},{"$f":"'6-Ⅰ⑤'!D25","v":21},{"$f":"'6-Ⅰ⑤'!D27","v":46}]
[null,null,null,null,null,null,null,null,null,"6ヶ月～1年未満",{"$f":"'２-Ⅳ'!B70","v":0},{"$f":"'２-Ⅳ'!F70","v":0},{"$f":"'２-Ⅳ'!G70","v":0},null,"中河内",{"$f":"'6-Ⅰ⑤'!E37","v":533},{"$f":"'6-Ⅰ⑤'!E25","v":6},{"$f":"'6-Ⅰ⑤'!E27","v":75}]
[null,null,null,null,null,null,null,null,null,"1年～1年6ヶ月未満",{"$f":"'２-Ⅳ'!B71","v":0},{"$f":"'２-Ⅳ'!F71","v":0},{"$f":"'２-Ⅳ'!G71","v":0},null,"南河内",{"$f":"'6-Ⅰ⑤'!F37","v":701},{"$f":"'6-Ⅰ⑤'!F25","v":10},{"$f":"'6-Ⅰ⑤'!F27","v":34}]
[null,null,null,null,null,null,null,null,null,"1年6ヶ月～2年未満",{"$f":"'２-Ⅳ'!B72","v":0},{"$f":"'２-Ⅳ'!F72","v":0},{"$f":"'２-Ⅳ'!G72","v":0},null,"泉州",{"$f":"'6-Ⅰ⑤'!G37","v":3207},{"$f":"'6-Ⅰ⑤'!G25","v":14},{"$f":"'6-Ⅰ⑤'!G27","v":173}]
[null,null,null,null,null,null,null,null,null,"2年～3年未満",{"$f":"'２-Ⅳ'!B73","v":0},{"$f":"'２-Ⅳ'!F73","v":0},{"$f":"'２-Ⅳ'!G73","v":0},null,"大阪市",{"$f":"'6-Ⅰ⑤'!H37","v":0},{"$f":"'6-Ⅰ⑤'!H25","v":0},{"$f":"'6-Ⅰ⑤'!H27","v":0}]
[null,null,null,null,null,null,null,null,null,"3年～4年未満",{"$f":"'２-Ⅳ'!B74","v":0},{"$f":"'２-Ⅳ'!F74","v":0},{"$f":"'２-Ⅳ'!G74","v":0},null,"堺市",{"$f":"'6-Ⅰ⑤'!I37","v":1028},{"$f":"'6-Ⅰ⑤'!I25","v":7},{"$f":"'6-Ⅰ⑤'!I27","v":54}]
[null,null,null,null,null,null,null,null,null,"4年～5年未満",{"$f":"'２-Ⅳ'!B75","v":0},{"$f":"'２-Ⅳ'!F75","v":0},{"$f":"'２-Ⅳ'!G75","v":0},null,"総計",{"$f":"'6-Ⅰ⑤'!J37","v":8132},{"$f":"'6-Ⅰ⑤'!J25","v":77},{"$f":"'6-Ⅰ⑤'!J27","v":472}]
[null,null,null,null,null,null,null,null,null,"5年～6年未満",{"$f":"'２-Ⅳ'!B76","v":0},{"$f":"'２-Ⅳ'!F76","v":0},{"$f":"'２-Ⅳ'!G76","v":0}]
[null,null,null,null,null,null,null,null,null,"6年～7年未満",{"$f":"'２-Ⅳ'!B77","v":0},{"$f":"'２-Ⅳ'!F77","v":0},{"$f":"'２-Ⅳ'!G77","v":0}]
[null,null,null,null,null,null,null,null,null,"7年～8年未満",{"$f":"'２-Ⅳ'!B78","v":0},{"$f":"'２-Ⅳ'!F78","v":0},{"$f":"'２-Ⅳ'!G78","v":0}]
[null,null,null,null,null,null,null,null,null,"8年～9年未満",{"$f":"'２-Ⅳ'!B79","v":0},{"$f":"'２-Ⅳ'!F79","v":0},{"$f":"'２-Ⅳ'!G79","v":0}]
[null,null,null,null,null,null,null,null,null,"9年～10年未満",{"$f":"'２-Ⅳ'!B80","v":0},{"$f":"'２-Ⅳ'!F80","v":0},{"$f":"'２-Ⅳ'!G80","v":0}]
[null,null,null,null,null,null,null,null,null,"10年～20年未満",{"$f":"'２-Ⅳ'!B81","v":0},{"$f":"'２-Ⅳ'!F81","v":0},{"$f":"'２-Ⅳ'!G81","v":0}]
[null,null,null,null,null,null,null,null,null,"20年以上",{"$f":"'２-Ⅳ'!B82","v":0},{"$f":"'２-Ⅳ'!F82","v":0},{"$f":"'２-Ⅳ'!G82","v":0}]
[null,null,null,null,null,null,null,null,null,"総計",{"$f":"'２-Ⅳ'!B83","v":0},{"$f":"'２-Ⅳ'!F83","v":0},{"$f":"'２-Ⅳ'!G83","v":0}]
[]
[null,null,null,null,null,null,null,null,null,"疾患名区分","全体","寛解","院内寛解",null,"状態像","全人数","割合"]
[null,null,null,null,null,null,null,null,null,"症状性を含む器質性精神障害（F0）",{"$f":"'３-Ⅲ'!C5","v":2031},{"$f":"'３-Ⅲ'!H5","v":22},{"$f":"'３-Ⅲ'!I5","v":117},null,"寛解",{"$f":"'３-Ⅳ'!B5","v":77},{"$f":"'３-Ⅳ'!C5","v":9.4687653713723553E-3}]
[null,null,null,null,null,null,null,null,null,"アルツハイマー病の認知症を含む器質性精神障害（F00）",{"$f":"'３-Ⅲ'!C6","v":998},{"$f":"'３-Ⅲ'!H6","v":7},{"$f":"'３-Ⅲ'!I6","v":43},null,"院内寛解",{"$f":"'３-Ⅳ'!B6","v":472},{"$f":"'３-Ⅳ'!C6","v":5.804230201672405E-2}]
[null,null,null,null,null,null,null,null,null,"血管性認知症を含む器質性精神障害（F01）",{"$f":"'３-Ⅲ'!C7","v":180},{"$f":"'３-Ⅲ'!H7","v":3},{"$f":"'３-Ⅲ'!I7","v":10},null,"軽度",{"$f":"'３-Ⅳ'!B7","v":1294},{"$f":"'３-Ⅳ'!C7","v":0.15912444663059519}]
[null,null,null,null,null,null,null,null,null,"アルツハイマー病の認知症・血管性認知症以外の、\r\n症状性を含む器質性精神障害（F02-F09）",{"$f":"'３-Ⅲ'!C8","v":853},{"$f":"'３-Ⅲ'!H8","v":12},{"$f":"'３-Ⅲ'!I8","v":64},null,"中等度",{"$f":"'３-Ⅳ'!B8","v":3801},{"$f":"'３-Ⅳ'!C8","v":0.46741269060501722}]
[null,null,null,null,null,null,null,null,null,"精神作用物質使用による精神及び行動の障害（F1）",{"$f":"'３-Ⅲ'!C9","v":320},{"$f":"'３-Ⅲ'!H9","v":4},{"$f":"'３-Ⅲ'!I9","v":35},null,"重度",{"$f":"'３-Ⅳ'!B9","v":2106},{"$f":"'３-Ⅳ'!C9","v":0.25897688145597642}]
[null,null,null,null,null,null,null,null,null,"統合失調症、統合失調症型障害及び妄想性障害（F2）",{"$f":"'３-Ⅲ'!C10","v":4793},{"$f":"'３-Ⅲ'!H10","v":34},{"$f":"'３-Ⅲ'!I10","v":244},null,"最重度",{"$f":"'３-Ⅳ'!B10","v":382},{"$f":"'３-Ⅳ'!C10","v":4.6974913920314804E-2}]
[null,null,null,null,null,null,null,null,null,"気分（感情）障害（F3）",{"$f":"'３-Ⅲ'!C11","v":597},{"$f":"'３-Ⅲ'!H11","v":14},{"$f":"'３-Ⅲ'!I11","v":52},null,"総計",{"$f":"'３-Ⅳ'!B11","v":8132},{"$f":"'３-Ⅳ'!C11","v":1}]
[null,null,null,null,null,null,null,null,null,"神経症性障害、ストレス関連障害及び身体表現性障害（F4）",{"$f":"'３-Ⅲ'!C12","v":75},{"$f":"'３-Ⅲ'!H12","v":0},{"$f":"'３-Ⅲ'!I12","v":10}]
[null,null,null,null,null,null,null,null,null,"生理的障害及び身体的要因に関連した行動症候群（F5）",{"$f":"'３-Ⅲ'!C13","v":5},{"$f":"'３-Ⅲ'!H13","v":0},{"$f":"'３-Ⅲ'!I13","v":1}]
[null,null,null,null,null,null,null,null,null,"成人のパーソナリティ及び行動の障害（F6)",{"$f":"'３-Ⅲ'!C14","v":14},{"$f":"'３-Ⅲ'!H14","v":0},{"$f":"'３-Ⅲ'!I14","v":1}]
[null,null,null,null,null,null,null,null,null,"精神遅滞〔知的障害〕（F7)",{"$f":"'３-Ⅲ'!C15","v":153},{"$f":"'３-Ⅲ'!H15","v":1},{"$f":"'３-Ⅲ'!I15","v":5}]
[null,null,null,null,null,null,null,null,null,"心理的発達の障害（F8）",{"$f":"'３-Ⅲ'!C16","v":46},{"$f":"'３-Ⅲ'!H16","v":0},{"$f":"'３-Ⅲ'!I16","v":5}]
[null,null,null,null,null,null,null,null,null,"小児期及び青年期に通常発症する行動及び情緒の障害及び特定不能の精神障害（F9)",{"$f":"'３-Ⅲ'!C17","v":7},{"$f":"'３-Ⅲ'!H17","v":0},{"$f":"'３-Ⅲ'!I17","v":1}]
[null,null,null,null,null,null,null,null,null,"てんかん（症状性を含む器質性障害(F0)に属さないもの）",{"$f":"'３-Ⅲ'!C18","v":31},{"$f":"'３-Ⅲ'!H18","v":0},{"$f":"'３-Ⅲ'!I18","v":1}]
[null,null,null,null,null,null,null,null,null,"その他",{"$f":"'３-Ⅲ'!C19","v":60},{"$f":"'３-Ⅲ'!H19","v":2},{"$f":"'３-Ⅲ'!I19","v":0}]
[null,null,null,null,null,null,null,null,null,"不明",{"$f":"'３-Ⅲ'!C20","v":0},{"$f":"'３-Ⅲ'!H20","v":0},{"$f":"'３-Ⅲ'!I20","v":0}]
[null,null,null,null,null,null,null,null,null,"総計",{"$f":"'３-Ⅲ'!C21","v":8132},{"$f":"'３-Ⅲ'!H21","v":77},{"$f":"'３-Ⅲ'!I21","v":472}]

{"sheet":"グラフ(年齢区分）","index":40,"n_rows":51,"n_cols":17,"rows_kept":51,"cut":false,"hidden":false,"merged":[]}
[]
[]
[]
[null,null,null,null,null,null,null,null,null,null,null,null,null,"全体","寛解","院内寛解","計"]
[null,null,null,null,null,null,null,null,null,null,null,null,"19歳以下",{"$f":"IFERROR(VLOOKUP($M5,年齢区分[#All],2,FALSE),0)","v":181},{"$f":"IFERROR(VLOOKUP($M5,年齢区分＿寛解[#All],2,FALSE),0)","v":9},{"$f":"IFERROR(VLOOKUP($M5,年齢区分＿院内寛解[#All],2,FALSE),0)","v":20},{"$f":"SUM(O5:P5)","v":29}]
[null,null,null,null,null,null,null,null,null,null,null,null,"20歳代",{"$f":"IFERROR(VLOOKUP($M6,年齢区分[#All],2,FALSE),0)","v":297},{"$f":"IFERROR(VLOOKUP($M6,年齢区分＿寛解[#All],2,FALSE),0)","v":15},{"$f":"IFERROR(VLOOKUP($M6,年齢区分＿院内寛解[#All],2,FALSE),0)","v":55},{"$f":"SUM(O6:P6)","v":70}]
[null,null,null,null,null,null,null,null,null,null,null,null,"30歳代",{"$f":"IFERROR(VLOOKUP($M7,年齢区分[#All],2,FALSE),0)","v":553},{"$f":"IFERROR(VLOOKUP($M7,年齢区分＿寛解[#All],2,FALSE),0)","v":21},{"$f":"IFERROR(VLOOKUP($M7,年齢区分＿院内寛解[#All],2,FALSE),0)","v":83},104]
[null,null,null,null,null,null,null,null,null,null,null,null,"40歳代",{"$f":"IFERROR(VLOOKUP($M8,年齢区分[#All],2,FALSE),0)","v":1181},{"$f":"IFERROR(VLOOKUP($M8,年齢区分＿寛解[#All],2,FALSE),0)","v":36},{"$f":"IFERROR(VLOOKUP($M8,年齢区分＿院内寛解[#All],2,FALSE),0)","v":147},183]
[null,null,null,null,null,null,null,null,null,null,null,null,"50歳代",{"$f":"IFERROR(VLOOKUP($M9,年齢区分[#All],2,FALSE),0)","v":2335},{"$f":"IFERROR(VLOOKUP($M9,年齢区分＿寛解[#All],2,FALSE),0)","v":62},{"$f":"IFERROR(VLOOKUP($M9,年齢区分＿院内寛解[#All],2,FALSE),0)","v":234},296]
[null,null,null,null,null,null,null,null,null,null,null,null,"60歳代",{"$f":"IFERROR(VLOOKUP($M10,年齢区分[#All],2,FALSE),0)","v":2406},{"$f":"IFERROR(VLOOKUP($M10,年齢区分＿寛解[#All],2,FALSE),0)","v":55},{"$f":"IFERROR(VLOOKUP($M10,年齢区分＿院内寛解[#All],2,FALSE),0)","v":249},304]
[null,null,null,null,null,null,null,null,null,null,null,null,"70歳代",{"$f":"IFERROR(VLOOKUP($M11,年齢区分[#All],2,FALSE),0)","v":3548},{"$f":"IFERROR(VLOOKUP($M11,年齢区分＿寛解[#All],2,FALSE),0)","v":63},{"$f":"IFERROR(VLOOKUP($M11,年齢区分＿院内寛解[#All],2,FALSE),0)","v":343},406]
[null,null,null,null,null,null,null,null,null,null,null,null,"80歳代",{"$f":"IFERROR(VLOOKUP($M12,年齢区分[#All],2,FALSE),0)","v":3249},{"$f":"IFERROR(VLOOKUP($M12,年齢区分＿寛解[#All],2,FALSE),0)","v":55},{"$f":"IFERROR(VLOOKUP($M12,年齢区分＿院内寛解[#All],2,FALSE),0)","v":255},310]
[null,null,null,null,null,null,null,null,null,null,null,null,"90歳以上",{"$f":"IFERROR(VLOOKUP($M13,年齢区分[#All],2,FALSE),0)","v":819},{"$f":"IFERROR(VLOOKUP($M13,年齢区分＿寛解[#All],2,FALSE),0)","v":12},{"$f":"IFERROR(VLOOKUP($M13,年齢区分＿院内寛解[#All],2,FALSE),0)","v":50},62]
[]
[]
[]
[]
[]
[]
[]
[]
[]
[]
[null,null,null,null,null,null,null,null,null,null,null,null,null,"全体","寛解","院内寛解","寛解院内寛解合計"]
[null,null,null,null,null,null,null,null,null,null,null,null,"19歳以下",{"$f":"IFERROR(VLOOKUP($M25,年齢区分＿1年以上[#All],2,FALSE),0)","v":3},{"$f":"IFERROR(VLOOKUP($M25,年齢区分＿1年以上＿寛解[#All],2,FALSE),0)","v":0},{"$f":"IFERROR(VLOOKUP($M25,年齢区分＿1年以上＿院内寛解[#All],2,FALSE),0)","v":0},{"$f":"SUM(O25:P25)","v":0}]
[null,null,null,null,null,null,null,null,null,null,null,null,"20歳代",{"$f":"IFERROR(VLOOKUP($M26,年齢区分＿1年以上[#All],2,FALSE),0)","v":50},{"$f":"IFERROR(VLOOKUP($M26,年齢区分＿1年以上＿寛解[#All],2,FALSE),0)","v":0},{"$f":"IFERROR(VLOOKUP($M26,年齢区分＿1年以上＿院内寛解[#All],2,FALSE),0)","v":4},{"$f":"SUM(O26:P26)","v":4}]
[null,null,null,null,null,null,null,null,null,null,null,null,"30歳代",{"$f":"IFERROR(VLOOKUP($M27,年齢区分＿1年以上[#All],2,FALSE),0)","v":192},{"$f":"IFERROR(VLOOKUP($M27,年齢区分＿1年以上＿寛解[#All],2,FALSE),0)","v":3},{"$f":"IFERROR(VLOOKUP($M27,年齢区分＿1年以上＿院内寛解[#All],2,FALSE),0)","v":11},14]
[null,null,null,null,null,null,null,null,null,null,null,null,"40歳代",{"$f":"IFERROR(VLOOKUP($M28,年齢区分＿1年以上[#All],2,FALSE),0)","v":580},{"$f":"IFERROR(VLOOKUP($M28,年齢区分＿1年以上＿寛解[#All],2,FALSE),0)","v":4},{"$f":"IFERROR(VLOOKUP($M28,年齢区分＿1年以上＿院内寛解[#All],2,FALSE),0)","v":29},33]
[null,null,null,null,null,null,null,null,null,null,null,null,"50歳代",{"$f":"IFERROR(VLOOKUP($M29,年齢区分＿1年以上[#All],2,FALSE),0)","v":1394},{"$f":"IFERROR(VLOOKUP($M29,年齢区分＿1年以上＿寛解[#All],2,FALSE),0)","v":14},{"$f":"IFERROR(VLOOKUP($M29,年齢区分＿1年以上＿院内寛解[#All],2,FALSE),0)","v":69},83]
[null,null,null,null,null,null,null,null,null,null,null,null,"60歳代",{"$f":"IFERROR(VLOOKUP($M30,年齢区分＿1年以上[#All],2,FALSE),0)","v":1519},{"$f":"IFERROR(VLOOKUP($M30,年齢区分＿1年以上＿寛解[#All],2,FALSE),0)","v":18},{"$f":"IFERROR(VLOOKUP($M30,年齢区分＿1年以上＿院内寛解[#All],2,FALSE),0)","v":97},115]
[null,null,null,null,null,null,null,null,null,null,null,null,"70歳代",{"$f":"IFERROR(VLOOKUP($M31,年齢区分＿1年以上[#All],2,FALSE),0)","v":2184},{"$f":"IFERROR(VLOOKUP($M31,年齢区分＿1年以上＿寛解[#All],2,FALSE),0)","v":22},{"$f":"IFERROR(VLOOKUP($M31,年齢区分＿1年以上＿院内寛解[#All],2,FALSE),0)","v":139},161]
[null,null,null,null,null,null,null,null,null,null,null,null,"80歳代",{"$f":"IFERROR(VLOOKUP($M32,年齢区分＿1年以上[#All],2,FALSE),0)","v":1738},{"$f":"IFERROR(VLOOKUP($M32,年齢区分＿1年以上＿寛解[#All],2,FALSE),0)","v":11},{"$f":"IFERROR(VLOOKUP($M32,年齢区分＿1年以上＿院内寛解[#All],2,FALSE),0)","v":100},111]
[null,null,null,null,null,null,null,null,null,null,null,null,"90歳以上",{"$f":"IFERROR(VLOOKUP($M33,年齢区分＿1年以上[#All],2,FALSE),0)","v":472},{"$f":"IFERROR(VLOOKUP($M33,年齢区分＿1年以上＿寛解[#All],2,FALSE),0)","v":5},{"$f":"IFERROR(VLOOKUP($M33,年齢区分＿1年以上＿院内寛解[#All],2,FALSE),0)","v":23},28]
[]
[]
[]
[]
[]
[]
[]
[]
[]
[]
[]
[null,null,null,null,null,null,null,null,null,null,null,null,null,"全体","寛解院内寛解"]
[null,null,null,null,null,null,null,null,null,null,null,null,"65-69歳",{"$f":"IFERROR(VLOOKUP($M46,年齢区分＿65歳以上[#All],2,FALSE),0)","v":1172},{"$f":"IFERROR(VLOOKUP($M46,年齢区分＿65歳以上＿寛解・院内寛解[#All],2,FALSE),0)","v":146}]
[null,null,null,null,null,null,null,null,null,null,null,null,"70-74歳",{"$f":"IFERROR(VLOOKUP($M47,年齢区分＿65歳以上[#All],2,FALSE),0)","v":1733},{"$f":"IFERROR(VLOOKUP($M47,年齢区分＿65歳以上＿寛解・院内寛解[#All],2,FALSE),0)","v":203}]
[null,null,null,null,null,null,null,null,null,null,null,null,"75-79歳",{"$f":"IFERROR(VLOOKUP($M48,年齢区分＿65歳以上[#All],2,FALSE),0)","v":1815},{"$f":"IFERROR(VLOOKUP($M48,年齢区分＿65歳以上＿寛解・院内寛解[#All],2,FALSE),0)","v":203}]
[null,null,null,null,null,null,null,null,null,null,null,null,"80-84歳",{"$f":"IFERROR(VLOOKUP($M49,年齢区分＿65歳以上[#All],2,FALSE),0)","v":1882},{"$f":"IFERROR(VLOOKUP($M49,年齢区分＿65歳以上＿寛解・院内寛解[#All],2,FALSE),0)","v":189}]
[null,null,null,null,null,null,null,null,null,null,null,null,"85-89歳",{"$f":"IFERROR(VLOOKUP($M50,年齢区分＿65歳以上[#All],2,FALSE),0)","v":1367},{"$f":"IFERROR(VLOOKUP($M50,年齢区分＿65歳以上＿寛解・院内寛解[#All],2,FALSE),0)","v":121}]
[null,null,null,null,null,null,null,null,null,null,null,null,"90歳以上",{"$f":"IFERROR(VLOOKUP($M51,年齢区分＿65歳以上[#All],2,FALSE),0)","v":819},{"$f":"IFERROR(VLOOKUP($M51,年齢区分＿65歳以上＿寛解・院内寛解[#All],2,FALSE),0)","v":62}]

{"sheet":"グラフ(疾患名)","index":41,"n_rows":57,"n_cols":21,"rows_kept":57,"cut":false,"hidden":false,"merged":[[55,12,55,13],[56,12,56,13],[49,12,49,13],[50,12,50,13],[51,12,51,13],[52,12,52,13],[53,12,53,13],[54,12,54,13],[48,12,48,13],[27,12,27,13],[28,12,28,13],[29,12,29,13],[30,12,30,13],[31,12,31,13],[32,12,32,13],[33,12,33,13],[34,12,34,13],[45,12,45,13],[46,12,46,13],[47,12,47,13],[4,12,4,13],[26,12,26,13],[5,12,5,13],[6,12,6,13],[7,12,7,13],[8,12,8,13],[9,12,9,13],[10,12,10,13],[13,12,13,13],[14,12,14,13],[15,12,15,13],[11,12,11,13],[12,12,12,13],[23,12,23,13],[24,12,24,13],[25,12,25,13]]}
[]
[]
[]
[null,null,null,null,null,null,null,null,null,null,null,null,null,null,"人数","寛解","院内寛解","計"]
[null,null,null,null,null,null,null,null,null,null,null,null,"症状性を含む器質性精神障害（F0）",null,{"$f":"'２-Ⅲ'!C5","v":4241},{"$f":"'２-Ⅲ'!H5","v":84},{"$f":"'２-Ⅲ'!I5","v":332},{"$f":"SUM(P5:Q5)","v":416},null,"F0","F00アルツハイマー病型認知症"]
[null,null,null,null,null,null,null,null,null,null,null,null,"精神作用物質使用による精神及び行動の障害（F1）",null,{"$f":"'２-Ⅲ'!C9","v":826},{"$f":"'２-Ⅲ'!H9","v":25},{"$f":"'２-Ⅲ'!I9","v":190},215,null,"F1","F01血管性認知症"]
[null,null,null,null,null,null,null,null,null,null,null,null,"統合失調症、統合失調症型障害及び妄想性障害（F2）",null,{"$f":"'２-Ⅲ'!C10","v":6942},{"$f":"'２-Ⅲ'!H10","v":110},{"$f":"'２-Ⅲ'!I10","v":540},650,null,"F2","F02-09上記以外の症状性を含む器質性精神障害"]
[null,null,null,null,null,null,null,null,null,null,null,null,"気分（感情）障害（F3）",null,{"$f":"'２-Ⅲ'!C11","v":1519},{"$f":"'２-Ⅲ'!H11","v":81},{"$f":"'２-Ⅲ'!I11","v":240},321,null,"F3","F10アルコール使用による精神及び行動の障害"]
[null,null,null,null,null,null,null,null,null,null,null,null,"神経症性障害、ストレス関連障害及び身体表現性障害（F4）",null,{"$f":"'２-Ⅲ'!C12","v":238},{"$f":"'２-Ⅲ'!H12","v":8},{"$f":"'２-Ⅲ'!I12","v":46},54,null,"F4","アルコール覚せい剤を除く精神作用物質使用による精神及び行動の障害※"]
[null,null,null,null,null,null,null,null,null,null,null,null,"生理的障害及び身体的要因に関連した行動症候群（F5）",null,{"$f":"'２-Ⅲ'!C13","v":55},{"$f":"'２-Ⅲ'!H13","v":4},{"$f":"'２-Ⅲ'!I13","v":8},12,null,"F5","覚せい剤による精神及び行動の障害※"]
[null,null,null,null,null,null,null,null,null,null,null,null,"成人のパーソナリティ及び行動の障害（F6)",null,{"$f":"'２-Ⅲ'!C14","v":35},{"$f":"'２-Ⅲ'!H14","v":1},{"$f":"'２-Ⅲ'!I14","v":7},8,null,"F6","F2統合失調症、統合失調症型障害及び妄想性障害"]
[null,null,null,null,null,null,null,null,null,null,null,null,"精神遅滞〔知的障害〕（F7)",null,{"$f":"'２-Ⅲ'!C15","v":305},{"$f":"'２-Ⅲ'!H15","v":6},{"$f":"'２-Ⅲ'!I15","v":22},28,null,"F7","F30‐31　躁病エピソード・双極性感情障害［躁うつ病］"]
[null,null,null,null,null,null,null,null,null,null,null,null,"心理的発達の障害（F8）",null,{"$f":"'２-Ⅲ'!C16","v":162},{"$f":"'２-Ⅲ'!H16","v":5},{"$f":"'２-Ⅲ'!I16","v":25},30,null,"F8","F32-39　その他の気分障害"]
[null,null,null,null,null,null,null,null,null,null,null,null,"小児期及び青年期に通常発症する行動及び情緒の障害及び特定不能の精神障害（F9)",null,{"$f":"'２-Ⅲ'!C17","v":60},{"$f":"'２-Ⅲ'!H17","v":2},{"$f":"'２-Ⅲ'!I17","v":8},10,null,"F9","F4神経症性障害、ストレス関連障害及び身体表現性障害"]
[null,null,null,null,null,null,null,null,null,null,null,null,"てんかん（症状性を含む器質性障害(F0)に属さないもの）",null,{"$f":"'２-Ⅲ'!C18","v":42},{"$f":"'２-Ⅲ'!H18","v":0},{"$f":"'２-Ⅲ'!I18","v":4},4,null,"てんかん","F5生理的障害及び身体的要因に関連した行動症候群"]
[null,null,null,null,null,null,null,null,null,null,null,null,"その他",null,{"$f":"'２-Ⅲ'!C19","v":143},{"$f":"'２-Ⅲ'!H19","v":2},{"$f":"'２-Ⅲ'!I19","v":14},16,null,"その他","F6成人のパーソナリティ及び行動の障害"]
[null,null,null,null,null,null,null,null,null,null,null,null,null,null,null,null,null,null,null,null,"F7精神遅滞〔知的障害〕"]
[null,null,null,null,null,null,null,null,null,null,null,null,null,null,null,null,null,null,null,null,"F8心理的発達の障害"]
[null,null,null,null,null,null,null,null,null,null,null,null,null,null,null,null,null,null,null,null,"F9小児期及び青年期に通常発症する行動及び情緒の障害及び特定不能の精神障害"]
[null,null,null,null,null,null,null,null,null,null,null,null,null,null,null,null,null,null,null,null,"てんかん（F0に属さないものを計上する）"]
[null,null,null,null,null,null,null,null,null,null,null,null,null,null,null,null,null,null,null,null,"その他"]
[]
[null,null,null,null,null,null,null,null,null,null,null,null,null,null,"人数","寛解","院内寛解","計"]
[null,null,null,null,null,null,null,null,null,null,null,null,"症状性を含む器質性精神障害（F0）",null,{"$f":"'３-Ⅲ'!C5","v":2031},{"$f":"'３-Ⅲ'!H5","v":22},{"$f":"'３-Ⅲ'!I5","v":117},{"$f":"SUM(P24:Q24)","v":139}]
[null,null,null,null,null,null,null,null,null,null,null,null,"精神作用物質使用による精神及び行動の障害（F1）",null,{"$f":"'３-Ⅲ'!C9","v":320},{"$f":"'３-Ⅲ'!H9","v":4},{"$f":"'３-Ⅲ'!I9","v":35},39]
[null,null,null,null,null,null,null,null,null,null,null,null,"統合失調症、統合失調症型障害及び妄想性障害（F2）",null,{"$f":"'３-Ⅲ'!C10","v":4793},{"$f":"'３-Ⅲ'!H10","v":34},{"$f":"'３-Ⅲ'!I10","v":244},278]
[null,null,null,null,null,null,null,null,null,null,null,null,"気分（感情）障害（F3）",null,{"$f":"'３-Ⅲ'!C11","v":597},{"$f":"'３-Ⅲ'!H11","v":14},{"$f":"'３-Ⅲ'!I11","v":52},66]
[null,null,null,null,null,null,null,null,null,null,null,null,"神経症性障害、ストレス関連障害及び身体表現性障害（F4）",null,{"$f":"'３-Ⅲ'!C12","v":75},{"$f":"'３-Ⅲ'!H12","v":0},{"$f":"'３-Ⅲ'!I12","v":10},10]
[null,null,null,null,null,null,null,null,null,null,null,null,"生理的障害及び身体的要因に関連した行動症候群（F5）",null,{"$f":"'３-Ⅲ'!C13","v":5},{"$f":"'３-Ⅲ'!H13","v":0},{"$f":"'３-Ⅲ'!I13","v":1},1]
[null,null,null,null,null,null,null,null,null,null,null,null,"成人のパーソナリティ及び行動の障害（F6)",null,{"$f":"'３-Ⅲ'!C14","v":14},{"$f":"'３-Ⅲ'!H14","v":0},{"$f":"'３-Ⅲ'!I14","v":1},1]
[null,null,null,null,null,null,null,null,null,null,null,null,"精神遅滞〔知的障害〕（F7)",null,{"$f":"'３-Ⅲ'!C15","v":153},{"$f":"'３-Ⅲ'!H15","v":1},{"$f":"'３-Ⅲ'!I15","v":5},6]
[null,null,null,null,null,null,null,null,null,null,null,null,"心理的発達の障害（F8）",null,{"$f":"'３-Ⅲ'!C16","v":46},{"$f":"'３-Ⅲ'!H16","v":0},{"$f":"'３-Ⅲ'!I16","v":5},5]
[null,null,null,null,null,null,null,null,null,null,null,null,"小児期及び青年期に通常発症する行動及び情緒の障害及び特定不能の精神障害（F9)",null,{"$f":"'３-Ⅲ'!C17","v":7},{"$f":"'３-Ⅲ'!H17","v":0},{"$f":"'３-Ⅲ'!I17","v":1},1]
[null,null,null,null,null,null,null,null,null,null,null,null,"てんかん（症状性を含む器質性障害(F0)に属さないもの）",null,{"$f":"'３-Ⅲ'!C18","v":31},{"$f":"'３-Ⅲ'!H18","v":0},{"$f":"'３-Ⅲ'!I18","v":1},1]
[null,null,null,null,null,null,null,null,null,null,null,null,"その他",null,{"$f":"'３-Ⅲ'!C19","v":60},{"$f":"'３-Ⅲ'!H19","v":2},{"$f":"'３-Ⅲ'!I19","v":0},2]
[]
[]
[]
[]
[]
[]
[]
[]
[]
[null,null,null,null,null,null,null,null,null,null,null,null,null,null,"人数","寛解院内寛解"]
[null,null,null,null,null,null,null,null,null,null,null,null,"症状性を含む器質性精神障害（F0）",null,{"$f":"'４-Ⅲ'!D6","v":3963},{"$f":"'４-Ⅲ'!D27","v":388}]
[null,null,null,null,null,null,null,null,null,null,null,null,"精神作用物質使用による精神及び行動の障害（F1）",null,{"$f":"'４-Ⅲ'!D10","v":369},{"$f":"'４-Ⅲ'!D31","v":81}]
[null,null,null,null,null,null,null,null,null,null,null,null,"統合失調症、統合失調症型障害及び妄想性障害（F2）",null,{"$f":"'４-Ⅲ'!D11","v":3225},{"$f":"'４-Ⅲ'!D32","v":259}]
[null,null,null,null,null,null,null,null,null,null,null,null,"気分（感情）障害（F3）",null,{"$f":"'４-Ⅲ'!D12","v":936},{"$f":"'４-Ⅲ'!D33","v":153}]
[null,null,null,null,null,null,null,null,null,null,null,null,"神経症性障害、ストレス関連障害及び身体表現性障害（F4）",null,{"$f":"'４-Ⅲ'!D13","v":97},{"$f":"'４-Ⅲ'!D34","v":23}]
[null,null,null,null,null,null,null,null,null,null,null,null,"生理的障害及び身体的要因に関連した行動症候群（F5）",null,{"$f":"'４-Ⅲ'!D14","v":2},{"$f":"'４-Ⅲ'!D35","v":0}]
[null,null,null,null,null,null,null,null,null,null,null,null,"成人のパーソナリティ及び行動の障害（F6)",null,{"$f":"'４-Ⅲ'!D15","v":8},{"$f":"'４-Ⅲ'!D36","v":2}]
[null,null,null,null,null,null,null,null,null,null,null,null,"精神遅滞〔知的障害〕（F7)",null,{"$f":"'４-Ⅲ'!D16","v":59},{"$f":"'４-Ⅲ'!D37","v":3}]
[null,null,null,null,null,null,null,null,null,null,null,null,"心理的発達の障害（F8）",null,{"$f":"'４-Ⅲ'!D17","v":5},{"$f":"'４-Ⅲ'!D38","v":0}]
[null,null,null,null,null,null,null,null,null,null,null,null,"小児期及び青年期に通常発症する行動及び情緒の障害及び特定不能の精神障害（F9)",null,{"$f":"'４-Ⅲ'!D18","v":12},{"$f":"'４-Ⅲ'!D39","v":2}]
[null,null,null,null,null,null,null,null,null,null,null,null,"てんかん（症状性を含む器質性障害(F0)に属さないもの）",null,{"$f":"'４-Ⅲ'!D19","v":17},{"$f":"'４-Ⅲ'!D40","v":3}]
[null,null,null,null,null,null,null,null,null,null,null,null,"その他",null,{"$f":"'４-Ⅲ'!D20","v":94},{"$f":"'４-Ⅲ'!D41","v":10}]

{"sheet":"グラフ(在院期間) ","index":42,"n_rows":12,"n_cols":17,"rows_kept":12,"cut":false,"hidden":false,"merged":[]}
[null,null,null,null,null,null,null,null,null,null,null,"【在院期間　※自動入力】"]
[null,null,null,null,null,null,null,null,null,null,null,null,"人数",null,null,"割合"]
[null,null,null,null,null,null,null,null,null,null,null,"患者全体","65歳未満","65歳以上","合計","65歳未満","65歳以上"]
[null,null,null,null,null,null,null,null,null,null,null,"1年未満",{"$f":"O4-N4","v":2766},{"$f":"'４-Ⅳ'!B23","v":3671},{"$f":"'２-Ⅳ'!B22","v":6437},{"$f":"IFERROR(M4/$O4,0)","v":0.42970327792449897},{"$f":"IFERROR(N4/$O4,)","v":0.57029672207550097}]
[null,null,null,null,null,null,null,null,null,null,null,"1年以上5年未満",{"$f":"O5-N5","v":1325},{"$f":"'４-Ⅳ'!B24","v":2853},{"$f":"'２-Ⅳ'!B23","v":4178},{"$f":"IFERROR(M5/$O5,0)","v":0.31713738630923888},{"$f":"IFERROR(N5/$O5,)","v":0.68286261369076118}]
[null,null,null,null,null,null,null,null,null,null,null,"5年以上10年未満",794,{"$f":"'４-Ⅳ'!B25","v":1075},{"$f":"'２-Ⅳ'!B24","v":1869},{"$f":"IFERROR(M6/$O6,0)","v":0.42482611021936867},0.57517388978063133]
[null,null,null,null,null,null,null,null,null,null,null,"10年以上",896,{"$f":"'４-Ⅳ'!B26","v":1189},{"$f":"'２-Ⅳ'!B25","v":2085},0.42973621103117504,0.5702637889688249]
[null,null,null,null,null,null,null,null,null,null,null,"寛解・院内寛解群","65歳未満","65歳以上","合計","65歳未満","65歳以上"]
[null,null,null,null,null,null,null,null,null,null,null,"1年未満",{"$f":"O9-N9","v":643},{"$f":"'４-Ⅳ'!D23","v":572},{"$f":"'２-Ⅳ'!H22","v":1215},{"$f":"IFERROR(M9/$O9,0)","v":0.52921810699588478},0.47078189300411522]
[null,null,null,null,null,null,null,null,null,null,null,"1年以上5年未満",{"$f":"O10-N10","v":112},{"$f":"'４-Ⅳ'!D24","v":222},{"$f":"'２-Ⅳ'!H23","v":334},0.33532934131736525,0.66467065868263475]
[null,null,null,null,null,null,null,null,null,null,null,"5年以上10年未満",35,{"$f":"'４-Ⅳ'!D25","v":63},{"$f":"'２-Ⅳ'!H24","v":98},0.35714285714285715,0.6428571428571429]
[null,null,null,null,null,null,null,null,null,null,null,"10年以上",50,{"$f":"'４-Ⅳ'!D26","v":67},{"$f":"'２-Ⅳ'!H25","v":117},0.42735042735042733,0.57264957264957261]

{"sheet":"グラフ(在院期間)  (2)","index":43,"n_rows":24,"n_cols":17,"rows_kept":24,"cut":false,"hidden":false,"merged":[]}
[null,null,null,null,null,null,null,null,null,null,null,"【在院期間　※自動入力】"]
[null,null,null,null,null,null,null,null,null,null,null,null,"人数",null,null,"割合"]
[null,null,null,null,null,null,null,null,null,null,null,"患者全体","65歳未満","65歳以上","合計","65歳未満","65歳以上"]
[null,null,null,null,null,null,null,null,null,null,null,"1年未満",{"$f":"O4-N4","v":2766},{"$f":"'４-Ⅳ'!B23","v":3671},{"$f":"'２-Ⅳ'!B22","v":6437},{"$f":"IFERROR(M4/$O4,0)","v":0.42970327792449897},{"$f":"IFERROR(N4/$O4,)","v":0.57029672207550097}]
[null,null,null,null,null,null,null,null,null,null,null,"1年以上5年未満",{"$f":"O5-N5","v":1325},{"$f":"'４-Ⅳ'!B24","v":2853},{"$f":"'２-Ⅳ'!B23","v":4178},{"$f":"IFERROR(M5/$O5,0)","v":0.31713738630923888},{"$f":"IFERROR(N5/$O5,)","v":0.68286261369076118}]
[null,null,null,null,null,null,null,null,null,null,null,"5年以上10年未満",{"$f":"O6-N6","v":794},{"$f":"'４-Ⅳ'!B25","v":1075},{"$f":"'２-Ⅳ'!B24","v":1869},{"$f":"IFERROR(M6/$O6,0)","v":0.42482611021936867},{"$f":"IFERROR(N6/$O6,)","v":0.57517388978063133}]
[null,null,null,null,null,null,null,null,null,null,null,"10年以上",{"$f":"O7-N7","v":896},{"$f":"'４-Ⅳ'!B26","v":1189},{"$f":"'２-Ⅳ'!B25","v":2085},{"$f":"IFERROR(M7/$O7,0)","v":0.42973621103117504},{"$f":"IFERROR(N7/$O7,)","v":0.5702637889688249}]
[null,null,null,null,null,null,null,null,null,null,null,"寛解・院内寛解群","65歳未満","65歳以上","合計","65歳未満","65歳以上"]
[null,null,null,null,null,null,null,null,null,null,null,"1年未満",{"$f":"O9-N9","v":643},{"$f":"'４-Ⅳ'!D23","v":572},{"$f":"'２-Ⅳ'!H22","v":1215},{"$f":"IFERROR(M9/$O9,0)","v":0.52921810699588478},{"$f":"IFERROR(N9/$O9,)","v":0.47078189300411522}]
[null,null,null,null,null,null,null,null,null,null,null,"1年以上5年未満",{"$f":"O10-N10","v":112},{"$f":"'４-Ⅳ'!D24","v":222},{"$f":"'２-Ⅳ'!H23","v":334},{"$f":"IFERROR(M10/$O10,0)","v":0.33532934131736525},{"$f":"IFERROR(N10/$O10,)","v":0.66467065868263475}]
[null,null,null,null,null,null,null,null,null,null,null,"5年以上10年未満",{"$f":"O11-N11","v":35},{"$f":"'４-Ⅳ'!D25","v":63},{"$f":"'２-Ⅳ'!H24","v":98},{"$f":"IFERROR(M11/$O11,0)","v":0.35714285714285715},{"$f":"IFERROR(N11/$O11,)","v":0.6428571428571429}]
[null,null,null,null,null,null,null,null,null,null,null,"10年以上",{"$f":"O12-N12","v":50},{"$f":"'４-Ⅳ'!D26","v":67},{"$f":"'２-Ⅳ'!H25","v":117},{"$f":"IFERROR(M12/$O12,0)","v":0.42735042735042733},{"$f":"IFERROR(N12/$O12,)","v":0.57264957264957261}]
[]
[]
[]
[]
[null,null,null,null,null,null,null,null,null,null,null,"【在院期間　※自動入力】"]
[null,null,null,null,null,null,null,null,null,null,null,null,"人数",null,null,"割合"]
[null,null,null,null,null,null,null,null,null,null,null,"患者全体","65歳未満","65歳以上","合計","65歳未満","65歳以上"]
[null,null,null,null,null,null,null,null,null,null,null,"1年未満",{"$f":"M4","v":2766},{"$f":"N4","v":3671},{"$f":"SUM(M20:N20)","v":6437},{"$f":"IFERROR(M20/$O20,0)","v":0.42970327792449897},{"$f":"IFERROR(N20/$O20,)","v":0.57029672207550097}]
[null,null,null,null,null,null,null,null,null,null,null,"1年以上",{"$f":"SUM(M5:M7)","v":3015},{"$f":"SUM(N5:N7)","v":5117},{"$f":"SUM(M21:N21)","v":8132},{"$f":"IFERROR(M21/$O21,0)","v":0.3707575012297098},{"$f":"IFERROR(N21/$O21,)","v":0.62924249877029026}]
[null,null,null,null,null,null,null,null,null,null,null,"寛解・院内寛解群","65歳未満","65歳以上","合計","65歳未満","65歳以上"]
[null,null,null,null,null,null,null,null,null,null,null,"1年未満",{"$f":"M9","v":643},{"$f":"N9","v":572},{"$f":"SUM(M23:N23)","v":1215},{"$f":"IFERROR(M23/$O23,0)","v":0.52921810699588478},{"$f":"IFERROR(N23/$O23,)","v":0.47078189300411522}]
[null,null,null,null,null,null,null,null,null,null,null,"1年以上",{"$f":"SUM(M10:M12)","v":197},{"$f":"SUM(N10:N12)","v":352},549,{"$f":"IFERROR(M24/$O24,0)","v":0.35883424408014569},{"$f":"IFERROR(N24/$O24,)","v":0.64116575591985425}]

{"sheet":"グラフ(退院阻害要因＿１) ","index":44,"n_rows":34,"n_cols":19,"rows_kept":34,"cut":false,"hidden":false,"merged":[[7,15,7,16],[7,17,7,18],[13,8,13,9],[13,10,13,11],[1,1,1,2],[1,8,1,9],[1,10,1,11],[2,2,2,3],[2,4,2,5],[7,8,7,9],[7,10,7,11]]}
[null,null,null,null,null,null,null,"【退院予定及び阻害要因　※自動入力】"]
[null,"阻害要因　TOP5",null,null,null,null,null,"退院予定の有無","全在院患者",null,"在院1年以上寛解・院内寛解群"]
[null,null,{"$f":"\"全在院患者（\"&$I$9&\"人)中\"","v":"全在院患者（1956人)中"},null,{"$f":"\"在院1年以上寛解・院内寛解群（\"&$K$9&\"人)中\"","v":"在院1年以上寛解・院内寛解群（333人)中"},null,null,"病状（主症状）が落ち着き、入院によらない形で治療ができる程度まで回復",{"$f":"'２-Ⅵ'!B5","v":2188},{"$f":"'２-Ⅵ'!C5","v":0.15018189306060814},{"$f":"'３-Ⅴ'!H5","v":345},{"$f":"'３-Ⅴ'!I5","v":0.62841530054644812}]
[null,1,{"$f":"INDEX($H$15:$H$34,MATCH(B4,$M$15:$M$34,0))","v":"現実認識が乏しい"},{"$f":"LARGE($J$15:$J$34,B4)","v":0.37678936605316976},{"$f":"INDEX($H$15:$H$34,MATCH(B4,$N$15:$N$34,0))","v":"退院意欲が乏しい"},{"$f":"LARGE($L$15:$L$34,B4)","v":0.45345345345345345},null,"病状（主症状）が不安定で入院による治療が必要",{"$f":"'２-Ⅵ'!B6","v":10815},{"$f":"'２-Ⅵ'!C6","v":0.74232960395360015},{"$f":"'３-Ⅴ'!H6","v":103},{"$f":"'３-Ⅴ'!I6","v":0.18761384335154827}]
[null,2,{"$f":"INDEX($H$15:$H$34,MATCH(B5,$M$15:$M$34,0))","v":"退院意欲が乏しい"},{"$f":"LARGE($J$15:$J$34,B5)","v":0.37116564417177916},{"$f":"INDEX($H$15:$H$34,MATCH(B5,$N$15:$N$34,0))","v":"現実認識が乏しい"},{"$f":"LARGE($L$15:$L$34,B5)","v":0.28528528528528529},null,"退院予定",{"$f":"'２-Ⅵ'!B7","v":1566},{"$f":"'２-Ⅵ'!C7","v":0.10748850298579175},{"$f":"'３-Ⅴ'!H7","v":101},{"$f":"'３-Ⅴ'!I7","v":0.18397085610200364}]
[null,3,{"$f":"INDEX($H$15:$H$34,MATCH(B6,$M$15:$M$34,0))","v":"病状は落ち着いているが、ときどき不安定な病状が見られ、そのことが退院を阻害する要因になっている"},{"$f":"LARGE($J$15:$J$34,B6)","v":0.33742331288343558},{"$f":"INDEX($H$15:$H$34,MATCH(B6,$N$15:$N$34,0))","v":"住まいの確保ができない"},{"$f":"LARGE($L$15:$L$34,B6)","v":0.27627627627627627},null,"計",{"$f":"'２-Ⅵ'!B8","v":14569},{"$f":"'２-Ⅵ'!C8","v":1},{"$f":"'３-Ⅴ'!H8","v":549},{"$f":"'３-Ⅴ'!I8","v":1}]
[null,4,{"$f":"INDEX($H$15:$H$34,MATCH(B7,$M$15:$M$34,0))","v":"住まいの確保ができない"},{"$f":"LARGE($J$15:$J$34,B7)","v":0.31441717791411045},{"$f":"INDEX($H$15:$H$34,MATCH(B7,$N$15:$N$34,0))","v":"病状は落ち着いているが、ときどき不安定な病状が見られ、そのことが退院を阻害する要因になっている"},{"$f":"LARGE($L$15:$L$34,B7)","v":0.27027027027027029}]
[null,5,{"$f":"INDEX($H$15:$H$34,MATCH(B8,$M$15:$M$34,0))","v":"家事（食事・洗濯・金銭管理など）ができない"},{"$f":"LARGE($J$15:$J$34,B8)","v":0.29601226993865032},{"$f":"INDEX($H$15:$H$34,MATCH(B8,$N$15:$N$34,0))","v":"退院による環境変化への不安が強い"},{"$f":"LARGE($L$15:$L$34,B8)","v":0.27027027027027029},null,"退院阻害要因の有無","全在院患者",null,"在院1年以上寛解・院内寛解群",null,null,null,"退院阻害要因の有無2","全在院患者",null,"在院1年以上寛解・院内寛解群"]
[null,null,null,null,null,null,null,"退院阻害要因がある",{"$f":"'２-Ⅵ'!B14","v":1956},{"$f":"'２-Ⅵ'!C14","v":0.89396709323583179},{"$f":"'３-Ⅴ'!H14","v":333},{"$f":"'３-Ⅴ'!I14","v":0.9652173913043478},null,null,"病状（主症状）が不安定で入院による治療が必要",{"$f":"I4","v":10815},{"$f":"IFERROR(P9/$P$13,0)","v":0.74232960395360015},{"$f":"K4","v":103},{"$f":"IFERROR(R9/$R$13,0)","v":0.18761384335154827}]
[null,null,null,null,null,null,null,"退院阻害要因がない",{"$f":"'２-Ⅵ'!B15","v":232},{"$f":"'２-Ⅵ'!C15","v":0.10603290676416818},{"$f":"'３-Ⅴ'!H15","v":12},{"$f":"'３-Ⅴ'!I15","v":3.4782608695652174E-2},null,null,"退院予定",{"$f":"I5","v":1566},{"$f":"IFERROR(P10/$P$13,0)","v":0.10748850298579175},{"$f":"K5","v":101},{"$f":"IFERROR(R10/$R$13,0)","v":0.18397085610200364}]
[null,null,null,null,null,null,null,"計",{"$f":"'２-Ⅵ'!B16","v":2188},{"$f":"'２-Ⅵ'!C16","v":1},{"$f":"'３-Ⅴ'!H16","v":345},{"$f":"'３-Ⅴ'!I16","v":1},null,null,"退院阻害要因がある",{"$f":"I9","v":1956},0.13425767039604641,{"$f":"K9","v":333},0.60655737704918034]
[null,null,null,null,null,null,null,null,null,null,null,null,null,null,"退院阻害要因がない",{"$f":"I10","v":232},1.5924222664561741E-2,{"$f":"K10","v":12},2.185792349726776E-2]
[null,null,null,null,null,null,null,null,null,null,null,null,null,null,"計",{"$f":"SUM(P9:P12)","v":14569},1,{"$f":"SUM(R9:R12)","v":549},1]
[null,null,null,null,null,null,null,null,"全在院患者",null,"在院1年以上寛解・院内寛解群",null,"LANK","LANK"]
[null,null,null,null,null,null,null,"病状は落ち着いているが、ときどき不安定な病状が見られ、そのことが退院を阻害する要因になっている",{"$f":"'２-Ⅵ'!B23","v":660},{"$f":"'２-Ⅵ'!C23","v":0.33742331288343558},{"$f":"'３-Ⅴ'!H23","v":90},{"$f":"'３-Ⅴ'!I23","v":0.27027027027027029},{"$f":"_xlfn.RANK.EQ(J15,$J$15:$J$34)+COUNTIF($J$15:J15,J15)-1","v":3},{"$f":"_xlfn.RANK.EQ(L15,$L$15:$L$34)+COUNTIF($L$15:L15,L15)-1","v":4}]
[null,null,null,null,null,null,null,"病識がなく通院服薬の中断が予測される",{"$f":"'２-Ⅵ'!B24","v":509},{"$f":"'２-Ⅵ'!C24","v":0.2602249488752556},{"$f":"'３-Ⅴ'!H24","v":57},{"$f":"'３-Ⅴ'!I24","v":0.17117117117117117},{"$f":"_xlfn.RANK.EQ(J16,$J$15:$J$34)+COUNTIF($J$15:J16,J16)-1","v":6},{"$f":"_xlfn.RANK.EQ(L16,$L$15:$L$34)+COUNTIF($L$15:L16,L16)-1","v":8}]
[null,null,null,null,null,null,null,"反社会的行動が予測される",{"$f":"'２-Ⅵ'!B25","v":82},{"$f":"'２-Ⅵ'!C25","v":4.1922290388548056E-2},{"$f":"'３-Ⅴ'!H25","v":6},{"$f":"'３-Ⅴ'!I25","v":1.8018018018018018E-2},{"$f":"_xlfn.RANK.EQ(J17,$J$15:$J$34)+COUNTIF($J$15:J17,J17)-1","v":17},{"$f":"_xlfn.RANK.EQ(L17,$L$15:$L$34)+COUNTIF($L$15:L17,L17)-1","v":17}]
[null,null,null,null,null,null,null,"退院意欲が乏しい",{"$f":"'２-Ⅵ'!B26","v":726},{"$f":"'２-Ⅵ'!C26","v":0.37116564417177916},{"$f":"'３-Ⅴ'!H26","v":151},{"$f":"'３-Ⅴ'!I26","v":0.45345345345345345},{"$f":"_xlfn.RANK.EQ(J18,$J$15:$J$34)+COUNTIF($J$15:J18,J18)-1","v":2},{"$f":"_xlfn.RANK.EQ(L18,$L$15:$L$34)+COUNTIF($L$15:L18,L18)-1","v":1}]
[null,null,null,null,null,null,null,"現実認識が乏しい",{"$f":"'２-Ⅵ'!B27","v":737},{"$f":"'２-Ⅵ'!C27","v":0.37678936605316976},{"$f":"'３-Ⅴ'!H27","v":95},{"$f":"'３-Ⅴ'!I27","v":0.28528528528528529},{"$f":"_xlfn.RANK.EQ(J19,$J$15:$J$34)+COUNTIF($J$15:J19,J19)-1","v":1},{"$f":"_xlfn.RANK.EQ(L19,$L$15:$L$34)+COUNTIF($L$15:L19,L19)-1","v":2}]
[null,null,null,null,null,null,null,"退院による環境変化への不安が強い",{"$f":"'２-Ⅵ'!B28","v":499},{"$f":"'２-Ⅵ'!C28","v":0.2551124744376278},{"$f":"'３-Ⅴ'!H28","v":90},{"$f":"'３-Ⅴ'!I28","v":0.27027027027027029},{"$f":"_xlfn.RANK.EQ(J20,$J$15:$J$34)+COUNTIF($J$15:J20,J20)-1","v":7},{"$f":"_xlfn.RANK.EQ(L20,$L$15:$L$34)+COUNTIF($L$15:L20,L20)-1","v":5}]
[null,null,null,null,null,null,null,"援助者との対人関係がもてない",{"$f":"'２-Ⅵ'!B29","v":151},{"$f":"'２-Ⅵ'!C29","v":7.7198364008179962E-2},{"$f":"'３-Ⅴ'!H29","v":12},{"$f":"'３-Ⅴ'!I29","v":3.6036036036036036E-2},{"$f":"_xlfn.RANK.EQ(J21,$J$15:$J$34)+COUNTIF($J$15:J21,J21)-1","v":12},{"$f":"_xlfn.RANK.EQ(L21,$L$15:$L$34)+COUNTIF($L$15:L21,L21)-1","v":15}]
[null,null,null,null,null,null,null,"家事（食事・洗濯・金銭管理など）ができない",{"$f":"'２-Ⅵ'!B30","v":579},{"$f":"'２-Ⅵ'!C30","v":0.29601226993865032},{"$f":"'３-Ⅴ'!H30","v":83},{"$f":"'３-Ⅴ'!I30","v":0.24924924924924924},{"$f":"_xlfn.RANK.EQ(J22,$J$15:$J$34)+COUNTIF($J$15:J22,J22)-1","v":5},{"$f":"_xlfn.RANK.EQ(L22,$L$15:$L$34)+COUNTIF($L$15:L22,L22)-1","v":6}]
[null,null,null,null,null,null,null,"家族がいない、本人をサポートする機能が実質ない",{"$f":"'２-Ⅵ'!B31","v":317},{"$f":"'２-Ⅵ'!C31","v":0.16206543967280163},{"$f":"'３-Ⅴ'!H31","v":52},{"$f":"'３-Ⅴ'!I31","v":0.15615615615615616},{"$f":"_xlfn.RANK.EQ(J23,$J$15:$J$34)+COUNTIF($J$15:J23,J23)-1","v":10},{"$f":"_xlfn.RANK.EQ(L23,$L$15:$L$34)+COUNTIF($L$15:L23,L23)-1","v":9}]
[null,null,null,null,null,null,null,"家族が退院に反対している",{"$f":"'２-Ⅵ'!B32","v":420},{"$f":"'２-Ⅵ'!C32","v":0.21472392638036811},{"$f":"'３-Ⅴ'!H32","v":79},{"$f":"'３-Ⅴ'!I32","v":0.23723723723723725},{"$f":"_xlfn.RANK.EQ(J24,$J$15:$J$34)+COUNTIF($J$15:J24,J24)-1","v":8},{"$f":"_xlfn.RANK.EQ(L24,$L$15:$L$34)+COUNTIF($L$15:L24,L24)-1","v":7}]
[null,null,null,null,null,null,null,"住まいの確保ができない",{"$f":"'２-Ⅵ'!B33","v":615},{"$f":"'２-Ⅵ'!C33","v":0.31441717791411045},{"$f":"'３-Ⅴ'!H33","v":92},{"$f":"'３-Ⅴ'!I33","v":0.27627627627627627},{"$f":"_xlfn.RANK.EQ(J25,$J$15:$J$34)+COUNTIF($J$15:J25,J25)-1","v":4},{"$f":"_xlfn.RANK.EQ(L25,$L$15:$L$34)+COUNTIF($L$15:L25,L25)-1","v":3}]
[null,null,null,null,null,null,null,"生活費の確保ができない",{"$f":"'２-Ⅵ'!B34","v":114},{"$f":"'２-Ⅵ'!C34","v":5.8282208588957052E-2},{"$f":"'３-Ⅴ'!H34","v":18},{"$f":"'３-Ⅴ'!I34","v":5.4054054054054057E-2},{"$f":"_xlfn.RANK.EQ(J26,$J$15:$J$34)+COUNTIF($J$15:J26,J26)-1","v":15},{"$f":"_xlfn.RANK.EQ(L26,$L$15:$L$34)+COUNTIF($L$15:L26,L26)-1","v":13}]
[null,null,null,null,null,null,null,"日常生活を支える制度がない",{"$f":"'２-Ⅵ'!B35","v":132},{"$f":"'２-Ⅵ'!C35","v":6.7484662576687116E-2},{"$f":"'３-Ⅴ'!H35","v":14},{"$f":"'３-Ⅴ'!I35","v":4.2042042042042045E-2},{"$f":"_xlfn.RANK.EQ(J27,$J$15:$J$34)+COUNTIF($J$15:J27,J27)-1","v":14},{"$f":"_xlfn.RANK.EQ(L27,$L$15:$L$34)+COUNTIF($L$15:L27,L27)-1","v":14}]
[null,null,null,null,null,null,null,"救急診療体制がない",{"$f":"'２-Ⅵ'!B36","v":5},{"$f":"'２-Ⅵ'!C36","v":2.5562372188139061E-3},{"$f":"'３-Ⅴ'!H36","v":1},{"$f":"'３-Ⅴ'!I36","v":3.003003003003003E-3},{"$f":"_xlfn.RANK.EQ(J28,$J$15:$J$34)+COUNTIF($J$15:J28,J28)-1","v":20},{"$f":"_xlfn.RANK.EQ(L28,$L$15:$L$34)+COUNTIF($L$15:L28,L28)-1","v":20}]
[null,null,null,null,null,null,null,"退院に向けてサポートする人的資源が乏しい",{"$f":"'２-Ⅵ'!B37","v":146},{"$f":"'２-Ⅵ'!C37","v":7.4642126789366048E-2},{"$f":"'３-Ⅴ'!H37","v":29},{"$f":"'３-Ⅴ'!I37","v":8.7087087087087081E-2},{"$f":"_xlfn.RANK.EQ(J29,$J$15:$J$34)+COUNTIF($J$15:J29,J29)-1","v":13},{"$f":"_xlfn.RANK.EQ(L29,$L$15:$L$34)+COUNTIF($L$15:L29,L29)-1","v":11}]
[null,null,null,null,null,null,null,"退院後サポート・マネジメントする人的資源が乏しい",{"$f":"'２-Ⅵ'!B38","v":110},{"$f":"'２-Ⅵ'!C38","v":5.6237218813905927E-2},{"$f":"'３-Ⅴ'!H38","v":19},{"$f":"'３-Ⅴ'!I38","v":5.7057057057057055E-2},{"$f":"_xlfn.RANK.EQ(J30,$J$15:$J$34)+COUNTIF($J$15:J30,J30)-1","v":16},{"$f":"_xlfn.RANK.EQ(L30,$L$15:$L$34)+COUNTIF($L$15:L30,L30)-1","v":12}]
[null,null,null,null,null,null,null,"住所地と入院先の距離があり支援体制がとりにくい",{"$f":"'２-Ⅵ'!B39","v":30},{"$f":"'２-Ⅵ'!C39","v":1.5337423312883436E-2},{"$f":"'３-Ⅴ'!H39","v":6},{"$f":"'３-Ⅴ'!I39","v":1.8018018018018018E-2},{"$f":"_xlfn.RANK.EQ(J31,$J$15:$J$34)+COUNTIF($J$15:J31,J31)-1","v":19},{"$f":"_xlfn.RANK.EQ(L31,$L$15:$L$34)+COUNTIF($L$15:L31,L31)-1","v":18}]
[null,null,null,null,null,null,null,"身体的機能や状態を原因としたADLの低下がある",{"$f":"'２-Ⅵ'!B40","v":331},{"$f":"'２-Ⅵ'!C40","v":0.16922290388548059},{"$f":"'３-Ⅴ'!H40","v":31},{"$f":"'３-Ⅴ'!I40","v":9.3093093093093091E-2},{"$f":"_xlfn.RANK.EQ(J32,$J$15:$J$34)+COUNTIF($J$15:J32,J32)-1","v":9},{"$f":"_xlfn.RANK.EQ(L32,$L$15:$L$34)+COUNTIF($L$15:L32,L32)-1","v":10}]
[null,null,null,null,null,null,null,"身体合併症の程度が重いなど身体面のフォローが必要であり、地域での生活が困難",{"$f":"'２-Ⅵ'!B41","v":211},{"$f":"'２-Ⅵ'!C41","v":0.10787321063394684},{"$f":"'３-Ⅴ'!H41","v":7},{"$f":"'３-Ⅴ'!I41","v":2.1021021021021023E-2},{"$f":"_xlfn.RANK.EQ(J33,$J$15:$J$34)+COUNTIF($J$15:J33,J33)-1","v":11},{"$f":"_xlfn.RANK.EQ(L33,$L$15:$L$34)+COUNTIF($L$15:L33,L33)-1","v":16}]
[null,null,null,null,null,null,null,"その他の退院阻害要因がある",{"$f":"'２-Ⅵ'!B42","v":44},{"$f":"'２-Ⅵ'!C42","v":2.2494887525562373E-2},{"$f":"'３-Ⅴ'!H42","v":4},{"$f":"'３-Ⅴ'!I42","v":1.2012012012012012E-2},{"$f":"_xlfn.RANK.EQ(J34,$J$15:$J$34)+COUNTIF($J$15:J34,J34)-1","v":18},{"$f":"_xlfn.RANK.EQ(L34,$L$15:$L$34)+COUNTIF($L$15:L34,L34)-1","v":19}]

{"sheet":"グラフ(退院阻害要因＿２）","index":45,"n_rows":67,"n_cols":15,"rows_kept":67,"cut":false,"hidden":false,"merged":[]}
[]
[]
[null,null,null,null,null,null,null,null,null,null,null,"65歳未満","65歳以上"]
[null,null,null,null,null,null,null,null,null,null,"病状は落ち着いているが、ときどき不安定な病状が見られ、そのことが退院を阻害する要因になっている",{"$f":"'5-Ⅰ①'!D14","v":0.4096774193548387},{"$f":"'5-Ⅰ①'!F14","v":0.30389221556886226}]
[null,null,null,null,null,null,null,null,null,null,"病識がなく通院服薬の中断が予測される",{"$f":"'5-Ⅰ①'!D15","v":0.27741935483870966},{"$f":"'5-Ⅰ①'!F15","v":0.2522455089820359}]
[null,null,null,null,null,null,null,null,null,null,"反社会的行動が予測される",{"$f":"'5-Ⅰ①'!D16","v":7.7419354838709681E-2},{"$f":"'5-Ⅰ①'!F16","v":2.5449101796407185E-2}]
[null,null,null,null,null,null,null,null,null,null,"退院意欲が乏しい",{"$f":"'5-Ⅰ①'!D17","v":0.32258064516129031},{"$f":"'5-Ⅰ①'!F17","v":0.39371257485029942}]
[null,null,null,null,null,null,null,null,null,null,"現実認識が乏しい",{"$f":"'5-Ⅰ①'!D18","v":0.37419354838709679},{"$f":"'5-Ⅰ①'!F18","v":0.37799401197604793}]
[null,null,null,null,null,null,null,null,null,null,"退院による環境変化への不安が強い",{"$f":"'5-Ⅰ①'!D19","v":0.30483870967741933},{"$f":"'5-Ⅰ①'!F19","v":0.23203592814371257}]
[null,null,null,null,null,null,null,null,null,null,"援助者との対人関係がもてない",{"$f":"'5-Ⅰ①'!D20","v":0.10806451612903226},{"$f":"'5-Ⅰ①'!F20","v":6.2874251497005984E-2}]
[null,null,null,null,null,null,null,null,null,null,"家事（食事・洗濯・金銭管理など）ができない",{"$f":"'5-Ⅰ①'!D21","v":0.27903225806451615},{"$f":"'5-Ⅰ①'!F21","v":0.30389221556886226}]
[null,null,null,null,null,null,null,null,null,null,"家族がいない・本人をサポートする機能が実質ない",{"$f":"'5-Ⅰ①'!D22","v":0.18709677419354839},{"$f":"'5-Ⅰ①'!F22","v":0.15044910179640719}]
[null,null,null,null,null,null,null,null,null,null,"家族が退院に反対している",{"$f":"'5-Ⅰ①'!D23","v":0.18870967741935485},{"$f":"'5-Ⅰ①'!F23","v":0.22679640718562874}]
[null,null,null,null,null,null,null,null,null,null,"住まいの確保ができない",{"$f":"'5-Ⅰ①'!D24","v":0.32096774193548389},{"$f":"'5-Ⅰ①'!F24","v":0.31137724550898205}]
[null,null,null,null,null,null,null,null,null,null,"生活費の確保ができない",{"$f":"'5-Ⅰ①'!D25","v":5.32258064516129E-2},{"$f":"'5-Ⅰ①'!F25","v":6.0628742514970059E-2}]
[null,null,null,null,null,null,null,null,null,null,"日常生活を支える制度がない",{"$f":"'5-Ⅰ①'!D26","v":6.4516129032258063E-2},{"$f":"'5-Ⅰ①'!F26","v":6.8862275449101798E-2}]
[null,null,null,null,null,null,null,null,null,null,"救急診療体制がない",{"$f":"'5-Ⅰ①'!D27","v":6.4516129032258064E-3},{"$f":"'5-Ⅰ①'!F27","v":7.4850299401197609E-4}]
[null,null,null,null,null,null,null,null,null,null,"退院に向けてサポートする人的資源が乏しい",{"$f":"'5-Ⅰ①'!D28","v":7.9032258064516123E-2},{"$f":"'5-Ⅰ①'!F28","v":7.260479041916168E-2}]
[null,null,null,null,null,null,null,null,null,null,"退院後サポート・マネジメントする人的資源が乏しい",{"$f":"'5-Ⅰ①'!D29","v":6.7741935483870974E-2},{"$f":"'5-Ⅰ①'!F29","v":5.089820359281437E-2}]
[null,null,null,null,null,null,null,null,null,null,"住所地と入院先の距離があり支援体制がとりにくい",{"$f":"'5-Ⅰ①'!D30","v":1.6129032258064516E-2},{"$f":"'5-Ⅰ①'!F30","v":1.4970059880239521E-2}]
[null,null,null,null,null,null,null,null,null,null,"身体的機能や状態を原因としたADLの低下がある",{"$f":"'5-Ⅰ①'!D31","v":7.0967741935483872E-2},{"$f":"'5-Ⅰ①'!F31","v":0.21482035928143711}]
[null,null,null,null,null,null,null,null,null,null,"身体合併症の程度が重いなど身体面のフォローが必要であり、地域での生活が困難",{"$f":"'5-Ⅰ①'!D32","v":4.0322580645161289E-2},{"$f":"'5-Ⅰ①'!F32","v":0.13922155688622753}]
[null,null,null,null,null,null,null,null,null,null,"その他の退院阻害要因がある",{"$f":"'5-Ⅰ①'!D33","v":2.903225806451613E-2},{"$f":"'5-Ⅰ①'!F33","v":1.9461077844311378E-2}]
[]
[]
[]
[]
[]
[]
[]
[]
[]
[]
[]
[]
[]
[]
[]
[]
[]
[]
[]
[]
[]
[]
[]
[null,null,null,null,null,null,null,null,null,null,null,"1年未満","1年以上5年未満","5年以上10年未満","10年以上"]
[null,null,null,null,null,null,null,null,null,null,"病状は落ち着いているが、ときどき不安定な病状が見られ、そのことが退院を阻害する要因になっている",{"$f":"'５-Ⅰ②'!D14","v":0.3323308270676692},{"$f":"'５-Ⅰ②'!F14","v":0.33432392273402672},{"$f":"'５-Ⅰ②'!H14","v":0.38225255972696248},{"$f":"'５-Ⅰ②'!J14","v":0.31384615384615383}]
[null,null,null,null,null,null,null,null,null,null,"病識がなく通院服薬の中断が予測される",{"$f":"'５-Ⅰ②'!D15","v":0.24360902255639097},{"$f":"'５-Ⅰ②'!F15","v":0.27043090638930162},{"$f":"'５-Ⅰ②'!H15","v":0.26621160409556316},{"$f":"'５-Ⅰ②'!J15","v":0.26769230769230767}]
[null,null,null,null,null,null,null,null,null,null,"反社会的行動が予測される",{"$f":"'５-Ⅰ②'!D16","v":4.3609022556390979E-2},{"$f":"'５-Ⅰ②'!F16","v":3.8632986627043092E-2},{"$f":"'５-Ⅰ②'!H16","v":5.8020477815699661E-2},{"$f":"'５-Ⅰ②'!J16","v":3.0769230769230771E-2}]
[null,null,null,null,null,null,null,null,null,null,"退院意欲が乏しい",{"$f":"'５-Ⅰ②'!D17","v":0.22706766917293233},{"$f":"'５-Ⅰ②'!F17","v":0.399702823179792},{"$f":"'５-Ⅰ②'!H17","v":0.43344709897610922},{"$f":"'５-Ⅰ②'!J17","v":0.55076923076923079}]
[null,null,null,null,null,null,null,null,null,null,"現実認識が乏しい",{"$f":"'５-Ⅰ②'!D18","v":0.32631578947368423},{"$f":"'５-Ⅰ②'!F18","v":0.38484398216939081},{"$f":"'５-Ⅰ②'!H18","v":0.39590443686006827},{"$f":"'５-Ⅰ②'!J18","v":0.44615384615384618}]
[null,null,null,null,null,null,null,null,null,null,"退院による環境変化への不安が強い",{"$f":"'５-Ⅰ②'!D19","v":0.2},{"$f":"'５-Ⅰ②'!F19","v":0.22436849925705796},{"$f":"'５-Ⅰ②'!H19","v":0.32423208191126279},{"$f":"'５-Ⅰ②'!J19","v":0.36923076923076925}]
[null,null,null,null,null,null,null,null,null,null,"援助者との対人関係がもてない",{"$f":"'５-Ⅰ②'!D20","v":5.8646616541353384E-2},{"$f":"'５-Ⅰ②'!F20","v":8.6181277860326894E-2},{"$f":"'５-Ⅰ②'!H20","v":9.2150170648464161E-2},{"$f":"'５-Ⅰ②'!J20","v":8.3076923076923076E-2}]
[null,null,null,null,null,null,null,null,null,null,"家事（食事・洗濯・金銭管理など）ができない",{"$f":"'５-Ⅰ②'!D21","v":0.28872180451127821},{"$f":"'５-Ⅰ②'!F21","v":0.31054977711738485},{"$f":"'５-Ⅰ②'!H21","v":0.30716723549488056},{"$f":"'５-Ⅰ②'!J21","v":0.27076923076923076}]
[null,null,null,null,null,null,null,null,null,null,"家族がいない・本人をサポートする機能が実質ない",{"$f":"'５-Ⅰ②'!D22","v":0.1293233082706767},{"$f":"'５-Ⅰ②'!F22","v":0.15453194650817237},{"$f":"'５-Ⅰ②'!H22","v":0.21501706484641639},{"$f":"'５-Ⅰ②'!J22","v":0.19692307692307692}]
[null,null,null,null,null,null,null,null,null,null,"家族が退院に反対している",{"$f":"'５-Ⅰ②'!D23","v":0.16691729323308271},{"$f":"'５-Ⅰ②'!F23","v":0.2526002971768202},{"$f":"'５-Ⅰ②'!H23","v":0.25255972696245732},{"$f":"'５-Ⅰ②'!J23","v":0.2}]
[null,null,null,null,null,null,null,null,null,null,"住まいの確保ができない",{"$f":"'５-Ⅰ②'!D24","v":0.38796992481203008},{"$f":"'５-Ⅰ②'!F24","v":0.30757800891530462},{"$f":"'５-Ⅰ②'!H24","v":0.29351535836177473},{"$f":"'５-Ⅰ②'!J24","v":0.19692307692307692}]
[null,null,null,null,null,null,null,null,null,null,"生活費の確保ができない",{"$f":"'５-Ⅰ②'!D25","v":6.4661654135338351E-2},{"$f":"'５-Ⅰ②'!F25","v":5.9435364041604752E-2},{"$f":"'５-Ⅰ②'!H25","v":7.8498293515358364E-2},{"$f":"'５-Ⅰ②'!J25","v":2.4615384615384615E-2}]
[null,null,null,null,null,null,null,null,null,null,"日常生活を支える制度がない",{"$f":"'５-Ⅰ②'!D26","v":7.9699248120300756E-2},{"$f":"'５-Ⅰ②'!F26","v":5.9435364041604752E-2},{"$f":"'５-Ⅰ②'!H26","v":6.8259385665529013E-2},{"$f":"'５-Ⅰ②'!J26","v":5.8461538461538461E-2}]
[null,null,null,null,null,null,null,null,null,null,"救急診療体制がない",{"$f":"'５-Ⅰ②'!D27","v":0},{"$f":"'５-Ⅰ②'!F27","v":2.9717682020802376E-3},{"$f":"'５-Ⅰ②'!H27","v":6.8259385665529011E-3},{"$f":"'５-Ⅰ②'!J27","v":3.0769230769230769E-3}]
[null,null,null,null,null,null,null,null,null,null,"退院に向けてサポートする人的資源が乏しい",{"$f":"'５-Ⅰ②'!D28","v":5.8646616541353384E-2},{"$f":"'５-Ⅰ②'!F28","v":8.6181277860326894E-2},{"$f":"'５-Ⅰ②'!H28","v":8.8737201365187715E-2},{"$f":"'５-Ⅰ②'!J28","v":7.0769230769230765E-2}]
[null,null,null,null,null,null,null,null,null,null,"退院後サポート・マネジメントする人的資源が乏しい",{"$f":"'５-Ⅰ②'!D29","v":5.1127819548872182E-2},{"$f":"'５-Ⅰ②'!F29","v":5.0520059435364043E-2},{"$f":"'５-Ⅰ②'!H29","v":5.4607508532423209E-2},{"$f":"'５-Ⅰ②'!J29","v":0.08}]
[null,null,null,null,null,null,null,null,null,null,"住所地と入院先の距離があり支援体制がとりにくい",{"$f":"'５-Ⅰ②'!D30","v":1.8045112781954888E-2},{"$f":"'５-Ⅰ②'!F30","v":1.4858841010401188E-2},{"$f":"'５-Ⅰ②'!H30","v":1.3651877133105802E-2},{"$f":"'５-Ⅰ②'!J30","v":1.2307692307692308E-2}]
[null,null,null,null,null,null,null,null,null,null,"身体的機能や状態を原因としたADLの低下がある",{"$f":"'５-Ⅰ②'!D31","v":0.17293233082706766},{"$f":"'５-Ⅰ②'!F31","v":0.18424962852897475},{"$f":"'５-Ⅰ②'!H31","v":0.14334470989761092},{"$f":"'５-Ⅰ②'!J31","v":0.15384615384615385}]
[null,null,null,null,null,null,null,null,null,null,"身体合併症の程度が重いなど身体面のフォローが必要であり、地域での生活が困難",{"$f":"'５-Ⅰ②'!D32","v":0.11428571428571428},{"$f":"'５-Ⅰ②'!F32","v":0.10104011887072809},{"$f":"'５-Ⅰ②'!H32","v":0.10238907849829351},{"$f":"'５-Ⅰ②'!J32","v":0.11384615384615385}]
[null,null,null,null,null,null,null,null,null,null,"その他の退院阻害要因がある",{"$f":"'５-Ⅰ②'!D33","v":4.2105263157894736E-2},{"$f":"'５-Ⅰ②'!F33","v":1.4858841010401188E-2},{"$f":"'５-Ⅰ②'!H33","v":1.3651877133105802E-2},{"$f":"'５-Ⅰ②'!J33","v":6.1538461538461538E-3}]

{"sheet":"グラフ(退院阻害要因＿２(寛解・院内寛解)","index":46,"n_rows":67,"n_cols":15,"rows_kept":67,"cut":false,"hidden":false,"merged":[]}
[]
[]
[null,null,null,null,null,null,null,null,null,null,null,"65歳未満","65歳以上"]
[null,null,null,null,null,null,null,null,null,null,"病状は落ち着いているが、ときどき不安定な病状が見られ、そのことが退院を阻害する要因になっている",{"$f":"'5-Ⅰ①'!D48","v":0.3645320197044335},{"$f":"'5-Ⅰ①'!F48","v":0.24929971988795518}]
[null,null,null,null,null,null,null,null,null,null,"病識がなく通院服薬の中断が予測される",{"$f":"'5-Ⅰ①'!D49","v":0.17241379310344829},{"$f":"'5-Ⅰ①'!F49","v":0.19047619047619047}]
[null,null,null,null,null,null,null,null,null,null,"反社会的行動が予測される",{"$f":"'5-Ⅰ①'!D50","v":2.9556650246305417E-2},{"$f":"'5-Ⅰ①'!F50","v":1.9607843137254902E-2}]
[null,null,null,null,null,null,null,null,null,null,"退院意欲が乏しい",{"$f":"'5-Ⅰ①'!D51","v":0.30049261083743845},{"$f":"'5-Ⅰ①'!F51","v":0.37815126050420167}]
[null,null,null,null,null,null,null,null,null,null,"現実認識が乏しい",{"$f":"'5-Ⅰ①'!D52","v":0.2413793103448276},{"$f":"'5-Ⅰ①'!F52","v":0.2857142857142857}]
[null,null,null,null,null,null,null,null,null,null,"退院による環境変化への不安が強い",{"$f":"'5-Ⅰ①'!D53","v":0.27586206896551724},{"$f":"'5-Ⅰ①'!F53","v":0.25210084033613445}]
[null,null,null,null,null,null,null,null,null,null,"援助者との対人関係がもてない",{"$f":"'5-Ⅰ①'!D54","v":5.9113300492610835E-2},{"$f":"'5-Ⅰ①'!F54","v":2.5210084033613446E-2}]
[null,null,null,null,null,null,null,null,null,null,"家事（食事・洗濯・金銭管理など）ができない",{"$f":"'5-Ⅰ①'!D55","v":0.2019704433497537},{"$f":"'5-Ⅰ①'!F55","v":0.25770308123249297}]
[null,null,null,null,null,null,null,null,null,null,"家族がいない・本人をサポートする機能が実質ない",{"$f":"'5-Ⅰ①'!D56","v":0.14285714285714285},{"$f":"'5-Ⅰ①'!F56","v":0.17086834733893558}]
[null,null,null,null,null,null,null,null,null,null,"家族が退院に反対している",{"$f":"'5-Ⅰ①'!D57","v":0.18719211822660098},{"$f":"'5-Ⅰ①'!F57","v":0.22969187675070027}]
[null,null,null,null,null,null,null,null,null,null,"住まいの確保ができない",{"$f":"'5-Ⅰ①'!D58","v":0.33497536945812806},{"$f":"'5-Ⅰ①'!F58","v":0.32212885154061627}]
[null,null,null,null,null,null,null,null,null,null,"生活費の確保ができない",{"$f":"'5-Ⅰ①'!D59","v":6.4039408866995079E-2},{"$f":"'5-Ⅰ①'!F59","v":5.6022408963585436E-2}]
[null,null,null,null,null,null,null,null,null,null,"日常生活を支える制度がない",{"$f":"'5-Ⅰ①'!D60","v":2.9556650246305417E-2},{"$f":"'5-Ⅰ①'!F60","v":5.0420168067226892E-2}]
[null,null,null,null,null,null,null,null,null,null,"救急診療体制がない",{"$f":"'5-Ⅰ①'!D61","v":4.9261083743842365E-3},{"$f":"'5-Ⅰ①'!F61","v":0}]
[null,null,null,null,null,null,null,null,null,null,"退院に向けてサポートする人的資源が乏しい",{"$f":"'5-Ⅰ①'!D62","v":0.10344827586206896},{"$f":"'5-Ⅰ①'!F62","v":7.0028011204481794E-2}]
[null,null,null,null,null,null,null,null,null,null,"退院後サポート・マネジメントする人的資源が乏しい",{"$f":"'5-Ⅰ①'!D63","v":7.3891625615763554E-2},{"$f":"'5-Ⅰ①'!F63","v":5.8823529411764705E-2}]
[null,null,null,null,null,null,null,null,null,null,"住所地と入院先の距離があり支援体制がとりにくい",{"$f":"'5-Ⅰ①'!D64","v":1.4778325123152709E-2},{"$f":"'5-Ⅰ①'!F64","v":2.2408963585434174E-2}]
[null,null,null,null,null,null,null,null,null,null,"身体的機能や状態を原因としたADLの低下がある",{"$f":"'5-Ⅰ①'!D65","v":2.9556650246305417E-2},{"$f":"'5-Ⅰ①'!F65","v":0.13165266106442577}]
[null,null,null,null,null,null,null,null,null,null,"身体合併症の程度が重いなど身体面のフォローが必要であり、地域での生活が困難",{"$f":"'5-Ⅰ①'!D66","v":1.9704433497536946E-2},{"$f":"'5-Ⅰ①'!F66","v":3.6414565826330535E-2}]
[null,null,null,null,null,null,null,null,null,null,"その他の退院阻害要因がある",{"$f":"'5-Ⅰ①'!D67","v":3.9408866995073892E-2},{"$f":"'5-Ⅰ①'!F67","v":2.8011204481792718E-2}]
[]
[]
[]
[]
[]
[]
[]
[]
[]
[]
[]
[]
[]
[]
[]
[]
[]
[]
[]
[]
[]
[]
[]
[null,null,null,null,null,null,null,null,null,null,null,"1年未満","1年以上5年未満","5年以上10年未満","10年以上"]
[null,null,null,null,null,null,null,null,null,null,"病状は落ち着いているが、ときどき不安定な病状が見られ、そのことが退院を阻害する要因になっている",{"$f":"'５-Ⅰ②'!D48","v":0.32158590308370044},{"$f":"'５-Ⅰ②'!F48","v":0.26315789473684209},{"$f":"'５-Ⅰ②'!H48","v":0.32307692307692309},{"$f":"'５-Ⅰ②'!J48","v":0.24358974358974358}]
[null,null,null,null,null,null,null,null,null,null,"病識がなく通院服薬の中断が予測される",{"$f":"'５-Ⅰ②'!D49","v":0.20264317180616739},{"$f":"'５-Ⅰ②'!F49","v":0.20526315789473684},{"$f":"'５-Ⅰ②'!H49","v":0.12307692307692308},{"$f":"'５-Ⅰ②'!J49","v":0.12820512820512819}]
[null,null,null,null,null,null,null,null,null,null,"反社会的行動が予測される",{"$f":"'５-Ⅰ②'!D50","v":3.0837004405286344E-2},{"$f":"'５-Ⅰ②'!F50","v":2.1052631578947368E-2},{"$f":"'５-Ⅰ②'!H50","v":3.0769230769230771E-2},{"$f":"'５-Ⅰ②'!J50","v":0}]
[null,null,null,null,null,null,null,null,null,null,"退院意欲が乏しい",{"$f":"'５-Ⅰ②'!D51","v":0.19823788546255505},{"$f":"'５-Ⅰ②'!F51","v":0.38947368421052631},{"$f":"'５-Ⅰ②'!H51","v":0.49230769230769234},{"$f":"'５-Ⅰ②'!J51","v":0.57692307692307687}]
[null,null,null,null,null,null,null,null,null,null,"現実認識が乏しい",{"$f":"'５-Ⅰ②'!D52","v":0.24669603524229075},{"$f":"'５-Ⅰ②'!F52","v":0.24210526315789474},{"$f":"'５-Ⅰ②'!H52","v":0.33846153846153848},{"$f":"'５-Ⅰ②'!J52","v":0.34615384615384615}]
[null,null,null,null,null,null,null,null,null,null,"退院による環境変化への不安が強い",{"$f":"'５-Ⅰ②'!D53","v":0.24669603524229075},{"$f":"'５-Ⅰ②'!F53","v":0.22631578947368422},{"$f":"'５-Ⅰ②'!H53","v":0.30769230769230771},{"$f":"'５-Ⅰ②'!J53","v":0.34615384615384615}]
[null,null,null,null,null,null,null,null,null,null,"援助者との対人関係がもてない",{"$f":"'５-Ⅰ②'!D54","v":3.9647577092511016E-2},{"$f":"'５-Ⅰ②'!F54","v":4.2105263157894736E-2},{"$f":"'５-Ⅰ②'!H54","v":3.0769230769230771E-2},{"$f":"'５-Ⅰ②'!J54","v":2.564102564102564E-2}]
[null,null,null,null,null,null,null,null,null,null,"家事（食事・洗濯・金銭管理など）ができない",{"$f":"'５-Ⅰ②'!D55","v":0.22026431718061673},{"$f":"'５-Ⅰ②'!F55","v":0.25789473684210529},{"$f":"'５-Ⅰ②'!H55","v":0.29230769230769232},{"$f":"'５-Ⅰ②'!J55","v":0.19230769230769232}]
[null,null,null,null,null,null,null,null,null,null,"家族がいない・本人をサポートする機能が実質ない",{"$f":"'５-Ⅰ②'!D56","v":0.16740088105726872},{"$f":"'５-Ⅰ②'!F56","v":0.12631578947368421},{"$f":"'５-Ⅰ②'!H56","v":0.2},{"$f":"'５-Ⅰ②'!J56","v":0.19230769230769232}]
[null,null,null,null,null,null,null,null,null,null,"家族が退院に反対している",{"$f":"'５-Ⅰ②'!D57","v":0.18061674008810572},{"$f":"'５-Ⅰ②'!F57","v":0.23157894736842105},{"$f":"'５-Ⅰ②'!H57","v":0.27692307692307694},{"$f":"'５-Ⅰ②'!J57","v":0.21794871794871795}]
[null,null,null,null,null,null,null,null,null,null,"住まいの確保ができない",{"$f":"'５-Ⅰ②'!D58","v":0.40088105726872247},{"$f":"'５-Ⅰ②'!F58","v":0.3},{"$f":"'５-Ⅰ②'!H58","v":0.30769230769230771},{"$f":"'５-Ⅰ②'!J58","v":0.19230769230769232}]
[null,null,null,null,null,null,null,null,null,null,"生活費の確保ができない",{"$f":"'５-Ⅰ②'!D59","v":6.6079295154185022E-2},{"$f":"'５-Ⅰ②'!F59","v":4.2105263157894736E-2},{"$f":"'５-Ⅰ②'!H59","v":0.1076923076923077},{"$f":"'５-Ⅰ②'!J59","v":3.8461538461538464E-2}]
[null,null,null,null,null,null,null,null,null,null,"日常生活を支える制度がない",{"$f":"'５-Ⅰ②'!D60","v":4.405286343612335E-2},{"$f":"'５-Ⅰ②'!F60","v":3.1578947368421054E-2},{"$f":"'５-Ⅰ②'!H60","v":9.2307692307692313E-2},{"$f":"'５-Ⅰ②'!J60","v":2.564102564102564E-2}]
[null,null,null,null,null,null,null,null,null,null,"救急診療体制がない",{"$f":"'５-Ⅰ②'!D61","v":0},{"$f":"'５-Ⅰ②'!F61","v":5.263157894736842E-3},{"$f":"'５-Ⅰ②'!H61","v":0},{"$f":"'５-Ⅰ②'!J61","v":0}]
[null,null,null,null,null,null,null,null,null,null,"退院に向けてサポートする人的資源が乏しい",{"$f":"'５-Ⅰ②'!D62","v":7.4889867841409691E-2},{"$f":"'５-Ⅰ②'!F62","v":8.4210526315789472E-2},{"$f":"'５-Ⅰ②'!H62","v":9.2307692307692313E-2},{"$f":"'５-Ⅰ②'!J62","v":8.9743589743589744E-2}]
[null,null,null,null,null,null,null,null,null,null,"退院後サポート・マネジメントする人的資源が乏しい",{"$f":"'５-Ⅰ②'!D63","v":7.4889867841409691E-2},{"$f":"'５-Ⅰ②'!F63","v":5.2631578947368418E-2},{"$f":"'５-Ⅰ②'!H63","v":6.1538461538461542E-2},{"$f":"'５-Ⅰ②'!J63","v":6.4102564102564097E-2}]
[null,null,null,null,null,null,null,null,null,null,"住所地と入院先の距離があり支援体制がとりにくい",{"$f":"'５-Ⅰ②'!D64","v":2.2026431718061675E-2},{"$f":"'５-Ⅰ②'!F64","v":2.6315789473684209E-2},{"$f":"'５-Ⅰ②'!H64","v":1.5384615384615385E-2},{"$f":"'５-Ⅰ②'!J64","v":0}]
[null,null,null,null,null,null,null,null,null,null,"身体的機能や状態を原因としたADLの低下がある",{"$f":"'５-Ⅰ②'!D65","v":9.6916299559471369E-2},{"$f":"'５-Ⅰ②'!F65","v":0.1},{"$f":"'５-Ⅰ②'!H65","v":0.1076923076923077},{"$f":"'５-Ⅰ②'!J65","v":6.4102564102564097E-2}]
[null,null,null,null,null,null,null,null,null,null,"身体合併症の程度が重いなど身体面のフォローが必要であり、地域での生活が困難",{"$f":"'５-Ⅰ②'!D66","v":4.405286343612335E-2},{"$f":"'５-Ⅰ②'!F66","v":2.6315789473684209E-2},{"$f":"'５-Ⅰ②'!H66","v":0},{"$f":"'５-Ⅰ②'!J66","v":2.564102564102564E-2}]
[null,null,null,null,null,null,null,null,null,null,"その他の退院阻害要因がある",{"$f":"'５-Ⅰ②'!D67","v":6.1674008810572688E-2},{"$f":"'５-Ⅰ②'!F67","v":1.0526315789473684E-2},{"$f":"'５-Ⅰ②'!H67","v":1.5384615384615385E-2},{"$f":"'５-Ⅰ②'!J67","v":1.282051282051282E-2}]