Workbook

Sheet 市町村一覧
B1: 大阪府で、児童福祉法による障がい児通所支援の指定を取得した事業所（センターを除く）
B3: R8.11.1更新
C4: 事業所一覧 | G4: サービス内容等、詳細については直接事業所にお問い合わせください。 | S4: ◆ 各市への権限移譲について
S5: ※ 政令市（大阪市・堺市）・中核市（高槻市・東大阪市・豊中市・枚方市・八尾市・寝屋川市・吹田市）は、
C6: 岸和田市 | E6: =COUNTIF(事業所一覧!$O$4:$O$944,市町村一覧!C6) -> 52 | G6: 河内長野市 | I6: =COUNTIF(事業所一覧!$O$4:$O$944,市町村一覧!G6) -> 31 | K6: 高石市 | M6: =COUNTIF(事業所一覧!$O$4:$O$944,市町村一覧!K6) -> 17 | O6: 能勢町 | Q6: =COUNTIF(事業所一覧!$O$4:$O$944,"豊能郡能勢町") -> 1 | S6: 各市に指定・指導権限があります。
C7: 池田市 | E7: =COUNTIF(事業所一覧!$O$4:$O$944,市町村一覧!C7) -> 48 | G7: 松原市 | I7: =COUNTIF(事業所一覧!$O$4:$O$944,市町村一覧!G7) -> 38 | K7: 藤井寺市 | M7: =COUNTIF(事業所一覧!$O$4:$O$944,市町村一覧!K7) -> 21 | O7: 忠岡町 | Q7: =COUNTIF(事業所一覧!$O$4:$O$944,"泉北郡忠岡町") -> 6 | T7: 政令市・中核市HPリンク先一覧（大阪府HP)
C8: 泉大津市 | E8: =COUNTIF(事業所一覧!$O$4:$O$944,市町村一覧!C8) -> 26 | G8: 大東市 | I8: =COUNTIF(事業所一覧!$O$4:$O$944,市町村一覧!G8) -> 42 | K8: 泉南市 | M8: =COUNTIF(事業所一覧!$O$4:$O$944,市町村一覧!K8) -> 23 | O8: 熊取町 | Q8: =COUNTIF(事業所一覧!$O$4:$O$944,"泉南郡熊取町") -> 14
C9: 貝塚市 | E9: =COUNTIF(事業所一覧!$O$4:$O$944,市町村一覧!C9) -> 27 | G9: 和泉市 | I9: =COUNTIF(事業所一覧!$O$4:$O$944,市町村一覧!G9) -> 46 | K9: 四條畷市 | M9: =COUNTIF(事業所一覧!$O$4:$O$944,市町村一覧!K9) -> 14 | O9: 田尻町 | Q9: =COUNTIF(事業所一覧!$O$4:$O$944,"泉南郡田尻町") -> 1 | S9: ◆ 下記の外部サイトでも事業所情報の検索が可能です。
C10: 守口市 | E10: =COUNTIF(事業所一覧!$O$4:$O$944,市町村一覧!C10) -> 48 | G10: 箕面市 | I10: =COUNTIF(事業所一覧!$O$4:$O$944,市町村一覧!G10) -> 51 | K10: 交野市 | M10: =COUNTIF(事業所一覧!$O$4:$O$944,市町村一覧!K10) -> 19 | O10: 岬町 | Q10: =COUNTIF(事業所一覧!$O$4:$O$944,"泉南郡岬町") -> 1 | T10: 障害福祉サービス等情報検索（WAMNET)
C11: 茨木市 | E11: =COUNTIF(事業所一覧!$O$4:$O$944,市町村一覧!C11) -> 64 | G11: 柏原市 | I11: =COUNTIF(事業所一覧!$O$4:$O$944,市町村一覧!G11) -> 15 | K11: 大阪狭山市 | M11: =COUNTIF(事業所一覧!$O$4:$O$944,市町村一覧!K11) -> 23 | O11: 太子町 | Q11: =COUNTIF(事業所一覧!$O$4:$O$944,"南河内郡太子町") -> 3
C12: 泉佐野市 | E12: =COUNTIF(事業所一覧!$O$4:$O$944,市町村一覧!C12) -> 21 | G12: 羽曳野市 | I12: =COUNTIF(事業所一覧!$O$4:$O$944,市町村一覧!G12) -> 36 | K12: 阪南市 | M12: =COUNTIF(事業所一覧!$O$4:$O$944,市町村一覧!K12) -> 9 | O12: 河南町 | Q12: =COUNTIF(事業所一覧!$O$4:$O$944,"南河内郡河南町") -> 3 | S12: ◆ 児童発達支援センター・障害児入所施設については、別データを参照してください。
C13: 富田林市 | E13: =COUNTIF(事業所一覧!$O$4:$O$944,市町村一覧!C13) -> 43 | G13: 門真市 | I13: =COUNTIF(事業所一覧!$O$4:$O$944,市町村一覧!G13) -> 31 | K13: 島本町 | M13: =COUNTIF(事業所一覧!$O$4:$O$944,"三島郡島本町") -> 12 | O13: 千早赤阪村 | Q13: =COUNTIF(事業所一覧!$O$4:$O$944,"南河内郡千早赤阪村") -> 4
G14: 摂津市 | I14: =COUNTIF(事業所一覧!$O$4:$O$944,市町村一覧!G14) -> 25 | K14: 豊能町 | M14: =COUNTIF(事業所一覧!$O$4:$O$944,"豊能郡豊能町") -> 2

Sheet 岸和田市
A1: 岸和田市 | N1: 市町村一覧に戻る
H2: ☆ 主として重症心身障がい児を通わせる事業所
A3: 事業所番号 | B3: 事業所名称 | C3: TEL | D3: FAX | E3: 〒 | F3: 所在地 | G3: 申請者 | H3: 児 | I3: 定員 | J3: 居 | K3: 放 | L3: 定員 | M3: 保 | N3: 備考
A4: =事業所一覧!A4 -> 2751120037 | B4: =事業所一覧!B4 -> ほっとスペースあん | C4: =事業所一覧!C4 -> 072-433-3907 | D4: =事業所一覧!D4 -> 072-433-3907 | E4: =事業所一覧!E4 -> 596-0047 | F4: =事業所一覧!F4 -> 岸和田市上野町東13番10号三八ビル１階Ｂ号室 | G4: =事業所一覧!G4 -> 特定非営利活動法人まんまる | H4: =事業所一覧!H4 -> 0 | ... M4: =事業所一覧!M4 -> 0
A5: =事業所一覧!A5 -> 2751120045 | B5: =事業所一覧!B5 -> ＣｏＣｏ | C5: =事業所一覧!C5 -> 072-433-2822 | D5: =事業所一覧!D5 -> 072-433-2823 | E5: =事業所一覧!E5 -> 596-0823 | F5: =事業所一覧!F5 -> 岸和田市下松町一丁目11番７号 | G5: =事業所一覧!G5 -> ボンズ株式会社 | H5: =事業所一覧!H5 -> ● | ... M5: =事業所一覧!M5 -> 0
A6: =事業所一覧!A6 -> 2751120052 | B6: =事業所一覧!B6 -> はなはな | C6: =事業所一覧!C6 -> 072-441-1308 | D6: =事業所一覧!D6 -> 072-441-3825 | E6: =事業所一覧!E6 -> 596-0102 | F6: =事業所一覧!F6 -> 岸和田市山直中町875番地 | G6: =事業所一覧!G6 -> 社会福祉法人いずみ野福祉会 | H6: =事業所一覧!H6 -> 0 | ... M6: =事業所一覧!M6 -> 0
A7: =事業所一覧!A7 -> 2751120086 | B7: =事業所一覧!B7 -> 放課後等デイサービスこまつり | C7: =事業所一覧!C7 -> 072-448-6617 | D7: =事業所一覧!D7 -> 072-443-6639 | E7: =事業所一覧!E7 -> 596-0821 | F7: =事業所一覧!F7 -> 岸和田市小松里町911-１ | G7: =事業所一覧!G7 -> 社会福祉法人光生会 | H7: =事業所一覧!H7 -> 0 | ... N7: =事業所一覧!N7 -> 0
A8: =事業所一覧!A8 -> 2751120102 | B8: =事業所一覧!B8 -> 放課後等デイサービスなう | C8: =事業所一覧!C8 -> 072-457-1361 | D8: =事業所一覧!D8 -> 072-457-1993 | E8: =事業所一覧!E8 -> 596-0826 | F8: =事業所一覧!F8 -> 岸和田市作才町1180番地１階 | G8: =事業所一覧!G8 -> 株式会社晴友 | H8: =事業所一覧!H8 -> ● | ... M8: =事業所一覧!M8 -> 0
A9: =事業所一覧!A9 -> 2751120128 | B9: =事業所一覧!B9 -> 児童デイサービスばらの木 | C9: =事業所一覧!C9 -> 072-447-6960 | D9: =事業所一覧!D9 -> 072-447-6961 | E9: =事業所一覧!E9 -> 596-0001 | F9: =事業所一覧!F9 -> 岸和田市磯上町一丁目14番23号 | G9: =事業所一覧!G9 -> 株式会社百花 | H9: =事業所一覧!H9 -> ● | ... M9: =事業所一覧!M9 -> 0
A10: =事業所一覧!A10 -> 2751120144 | B10: =事業所一覧!B10 -> キッズハウスなごみ家 | C10: =事業所一覧!C10 -> 072-468-6960 | D10: =事業所一覧!D10 -> 072-468-6961 | E10: =事業所一覧!E10 -> 596-0831 | F10: =事業所一覧!F10 -> 岸和田市畑町四丁目１番16号 | G10: =事業所一覧!G10 -> アプリコットマネジメント株式会社 | H10: =事業所一覧!H10 -> ● | ... M10: =事業所一覧!M10 -> 0
A11: =事業所一覧!A11 -> 2751120151 | B11: =事業所一覧!B11 -> 運動＆学習療育あなたが宝モノ 岸和田堺町教室 | C11: =事業所一覧!C11 -> 072-433-1231 | D11: =事業所一覧!D11 -> 072-433-1241 | E11: =事業所一覧!E11 -> 596-0072 | F11: =事業所一覧!F11 -> 岸和田市堺町１番38号大起ビル３Ｆ | G11: =事業所一覧!G11 -> 株式会社いのちの木 | H11: =事業所一覧!H11 -> ● | ... M11: =事業所一覧!M11 -> ●
A12: =事業所一覧!A12 -> 2751120177 | B12: =事業所一覧!B12 -> ジェイキッズきりん | C12: =事業所一覧!C12 -> 072-477-3535 | D12: =事業所一覧!D12 -> 072-457-5493 | E12: =事業所一覧!E12 -> 596-0825 | F12: =事業所一覧!F12 -> 岸和田市土生町2475-22 | G12: =事業所一覧!G12 -> 株式会社ジェイケア | H12: =事業所一覧!H12 -> ● | ... M12: =事業所一覧!M12 -> 0
A13: =事業所一覧!A13 -> 2751120185 | B13: =事業所一覧!B13 -> こどもランドなっつ | C13: =事業所一覧!C13 -> 072-443-2261 | D13: =事業所一覧!D13 -> 072-443-2263 | E13: =事業所一覧!E13 -> 596-0816 | F13: =事業所一覧!F13 -> 岸和田市尾生町八丁目27番10号 | G13: =事業所一覧!G13 -> 株式会社ＮＵＴＳドリーム | H13: =事業所一覧!H13 -> ● | ... M13: =事業所一覧!M13 -> 0
A14: =事業所一覧!A14 -> 2751120193 | B14: =事業所一覧!B14 -> 児童デイサービスばらの木アネックス | C14: =事業所一覧!C14 -> 072-447-6088 | D14: =事業所一覧!D14 -> 072-447-6089 | E14: =事業所一覧!E14 -> 596-0045 | F14: =事業所一覧!F14 -> 岸和田市別所町二丁目３番２号 | G14: =事業所一覧!G14 -> 株式会社百花 | H14: =事業所一覧!H14 -> ● | ... M14: =事業所一覧!M14 -> 0
A15: =事業所一覧!A15 -> 2751120201 | B15: =事業所一覧!B15 -> 放課後デイサービスつじい | C15: =事業所一覧!C15 -> 072-479-4182 | D15: =事業所一覧!D15 -> 072-479-4183 | E15: =事業所一覧!E15 -> 596-0816 | F15: =事業所一覧!F15 -> 岸和田市尾生町三丁目３番50号 | G15: =事業所一覧!G15 -> 株式会社文衛門 | H15: =事業所一覧!H15 -> ● | ... M15: =事業所一覧!M15 -> 0
A16: =事業所一覧!A16 -> 2751120219 | B16: =事業所一覧!B16 -> 放課後デイサービス・ふれあい泉 | C16: =事業所一覧!C16 -> 072-440-2752 | D16: =事業所一覧!D16 -> 072-440-2753 | E16: =事業所一覧!E16 -> 596-0002 | F16: =事業所一覧!F16 -> 岸和田市吉井町二丁目12番21号 | G16: =事業所一覧!G16 -> 特定非営利活動法人ふれあい泉 | H16: =事業所一覧!H16 -> 0 | ... M16: =事業所一覧!M16 -> 0
A17: =事業所一覧!A17 -> 2751120227 | B17: =事業所一覧!B17 -> こどもハウスだんぼ | C17: =事業所一覧!C17 -> 072-493-8326 | D17: =事業所一覧!D17 -> 072-493-8327 | E17: =事業所一覧!E17 -> 596-0814 | F17: =事業所一覧!F17 -> 岸和田市岡山町35番地の２ トニワンハイツ岡山102号室 | G17: =事業所一覧!G17 -> 株式会社ＮＵＴＳドリーム | H17: =事業所一覧!H17 -> ☆ | ... M17: =事業所一覧!M17 -> 0
A18: =事業所一覧!A18 -> 2751120243 | B18: =事業所一覧!B18 -> アリス | C18: =事業所一覧!C18 -> 072-479-5670 | D18: =事業所一覧!D18 -> 072-479-5671 | E18: =事業所一覧!E18 -> 596-0823 | F18: =事業所一覧!F18 -> 岸和田市下松町三丁目４番１号Ａ棟102号、104号、105号 | G18: =事業所一覧!G18 -> 合同会社アーリーケア | H18: =事業所一覧!H18 -> ● | ... M18: =事業所一覧!M18 -> ●
A19: =事業所一覧!A19 -> 2751120268 | B19: =事業所一覧!B19 -> キッズハウスなごみ家土生 | C19: =事業所一覧!C19 -> 072-428-7550 | D19: =事業所一覧!D19 -> 072-428-7553 | E19: =事業所一覧!E19 -> 596-0825 | F19: =事業所一覧!F19 -> 岸和田市土生町九丁目11番11号 | G19: =事業所一覧!G19 -> アプリコットマネジメント株式会社 | H19: =事業所一覧!H19 -> ● | ... M19: =事業所一覧!M19 -> 0
... A28: =事業所一覧!A28 -> 2751120383 | B28: =事業所一覧!B28 -> 放課後児童デイサービスくれよん | C28: =事業所一覧!C28 -> 072-448-6611 | D28: =事業所一覧!D28 -> 072-448-6612 | E28: =事業所一覧!E28 -> 596-0821 | F28: =事業所一覧!F28 -> 岸和田市小松里町874番地３ | G28: =事業所一覧!G28 -> 有限会社サプラス | H28: =事業所一覧!H28 -> ● | ... M28: =事業所一覧!M28 -> 0
A29: 2751120425 | B29: =事業所一覧!B29 -> 放課後等デイサービス・児童発達支援 ひなたきっず | C29: =事業所一覧!C29 -> ０７２－４３７－１０１１ | D29: =事業所一覧!D29 -> ０７２－４３７－１０１１ | E29: =事業所一覧!E29 -> ５９６－００３５ | F29: =事業所一覧!F29 -> 岸和田市春木泉町10番33号 宮城ビル１階 | G29: =事業所一覧!G29 -> 株式会社スズヤ | H29: ● | I29: 10 | K29: =事業所一覧!K29 -> ● | L29: =事業所一覧!L29 -> 10 | M29: =事業所一覧!M29 -> 0
A30: 2751120433 | B30: =事業所一覧!B30 -> 児童発達支援・放課後等デイサービスＯｈａｎａ・Pono | C30: =事業所一覧!C30 -> ０７２－４９６－６７８２ | D30: =事業所一覧!D30 -> ０７２－４９６－６７８２ | E30: =事業所一覧!E30 -> ５９６－００２３ | F30: =事業所一覧!F30 -> 岸和田市八幡町１番10号１階 | G30: =事業所一覧!G30 -> 合同会社Ohana | H30: ● | I30: 10 | K30: =事業所一覧!K30 -> ● | L30: =事業所一覧!L30 -> 10 | M30: =事業所一覧!M30 -> 0
A31: =事業所一覧!A31 -> 2751120441 | B31: =事業所一覧!B31 -> 児童デイサービス パピプケア | C31: =事業所一覧!C31 -> 072-493-4140 | D31: =事業所一覧!D31 -> 072-493-4141 | E31: =事業所一覧!E31 -> 596-0823 | F31: =事業所一覧!F31 -> 岸和田市下松町5062番地 | G31: =事業所一覧!G31 -> 株式会社The First | H31: =事業所一覧!H31 -> ● | ... M31: =事業所一覧!M31 -> 0
A32: =事業所一覧!A32 -> 2751120466 | B32: =事業所一覧!B32 -> フタール岸和田 | C32: =事業所一覧!C32 -> 072-430-3110 | D32: =事業所一覧!D32 -> 072-430-3111 | E32: =事業所一覧!E32 -> 596-0045 | F32: =事業所一覧!F32 -> 岸和田市別所町一丁目14番28号 Ｋ・ル・フタールビル３階・５階 | G32: =事業所一覧!G32 -> 株式会社アップサポート | H32: =事業所一覧!H32 -> ● | ... M32: =事業所一覧!M32 -> 0
A33: =事業所一覧!A33 -> 2751120482 | B33: =事業所一覧!B33 -> 児童デイサービス こもっこ 岸和田 | C33: =事業所一覧!C33 -> 072-479-8842 | D33: =事業所一覧!D33 -> 072-479-8843 | E33: =事業所一覧!E33 -> 596-0821 | F33: =事業所一覧!F33 -> 岸和田市小松里町2076番 | G33: =事業所一覧!G33 -> 株式会社 栄拓 | H33: =事業所一覧!H33 -> ☆ | ... M33: =事業所一覧!M33 -> 0
A34: =事業所一覧!A34 -> 2751120474 | B34: =事業所一覧!B34 -> ファーストクラス久米田校 | C34: =事業所一覧!C34 -> 072-441-2361 | D34: =事業所一覧!D34 -> 072-441-2361 | E34: =事業所一覧!E34 -> 596-0812 | F34: =事業所一覧!F34 -> 岸和田市大町475番地の19久米田ショッピングセンター201号室 | G34: =事業所一覧!G34 -> 株式会社フルスイングリージェンシー | H34: =事業所一覧!H34 -> ● | ... M34: =事業所一覧!M34 -> 0
A35: =事業所一覧!A35 -> 2751120490 | B35: =事業所一覧!B35 -> ふりすくもーど | C35: =事業所一覧!C35 -> 072-445-8822 | D35: =事業所一覧!D35 -> 072-445-8811 | E35: =事業所一覧!E35 -> 596-0813 | F35: =事業所一覧!F35 -> 岸和田市池尻町211 | G35: =事業所一覧!G35 -> 株式会社ミヤシタ | H35: =事業所一覧!H35 -> ● | ... M35: =事業所一覧!M35 -> 0
A36: =事業所一覧!A36 -> 2751120508 | B36: =事業所一覧!B36 -> 清流の家 春木 | C36: =事業所一覧!C36 -> 072-430-5101 | D36: =事業所一覧!D36 -> 072-430-5102 | E36: =事業所一覧!E36 -> 596-0006 | F36: =事業所一覧!F36 -> 岸和田市春木若松町３番27号 | G36: =事業所一覧!G36 -> 合同会社哲人社 | H36: =事業所一覧!H36 -> ● | ... M36: =事業所一覧!M36 -> 0
A37: =事業所一覧!A37 -> 2751120516 | B37: =事業所一覧!B37 -> 児童発達支援・放課後等デイサービス ＧＯ | C37: =事業所一覧!C37 -> 072-489-5905 | D37: =事業所一覧!D37 -> 072-489-5905 | E37: =事業所一覧!E37 -> 596-0004 | F37: =事業所一覧!F37 -> 岸和田市荒木町二丁目５番２号 Ｍ’ｓビル４階401号室 | G37: =事業所一覧!G37 -> 合同会社Ｇｒｏｗｔｈ Ｏｒｉｅｎｔｅｄ | H37: =事業所一覧!H37 -> ● | ... M37: =事業所一覧!M37 -> 0
A38: =事業所一覧!A38 -> 2751120524 | B38: =事業所一覧!B38 -> 児童デイサービスｍａｆａ | C38: =事業所一覧!C38 -> 072-474-4654 | D38: =事業所一覧!D38 -> 072-474-5649 | E38: =事業所一覧!E38 -> 596-0044 | F38: =事業所一覧!F38 -> 岸和田市西之内町７番21号１階 | G38: =事業所一覧!G38 -> 株式会社ＩＴＯＳＡ | H38: =事業所一覧!H38 -> ☆ | ... M38: =事業所一覧!M38 -> 0
A39: =事業所一覧!A39 -> 2751120532 | B39: =事業所一覧!B39 -> 放課後等デイサービス ピリナ | C39: =事業所一覧!C39 -> 090-8846-0939 | D39: =事業所一覧!D39 -> 072-441-4439 | E39: =事業所一覧!E39 -> 596-0003 | F39: =事業所一覧!F39 -> 岸和田市中井町三丁目18番25号 | G39: =事業所一覧!G39 -> 合同会社カピリナ | H39: =事業所一覧!H39 -> ● | ... M39: =事業所一覧!M39 -> 0
A40: =事業所一覧!A40 -> 2751120540 | B40: =事業所一覧!B40 -> ウルぱあに | C40: =事業所一覧!C40 -> 072-439-9578 | D40: =事業所一覧!D40 -> 072-468-9658 | E40: =事業所一覧!E40 -> 596-0825 | F40: =事業所一覧!F40 -> 岸和田市土生町三丁目14番27号川口ビル２Ｆ | G40: =事業所一覧!G40 -> 株式会社ａｓｏｂｉｌ | H40: =事業所一覧!H40 -> ● | ... M40: =事業所一覧!M40 -> 0
A41: =事業所一覧!A41 -> 2751120557 | B41: =事業所一覧!B41 -> こどもパークゆめっこ | C41: =事業所一覧!C41 -> 072-436-1165 | D41: =事業所一覧!D41 -> 072-493-6594 | E41: =事業所一覧!E41 -> 596-0073 | F41: =事業所一覧!F41 -> 岸和田市岸城町28番36号 | G41: =事業所一覧!G41 -> 株式会社NUTSドリーム | H41: =事業所一覧!H41 -> ☆ | ... M41: =事業所一覧!M41 -> 0
A42: =事業所一覧!A42 -> 2751120565 | B42: =事業所一覧!B42 -> 放課後等デイサービスＯＲＡＮＧＥ | C42: =事業所一覧!C42 -> 072-489-5885 | D42: =事業所一覧!D42 -> 072-489-5553 | E42: =事業所一覧!E42 -> 596-0821 | F42: =事業所一覧!F42 -> 岸和田市小松里町2416番地 | G42: =事業所一覧!G42 -> 株式会社ビロー | H42: =事業所一覧!H42 -> ● | ... M42: =事業所一覧!M42 -> 0
... A55: =事業所一覧!A55 -> 2751120698 | B55: =事業所一覧!B55 -> 児童発達支援・放課後等デイサービス ＨＵＧＳわーむ | C55: =事業所一覧!C55 -> 072-447-4301 | D55: =事業所一覧!D55 -> 072-447-4302 | E55: =事業所一覧!E55 -> 596-0047 | F55: =事業所一覧!F55 -> 岸和田市上野町東10番41号 | G55: =事業所一覧!G55 -> 株式会社オキシテック | H55: =事業所一覧!H55 -> ● | ... M55: =事業所一覧!M55 -> 0

Sheet 池田市
A1: 池田市 | N1: 市町村一覧に戻る
H2: ☆ 主として重症心身障がい児を通わせる事業所
A3: 事業所番号 | B3: 事業所名称 | C3: TEL | D3: FAX | E3: 〒 | F3: 所在地 | G3: 申請者 | H3: 児 | I3: 定員 | J3: 居 | K3: 放 | L3: 定員 | M3: 保 | N3: 備考
A4: =事業所一覧!A56 -> 2752520029 | B4: =事業所一覧!B56 -> はっぴーすまいる | C4: =事業所一覧!C56 -> 072-751-8234 | D4: =事業所一覧!D56 -> 072-751-8234 | E4: =事業所一覧!E56 -> 563-0021 | F4: =事業所一覧!F56 -> 池田市畑一丁目５番29号 | G4: =事業所一覧!G56 -> 合同会社はっぴーすまいる | H4: =事業所一覧!H56 -> 0 | ... N4: =事業所一覧!N56 -> 0
A5: =事業所一覧!A57 -> 2752520037 | B5: =事業所一覧!B57 -> ゴールデンハウス | C5: =事業所一覧!C57 -> 072-750-0303 | D5: =事業所一覧!D57 -> 072-750-0505 | E5: =事業所一覧!E57 -> 563-0024 | F5: =事業所一覧!F57 -> 池田市鉢塚一丁目８番２号 | G5: =事業所一覧!G57 -> 株式会社泰らぎ | H5: =事業所一覧!H57 -> ● | ... N5: =事業所一覧!N57 -> 0
A6: =事業所一覧!A58 -> 2752520045 | B6: =事業所一覧!B58 -> スマイルファクトリー | C6: =事業所一覧!C58 -> 072-751-1145 | D6: =事業所一覧!D58 -> 072-751-6881 | E6: =事業所一覧!E58 -> 563-0017 | F6: =事業所一覧!F58 -> 池田市伏尾台二丁目11番地 | G6: =事業所一覧!G58 -> 特定非営利活動法人トイボックス | H6: =事業所一覧!H58 -> ● | ... N6: =事業所一覧!N58 -> 0
A7: =事業所一覧!A59 -> 2752520052 | B7: =事業所一覧!B59 -> 児童発達支援・放課後等デイサービスＯｈａｎａ（オハナ） | C7: =事業所一覧!C59 -> 072-734-8784 | D7: =事業所一覧!D59 -> 072-734-8774 | E7: =事業所一覧!E59 -> 563-0042 | F7: =事業所一覧!F59 -> 池田市宇保町７番１号 | G7: =事業所一覧!G59 -> 一般社団法人ＣＬＣ Ｏｈａｎａ | H7: =事業所一覧!H59 -> ● | ... N7: =事業所一覧!N59 -> 0
A8: =事業所一覧!A60 -> 2752520060 | B8: =事業所一覧!B60 -> やわらソレイユ | C8: =事業所一覧!C60 -> 072-760-4302 | D8: =事業所一覧!D60 -> 072-760-4301 | E8: =事業所一覧!E60 -> 563-0032 | F8: =事業所一覧!F60 -> 池田市石橋二丁目14番11号１階 | G8: =事業所一覧!G60 -> 株式会社ワイズトライン | H8: =事業所一覧!H60 -> ☆ | ... N8: =事業所一覧!N60 -> 0
A9: =事業所一覧!A61 -> 2752520094 | B9: =事業所一覧!B61 -> デイサービスＳunはーと | C9: =事業所一覧!C61 -> 072-702-3577 | D9: =事業所一覧!D61 -> 072-702-3566 | E9: =事業所一覧!E61 -> 563-0033 | F9: =事業所一覧!F61 -> 池田市住吉一丁目14番25号103号,203号 | G9: =事業所一覧!G61 -> 合同会社Ｓunはーと | H9: =事業所一覧!H61 -> ● | ... N9: =事業所一覧!N61 -> 0
A10: =事業所一覧!A62 -> 2752520128 | B10: =事業所一覧!B62 -> Ｏｈａｎａ緑丘 | C10: =事業所一覧!C62 -> 072-736-9757 | D10: =事業所一覧!D62 -> 072-736-9757 | E10: =事業所一覧!E62 -> 563-0026 | F10: =事業所一覧!F62 -> 池田市緑丘一丁目７番21号 | G10: =事業所一覧!G62 -> 一般社団法人ＣＬＣ Ｏｈａｎａ | H10: =事業所一覧!H62 -> 0 | ... N10: =事業所一覧!N62 -> 0
A11: =事業所一覧!A63 -> 2752520169 | B11: =事業所一覧!B63 -> Ｒ．Ｅ．Ａ．Ｄ．Ｄ． | C11: =事業所一覧!C63 -> 072-752-0001 | D11: =事業所一覧!D63 -> 072-752-0002 | E11: =事業所一覧!E63 -> 563-0058 | F11: =事業所一覧!F63 -> 池田市栄本町４番24号 | G11: =事業所一覧!G63 -> 一般社団法人Ｒ．Ｅ．Ａ．Ｄ．Ｄ． | H11: =事業所一覧!H63 -> ● | ... N11: =事業所一覧!N63 -> 0
A12: =事業所一覧!A64 -> 2752520177 | B12: =事業所一覧!B64 -> ＭＯＭＢ池田 | C12: =事業所一覧!C64 -> 072-753-0807 | D12: =事業所一覧!D64 -> 072-753-0808 | E12: =事業所一覧!E64 -> 563-0043 | F12: =事業所一覧!F64 -> 池田市神田一丁目32番17号 Bellino １Ｂ号 | G12: =事業所一覧!G64 -> 株式会社ネクステム | H12: =事業所一覧!H64 -> ● | ... N12: =事業所一覧!N64 -> 0
A13: =事業所一覧!A65 -> 2752520185 | B13: =事業所一覧!B65 -> はっぴーすてっぷ | C13: =事業所一覧!C65 -> 072-747-2480 | D13: =事業所一覧!D65 -> 072-786-6331 | E13: =事業所一覧!E65 -> 563-0022 | F13: =事業所一覧!F65 -> 池田市旭丘一丁目８番16号旭丘プラザ102号室 | G13: =事業所一覧!G65 -> 合同会社はっぴーすまいる | H13: =事業所一覧!H65 -> ● | ... N13: =事業所一覧!N65 -> 0
A14: =事業所一覧!A66 -> 2752520193 | B14: =事業所一覧!B66 -> ぶるーべりー石橋 | C14: =事業所一覧!C66 -> 072-737-9225 | D14: =事業所一覧!D66 -> 072-737-9203 | E14: =事業所一覧!E66 -> 563-0033 | F14: =事業所一覧!F66 -> 池田市住吉一丁目14番23号１階ベルクサイト101号室 | G14: =事業所一覧!G66 -> 株式会社Ｕｎited Ｐｏｗｅｒｓ | H14: =事業所一覧!H66 -> 0 | ... N14: =事業所一覧!N66 -> 0
A15: =事業所一覧!A67 -> 2752520201 | B15: =事業所一覧!B67 -> ｃｏｃｏｒｏ | C15: =事業所一覧!C67 -> 072-736-8514 | D15: =事業所一覧!D67 -> 072-736-8515 | E15: =事業所一覧!E67 -> 563-0021 | F15: =事業所一覧!F67 -> 池田市畑五丁目１番20号 | G15: =事業所一覧!G67 -> 株式会社ＧＲＯＷＳ | H15: =事業所一覧!H67 -> ☆ | ... N15: =事業所一覧!N67 -> 0
... A21: =事業所一覧!A73 -> 2752520292 | B21: =事業所一覧!B73 -> ハーティワン桃園 | C21: =事業所一覧!C73 -> 072-737-4836 | D21: =事業所一覧!D73 -> 072-767-9717 | E21: =事業所一覧!E73 -> 563-0045 | F21: =事業所一覧!F73 -> 池田市桃園一丁目7番18号スプリングリバーⅡ101 | G21: =事業所一覧!G73 -> 有限会社三宮企画 | H21: =事業所一覧!H73 -> ● | ... N21: =事業所一覧!N73 -> 0
A22: =事業所一覧!A74 -> 2752520318 | B22: =事業所一覧!B74 -> ＫＯＫＯＩＲＯ | C22: =事業所一覧!C74 -> ０７０－８９６２-1788 | D22: =事業所一覧!D74 -> - | E22: =事業所一覧!E74 -> 563-0025 | F22: =事業所一覧!F74 -> 池田市城南三丁目２番13号シャーメゾンラピス１階 | G22: =事業所一覧!G74 -> 合同会社ＨａｌｅＮａｌｕ | H22: =事業所一覧!H74 -> ● | I22: =事業所一覧!I74 -> 10 | K22: =事業所一覧!K74 -> ● | L22: =事業所一覧!L74 -> 10 | M22: =事業所一覧!M74 -> 0
A23: =事業所一覧!A75 -> 2752520334 | B23: =事業所一覧!B75 -> るる | C23: =事業所一覧!C75 -> ０７２－７３４－７５１８ | D23: =事業所一覧!D75 -> ０７２－７３４－７５１８ | E23: =事業所一覧!E75 -> 563-0032 | F23: =事業所一覧!F75 -> 池田市石橋一丁目23番13-101号 | G23: =事業所一覧!G75 -> 知音株式会社 | H23: =事業所一覧!H75 -> ● | I23: =事業所一覧!I75 -> 10 | K23: =事業所一覧!K75 -> ● | L23: =事業所一覧!L75 -> 10 | M23: =事業所一覧!M75 -> 0
A24: =事業所一覧!A76 -> 2752520342 | B24: =事業所一覧!B76 -> ハーティワンおりいぶ | C24: =事業所一覧!C76 -> ０７２－７４４－２１６６ | D24: =事業所一覧!D76 -> ０７２－７４－２１６７ | E24: =事業所一覧!E76 -> 563-0058 | F24: =事業所一覧!F76 -> 池田市栄本町９番６号 ２階・３階・４階・5階 | G24: =事業所一覧!G76 -> 有限会社三宮企画 | H24: =事業所一覧!H76 -> ● | I24: =事業所一覧!I76 -> 10 | K24: =事業所一覧!K76 -> ● | L24: =事業所一覧!L76 -> 10 | M24: =事業所一覧!M76 -> ●
A25: =事業所一覧!A77 -> 2752520359 | B25: =事業所一覧!B77 -> フォレストキッズ池田教室 | C25: =事業所一覧!C77 -> 072-735-7750 | D25: =事業所一覧!D77 -> 072-735-７７80 | E25: =事業所一覧!E77 -> 563-0025 | F25: =事業所一覧!F77 -> 池田市城南一丁目２番２号コンフォートプレイス１階 | G25: =事業所一覧!G77 -> アサヒ産業株式会社 | H25: =事業所一覧!H77 -> ● | I25: =事業所一覧!I77 -> 10 | K25: =事業所一覧!K77 -> 0 | L25: =事業所一覧!L77 -> 0 | M25: =事業所一覧!M77 -> 0
A26: =事業所一覧!A78 -> 2752520367 | B26: =事業所一覧!B78 -> キックオフ | C26: =事業所一覧!C78 -> 072-774-4602 | D26: =事業所一覧!D78 -> 072-702-4432 | E26: =事業所一覧!E78 -> 563-0059 | F26: =事業所一覧!F78 -> 池田市西本町６番17号メゾンクレール201号室 | G26: =事業所一覧!G78 -> 株式会社グッドサポート | H26: =事業所一覧!H78 -> ● | I26: =事業所一覧!I78 -> 10 | K26: =事業所一覧!K78 -> ● | L26: =事業所一覧!L78 -> 10 | M26: =事業所一覧!M78 -> 0
A27: =事業所一覧!A79 -> 2752520383 | B27: =事業所一覧!B79 -> コアキッズ・ケア | C27: =事業所一覧!C79 -> 072-737-7039 | D27: =事業所一覧!D79 -> 072-737-7049 | E27: =事業所一覧!E79 -> 563-0055 | F27: =事業所一覧!F79 -> 池田市菅原町１番14号 | G27: =事業所一覧!G79 -> 株式会社メディカル・ハンド | H27: =事業所一覧!H79 -> ☆ | I27: =事業所一覧!I79 -> 5 | K27: =事業所一覧!K79 -> ☆ | L27: =事業所一覧!L79 -> 5 | M27: =事業所一覧!M79 -> 0
A28: =事業所一覧!A80 -> 2752520391 | B28: =事業所一覧!B80 -> ＭＯＭＢ石橋 | C28: =事業所一覧!C80 -> 072-737-8265 | D28: =事業所一覧!D80 -> 072-737-8266 | E28: =事業所一覧!E80 -> 563-0032 | F28: =事業所一覧!F80 -> 池田市石橋三丁目1番21号モンジット1階 | G28: =事業所一覧!G80 -> 株式会社ネクステム | H28: =事業所一覧!H80 -> 0 | I28: =事業所一覧!I80 -> 0 | K28: =事業所一覧!K80 -> ● | L28: =事業所一覧!L80 -> 10 | M28: =事業所一覧!M80 -> 0
A29: =事業所一覧!A81 -> 2752520417 | B29: =事業所一覧!B81 -> Ｌｉｎｏぷれいす池田 | C29: =事業所一覧!C81 -> 072-737-7121 | D29: =事業所一覧!D81 -> 072-707-2604 | E29: =事業所一覧!E81 -> 563-0023 | F29: =事業所一覧!F81 -> 池田市井口堂一丁目９番26号 アーユス井口堂西棟２階２号室 | G29: =事業所一覧!G81 -> 株式会社シーシー | H29: =事業所一覧!H81 -> 0 | I29: =事業所一覧!I81 -> 0 | K29: =事業所一覧!K81 -> ● | L29: =事業所一覧!L81 -> 10 | M29: =事業所一覧!M81 -> 0
A30: =事業所一覧!A82 -> 2752520433 | B30: =事業所一覧!B82 -> 児童発達支援・放課後等デイサービス ソラーレ神田 | C30: =事業所一覧!C82 -> ０７２－７３６－８０８９ | D30: =事業所一覧!D82 -> ０７２－７３６－８０８９ | E30: =事業所一覧!E82 -> 563-0043 | F30: =事業所一覧!F82 -> 池田市神田二丁目17番６号 | G30: =事業所一覧!G82 -> 株式会社スタジオＤ＆Ｈ | H30: =事業所一覧!H82 -> ● | I30: =事業所一覧!I82 -> 10 | K30: =事業所一覧!K82 -> ● | L30: =事業所一覧!L82 -> 10 | M30: =事業所一覧!M82 -> ●
A31: =事業所一覧!A83 -> 2752520441 | B31: =事業所一覧!B83 -> 児童発達支援・放課後等デイサービス ここふる | C31: =事業所一覧!C83 -> 072-739-6158 | D31: =事業所一覧!D83 -> 072-739-6159 | E31: =事業所一覧!E83 -> 563-0024 | F31: =事業所一覧!F83 -> 池田市鉢塚三丁目15番２号メゾンさつき１階106号室 | G31: =事業所一覧!G83 -> 株式会社めぐみ | H31: =事業所一覧!H83 -> ☆ | I31: =事業所一覧!I83 -> 5 | K31: =事業所一覧!K83 -> ☆ | L31: =事業所一覧!L83 -> 5 | M31: =事業所一覧!M83 -> 0
A32: =事業所一覧!A84 -> 2752520458 | B32: =事業所一覧!B84 -> ＮＰＯ法人つぼみ | C32: =事業所一覧!C84 -> 090-7962-7570 | D32: =事業所一覧!D84 -> - | E32: =事業所一覧!E84 -> 563-0032 | F32: =事業所一覧!F84 -> 池田市石橋二丁目13番29号２階 | G32: =事業所一覧!G84 -> ＮＰＯ法人つぼみ | H32: =事業所一覧!H84 -> ● | I32: =事業所一覧!I84 -> 10 | K32: =事業所一覧!K84 -> ● | L32: =事業所一覧!L84 -> 10 | M32: =事業所一覧!M84 -> ●
A33: =事業所一覧!A85 -> 2752520466 | B33: =事業所一覧!B85 -> ワナビー城南 | C33: =事業所一覧!C85 -> 072-768-8184 | D33: =事業所一覧!D85 -> 072-768-8184 | E33: =事業所一覧!E85 -> 563-0025 | F33: =事業所一覧!F85 -> 池田市城南一丁目９番22号ＡＸＩＳ池田グリーンプラザⅠ ２Ｆ－Ｄ | G33: =事業所一覧!G85 -> 株式会社ミヤビコーポレーション | H33: =事業所一覧!H85 -> ● | I33: =事業所一覧!I85 -> 10 | K33: =事業所一覧!K85 -> ● | L33: =事業所一覧!L85 -> 10 | M33: =事業所一覧!M85 -> ●
... A51: =事業所一覧!A103 -> 2752520649 | B51: =事業所一覧!B103 -> こどもサポート教室「きらり」池田駅前校 | C51: =事業所一覧!C103 -> 072-739-9600 | D51: =事業所一覧!D103 -> 072-739-9600 | E51: =事業所一覧!E103 -> 563-0056 | F51: =事業所一覧!F103 -> 池田市栄町９番13号サカエマチ壱番館２階Ｄ・Ｅ号室 | G51: =事業所一覧!G103 -> 株式会社クラ・ゼミ | H51: =事業所一覧!H103 -> ● | I51: =事業所一覧!I103 -> 10 | K51: =事業所一覧!K103 -> ● | L51: =事業所一覧!L103 -> 10 | M51: =事業所一覧!M103 -> 0

Sheet 泉大津市
A1: 泉大津市 | N1: 市町村一覧に戻る
H2: ☆ 主として重症心身障がい児を通わせる事業所
A3: 事業所番号 | B3: 事業所名称 | C3: TEL | D3: FAX | E3: 〒 | F3: 所在地 | G3: 申請者 | H3: 児 | I3: 定員 | J3: 居 | K3: 放 | L3: 定員 | M3: 保 | N3: 備考
A4: =事業所一覧!A104 -> 2750620011 | B4: =事業所一覧!B104 -> ILIS CLUB泉大津 | C4: =事業所一覧!C104 -> 0725-22-6650 | D4: =事業所一覧!D104 -> 0725-22-6651 | E4: =事業所一覧!E104 -> 595-0024 | F4: =事業所一覧!F104 -> 泉大津市池浦町一丁目２番18号 | G4: =事業所一覧!G104 -> 株式会社アイリス | H4: =事業所一覧!H104 -> ● | ... N4: =事業所一覧!N104 -> 0
A5: =事業所一覧!A105 -> 2750620086 | B5: =事業所一覧!B105 -> 清流の家 泉大津 | C5: =事業所一覧!C105 -> 0725-23-2760 | D5: =事業所一覧!D105 -> 0725-23-2770 | E5: =事業所一覧!E105 -> 595-0071 | F5: =事業所一覧!F105 -> 泉大津市助松町二丁目４番10号 | G5: =事業所一覧!G105 -> 合同会社哲人社 | H5: =事業所一覧!H105 -> ● | ... M5: =事業所一覧!M105 -> 0
A6: =事業所一覧!A106 -> 2750620094 | B6: =事業所一覧!B106 -> 児童発達支援・放課後等デイサービスろはすの家 | C6: =事業所一覧!C106 -> 0725-31-3100 | D6: =事業所一覧!D106 -> 0725-31-3200 | E6: =事業所一覧!E106 -> 595-0015 | F6: =事業所一覧!F106 -> 泉大津市二田町一丁目20番19号 | G6: =事業所一覧!G106 -> 株式会社ＨＨＩ | H6: =事業所一覧!H106 -> ☆ | ... M6: =事業所一覧!M106 -> 0
A7: =事業所一覧!A107 -> 2750620169 | B7: =事業所一覧!B107 -> さんＳＵＮアフタースクール泉大津 | C7: =事業所一覧!C107 -> 0725-20-6202 | D7: =事業所一覧!D107 -> 0725-20-6203 | E7: =事業所一覧!E107 -> 595-0043 | F7: =事業所一覧!F107 -> 泉大津市清水町１番40号 | G7: =事業所一覧!G107 -> 株式会社ＩＬＯ | H7: =事業所一覧!H107 -> ● | ... M7: =事業所一覧!M107 -> 0
A8: =事業所一覧!A108 -> 2750620177 | B8: =事業所一覧!B108 -> はぐハウスⅡ | C8: =事業所一覧!C108 -> 0725-92-8918 | D8: =事業所一覧!D108 -> 0725-92-8981 | E8: =事業所一覧!E108 -> 595-0071 | F8: =事業所一覧!F108 -> 泉大津市助松町三丁目１－25 ビーチマンションⅡ１階102号 | G8: =事業所一覧!G108 -> ＩＯＳメディカルケア株式会社 | H8: =事業所一覧!H108 -> ☆ | ... M8: =事業所一覧!M108 -> 0
A9: =事業所一覧!A109 -> 2750620250 | B9: =事業所一覧!B109 -> 運動学習支援教室 みらいずジュニア | C9: =事業所一覧!C109 -> 0725-58-7533 | D9: =事業所一覧!D109 -> 0725-58-7534 | E9: =事業所一覧!E109 -> 595-0023 | F9: =事業所一覧!F109 -> 泉大津市北豊中町一丁目498番地1 | G9: =事業所一覧!G109 -> 社会福祉法人豊中福祉会 | H9: =事業所一覧!H109 -> ● | ... M9: =事業所一覧!M109 -> 0
A10: =事業所一覧!A110 -> 2750620268 | B10: =事業所一覧!B110 -> 児童発達支援・放課後等デイサービス ろはすの家 つぼみ | C10: =事業所一覧!C110 -> 0725-31-3300 | D10: =事業所一覧!D110 -> 0725-31-3400 | E10: =事業所一覧!E110 -> 595-0015 | F10: =事業所一覧!F110 -> 泉大津市二田町三丁目４番15号 | G10: =事業所一覧!G110 -> 株式会社ＨＨＩ | H10: =事業所一覧!H110 -> ● | ... M10: =事業所一覧!M110 -> 0
A11: =事業所一覧!A111 -> 2750620284 | B11: =事業所一覧!B111 -> こどもサポートばんびーに | C11: =事業所一覧!C111 -> 090-2705-1640 | D11: =事業所一覧!D111 -> - | E11: =事業所一覧!E111 -> 595-0013 | F11: =事業所一覧!F111 -> 泉大津市宮町10番5号 | G11: =事業所一覧!G111 -> 株式会社ＫＪＴ | H11: =事業所一覧!H111 -> ● | ... M11: =事業所一覧!M111 -> 0
A12: =事業所一覧!A112 -> 2750620300 | B12: =事業所一覧!B112 -> 児童発達支援 ぱぴぷ | C12: =事業所一覧!C112 -> 0725-90-4110 | D12: =事業所一覧!D112 -> 0725-90-4118 | E12: =事業所一覧!E112 -> 595-0021 | F12: =事業所一覧!F112 -> 泉大津市東豊中町三丁目14番12号 新井ビル１階 | G12: =事業所一覧!G112 -> 株式会社Ｔｈｅ Ｆｉｒｓｔ | H12: =事業所一覧!H112 -> ● | ... M12: =事業所一覧!M112 -> 0
A13: =事業所一覧!A113 -> 2750620318 | B13: =事業所一覧!B113 -> ジャンプ泉大津 | C13: =事業所一覧!C113 -> 0725-24-0215 | D13: =事業所一覧!D113 -> 0725-24-0331 | E13: =事業所一覧!E113 -> 595-0014 | F13: =事業所一覧!F113 -> 泉大津市寿町14番１号 | G13: =事業所一覧!G113 -> 株式会社JUMP | H13: =事業所一覧!H113 -> ● | ... M13: =事業所一覧!M113 -> 0
A14: =事業所一覧!A114 -> 2750620334 | B14: =事業所一覧!B114 -> あすなろ | C14: =事業所一覧!C114 -> ０７２５－９９－８５１２ | D14: =事業所一覧!D114 -> ０７２５－９９－８５１３ | E14: =事業所一覧!E114 -> 595-0024 | F14: =事業所一覧!F114 -> 泉大津市池浦町二丁目14番27号 | G14: =事業所一覧!G114 -> 株式会社Ｏ－プランニング | H14: =事業所一覧!H114 -> ● | ... M14: =事業所一覧!M114 -> 0
A15: =事業所一覧!A115 -> 2750620375 | B15: =事業所一覧!B115 -> 子どもデイサービス サニー | C15: =事業所一覧!C115 -> 0725-25-8127 | D15: =事業所一覧!D115 -> 0725-51-7588 | E15: =事業所一覧!E115 -> 595-0011 | F15: =事業所一覧!F115 -> 泉大津市曽根町三丁目９番30号 | G15: =事業所一覧!G115 -> 合同会社リレイション | H15: =事業所一覧!H115 -> ● | ... M15: =事業所一覧!M115 -> 0
A16: =事業所一覧!A116 -> 2750620383 | B16: =事業所一覧!B116 -> ホップステップこっちゃん | C16: =事業所一覧!C116 -> 0725-92-9972 | D16: =事業所一覧!D116 -> 0725-92-9972 | E16: =事業所一覧!E116 -> 595-0021 | F16: =事業所一覧!F116 -> 泉大津市東豊中町一丁目５番48号シンエイビル１階101号 | G16: =事業所一覧!G116 -> 株式会社藤花 | H16: =事業所一覧!H116 -> ● | ... M16: =事業所一覧!M116 -> 0
... A20: =事業所一覧!A120 -> 2751120458 | B20: =事業所一覧!B120 -> スポーツアカデミー泉大津 | C20: =事業所一覧!C120 -> 0725-25-8517 | D20: =事業所一覧!D120 -> 0725-25-8517 | E20: =事業所一覧!E120 -> 595-0071 | F20: =事業所一覧!F120 -> 泉大津市助松町三丁目９番４０-106号 | G20: =事業所一覧!G120 -> 株式会社赤い糸 | H20: =事業所一覧!H120 -> ● | ... M20: =事業所一覧!M120 -> 0
A21: =事業所一覧!A121 -> 2750620425 | B21: =事業所一覧!B121 -> 放課後等デイサービス ウィズ・ユー泉大津 | C21: =事業所一覧!C121 -> 0725-58-7603 | D21: =事業所一覧!D121 -> 0725-58-7604 | E21: =事業所一覧!E121 -> 595-0025 | F21: =事業所一覧!F121 -> 泉大津市旭町18番３号 アルザ203号室 | G21: =事業所一覧!G121 -> 新秋堂株式会社 | H21: =事業所一覧!H121 -> ● | ... K21: =事業所一覧!K121 -> ● | L21: =事業所一覧!L122 -> 10 | M21: =事業所一覧!M121 -> 0
A22: =事業所一覧!A122 -> 2750620433 | B22: =事業所一覧!B122 -> はぴにこ | C22: =事業所一覧!C122 -> 0725-58-9916 | D22: =事業所一覧!D122 -> 0725-58-9917 | E22: =事業所一覧!E122 -> 595-0006 | F22: =事業所一覧!F122 -> 泉大津市東助松町一丁目１番２号 | G22: =事業所一覧!G122 -> 株式会社ｂｒａｎｃｈ | H22: =事業所一覧!H122 -> ● | ... K22: =事業所一覧!K122 -> ● | L22: =事業所一覧!L123 -> 10 | M22: =事業所一覧!M122 -> 0
A23: =事業所一覧!A123 -> 2750620441 | B23: =事業所一覧!B123 -> こどもサポートばんびーに ＰＡＳＳＯ | C23: =事業所一覧!C123 -> 0725-24-9096 | D23: =事業所一覧!D123 -> 0725-24-9097 | E23: =事業所一覧!E123 -> 595-0013 | F23: =事業所一覧!F123 -> 泉大津市宮町９番46号 | G23: =事業所一覧!G123 -> 株式会社ＫＪＴ | H23: =事業所一覧!H123 -> ● | ... K23: =事業所一覧!K123 -> ● | L23: =事業所一覧!L130 -> 10 | M23: =事業所一覧!M123 -> 0
A24: =事業所一覧!A124 -> 2750620458 | B24: =事業所一覧!B124 -> すこやか | C24: =事業所一覧!C124 -> ０７２５－４１－４９９８ | D24: =事業所一覧!D124 -> ０７２５－４１－４８７４ | E24: =事業所一覧!E124 -> 595-0021 | F24: =事業所一覧!F124 -> 泉大津市東豊中町三丁目１番15号４階 | G24: =事業所一覧!G124 -> 社会福祉法人健福祉会 | H24: =事業所一覧!H124 -> ● | ... K24: =事業所一覧!K124 -> ● | L24: =事業所一覧!L131 -> 10 | M24: =事業所一覧!M124 -> 0
A25: =事業所一覧!A125 -> 2750620474 | B25: =事業所一覧!B125 -> 児童発達支援事業所 さんらいず | C25: =事業所一覧!C125 -> 0725-58-9127 | D25: =事業所一覧!D125 -> 0725-58-9128 | E25: =事業所一覧!E125 -> ５９５－００２７ | F25: =事業所一覧!F125 -> 泉大津市下条町12－12 | G25: =事業所一覧!G125 -> 株式会社おひさま | H25: =事業所一覧!H125 -> ● | ... K25: =事業所一覧!K125 -> ● | L25: =事業所一覧!L133 -> 10 | M25: =事業所一覧!M125 -> 0
A26: =事業所一覧!A126 -> 2750620482 | B26: =事業所一覧!B126 -> トンガリばたけ 泉大津教室 | C26: =事業所一覧!C126 -> 0725-54-9991 | D26: =事業所一覧!D126 -> 0725-54-9993 | E26: =事業所一覧!E126 -> 595-0024 | F26: =事業所一覧!F126 -> 泉大津市池浦町一丁目７番４号 | G26: =事業所一覧!G126 -> ｉｔｒａｄｅ株式会社 | H26: =事業所一覧!H126 -> ● | ... K26: =事業所一覧!K126 -> ● | L26: =事業所一覧!L134 -> 10 | M26: =事業所一覧!M126 -> 0
A27: =事業所一覧!A127 -> 2750620490 | B27: =事業所一覧!B127 -> 児童発達支援・放課後等デイサービス こども館 | C27: =事業所一覧!C127 -> 0725-39-8764 | D27: =事業所一覧!D127 -> 0725-39-8764 | E27: =事業所一覧!E127 -> 595-0033 | F27: =事業所一覧!F127 -> 泉大津市板原三丁目６番１号 | G27: =事業所一覧!G127 -> 合同会社ＨＩＫＡＲＵ | H27: =事業所一覧!H127 -> ● | ... K27: =事業所一覧!K127 -> ● | L27: =事業所一覧!L135 -> 10 | M27: =事業所一覧!M127 -> 0
A28: =事業所一覧!A128 -> 2750620508 | B28: =事業所一覧!B128 -> Ｄｅｌｉｇｈｔ泉大津教室 | C28: =事業所一覧!C128 -> 090-8375-8167 | D28: =事業所一覧!D128 -> 0725-30-5520 | E28: =事業所一覧!E128 -> 595-0043 | F28: =事業所一覧!F128 -> 泉大津市清水町七丁目20番２号 | G28: =事業所一覧!G128 -> 株式会社ぽいんせちあ | H28: =事業所一覧!H128 -> ● | ... K28: =事業所一覧!K128 -> 0 | M28: =事業所一覧!M128 -> 0
A29: =事業所一覧!A129 -> 2750620516 | B29: =事業所一覧!B129 -> あおぞら | C29: =事業所一覧!C129 -> 0725-46-5757 | D29: =事業所一覧!D129 -> - | E29: =事業所一覧!E129 -> 595-0021 | F29: =事業所一覧!F129 -> 泉大津市東豊中町一丁目３番３号 エルセレーノ府中１F | G29: =事業所一覧!G129 -> 株式会社まほろば | H29: =事業所一覧!H129 -> ● | ... K29: =事業所一覧!K129 -> ● | M29: =事業所一覧!M129 -> 0

Sheet 貝塚市
A1: 貝塚市 | N1: 市町村一覧に戻る
H2: ☆ 主として重症心身障がい児を通わせる事業所
A3: 事業所番号 | B3: 事業所名称 | C3: TEL | D3: FAX | E3: 〒 | F3: 所在地 | G3: 申請者 | H3: 児 | I3: 定員 | J3: 居 | K3: 放 | L3: 定員 | M3: 保 | N3: 備考
A4: =事業所一覧!A130 -> 2751320017 | B4: =事業所一覧!B130 -> こどもデイケアいずみ自閉症児支援センター | C4: =事業所一覧!C130 -> 072-421-3011 | D4: =事業所一覧!D130 -> 072-421-3011 | E4: =事業所一覧!E130 -> 597-0046 | F4: =事業所一覧!F130 -> 貝塚市東山二丁目1番1号 | G4: =事業所一覧!G130 -> 社会福祉法人三ヶ山学園 | H4: =事業所一覧!H130 -> ● | ... N4: =事業所一覧!N130 -> 0
A5: =事業所一覧!A131 -> 2751320025 | B5: =事業所一覧!B131 -> ほっこりの里 | C5: =事業所一覧!C131 -> 072-423-0020 | D5: =事業所一覧!D131 -> 072-423-0021 | E5: =事業所一覧!E131 -> 597-0052 | F5: =事業所一覧!F131 -> 貝塚市窪田１４７－１ | G5: =事業所一覧!G131 -> 社会福祉法人ほっこり福祉会 | H5: =事業所一覧!H131 -> ● | ... N5: =事業所一覧!N131 -> 0
A6: =事業所一覧!A132 -> 2751320033 | B6: =事業所一覧!B132 -> みつばち加神アフタースクール | C6: =事業所一覧!C132 -> 072-425-4066 | D6: =事業所一覧!D132 -> 072-424-7532 | E6: =事業所一覧!E132 -> 597-0071 | F6: =事業所一覧!F132 -> 貝塚市加神二丁目15番28号 | G6: =事業所一覧!G132 -> 特定非営利活動法人彩福祉会 | H6: =事業所一覧!H132 -> 0 | ... N6: =事業所一覧!N132 -> 0
A7: =事業所一覧!A133 -> 2751320041 | B7: =事業所一覧!B133 -> 児童福祉サービスＬａｒｉｍａｒ | C7: =事業所一覧!C133 -> 072-433-3900 | D7: =事業所一覧!D133 -> 072-433-3915 | E7: =事業所一覧!E133 -> 597-0053 | F7: =事業所一覧!F133 -> 貝塚市地蔵堂１番地８ | G7: =事業所一覧!G133 -> ＮＰＯ法人児童福祉サービスＬａｒｉｍａｒ | H7: =事業所一覧!H133 -> ● | ... N7: =事業所一覧!N133 -> 0
A8: =事業所一覧!A134 -> 2751320090 | B8: =事業所一覧!B134 -> みつばち森アフタースクール | C8: =事業所一覧!C134 -> 072-424-8822 | D8: =事業所一覧!D134 -> 072-424-6610 | E8: =事業所一覧!E134 -> 597-0044 | F8: =事業所一覧!F134 -> 貝塚市森510番地１ | G8: =事業所一覧!G134 -> 特定非営利活動法人彩福祉会 | H8: =事業所一覧!H134 -> 0 | ... N8: =事業所一覧!N134 -> 0
A9: =事業所一覧!A135 -> 2751320108 | B9: =事業所一覧!B135 -> 放課後デイサービス・児童発達支援ぱれっと | C9: =事業所一覧!C135 -> 072-415-0329 | D9: =事業所一覧!D135 -> 072-415-0329 | E9: =事業所一覧!E135 -> 597-0033 | F9: =事業所一覧!F135 -> 貝塚市半田一丁目17番３号ヴァンテーヌ西納101号 | G9: =事業所一覧!G135 -> 株式会社カワカミ建装 | H9: =事業所一覧!H135 -> ● | ... N9: =事業所一覧!N135 -> 0
A10: =事業所一覧!A136 -> 2751320124 | B10: =事業所一覧!B136 -> こっとんオルタ | C10: =事業所一覧!C136 -> 072-425-2433 | D10: =事業所一覧!D136 -> 072-425-2434 | E10: =事業所一覧!E136 -> 597-0033 | F10: =事業所一覧!F136 -> 貝塚市半田一丁目10番40号 | G10: =事業所一覧!G136 -> 一般社団法人ＳＥＥＤ | H10: =事業所一覧!H136 -> ● | ... N10: =事業所一覧!N136 -> 0
A11: =事業所一覧!A137 -> 2751320132 | B11: =事業所一覧!B137 -> 児童デイサービスいっぽ | C11: =事業所一覧!C137 -> 072-488-7258 | D11: =事業所一覧!D137 -> 072-488-7259 | E11: =事業所一覧!E137 -> 597-0033 | F11: =事業所一覧!F137 -> 貝塚市半田二丁目22番６号 | G11: =事業所一覧!G137 -> 株式会社フォーライフ | H11: =事業所一覧!H137 -> ● | ... N11: =事業所一覧!N137 -> 0
A12: =事業所一覧!A138 -> 2751320199 | B12: =事業所一覧!B138 -> こどもデイサービスｅｎｉｓｈｉ | C12: =事業所一覧!C138 -> 072-446-3930 | D12: =事業所一覧!D138 -> 072-446-3931 | E12: =事業所一覧!E138 -> 597-0046 | F12: =事業所一覧!F138 -> 貝塚市東山七丁目６番21号 | G12: =事業所一覧!G138 -> 株式会社縁 | H12: =事業所一覧!H138 -> ☆ | ... N12: =事業所一覧!N138 -> 0
A13: =事業所一覧!A139 -> 2751320207 | B13: =事業所一覧!B139 -> わくわくエイト | C13: =事業所一覧!C139 -> 072-479-3677 | D13: =事業所一覧!D139 -> 072-479-3688 | E13: =事業所一覧!E139 -> 597-0083 | F13: =事業所一覧!F139 -> 貝塚市海塚二丁目22番15号 山裾ビル４階 | G13: =事業所一覧!G139 -> 株式会社ＷＡＫＯ | H13: =事業所一覧!H139 -> ● | ... N13: =事業所一覧!N139 -> 0
A14: =事業所一覧!A140 -> 2751320249 | B14: =事業所一覧!B140 -> 運動＆学習療育 あなたが宝モノ 貝塚王子教室 | C14: =事業所一覧!C140 -> 072-479-3524 | D14: =事業所一覧!D140 -> 072-479-3534 | E14: =事業所一覧!E140 -> 597-0051 | F14: =事業所一覧!F140 -> 貝塚市王子1028番地１ | G14: =事業所一覧!G140 -> 株式会社 いのちの木 | H14: =事業所一覧!H140 -> ● | ... N14: =事業所一覧!N140 -> 0
A15: =事業所一覧!A141 -> 2751320256 | B15: =事業所一覧!B141 -> 児童デイサービス ルミナス | C15: =事業所一覧!C141 -> 072-428-7444 | D15: =事業所一覧!D141 -> 072-428-7445 | E15: =事業所一覧!E141 -> 597-0081 | F15: =事業所一覧!F141 -> 貝塚市麻生中973番地１ | G15: =事業所一覧!G141 -> 株式会社Ｗｅｌｆａｒｅ | H15: =事業所一覧!H141 -> ☆ | ... N15: =事業所一覧!N141 -> 0
... A30: =事業所一覧!A156 -> 2751320421 | B30: =事業所一覧!B156 -> 完全マンツーマン あなたが宝モノ 貝塚王子教室 | C30: =事業所一覧!C156 -> 072-488-7038 | D30: =事業所一覧!D156 -> 072-488-7039 | E30: =事業所一覧!E156 -> 597-0051 | F30: =事業所一覧!F156 -> 貝塚市王子1029番５号 いのちの木リエゾンビル１階 | G30: =事業所一覧!G156 -> こえていこう株式会社 | H30: =事業所一覧!H156 -> ● | ... N30: =事業所一覧!N156 -> 0

Sheet 守口市
A1: 守口市 | N1: 市町村一覧に戻る
H2: ☆ 主として重症心身障がい児を通わせる事業所
A3: 事業所番号 | B3: 事業所名称 | C3: TEL | D3: FAX | E3: 〒 | F3: 所在地 | G3: 申請者 | H3: 児 | I3: 定員 | J3: 居 | K3: 放 | L3: 定員 | M3: 保 | N3: 備考
A4: =事業所一覧!A157 -> 2753220041 | B4: =事業所一覧!B157 -> 放課後等デイサービス事業所どり～むはうす | C4: =事業所一覧!C157 -> 06-6994-8560 | D4: =事業所一覧!D157 -> 06-6994-8561 | E4: =事業所一覧!E157 -> 570-0056 | F4: =事業所一覧!F157 -> 守口市寺内町一丁目８番７号創建ビル１階及び２階 | G4: =事業所一覧!G157 -> 株式会社ドリームフューチャー | H4: =事業所一覧!H157 -> 0 | ... N4: =事業所一覧!N157 -> 0
A5: =事業所一覧!A158 -> 2753220058 | B5: =事業所一覧!B158 -> みずいろはうす | C5: =事業所一覧!C158 -> 06-6780-4212 | D5: =事業所一覧!D158 -> 06-6780-4213 | E5: =事業所一覧!E158 -> 570-0048 | F5: =事業所一覧!F158 -> 守口市寺方本通三丁目１番21号 | G5: =事業所一覧!G158 -> 合同会社からふるぱーとなーず | H5: =事業所一覧!H158 -> ● | ... N5: =事業所一覧!N158 -> 0
A6: =事業所一覧!A159 -> 2753220066 | B6: =事業所一覧!B159 -> ぷりずむ | C6: =事業所一覧!C159 -> 06-4304-4585 | D6: =事業所一覧!D159 -> 06-4304-4589 | E6: =事業所一覧!E159 -> 570-0053 | F6: =事業所一覧!F159 -> 守口市高瀬町一丁目５番18号101号室 | G6: =事業所一覧!G159 -> スバル・トータルプランニング株式会社 | H6: =事業所一覧!H159 -> ● | ... N6: =事業所一覧!N159 -> 0
A7: =事業所一覧!A160 -> 2753220090 | B7: =事業所一覧!B160 -> ワイワイスマイル守口教室 | C7: =事業所一覧!C160 -> 06-6780-4248 | D7: =事業所一覧!D160 -> 06-6780-4249 | E7: =事業所一覧!E160 -> 570-0014 | F7: =事業所一覧!F160 -> 守口市藤田町三丁目41番６号ツインコープ守口北館１階 | G7: =事業所一覧!G160 -> 株式会社四谷宮本 | H7: =事業所一覧!H160 -> 0 | ... M7: =事業所一覧!M160 -> 0
A8: =事業所一覧!A161 -> 2753220108 | B8: =事業所一覧!B161 -> どんぐりの家 | C8: =事業所一覧!C161 -> 06-6906-7233 | D8: =事業所一覧!D161 -> 06-6906-7233 | E8: =事業所一覧!E161 -> 570-0021 | F8: =事業所一覧!F161 -> 守口市八雲東町一丁目５番８号 | G8: =事業所一覧!G161 -> 合同会社鷹山 | H8: =事業所一覧!H161 -> ● | ... M8: =事業所一覧!M161 -> 0
A9: =事業所一覧!A162 -> 2753220116 | B9: =事業所一覧!B162 -> きらら守口 | C9: =事業所一覧!C162 -> 06-7163-7231 | D9: =事業所一覧!D162 -> 06-7162-3161 | E9: =事業所一覧!E162 -> 570-0084 | F9: =事業所一覧!F162 -> 守口市緑町１番７号グリーンハイツ101号室 | G9: =事業所一覧!G162 -> 一般社団法人芳縁会 | H9: =事業所一覧!H162 -> ● | ... M9: =事業所一覧!M162 -> 0
A10: =事業所一覧!A163 -> 2753220124 | B10: =事業所一覧!B163 -> 地域生活総合支援センターいま | C10: =事業所一覧!C163 -> 06-6780-4370 | D10: =事業所一覧!D163 -> 06-6780-4371 | E10: =事業所一覧!E163 -> 570-0048 | F10: =事業所一覧!F163 -> 守口市寺方本通二丁目20番４号 | G10: =事業所一覧!G163 -> 社会福祉法人大阪府障害者福祉事業団 | H10: =事業所一覧!H163 -> 0 | ... M10: =事業所一覧!M163 -> 0
A11: =事業所一覧!A164 -> 2753220173 | B11: =事業所一覧!B164 -> あさがおねっと | C11: =事業所一覧!C164 -> 06-7508-4909 | D11: =事業所一覧!D164 -> 06-7508-4909 | E11: =事業所一覧!E164 -> 570-0006 | F11: =事業所一覧!F164 -> 守口市八雲西町二丁目12番13号 | G11: =事業所一覧!G164 -> 株式会社あさがおねっと | H11: =事業所一覧!H164 -> ● | ... M11: =事業所一覧!M164 -> 0
A12: =事業所一覧!A165 -> 2753220181 | B12: =事業所一覧!B165 -> 放課後等デイサービスウィズ守口滝井 | C12: =事業所一覧!C165 -> 06-6967-8735 | D12: =事業所一覧!D165 -> 06-6967-8135 | E12: =事業所一覧!E165 -> 570-0076 | F12: =事業所一覧!F165 -> 守口市滝井西町三丁目７番４号 | G12: =事業所一覧!G165 -> 株式会社エール | H12: =事業所一覧!H165 -> ● | ... M12: =事業所一覧!M165 -> 0
A13: =事業所一覧!A166 -> 2753220199 | B13: =事業所一覧!B166 -> 放課後等デイサービスらいとすぺーす | C13: =事業所一覧!C166 -> 06-7508-3313 | D13: =事業所一覧!D166 -> 06-7509-4422 | E13: =事業所一覧!E166 -> 570-0029 | F13: =事業所一覧!F166 -> 守口市来迎町５番17号 | G13: =事業所一覧!G166 -> 合同会社らいとすぺーす | H13: =事業所一覧!H166 -> 0 | ... M13: =事業所一覧!M166 -> 0
A14: =事業所一覧!A167 -> 2753220223 | B14: =事業所一覧!B167 -> ゆりいか | C14: =事業所一覧!C167 -> 06-4397-7582 | D14: =事業所一覧!D167 -> 06-4397-7583 | E14: =事業所一覧!E167 -> 570-0081 | F14: =事業所一覧!F167 -> 守口市日吉町二丁目14番２号 | G14: =事業所一覧!G167 -> スバル・トータルプランニング株式会社 | H14: =事業所一覧!H167 -> ● | ... M14: =事業所一覧!M167 -> 0
A15: =事業所一覧!A168 -> 2753220272 | B15: =事業所一覧!B168 -> YCCもこもこ守口教室 | C15: =事業所一覧!C168 -> 06-6998-7001 | D15: =事業所一覧!D168 -> 06-6998-7002 | E15: =事業所一覧!E168 -> 570-0034 | F15: =事業所一覧!F168 -> 守口市西郷通一丁目４番14号扇商事ビル３Ｆ | G15: =事業所一覧!G168 -> 株式会社One Vision | H15: =事業所一覧!H168 -> ● | ... M15: =事業所一覧!M168 -> 0
A16: =事業所一覧!A169 -> 2753220280 | B16: =事業所一覧!B169 -> 放課後等デイサービス くりーむうさぎ・守口 | C16: =事業所一覧!C169 -> 06-6916-3505 | D16: =事業所一覧!D169 -> 06-6916-3506 | E16: =事業所一覧!E169 -> 570-0005 | F16: =事業所一覧!F169 -> 守口市八雲中町二丁目１番４号 あんしんらいふ守口１F B号室 | G16: =事業所一覧!G169 -> 株式会社ブリス | H16: =事業所一覧!H169 -> 0 | ... M16: =事業所一覧!M169 -> 0
A17: =事業所一覧!A170 -> 2753220306 | B17: =事業所一覧!B170 -> 児童デイ はっぴー | C17: =事業所一覧!C170 -> 06-6916-0555 | D17: =事業所一覧!D170 -> 06-6916-0333 | E17: =事業所一覧!E170 -> 570-0012 | F17: =事業所一覧!F170 -> 守口市大久保町五丁目39番６号 | G17: =事業所一覧!G170 -> 株式会社オールケア守口 | H17: =事業所一覧!H170 -> ☆ | ... M17: =事業所一覧!M170 -> 0
A18: =事業所一覧!A171 -> 2753220314 | B18: =事業所一覧!B171 -> オールケア大日 | C18: =事業所一覧!C171 -> 06-6904-1010 | D18: =事業所一覧!D171 -> 06-6904-1011 | E18: =事業所一覧!E171 -> 570-0015 | F18: =事業所一覧!F171 -> 守口市梶町一丁目4番14号 | G18: =事業所一覧!G171 -> 株式会社オールケア大日 | H18: =事業所一覧!H171 -> ●・☆ | ... M18: =事業所一覧!M171 -> ●
... A51: =事業所一覧!A204 -> 2753220686 | B51: =事業所一覧!B204 -> 放課後等デイサービス メルルキッズⅡ | C51: =事業所一覧!C204 -> 06-6906-5556 | D51: =事業所一覧!D204 -> 06-6906-8101 | E51: =事業所一覧!E204 -> 570-0014 | F51: =事業所一覧!F204 -> 守口市藤田町五丁目35番９号なるなるビル１F102 | G51: =事業所一覧!G204 -> 株式会社太成堂 | H51: =事業所一覧!H204 -> ● | ... M51: =事業所一覧!M204 -> 0

Sheet 茨木市
A1: 茨木市 | N1: 市町村一覧に戻る
H2: ☆ 主として重症心身障がい児を通わせる事業所
A3: 事業所番号 | B3: 事業所名称 | C3: TEL | D3: FAX | E3: 〒 | F3: 所在地 | G3: 申請者 | H3: 児 | I3: 定員 | J3: 居 | K3: 放 | L3: 定員 | M3: 保 | N3: 備考
A4: =事業所一覧!A205 -> 2754220024 | B4: =事業所一覧!B205 -> 児童発達支援事業所すくすく親子教室 | C4: =事業所一覧!C205 -> 072-620-9817 | D4: =事業所一覧!D205 -> 072-620-9833 | E4: =事業所一覧!E205 -> 567-0031 | F4: =事業所一覧!F205 -> 茨木市春日三丁目13番5号 | G4: =事業所一覧!G205 -> 茨木市 | H4: =事業所一覧!H205 -> ● | ... N4: =事業所一覧!N205 -> 0
A5: =事業所一覧!A206 -> 2754220032 | B5: =事業所一覧!B206 -> さくらんぼるーむ | C5: =事業所一覧!C206 -> 072-634-5624 | D5: =事業所一覧!D206 -> 072-634-5625 | E5: =事業所一覧!E206 -> 567-0892 | F5: =事業所一覧!F206 -> 茨木市並木町1番6号 茨木スクエアービル201・202号 | G5: =事業所一覧!G206 -> 社会福祉法人育成福祉会 | H5: =事業所一覧!H206 -> ● | ... N5: =事業所一覧!N206 -> 0
A6: =事業所一覧!A207 -> 2754220081 | B6: =事業所一覧!B207 -> デイサービスなかよし | C6: =事業所一覧!C207 -> 072-627-9005 | D6: =事業所一覧!D207 -> 072-622-9393 | E6: =事業所一覧!E207 -> 567-0036 | F6: =事業所一覧!F207 -> 茨木市上穂積二丁目5番16号 | G6: =事業所一覧!G207 -> 特定非営利活動法人ふれあいぽっぽ | H6: =事業所一覧!H207 -> ● | ... N6: =事業所一覧!N207 -> 0
A7: =事業所一覧!A208 -> 2754220107 | B7: =事業所一覧!B208 -> 発達支援センターれふあ | C7: =事業所一覧!C208 -> 072-641-4512 | D7: =事業所一覧!D208 -> 072-641-3173 | E7: =事業所一覧!E208 -> 567-0059 | F7: =事業所一覧!F208 -> 茨木市清水一丁目28番15号 | G7: =事業所一覧!G208 -> 社会福祉法人慶徳会 | H7: =事業所一覧!H208 -> ● | ... N7: =事業所一覧!N208 -> 0
A8: =事業所一覧!A209 -> 2754220123 | B8: =事業所一覧!B209 -> 生活介護事業所あいの | C8: =事業所一覧!C209 -> 072-627-1919 | D8: =事業所一覧!D209 -> 072-627-1940 | E8: =事業所一覧!E209 -> 567-0012 | F8: =事業所一覧!F209 -> 茨木市東太田1丁目4番39号 | G8: =事業所一覧!G209 -> 社会福祉法人藍野福祉会 | H8: =事業所一覧!H209 -> 0 | ... N8: =事業所一覧!N209 -> 0
A9: =事業所一覧!A210 -> 2754220156 | B9: =事業所一覧!B210 -> ハイトップファミリー真砂 | C9: =事業所一覧!C210 -> 072-652-3733 | D9: =事業所一覧!D210 -> 072-652-3734 | E9: =事業所一覧!E210 -> 567-0851 | F9: =事業所一覧!F210 -> 茨木市真砂一丁目28番17号１Ｆ | G9: =事業所一覧!G210 -> 株式会社大阪医科学研究所 | H9: =事業所一覧!H210 -> 0 | ... N9: =事業所一覧!N210 -> 0
A10: =事業所一覧!A211 -> 2754220206 | B10: =事業所一覧!B211 -> 発達サポートセンターつむぎ | C10: =事業所一覧!C211 -> 072-622-1818 | D10: =事業所一覧!D211 -> 072-622-1886 | E10: =事業所一覧!E211 -> 567-0888 | F10: =事業所一覧!F211 -> 茨木市駅前一丁目８番20号１階右側 | G10: =事業所一覧!G211 -> 一般社団法人明日へのつむぎ | H10: =事業所一覧!H211 -> 0 | ... N10: =事業所一覧!N211 -> 0
A11: =事業所一覧!A212 -> 2754220214 | B11: =事業所一覧!B212 -> ジョイジョイ | C11: =事業所一覧!C212 -> 072-635-4077 | D11: =事業所一覧!D212 -> 072-635-2115 | E11: =事業所一覧!E212 -> 567-0891 | F11: =事業所一覧!F212 -> 茨木市水尾二丁目７番18号 | G11: =事業所一覧!G212 -> 宗教法人日本同盟基督教団茨木聖書教会 | H11: =事業所一覧!H212 -> ● | ... N11: =事業所一覧!N212 -> 0
A12: =事業所一覧!A213 -> 2754220230 | B12: =事業所一覧!B213 -> こども発達支援センター風 | C12: =事業所一覧!C213 -> 072-636-0110 | D12: =事業所一覧!D213 -> 072-646-6890 | E12: =事業所一覧!E213 -> 567-0861 | F12: =事業所一覧!F213 -> 茨木市東奈良三丁目16番14号茨木市南茨木多世代交流センター２階特別利用保育室 | G12: =事業所一覧!G213 -> 社会福祉法人大阪府障害者福祉事業団 | H12: =事業所一覧!H213 -> ● | ... N12: =事業所一覧!N213 -> 0
A13: =事業所一覧!A214 -> 2754220271 | B13: =事業所一覧!B214 -> わくわくクラブ茨木校 | C13: =事業所一覧!C214 -> 072-637-2515 | D13: =事業所一覧!D214 -> 072-637-2516 | E13: =事業所一覧!E214 -> 567-0829 | F13: =事業所一覧!F214 -> 茨木市双葉町13番25号つじせビル４階 | G13: =事業所一覧!G214 -> 株式会社興学社 | H13: =事業所一覧!H214 -> ● | ... N13: =事業所一覧!N214 -> 0
A14: =事業所一覧!A215 -> 2754220289 | B14: =事業所一覧!B215 -> なないろKids | C14: =事業所一覧!C215 -> 072-609-5276 | D14: =事業所一覧!D215 -> 072-697-9878 | E14: =事業所一覧!E215 -> 567-0031 | F14: =事業所一覧!F215 -> 茨木市春日三丁目14番41号 メゾン春日101号室 | G14: =事業所一覧!G215 -> 株式会社ドリームリンク | H14: =事業所一覧!H215 -> ● | ... N14: =事業所一覧!N215 -> 0
A15: =事業所一覧!A216 -> 2754220297 | B15: =事業所一覧!B216 -> 放課後等デイサービス輝茨木館 | C15: =事業所一覧!C216 -> 072-646-8713 | D15: =事業所一覧!D216 -> 072-646-8714 | E15: =事業所一覧!E216 -> 567-0865 | F15: =事業所一覧!F216 -> 茨木市横江二丁目８番43号C-POINTビル303号室 | G15: =事業所一覧!G216 -> セントラルポイント株式会社 | H15: =事業所一覧!H216 -> 0 | ... N15: =事業所一覧!N216 -> 0
... A67: =事業所一覧!A268 -> 2754220933 | B67: =事業所一覧!B268 -> ＡＫＩＤＳ茨木 | C67: =事業所一覧!C268 -> 050-3442-0592 | D67: =事業所一覧!D268 -> 050-3172-2290 | E67: =事業所一覧!E268 -> 567-0828 | F67: =事業所一覧!F268 -> 茨木市舟木町２番25号 エルボスク１ ４階 | G67: =事業所一覧!G268 -> 株式会社日英 | H67: =事業所一覧!H268 -> ● | ... N67: =事業所一覧!N268 -> 0

Sheet 泉佐野市
A1: 泉佐野市 | N1: 市町村一覧に戻る
H2: ☆ 主として重症心身障がい児を通わせる事業所
A3: 事業所番号 | B3: 事業所名称 | C3: TEL | D3: FAX | E3: 〒 | F3: 所在地 | G3: 申請者 | H3: 児 | I3: 定員 | J3: 居 | K3: 放 | L3: 定員 | M3: 保 | N3: 備考
A4: =事業所一覧!A269 -> 2754520027 | B4: =事業所一覧!B269 -> ＩＬＩＳ ＣＬＵＢ泉佐野 | C4: =事業所一覧!C269 -> 072-468-6973 | D4: =事業所一覧!D269 -> 072-468-6983 | E4: =事業所一覧!E269 -> 598-0034 | F4: =事業所一覧!F269 -> 泉佐野市長滝281－５ | G4: =事業所一覧!G269 -> 株式会社アイリス | H4: =事業所一覧!H269 -> ● | ... N4: =事業所一覧!N269 -> 0
A5: =事業所一覧!A270 -> 2754520068 | B5: =事業所一覧!B270 -> アスレチッククラブこっとん | C5: =事業所一覧!C270 -> 072-425-0843 | D5: =事業所一覧!D270 -> 072-425-0845 | E5: =事業所一覧!E270 -> 598-0032 | F5: =事業所一覧!F270 -> 泉佐野市新安松一丁目４番16号 | G5: =事業所一覧!G270 -> 一般社団法人SEED | H5: =事業所一覧!H270 -> ● | ... N5: =事業所一覧!N270 -> 0
A6: =事業所一覧!A271 -> 2754520076 | B6: =事業所一覧!B271 -> 放課後等デイサービスりーふ | C6: =事業所一覧!C271 -> 072-467-1855 | D6: =事業所一覧!D271 -> 072-467-1880 | E6: =事業所一覧!E271 -> 598-0021 | F6: =事業所一覧!F271 -> 泉佐野市日根野415番地 | G6: =事業所一覧!G271 -> 株式会社土原造園 | H6: =事業所一覧!H271 -> 0 | ... N6: =事業所一覧!N271 -> 0
A7: =事業所一覧!A272 -> 2754520134 | B7: =事業所一覧!B272 -> いいね放課後等デイサービス | C7: =事業所一覧!C272 -> 072-465-1171 | D7: =事業所一覧!D272 -> 072-465-1172 | E7: =事業所一覧!E272 -> 598-0034 | F7: =事業所一覧!F272 -> 泉佐野市長滝3839番地の１ | G7: =事業所一覧!G272 -> いいね合同会社 | H7: =事業所一覧!H272 -> ● | ... N7: =事業所一覧!N272 -> 0
A8: =事業所一覧!A273 -> 2754520142 | B8: =事業所一覧!B273 -> 放課後等デイサービスぴあーちぇ | C8: =事業所一覧!C273 -> 072-424-7191 | D8: =事業所一覧!D273 -> 072-424-7191 | E8: =事業所一覧!E273 -> 598-0024 | F8: =事業所一覧!F273 -> 泉佐野市上之郷2221番地の１ | G8: =事業所一覧!G273 -> 株式会社ひなた | H8: =事業所一覧!H273 -> ● | ... N8: =事業所一覧!N273 -> 0
A9: =事業所一覧!A274 -> 2754520175 | B9: =事業所一覧!B274 -> 良心地 | C9: =事業所一覧!C274 -> 072-465-3114 | D9: =事業所一覧!D274 -> 072-465-3114 | E9: =事業所一覧!E274 -> 598-0033 | F9: =事業所一覧!F274 -> 泉佐野市南中安松1281番地の5 | G9: =事業所一覧!G274 -> 合同会社いごこち | H9: =事業所一覧!H274 -> 0 | ... N9: =事業所一覧!N274 -> 0
A10: =事業所一覧!A275 -> 2754520183 | B10: =事業所一覧!B275 -> 放課後等デイサービスめーぷる | C10: =事業所一覧!C275 -> 072-493-2335 | D10: =事業所一覧!D275 -> 072-493-2336 | E10: =事業所一覧!E275 -> 598-0021 | F10: =事業所一覧!F275 -> 泉佐野市日根野584番地 | G10: =事業所一覧!G275 -> 株式会社Leaf | H10: =事業所一覧!H275 -> 0 | ... N10: =事業所一覧!N275 -> 0
A11: =事業所一覧!A276 -> 2754520191 | B11: =事業所一覧!B276 -> 放課後等デイサービスオリオリ | C11: =事業所一覧!C276 -> 072-425-2215 | D11: =事業所一覧!D276 -> 072-425-2215 | E11: =事業所一覧!E276 -> 598-0042 | F11: =事業所一覧!F276 -> 泉佐野市西本町14ー18 | G11: =事業所一覧!G276 -> 合同会社大北 | H11: =事業所一覧!H276 -> 0 | ... N11: =事業所一覧!N276 -> 0
A12: =事業所一覧!A277 -> 2754520225 | B12: =事業所一覧!B277 -> キッズキャンパスラビット | C12: =事業所一覧!C277 -> 072-442-8112 | D12: =事業所一覧!D277 -> 072-468-7106 | E12: =事業所一覧!E277 -> 598-0032 | F12: =事業所一覧!F277 -> 泉佐野市新安松二丁目２番37号１ | G12: =事業所一覧!G277 -> 株式会社ラビット | H12: =事業所一覧!H277 -> ● | ... N12: =事業所一覧!N277 -> 0
A13: =事業所一覧!A278 -> 2754520233 | B13: =事業所一覧!B278 -> 運動＆学習療育あなたが宝モノ泉佐野教室 | C13: =事業所一覧!C278 -> 072-463-1203 | D13: =事業所一覧!D278 -> 072-463-1202 | E13: =事業所一覧!E278 -> 598-0001 | F13: =事業所一覧!F278 -> 泉佐野市上瓦屋687-１松浪ビル３Ｆ | G13: =事業所一覧!G278 -> 株式会社いのちの木 | H13: =事業所一覧!H278 -> ● | ... N13: =事業所一覧!N278 -> 0
A14: =事業所一覧!A279 -> 2754520258 | B14: =事業所一覧!B279 -> ラビット | C14: =事業所一覧!C279 -> 072-468-7009 | D14: =事業所一覧!D279 -> 072-468-7106 | E14: =事業所一覧!E279 -> 598-0032 | F14: =事業所一覧!F279 -> 泉佐野市新安松二丁目２番37号 | G14: =事業所一覧!G279 -> 株式会社ラビット | H14: =事業所一覧!H279 -> ● | ... N14: =事業所一覧!N279 -> 0
A15: =事業所一覧!A280 -> 2754520282 | B15: =事業所一覧!B280 -> ぴんくイルカ | C15: =事業所一覧!C280 -> 072-477-0039 | D15: =事業所一覧!D280 -> 072-477-7088 | E15: =事業所一覧!E280 -> 598-0006 | F15: =事業所一覧!F280 -> 泉佐野市市場西三丁目10番７号 アーバンウェルネス202号室 | G15: =事業所一覧!G280 -> 合同会社みらい | H15: =事業所一覧!H280 -> ● | ... N15: =事業所一覧!N280 -> 0
... A24: =事業所一覧!A289 -> 2754520407 | B24: =事業所一覧!B289 -> まいるーむ放課後子ども教室 鶴原校 | C24: =事業所一覧!C289 -> 072-493-9777 | D24: =事業所一覧!D289 -> 072-493-2995 | E24: =事業所一覧!E289 -> 598-0071 | F24: =事業所一覧!F289 -> 泉佐野市鶴原1545番地の１ | G24: =事業所一覧!G289 -> 株式会社ＷｉｌｌＳｔａｎｄ | H24: =事業所一覧!H289 -> ● | ... N24: =事業所一覧!N289 -> 0

Sheet 富田林市
A1: 富田林市 | N1: 市町村一覧に戻る
H2: ☆ 主として重症心身障がい児を通わせる事業所
A3: 事業所番号 | B3: 事業所名称 | C3: TEL | D3: FAX | E3: 〒 | F3: 所在地 | G3: 申請者 | H3: 児 | I3: 定員 | J3: 居 | K3: 放 | L3: 定員 | M3: 保 | N3: 備考
A4: =事業所一覧!A290 -> 2754920029 | B4: =事業所一覧!B290 -> わくわくクラブ | C4: =事業所一覧!C290 -> 0721-55-2959 | D4: =事業所一覧!D290 -> 0721-55-2959 | E4: =事業所一覧!E290 -> 584-0045 | F4: =事業所一覧!F290 -> 富田林市山中田町２丁目15-27 | G4: =事業所一覧!G290 -> 特定非営利活動法人子ども・若もの支援ネットワーク大阪 | H4: =事業所一覧!H290 -> ● | ... N4: =事業所一覧!N290 -> 0
A5: =事業所一覧!A291 -> 2754920037 | B5: =事業所一覧!B291 -> 四天王寺和らぎ苑 | C5: =事業所一覧!C291 -> 0721-29-0836 | D5: =事業所一覧!D291 -> 0721-29-3916 | E5: =事業所一覧!E291 -> 584-0082 | F5: =事業所一覧!F291 -> 富田林市向陽台1-3-21 | G5: =事業所一覧!G291 -> 社会福祉法人四天王寺福祉事業団 | H5: =事業所一覧!H291 -> ☆ | ... N5: =事業所一覧!N291 -> 0
A6: =事業所一覧!A292 -> 2754920078 | B6: =事業所一覧!B292 -> 陽だまり | C6: =事業所一覧!C292 -> 0721-21-6449 | D6: =事業所一覧!D292 -> 0721-21-5571 | E6: =事業所一覧!E292 -> 584-0048 | F6: =事業所一覧!F292 -> 富田林市西板持町二丁目１番38号附１ | G6: =事業所一覧!G292 -> 一般社団法人スマイル・１ | H6: =事業所一覧!H292 -> 0 | ... N6: =事業所一覧!N292 -> 0
A7: =事業所一覧!A293 -> 2754920110 | B7: =事業所一覧!B293 -> 放課後デイサービス運動療育バード | C7: =事業所一覧!C293 -> 0721-24-0905 | D7: =事業所一覧!D293 -> 0721-24-0905 | E7: =事業所一覧!E293 -> 584-0066 | F7: =事業所一覧!F293 -> 富田林市錦織北一丁目５番10号 | G7: =事業所一覧!G293 -> 株式会社ＮＥＳＴ | H7: =事業所一覧!H293 -> 0 | ... N7: =事業所一覧!N293 -> 0
A8: =事業所一覧!A294 -> 2750720019 | B8: =事業所一覧!B294 -> こども発達支援センターＳun | C8: =事業所一覧!C294 -> 0721-26-7331 | D8: =事業所一覧!D294 -> 0721-26-7377 | E8: =事業所一覧!E294 -> 584-0012 | F8: =事業所一覧!F294 -> 富田林市粟ヶ池町2969番地の５富田林市市民会館地下1階 | G8: =事業所一覧!G294 -> 社会福祉法人大阪府障害者福祉事業団 | H8: =事業所一覧!H294 -> ● | ... N8: =事業所一覧!N294 -> 0
A9: =事業所一覧!A295 -> 2754920136 | B9: =事業所一覧!B295 -> 放課後等デイサービスそら | C9: =事業所一覧!C295 -> 0721-81-0417 | D9: =事業所一覧!D295 -> 0721-81-0417 | E9: =事業所一覧!E295 -> 584-0036 | F9: =事業所一覧!F295 -> 富田林市甲田二丁目20番14号２階 | G9: =事業所一覧!G295 -> 特定非営利活動法人志塾フリースクールラシーナ | H9: =事業所一覧!H295 -> 0 | ... N9: =事業所一覧!N295 -> 0
A10: =事業所一覧!A296 -> 2754920144 | B10: =事業所一覧!B296 -> ここなくらぶ向陽台 | C10: =事業所一覧!C296 -> 0721-40-2310 | D10: =事業所一覧!D296 -> 0721-40-2311 | E10: =事業所一覧!E296 -> 584-0082 | F10: =事業所一覧!F296 -> 富田林市向陽台二丁目２番13号Ｙ１ビル１階 | G10: =事業所一覧!G296 -> 株式会社シンシアリティー | H10: =事業所一覧!H296 -> ● | ... N10: =事業所一覧!N296 -> 0
A11: =事業所一覧!A297 -> 2754920151 | B11: =事業所一覧!B297 -> 放課後等デイサービスつばさ | C11: =事業所一覧!C297 -> 0721-28-6677 | D11: =事業所一覧!D297 -> 0721-28-6688 | E11: =事業所一覧!E297 -> 584-0082 | F11: =事業所一覧!F297 -> 富田林市向陽台二丁目７番29号向陽台ビル２階 | G11: =事業所一覧!G297 -> 株式会社南ウイング | H11: =事業所一覧!H297 -> 0 | ... N11: =事業所一覧!N297 -> 0
A12: =事業所一覧!A298 -> 2754920185 | B12: =事業所一覧!B298 -> 療育スクール did it | C12: =事業所一覧!C298 -> 0721-26-8810 | D12: =事業所一覧!D298 -> 0721-26-8810 | E12: =事業所一覧!E298 -> 584-0069 | F12: =事業所一覧!F298 -> 富田林市錦織東二丁目６番10号 | G12: =事業所一覧!G298 -> 合同会社POPO | H12: =事業所一覧!H298 -> ● | ... N12: =事業所一覧!N298 -> 0
A13: =事業所一覧!A299 -> 2754920193 | B13: =事業所一覧!B299 -> ｂｏｎキッズ富田林 | C13: =事業所一覧!C299 -> 0721-55-2266 | D13: =事業所一覧!D299 -> 0721-55-2266 | E13: =事業所一覧!E299 -> 584-0024 | F13: =事業所一覧!F299 -> 富田林市若松町二丁目３番２号 太陽ビル301号室 | G13: =事業所一覧!G299 -> 合同会社オフィスぼん | H13: =事業所一覧!H299 -> ● | ... N13: =事業所一覧!N299 -> 0
A14: =事業所一覧!A300 -> 2754920201 | B14: =事業所一覧!B300 -> 放課後等デイサービスつばさネクスト | C14: =事業所一覧!C300 -> 0721-26-8668 | D14: =事業所一覧!D300 -> 0721-26-8669 | E14: =事業所一覧!E300 -> 584-0082 | F14: =事業所一覧!F300 -> 富田林市向陽台五丁目７番17号 | G14: =事業所一覧!G300 -> 株式会社南ウイング | H14: =事業所一覧!H300 -> ● | ... N14: =事業所一覧!N300 -> 0
A15: =事業所一覧!A301 -> 2754920219 | B15: =事業所一覧!B301 -> きらりウキウキルーム | C15: =事業所一覧!C301 -> 0721-21-6341 | D15: =事業所一覧!D301 -> 0721-21-6344 | E15: =事業所一覧!E301 -> 584-0067 | F15: =事業所一覧!F301 -> 富田林市錦織南一丁目16-18 古賀ビル２・３階 | G15: =事業所一覧!G301 -> 株式会社エーシン | H15: =事業所一覧!H301 -> ● | ... N15: =事業所一覧!N301 -> 0
... A46: =事業所一覧!A332 -> 2754920557 | B46: =事業所一覧!B332 -> 放課後等デイサービスつばさステップ | C46: =事業所一覧!C332 -> 0721-70-7660 | D46: =事業所一覧!D332 -> 0721-70-7661 | E46: =事業所一覧!E332 -> 584-0082 | F46: =事業所一覧!F332 -> 富田林市向陽台二丁目４番32号 | G46: =事業所一覧!G332 -> 株式会社南ウイング | H46: =事業所一覧!H332 -> ● | ... N46: =事業所一覧!N332 -> 0

Sheet 河内長野市
A1: 河内長野市 | N1: 市町村一覧に戻る
H2: ☆ 主として重症心身障がい児を通わせる事業所
A3: 事業所番号 | B3: 事業所名称 | C3: TEL | D3: FAX | E3: 〒 | F3: 所在地 | G3: 申請者 | H3: 児 | I3: 定員 | J3: 居 | K3: 放 | L3: 定員 | M3: 保 | N3: 備考
A4: =事業所一覧!A333 -> 2750720027 | B4: =事業所一覧!B333 -> 放課後等デイサービスひまわり | C4: =事業所一覧!C333 -> 0721-69-7909 | D4: =事業所一覧!D333 -> 0721-69-7913 | E4: =事業所一覧!E333 -> 586-0068 | F4: =事業所一覧!F333 -> 河内長野市北青葉台２-16Lache１ns Grun３階 | G4: =事業所一覧!G333 -> 有限会社エイコー | H4: =事業所一覧!H333 -> 0 | ... N4: =事業所一覧!N333 -> 0
A5: =事業所一覧!A334 -> 2750720043 | B5: =事業所一覧!B334 -> 児童デイサービス あゆみ | C5: =事業所一覧!C334 -> 0721-56-7311 | D5: =事業所一覧!D334 -> 0721-56-7311 | E5: =事業所一覧!E334 -> 586-0021 | F5: =事業所一覧!F334 -> 河内長野市原町三丁目10番13号 | G5: =事業所一覧!G334 -> 特定非営利活動法人地域支援センターあゆみ | H5: =事業所一覧!H334 -> ● | ... N5: =事業所一覧!N334 -> 0
A6: =事業所一覧!A335 -> 2750720050 | B6: =事業所一覧!B335 -> 障がい児通所支援河内長野ぴょんぴょん教室 | C6: =事業所一覧!C335 -> 0721-26-7312 | D6: =事業所一覧!D335 -> 0721-26-7312 | E6: =事業所一覧!E335 -> 586-0032 | F6: =事業所一覧!F335 -> 河内長野市栄町25番37号 | G6: =事業所一覧!G335 -> 社会福祉法人大阪府肢体不自由者協会 | H6: =事業所一覧!H335 -> ● | ... N6: =事業所一覧!N335 -> 0
A7: =事業所一覧!A336 -> 2750720118 | B7: =事業所一覧!B336 -> 放課後等デイサービスまりん | C7: =事業所一覧!C336 -> 0721-69-8680 | D7: =事業所一覧!D336 -> 0721-69-8681 | E7: =事業所一覧!E336 -> 586-0023 | F7: =事業所一覧!F336 -> 河内長野市野作町14番13号田中ビル１階 | G7: =事業所一覧!G336 -> 合同会社アクアマリン | H7: =事業所一覧!H336 -> ● | ... N7: =事業所一覧!N336 -> 0
A8: =事業所一覧!A337 -> 2750720134 | B8: =事業所一覧!B337 -> こども発達支援センターｍｕｍ | C8: =事業所一覧!C337 -> 0721-55-2272 | D8: =事業所一覧!D337 -> 0721-55-2276 | E8: =事業所一覧!E337 -> 586-0046 | F8: =事業所一覧!F337 -> 河内長野市中片添町11番９号 | G8: =事業所一覧!G337 -> 社会福祉法人大阪府障害者福祉事業団 | H8: =事業所一覧!H337 -> ● | ... N8: =事業所一覧!N337 -> 0
A9: =事業所一覧!A338 -> 2750720142 | B9: =事業所一覧!B338 -> ぽえむ | C9: =事業所一覧!C338 -> 0721-56-7861 | D9: =事業所一覧!D338 -> 0721-56-7862 | E9: =事業所一覧!E338 -> 586-0032 | F9: =事業所一覧!F338 -> 河内長野市栄町５番１８号 | G9: =事業所一覧!G338 -> 一般社団法人アルク | H9: =事業所一覧!H338 -> ● | ... N9: =事業所一覧!N338 -> 0
A10: =事業所一覧!A339 -> 2750720159 | B10: =事業所一覧!B339 -> ＰＯＮＯ | C10: =事業所一覧!C339 -> 0721-26-9933 | D10: =事業所一覧!D339 -> 0721-26-9934 | E10: =事業所一覧!E339 -> 586-0032 | F10: =事業所一覧!F339 -> 河内長野市栄町25番37号 101号室 | G10: =事業所一覧!G339 -> 社会福祉法人ぬくもり | H10: =事業所一覧!H339 -> 0 | ... N10: =事業所一覧!N339 -> 0
A11: =事業所一覧!A340 -> 2750720167 | B11: =事業所一覧!B340 -> 児童発達支援・放課後等デイサービス トリプル | C11: =事業所一覧!C340 -> 0721-69-9390 | D11: =事業所一覧!D340 -> 0721-69-9391 | E11: =事業所一覧!E340 -> 586-0012 | F11: =事業所一覧!F340 -> 河内長野市菊水町８番３号釜平ビル２階 | G11: =事業所一覧!G340 -> 一般社団法人トリプル | H11: =事業所一覧!H340 -> ● | ... N11: =事業所一覧!N340 -> 0
A12: =事業所一覧!A341 -> 2750720175 | B12: =事業所一覧!B341 -> ぐるぐる | C12: =事業所一覧!C341 -> 0721-68-7971 | D12: =事業所一覧!D341 -> 0721-68-7971 | E12: =事業所一覧!E341 -> 586-0022 | F12: =事業所一覧!F341 -> 河内長野市本多町４番６号１階・２階202号室 | G12: =事業所一覧!G341 -> ＮＰＯ法人オルケスタ | H12: =事業所一覧!H341 -> ● | ... N12: =事業所一覧!N341 -> 0
A13: =事業所一覧!A342 -> 2750720183 | B13: =事業所一覧!B342 -> まりん ２ | C13: =事業所一覧!C342 -> 0721-50-1033 | D13: =事業所一覧!D342 -> 0721-50-1034 | E13: =事業所一覧!E342 -> 586-0006 | F13: =事業所一覧!F342 -> 河内長野市松ヶ丘中町1314番地３ | G13: =事業所一覧!G342 -> 合同会社アクアマリン | H13: =事業所一覧!H342 -> ● | ... N13: =事業所一覧!N342 -> 0
A14: =事業所一覧!A343 -> 2750720209 | B14: =事業所一覧!B343 -> かみひこうき 野作 | C14: =事業所一覧!C343 -> 0721-21-9036 | D14: =事業所一覧!D343 -> 0721-21-9037 | E14: =事業所一覧!E343 -> 586-0025 | F14: =事業所一覧!F343 -> 河内長野市昭栄町３番32号 ジョイフル昭栄１階103号・104号 | G14: =事業所一覧!G343 -> 株式会社T-angle | H14: =事業所一覧!H343 -> ● | ... N14: =事業所一覧!N343 -> 0
A15: =事業所一覧!A344 -> 2750720217 | B15: =事業所一覧!B344 -> ぽえむ プラス | C15: =事業所一覧!C344 -> 0721-70-7308 | D15: =事業所一覧!D344 -> 0721-70-7309 | E15: =事業所一覧!E344 -> 586-0016 | F15: =事業所一覧!F344 -> 河内長野市西代町３番10号 ナカムラビル２階 | G15: =事業所一覧!G344 -> 一般社団法人アルク | H15: =事業所一覧!H344 -> 0 | ... N15: =事業所一覧!N344 -> 0
... A34: =事業所一覧!A363 -> 2750720456 | B34: =事業所一覧!B363 -> クローバーキッズ | C34: =事業所一覧!C363 -> 090-6374-1017 | D34: =事業所一覧!D363 -> - | E34: =事業所一覧!E363 -> 586-0024 | F34: =事業所一覧!F363 -> 河内長野市西之山町４番23号 アルトリーベビル１階４号室 | G34: =事業所一覧!G363 -> 株式会社ＣｌｏｖｅｒＫｉｄｓ | H34: =事業所一覧!H363 -> ● | ... N34: =事業所一覧!N363 -> 0

Sheet 松原市
A1: 松原市 | N1: 市町村一覧に戻る
H2: ☆ 主として重症心身障がい児を通わせる事業所
A3: 事業所番号 | B3: 事業所名称 | C3: TEL | D3: FAX | E3: 〒 | F3: 所在地 | G3: 申請者 | H3: 児 | I3: 定員 | J3: 居 | K3: 放 | L3: 定員 | M3: 保 | N3: 備考
A4: =事業所一覧!A364 -> 2754820039 | B4: =事業所一覧!B364 -> みんなの木松原 | C4: =事業所一覧!C364 -> 072-349-1785 | D4: =事業所一覧!D364 -> 072-349-1786 | E4: =事業所一覧!E364 -> 580-0044 | F4: =事業所一覧!F364 -> 松原市田井城１丁目６番２２号１階１F-B号室 | G4: =事業所一覧!G364 -> ニューライフ株式会社 | H4: =事業所一覧!H364 -> 0 | ... N4: =事業所一覧!N364 -> 0
A5: =事業所一覧!A365 -> 2754820054 | B5: =事業所一覧!B365 -> 運動療育型児童デイあろは | C5: =事業所一覧!C365 -> 072-332-3030 | D5: =事業所一覧!D365 -> 072-332-3030 | E5: =事業所一覧!E365 -> 580-0032 | F5: =事業所一覧!F365 -> 松原市天美東七丁目12番25号ローズクイーン天美101号 | G5: =事業所一覧!G365 -> 有限会社ＳＫ | H5: =事業所一覧!H365 -> ● | ... N5: =事業所一覧!N365 -> 0
A6: =事業所一覧!A366 -> 2754820070 | B6: =事業所一覧!B366 -> ライズ児童デイサービスまつばら | C6: =事業所一覧!C366 -> 072-330-1560 | D6: =事業所一覧!D366 -> 072-330-1561 | E6: =事業所一覧!E366 -> 580-0002 | F6: =事業所一覧!F366 -> 松原市小川一丁目12番16号 | G6: =事業所一覧!G366 -> 有限会社エスエヌ企画 | H6: =事業所一覧!H366 -> ● | ... N6: =事業所一覧!N366 -> 0
A7: =事業所一覧!A367 -> 2754820104 | B7: =事業所一覧!B367 -> グローイングアップひかり学園 | C7: =事業所一覧!C367 -> 072-349-0218 | D7: =事業所一覧!D367 -> 072-349-0218 | E7: =事業所一覧!E367 -> 580-0016 | F7: =事業所一覧!F367 -> 松原市上田一丁目７番36号ふぁみ～ゆ上田Ⅱ305号室 | G7: =事業所一覧!G367 -> 合同会社ＫＣＡ | H7: =事業所一覧!H367 -> ● | ... N7: =事業所一覧!N367 -> 0
A8: =事業所一覧!A368 -> 2754820112 | B8: =事業所一覧!B368 -> 育み | C8: =事業所一覧!C368 -> 072-349-7407 | D8: =事業所一覧!D368 -> 072-349-7407 | E8: =事業所一覧!E368 -> 580-0026 | F8: =事業所一覧!F368 -> 松原市天美我堂一丁目７番地朝日プラザ松原F棟101/102 | G8: =事業所一覧!G368 -> 株式会社はぐくみ | H8: =事業所一覧!H368 -> ● | ... N8: =事業所一覧!N368 -> 0
A9: =事業所一覧!A369 -> 2754820138 | B9: =事業所一覧!B369 -> つむぎ | C9: =事業所一覧!C369 -> 050-1183-4062 | D9: =事業所一覧!D369 -> 050-1183-4062 | E9: =事業所一覧!E369 -> 580-0014 | F9: =事業所一覧!F369 -> 松原市岡四丁目２番22号 | G9: =事業所一覧!G369 -> 有限会社あすか | H9: =事業所一覧!H369 -> ● | ... N9: =事業所一覧!N369 -> 0
A10: =事業所一覧!A370 -> 2754820146 | B10: =事業所一覧!B370 -> 学習支援はぐくみ松原ほたる教室 | C10: =事業所一覧!C370 -> 072-349-1133 | D10: =事業所一覧!D370 -> 072-349-1134 | E10: =事業所一覧!E370 -> 580-0043 | F10: =事業所一覧!F370 -> 松原市阿保三丁目５番３号 | G10: =事業所一覧!G370 -> 株式会社はぐくみ | H10: =事業所一覧!H370 -> 0 | ... N10: =事業所一覧!N370 -> 0
A11: =事業所一覧!A371 -> 2754820153 | B11: =事業所一覧!B371 -> 児童デイサービス・アニマートまつばら | C11: =事業所一覧!C371 -> 072-247-5812 | D11: =事業所一覧!D371 -> 072-247-5813 | E11: =事業所一覧!E371 -> 580-0016 | F11: =事業所一覧!F371 -> 松原市上田一丁目７番36号ふぁみ～ゆ上田Ⅱ２階202号室 | G11: =事業所一覧!G371 -> 株式会社かぐらしょ | H11: =事業所一覧!H371 -> 0 | ... N11: =事業所一覧!N371 -> 0
A12: =事業所一覧!A372 -> 2754820179 | B12: =事業所一覧!B372 -> こどもサポート教室「きらり」河内松原校 | C12: =事業所一覧!C372 -> 072-349-3242 | D12: =事業所一覧!D372 -> 072-349-3242 | E12: =事業所一覧!E372 -> 580-0016 | F12: =事業所一覧!F372 -> 松原市上田三丁目４番11号ペルルＹＴＫ３階301 | G12: =事業所一覧!G372 -> 株式会社クラ・ゼミ | H12: =事業所一覧!H372 -> ● | ... N12: =事業所一覧!N372 -> 0
A13: =事業所一覧!A373 -> 2754820195 | B13: =事業所一覧!B373 -> 放課後等デイサービスにじいろ倶楽部まつばら | C13: =事業所一覧!C373 -> 072-338-6012 | D13: =事業所一覧!D373 -> 072-338-6013 | E13: =事業所一覧!E373 -> 580-0006 | F13: =事業所一覧!F373 -> 松原市大堀三丁目２番１号 | G13: =事業所一覧!G373 -> 株式会社くるみの樹 | H13: =事業所一覧!H373 -> 0 | ... N13: =事業所一覧!N373 -> 0
A14: =事業所一覧!A374 -> 2754820229 | B14: =事業所一覧!B374 -> サンリスペクト | C14: =事業所一覧!C374 -> 072-331-4451 | D14: =事業所一覧!D374 -> 072-350-4455 | E14: =事業所一覧!E374 -> 580-0033 | F14: =事業所一覧!F374 -> 松原市天美南六丁目７番３号 | G14: =事業所一覧!G374 -> サンリスペクト株式会社 | H14: =事業所一覧!H374 -> 0 | ... N14: =事業所一覧!N374 -> 0
A15: =事業所一覧!A375 -> 2754820245 | B15: =事業所一覧!B375 -> 放課後等デイサービス テラ | C15: =事業所一覧!C375 -> 072-335-5551 | D15: =事業所一覧!D375 -> 072-335-5533 | E15: =事業所一覧!E375 -> 580-0032 | F15: =事業所一覧!F375 -> 松原市天美東八丁目13番23号 | G15: =事業所一覧!G375 -> 社会福祉法人立青福祉会 | H15: =事業所一覧!H375 -> 0 | ... N15: =事業所一覧!N375 -> 0
... A41: =事業所一覧!A401 -> 2754820567 | B41: =事業所一覧!B401 -> らいずキッズまつばら | C41: =事業所一覧!C401 -> 072-321-1785 | D41: =事業所一覧!D401 -> 072-321-1786 | E41: =事業所一覧!E401 -> 580-0032 | F41: =事業所一覧!F401 -> 松原市天美東八丁目４番29号１階 | G41: =事業所一覧!G401 -> 株式会社ＢＥＬＬ ＲＩＳＥ | H41: =事業所一覧!H401 -> ● | ... N41: =事業所一覧!N401 -> 0

Sheet 大東市
A1: 大東市 | N1: 市町村一覧に戻る
H2: ☆ 主として重症心身障がい児を通わせる事業所
A3: 事業所番号 | B3: 事業所名称 | C3: TEL | D3: FAX | E3: 〒 | F3: 所在地 | G3: 申請者 | H3: 児 | I3: 定員 | J3: 居 | K3: 放 | L3: 定員 | M3: 保 | N3: 備考
A4: =事業所一覧!A402 -> 2751920014 | B4: =事業所一覧!B402 -> 大東市立幼児発達支援教室 | C4: =事業所一覧!C402 -> 072-812-7792 | D4: =事業所一覧!D402 -> 072-812-7792 | E4: =事業所一覧!E402 -> 574-0011 | F4: =事業所一覧!F402 -> 大東市北条一丁目16番16号 | G4: =事業所一覧!G402 -> 大東市 | H4: =事業所一覧!H402 -> ● | ... N4: =事業所一覧!N402 -> 0
A5: =事業所一覧!A403 -> 2751920063 | B5: =事業所一覧!B403 -> 児童発達支援ポラリス運動day | C5: =事業所一覧!C403 -> 072-871-2726 | D5: =事業所一覧!D403 -> 072-871-2727 | E5: =事業所一覧!E403 -> 574-0046 | F5: =事業所一覧!F403 -> 大東市赤井一丁目15番１号大東ビル１ ２階 | G5: =事業所一覧!G403 -> 一般社団法人ポラリス | H5: =事業所一覧!H403 -> ● | ... N5: =事業所一覧!N403 -> 0
A6: =事業所一覧!A404 -> 2751920071 | B6: =事業所一覧!B404 -> いきいきケアサポートにしの大東店 | C6: =事業所一覧!C404 -> 072-875-0131 | D6: =事業所一覧!D404 -> 072-875-0132 | E6: =事業所一覧!E404 -> 574-0025 | F6: =事業所一覧!F404 -> 大東市御供田四丁目４番11号ロイヤルメゾン千國１階右２号 | G6: =事業所一覧!G404 -> 合同会社放課後等デイサービスいきいき | H6: =事業所一覧!H404 -> 0 | ... N6: =事業所一覧!N404 -> 0
A7: =事業所一覧!A405 -> 2751920089 | B7: =事業所一覧!B405 -> bamboo・スポーツ塾ふらっと大東 | C7: =事業所一覧!C405 -> 072-875-8113 | D7: =事業所一覧!D405 -> 072-875-8103 | E7: =事業所一覧!E405 -> 574-0026 | F7: =事業所一覧!F405 -> 大東市住道二丁目２番110号大東サンメイツ２番館110号室 | G7: =事業所一覧!G405 -> 一般社団法人ふらっと | H7: =事業所一覧!H405 -> ● | ... N7: =事業所一覧!N405 -> 0
A8: =事業所一覧!A406 -> 2751920097 | B8: =事業所一覧!B406 -> ぽっぷこーん大東 | C8: =事業所一覧!C406 -> 072-865-7517 | D8: =事業所一覧!D406 -> 072-865-7519 | E8: =事業所一覧!E406 -> 574-0028 | F8: =事業所一覧!F406 -> 大東市幸町22番25号 | G8: =事業所一覧!G406 -> 株式会社グッド・ケア・グループ | H8: =事業所一覧!H406 -> 0 | ... N8: =事業所一覧!N406 -> 0
A9: =事業所一覧!A407 -> 2751920121 | B9: =事業所一覧!B407 -> ふらっとＨＯＲＡ | C9: =事業所一覧!C407 -> 072-872-3333 | D9: =事業所一覧!D407 -> 072-872-5557 | E9: =事業所一覧!E407 -> 574-0034 | F9: =事業所一覧!F407 -> 大東市朋来一丁目21番18号グラッドホーラ101号 | G9: =事業所一覧!G407 -> 株式会社ＳＡＣＣ | H9: =事業所一覧!H407 -> ● | ... N9: =事業所一覧!N407 -> 0
A10: =事業所一覧!A408 -> 2751920139 | B10: =事業所一覧!B408 -> ｆｌａｔ大東いいもりぷらざ店 | C10: =事業所一覧!C408 -> 072-812-6011 | D10: =事業所一覧!D408 -> 072-812-6012 | E10: =事業所一覧!E408 -> 574-0011 | F10: =事業所一覧!F408 -> 大東市北条一丁目16番16号４階 | G10: =事業所一覧!G408 -> 株式会社ｆｌａｔ | H10: =事業所一覧!H408 -> ● | ... N10: =事業所一覧!N408 -> 0
A11: =事業所一覧!A409 -> 2751920147 | B11: =事業所一覧!B409 -> 児童発達支援・放課後等デイサービスてくてく | C11: =事業所一覧!C409 -> 072-877-8055 | D11: =事業所一覧!D409 -> 072-877-8066 | E11: =事業所一覧!E409 -> 574-0003 | F11: =事業所一覧!F409 -> 大東市明美の里町16番30号２階 | G11: =事業所一覧!G409 -> 特定非営利活動法人発達凸凹サポーターてくてく | H11: =事業所一覧!H409 -> ● | ... N11: =事業所一覧!N409 -> 0
A12: =事業所一覧!A410 -> 2751920154 | B12: =事業所一覧!B410 -> 放課後等デイサービスくりーむうさぎ | C12: =事業所一覧!C410 -> 072-888-9230 | D12: =事業所一覧!D410 -> 072-888-9230 | E12: =事業所一覧!E410 -> 574-0045 | F12: =事業所一覧!F410 -> 大東市太子田二丁目10番16号 | G12: =事業所一覧!G410 -> 株式会社プリス | H12: =事業所一覧!H410 -> 0 | ... N12: =事業所一覧!N410 -> 0
A13: =事業所一覧!A411 -> 2751920162 | B13: =事業所一覧!B411 -> ぽっぷこーん大東ＮＥＸＴ | C13: =事業所一覧!C411 -> 072-800-8381 | D13: =事業所一覧!D411 -> 072-800-8382 | E13: =事業所一覧!E411 -> 574-0014 | F13: =事業所一覧!F411 -> 大東市寺川三丁目11番10号 | G13: =事業所一覧!G411 -> 株式会社グッド・ケア・グループ | H13: =事業所一覧!H411 -> 0 | ... N13: =事業所一覧!N411 -> 0
A14: =事業所一覧!A412 -> 2751920188 | B14: =事業所一覧!B412 -> 慶生会ＫＩＤＳステージ野崎 | C14: =事業所一覧!C412 -> 072-863-1221 | D14: =事業所一覧!D412 -> 072-863-1220 | E14: =事業所一覧!E412 -> 574-0011 | F14: =事業所一覧!F412 -> 大東市北条一丁目２番41号１階 | G14: =事業所一覧!G412 -> 社会福祉法人慶生会 | H14: =事業所一覧!H412 -> ● | ... N14: =事業所一覧!N412 -> 0
A15: =事業所一覧!A413 -> 2751920196 | B15: =事業所一覧!B413 -> ふらっとＨＯＲＡ２ | C15: =事業所一覧!C413 -> 072-803-7818 | D15: =事業所一覧!D413 -> 072-872-5557 | E15: =事業所一覧!E413 -> 574-0044 | F15: =事業所一覧!F413 -> 大東市三箇四丁目17番15号 | G15: =事業所一覧!G413 -> 株式会社ＳＡＣＣ | H15: =事業所一覧!H413 -> 0 | ... N15: =事業所一覧!N413 -> 0
... A30: =事業所一覧!A428 -> 2751920394 | B30: =事業所一覧!B428 -> ふぁみりずむ | C30: =事業所一覧!C428 -> 080-3806-2558 | D30: =事業所一覧!D428 -> 072-813-7237 | E30: =事業所一覧!E428 -> 574-0014 | F30: =事業所一覧!F428 -> 大東市赤井一丁目3番22号 住道はりまやビル３階 | G30: =事業所一覧!G428 -> 合同会社Ｉ ｓｔａｒ Ｌａｂ | H30: =事業所一覧!H428 -> ● | ... N30: =事業所一覧!N428 -> 0
