Workbook

Sheet 市町村一覧
B1: 大阪府で、児童福祉法による障がい児通所支援の指定を取得した事業所（センターを除く）
B3: R8.11.1更新
C4: 事業所一覧 | G4: サービス内容等、詳細については直接事業所にお問い合わせください。 | S4: ◆ 各市への権限移譲について
S5: ※ 政令市（大阪市・堺市）・中核市（高槻市・東大阪市・豊中市・枚方市・八尾市・寝屋川市・吹田市）は、
C6: 岸和田市 | E6: =COUNTIF(事業所一覧!$O$4:$O$944,市町村一覧!C6) -> 52 | G6: 河内長野市 | I6: =COUNTIF(事業所一覧!$O$4:$O$944,市町村一覧!G6) -> 31 | K6: 高石市 | M6: =COUNTIF(事業所一覧!$O$4:$O$944,市町村一覧!K6) -> 17 | O6: 能勢町 | Q6: =COUNTIF(事業所一覧!$O$4:$O$944,"豊能郡能勢町") -> 1 | S6: 各市に指定・指導権限があります。
C7: 池田市 | E7: =COUNTIF(事業所一覧!$O$4:$O$944,市町村一覧!C7) -> 48 | G7: 松原市 | I7: =COUNTIF(事業所一覧!$O$4:$O$944,市町村一覧!G7) -> 38 | K7: 藤井寺市 | M7: =COUNTIF(事業所一覧!$O$4:$O$944,市町村一覧!K7) -> 21 | O7: 忠岡町 | Q7: =COUNTIF(事業所一覧!$O$4:$O$944,"泉北郡忠岡町") -> 6 | T7: 政令市・中核市HPリンク先一覧（大阪府HP)
C8: 泉大津市 | E8: =COUNTIF(事業所一覧!$O$4:$O$944,市町村一覧!C8) -> 26 | G8: 大東市 | I8: =COUNTIF(事業所一覧!$O$4:$O$944,市町村一覧!G8) -> 42 | K8: 泉南市 | M8: =COUNTIF(事業所一覧!$O$4:$O$944,市町村一覧!K8) -> 23 | O8: 熊取町 | Q8: =COUNTIF(事業所一覧!$O$4:$O$944,"泉南郡熊取町") -> 14
C9: 貝塚市 | E9: =COUNTIF(事業所一覧!$O$4:$O$944,市町村一覧!C9) -> 27 | G9: 和泉市 | I9: =COUNTIF(事業所一覧!$O$4:$O$944,市町村一覧!G9) -> 46 | K9: 四條畷市 | M9: =COUNTIF(事業所一覧!$O$4:$O$944,市町村一覧!K9) -> 14 | O9: 田尻町 | Q9: =COUNTIF(事業所一覧!$O$4:$O$944,"泉南郡田尻町") -> 1 | S9: ◆ 下記の外部サイトでも事業所情報の検索が可能です。
C10: 守口市 | E10: =COUNTIF(事業所一覧!$O$4:$O$944,市町村一覧!C10) -> 48 | G10: 箕面市 | I10: =COUNTIF(事業所一覧!$O$4:$O$944,市町村一覧!G10) -> 51 | K10: 交野市 | M10: =COUNTIF(事業所一覧!$O$4:$O$944,市町村一覧!K10) -> 19 | O10: 岬町 | Q10: =COUNTIF(事業所一覧!$O$4:$O$944,"泉南郡岬町") -> 1 | T10: 障害福祉サービス等情報検索（WAMNET)
C11: 茨木市 | E11: =COUNTIF(事業所一覧!$O$4:$O$944,市町村一覧!C11) -> 64 | G11: 柏原市 | I11: =COUNTIF(事業所一覧!$O$4:$O$944,市町村一覧!G11) -> 15 | K11: 大阪狭山市 | M11: =COUNTIF(事業所一覧!$O$4:$O$944,市町村一覧!K11) -> 23 | O11: 太子町 | Q11: =COUNTIF(事業所一覧!$O$4:$O$944,"南河内郡太子町") -> 3
C12: 泉佐野市 | E12: =COUNTIF(事業所一覧!$O$4:$O$944,市町村一覧!C12) -> 21 | G12: 羽曳野市 | I12: =COUNTIF(事業所一覧!$O$4:$O$944,市町村一覧!G12) -> 36 | K12: 阪南市 | M12: =COUNTIF(事業所一覧!$O$4:$O$944,市町村一覧!K12) -> 9 | O12: 河南町 | Q12: =COUNTIF(事業所一覧!$O$4:$O$944,"南河内郡河南町") -> 3 | S12: ◆ 児童発達支援センター・障害児入所施設については、別データを参照してください。
C13: 富田林市 | E13: =COUNTIF(事業所一覧!$O$4:$O$944,市町村一覧!C13) -> 43 | G13: 門真市 | I13: =COUNTIF(事業所一覧!$O$4:$O$944,市町村一覧!G13) -> 31 | K13: 島本町 | M13: =COUNTIF(事業所一覧!$O$4:$O$944,"三島郡島本町") -> 12 | O13: 千早赤阪村 | Q13: =COUNTIF(事業所一覧!$O$4:$O$944,"南河内郡千早赤阪村") -> 4
G14: 摂津市 | I14: =COUNTIF(事業所一覧!$O$4:$O$944,市町村一覧!G14) -> 25 | K14: 豊能町 | M14: =COUNTIF(事業所一覧!$O$4:$O$944,"豊能郡豊能町") -> 2

Sheet 岸和田市
A1: 岸和田市 | N1: 市町村一覧に戻る
H2: ☆ 主として重症心身障がい児を通わせる事業所
A3: 事業所番号 | B3: 事業所名称 | C3: TEL | D3: FAX | E3: 〒 | F3: 所在地 | G3: 申請者 | H3: 児 | I3: 定員 | J3: 居 | K3: 放 | L3: 定員 | M3: 保 | N3: 備考
A4: =事業所一覧!A4 -> 2751120037 | B4: =事業所一覧!B4 -> ほっとスペースあん | C4: =事業所一覧!C4 -> 072-433-3907 | D4: =事業所一覧!D4 -> 072-433-3907 | E4: =事業所一覧!E4 -> 596-0047 | F4: =事業所一覧!F4 -> 岸和田市上野町東13番10号三八ビル１階Ｂ号室 | G4: =事業所一覧!G4 -> 特定非営利活動法人まんまる | H4: =事業所一覧!H4 -> 0 | ... M4: =事業所一覧!M4 -> 0
A5: =事業所一覧!A5 -> 2751120045 | B5: =事業所一覧!B5 -> ＣｏＣｏ | C5: =事業所一覧!C5 -> 072-433-2822 | D5: =事業所一覧!D5 -> 072-433-2823 | E5: =事業所一覧!E5 -> 596-0823 | F5: =事業所一覧!F5 -> 岸和田市下松町一丁目11番７号 | G5: =事業所一覧!G5 -> ボンズ株式会社 | H5: =事業所一覧!H5 -> ● | ... M5: =事業所一覧!M5 -> 0
A6: =事業所一覧!A6 -> 2751120052 | B6: =事業所一覧!B6 -> はなはな | C6: =事業所一覧!C6 -> 072-441-1308 | D6: =事業所一覧!D6 -> 072-441-3825 | E6: =事業所一覧!E6 -> 596-0102 | F6: =事業所一覧!F6 -> 岸和田市山直中町875番地 | G6: =事業所一覧!G6 -> 社会福祉法人いずみ野福祉会 | H6: =事業所一覧!H6 -> 0 | ... M6: =事業所一覧!M6 -> 0
A7: =事業所一覧!A7 -> 2751120086 | B7: =事業所一覧!B7 -> 放課後等デイサービスこまつり | C7: =事業所一覧!C7 -> 072-448-6617 | D7: =事業所一覧!D7 -> 072-443-6639 | E7: =事業所一覧!E7 -> 596-0821 | F7: =事業所一覧!F7 -> 岸和田市小松里町911-１ | G7: =事業所一覧!G7 -> 社会福祉法人光生会 | H7: =事業所一覧!H7 -> 0 | ... N7: =事業所一覧!N7 -> 0
A8: =事業所一覧!A8 -> 2751120102 | B8: =事業所一覧!B8 -> 放課後等デイサービスなう | C8: =事業所一覧!C8 -> 072-457-1361 | D8: =事業所一覧!D8 -> 072-457-1993 | E8: =事業所一覧!E8 -> 596-0826 | F8: =事業所一覧!F8 -> 岸和田市作才町1180番地１階 | G8: =事業所一覧!G8 -> 株式会社晴友 | H8: =事業所一覧!H8 -> ● | ... M8: =事業所一覧!M8 -> 0
A9: =事業所一覧!A9 -> 2751120128 | B9: =事業所一覧!B9 -> 児童デイサービスばらの木 | C9: =事業所一覧!C9 -> 072-447-6960 | D9: =事業所一覧!D9 -> 072-447-6961 | E9: =事業所一覧!E9 -> 596-0001 | F9: =事業所一覧!F9 -> 岸和田市磯上町一丁目14番23号 | G9: =事業所一覧!G9 -> 株式会社百花 | H9: =事業所一覧!H9 -> ● | ... M9: =事業所一覧!M9 -> 0
A10: =事業所一覧!A10 -> 2751120144 | B10: =事業所一覧!B10 -> キッズハウスなごみ家 | C10: =事業所一覧!C10 -> 072-468-6960 | D10: =事業所一覧!D10 -> 072-468-6961 | E10: =事業所一覧!E10 -> 596-0831 | F10: =事業所一覧!F10 -> 岸和田市畑町四丁目１番16号 | G10: =事業所一覧!G10 -> アプリコットマネジメント株式会社 | H10: =事業所一覧!H10 -> ● | ... M10: =事業所一覧!M10 -> 0
A11: =事業所一覧!A11 -> 2751120151 | B11: =事業所一覧!B11 -> 運動＆学習療育あなたが宝モノ 岸和田堺町教室 | C11: =事業所一覧!C11 -> 072-433-1231 | D11: =事業所一覧!D11 -> 072-433-1241 | E11: =事業所一覧!E11 -> 596-0072 | F11: =事業所一覧!F11 -> 岸和田市堺町１番38号大起ビル３Ｆ | G11: =事業所一覧!G11 -> 株式会社いのちの木 | H11: =事業所一覧!H11 -> ● | ... M11: =事業所一覧!M11 -> ●
A12: =事業所一覧!A12 -> 2751120177 | B12: =事業所一覧!B12 -> ジェイキッズきりん | C12: =事業所一覧!C12 -> 072-477-3535 | D12: =事業所一覧!D12 -> 072-457-5493 | E12: =事業所一覧!E12 -> 596-0825 | F12: =事業所一覧!F12 -> 岸和田市土生町2475-22 | G12: =事業所一覧!G12 -> 株式会社ジェイケア | H12: =事業所一覧!H12 -> ● | ... M12: =事業所一覧!M12 -> 0
A13: =事業所一覧!A13 -> 2751120185 | B13: =事業所一覧!B13 -> こどもランドなっつ | C13: =事業所一覧!C13 -> 072-443-2261 | D13: =事業所一覧!D13 -> 072-443-2263 | E13: =事業所一覧!E13 -> 596-0816 | F13: =事業所一覧!F13 -> 岸和田市尾生町八丁目27番10号 | G13: =事業所一覧!G13 -> 株式会社ＮＵＴＳドリーム | H13: =事業所一覧!H13 -> ● | ... M13: =事業所一覧!M13 -> 0
A14: =事業所一覧!A14 -> 2751120193 | B14: =事業所一覧!B14 -> 児童デイサービスばらの木アネックス | C14: =事業所一覧!C14 -> 072-447-6088 | D14: =事業所一覧!D14 -> 072-447-6089 | E14: =事業所一覧!E14 -> 596-0045 | F14: =事業所一覧!F14 -> 岸和田市別所町二丁目３番２号 | G14: =事業所一覧!G14 -> 株式会社百花 | H14: =事業所一覧!H14 -> ● | ... M14: =事業所一覧!M14 -> 0
A15: =事業所一覧!A15 -> 2751120201 | B15: =事業所一覧!B15 -> 放課後デイサービスつじい | C15: =事業所一覧!C15 -> 072-479-4182 | D15: =事業所一覧!D15 -> 072-479-4183 | E15: =事業所一覧!E15 -> 596-0816 | F15: =事業所一覧!F15 -> 岸和田市尾生町三丁目３番50号 | G15: =事業所一覧!G15 -> 株式会社文衛門 | H15: =事業所一覧!H15 -> ● | ... M15: =事業所一覧!M15 -> 0
A16: =事業所一覧!A16 -> 2751120219 | B16: =事業所一覧!B16 -> 放課後デイサービス・ふれあい泉 | C16: =事業所一覧!C16 -> 072-440-2752 | D16: =事業所一覧!D16 -> 072-440-2753 | E16: =事業所一覧!E16 -> 596-0002 | F16: =事業所一覧!F16 -> 岸和田市吉井町二丁目12番21号 | G16: =事業所一覧!G16 -> 特定非営利活動法人ふれあい泉 | H16: =事業所一覧!H16 -> 0 | ... M16: =事業所一覧!M16 -> 0
A17: =事業所一覧!A17 -> 2751120227 | B17: =事業所一覧!B17 -> こどもハウスだんぼ | C17: =事業所一覧!C17 -> 072-493-8326 | D17: =事業所一覧!D17 -> 072-493-8327 | E17: =事業所一覧!E17 -> 596-0814 | F17: =事業所一覧!F17 -> 岸和田市岡山町35番地の２ トニワンハイツ岡山102号室 | G17: =事業所一覧!G17 -> 株式会社ＮＵＴＳドリーム | H17: =事業所一覧!H17 -> ☆ | ... M17: =事業所一覧!M17 -> 0
A18: =事業所一覧!A18 -> 2751120243 | B18: =事業所一覧!B18 -> アリス | C18: =事業所一覧!C18 -> 072-479-5670 | D18: =事業所一覧!D18 -> 072-479-5671 | E18: =事業所一覧!E18 -> 596-0823 | F18: =事業所一覧!F18 -> 岸和田市下松町三丁目４番１号Ａ棟102号、104号、105号 | G18: =事業所一覧!G18 -> 合同会社アーリーケア | H18: =事業所一覧!H18 -> ● | ... M18: =事業所一覧!M18 -> ●
A19: =事業所一覧!A19 -> 2751120268 | B19: =事業所一覧!B19 -> キッズハウスなごみ家土生 | C19: =事業所一覧!C19 -> 072-428-7550 | D19: =事業所一覧!D19 -> 072-428-7553 | E19: =事業所一覧!E19 -> 596-0825 | F19: =事業所一覧!F19 -> 岸和田市土生町九丁目11番11号 | G19: =事業所一覧!G19 -> アプリコットマネジメント株式会社 | H19: =事業所一覧!H19 -> ● | ... M19: =事業所一覧!M19 -> 0
... A28: =事業所一覧!A28 -> 2751120383 | B28: =事業所一覧!B28 -> 放課後児童デイサービスくれよん | C28: =事業所一覧!C28 -> 072-448-6611 | D28: =事業所一覧!D28 -> 072-448-6612 | E28: =事業所一覧!E28 -> 596-0821 | F28: =事業所一覧!F28 -> 岸和田市小松里町874番地３ | G28: =事業所一覧!G28 -> 有限会社サプラス | H28: =事業所一覧!H28 -> ● | ... M28: =事業所一覧!M28 -> 0
A29: 2751120425 | B29: =事業所一覧!B29 -> 放課後等デイサービス・児童発達支援 ひなたきっず | C29: =事業所一覧!C29 -> ０７２－４３７－１０１１ | D29: =事業所一覧!D29 -> ０７２－４３７－１０１１ | E29: =事業所一覧!E29 -> ５９６－００３５ | F29: =事業所一覧!F29 -> 岸和田市春木泉町10番33号 宮城ビル１階 | G29: =事業所一覧!G29 -> 株式会社スズヤ | H29: ● | I29: 10 | K29: =事業所一覧!K29 -> ● | L29: =事業所一覧!L29 -> 10 | M29: =事業所一覧!M29 -> 0
A30: 2751120433 | B30: =事業所一覧!B30 -> 児童発達支援・放課後等デイサービスＯｈａｎａ・Pono | C30: =事業所一覧!C30 -> ０７２－４９６－６７８２ | D30: =事業所一覧!D30 -> ０７２－４９６－６７８２ | E30: =事業所一覧!E30 -> ５９６－００２３ | F30: =事業所一覧!F30 -> 岸和田市八幡町１番10号１階 | G30: =事業所一覧!G30 -> 合同会社Ohana | H30: ● | I30: 10 | K30: =事業所一覧!K30 -> ● | L30: =事業所一覧!L30 -> 10 | M30: =事業所一覧!M30 -> 0
A31: =事業所一覧!A31 -> 2751120441 | B31: =事業所一覧!B31 -> 児童デイサービス パピプケア | C31: =事業所一覧!C31 -> 072-493-4140 | D31: =事業所一覧!D31 -> 072-493-4141 | E31: =事業所一覧!E31 -> 596-0823 | F31: =事業所一覧!F31 -> 岸和田市下松町5062番地 | G31: =事業所一覧!G31 -> 株式会社The First | H31: =事業所一覧!H31 -> ● | ... M31: =事業所一覧!M31 -> 0
A32: =事業所一覧!A32 -> 2751120466 | B32: =事業所一覧!B32 -> フタール岸和田 | C32: =事業所一覧!C32 -> 072-430-3110 | D32: =事業所一覧!D32 -> 072-430-3111 | E32: =事業所一覧!E32 -> 596-0045 | F32: =事業所一覧!F32 -> 岸和田市別所町一丁目14番28号 Ｋ・ル・フタールビル３階・５階 | G32: =事業所一覧!G32 -> 株式会社アップサポート | H32: =事業所一覧!H32 -> ● | ... M32: =事業所一覧!M32 -> 0
A33: =事業所一覧!A33 -> 2751120482 | B33: =事業所一覧!B33 -> 児童デイサービス こもっこ 岸和田 | C33: =事業所一覧!C33 -> 072-479-8842 | D33: =事業所一覧!D33 -> 072-479-8843 | E33: =事業所一覧!E33 -> 596-0821 | F33: =事業所一覧!F33 -> 岸和田市小松里町2076番 | G33: =事業所一覧!G33 -> 株式会社 栄拓 | H33: =事業所一覧!H33 -> ☆ | ... M33: =事業所一覧!M33 -> 0
A34: =事業所一覧!A34 -> 2751120474 | B34: =事業所一覧!B34 -> ファーストクラス久米田校 | C34: =事業所一覧!C34 -> 072-441-2361 | D34: =事業所一覧!D34 -> 072-441-2361 | E34: =事業所一覧!E34 -> 596-0812 | F34: =事業所一覧!F34 -> 岸和田市大町475番地の19久米田ショッピングセンター201号室 | G34: =事業所一覧!G34 -> 株式会社フルスイングリージェンシー | H34: =事業所一覧!H34 -> ● | ... M34: =事業所一覧!M34 -> 0
A35: =事業所一覧!A35 -> 2751120490 | B35: =事業所一覧!B35 -> ふりすくもーど | C35: =事業所一覧!C35 -> 072-445-8822 | D35: =事業所一覧!D35 -> 072-445-8811 | E35: =事業所一覧!E35 -> 596-0813 | F35: =事業所一覧!F35 -> 岸和田市池尻町211 | G35: =事業所一覧!G35 -> 株式会社ミヤシタ | H35: =事業所一覧!H35 -> ● | ... M35: =事業所一覧!M35 -> 0
A36: =事業所一覧!A36 -> 2751120508 | B36: =事業所一覧!B36 -> 清流の家 春木 | C36: =事業所一覧!C36 -> 072-430-5101 | D36: =事業所一覧!D36 -> 072-430-5102 | E36: =事業所一覧!E36 -> 596-0006 | F36: =事業所一覧!F36 -> 岸和田市春木若松町３番27号 | G36: =事業所一覧!G36 -> 合同会社哲人社 | H36: =事業所一覧!H36 -> ● | ... M36: =事業所一覧!M36 -> 0
A37: =事業所一覧!A37 -> 2751120516 | B37: =事業所一覧!B37 -> 児童発達支援・放課後等デイサービス ＧＯ | C37: =事業所一覧!C37 -> 072-489-5905 | D37: =事業所一覧!D37 -> 072-489-5905 | E37: =事業所一覧!E37 -> 596-0004 | F37: =事業所一覧!F37 -> 岸和田市荒木町二丁目５番２号 Ｍ’ｓビル４階401号室 | G37: =事業所一覧!G37 -> 合同会社Ｇｒｏｗｔｈ Ｏｒｉｅｎｔｅｄ | H37: =事業所一覧!H37 -> ● | ... M37: =事業所一覧!M37 -> 0
A38: =事業所一覧!A38 -> 2751120524 | B38: =事業所一覧!B38 -> 児童デイサービスｍａｆａ | C38: =事業所一覧!C38 -> 072-474-4654 | D38: =事業所一覧!D38 -> 072-474-5649 | E38: =事業所一覧!E38 -> 596-0044 | F38: =事業所一覧!F38 -> 岸和田市西之内町７番21号１階 | G38: =事業所一覧!G38 -> 株式会社ＩＴＯＳＡ | H38: =事業所一覧!H38 -> ☆ | ... M38: =事業所一覧!M38 -> 0
A39: =事業所一覧!A39 -> 2751120532 | B39: =事業所一覧!B39 -> 放課後等デイサービス ピリナ | C39: =事業所一覧!C39 -> 090-8846-0939 | D39: =事業所一覧!D39 -> 072-441-4439 | E39: =事業所一覧!E39 -> 596-0003 | F39: =事業所一覧!F39 -> 岸和田市中井町三丁目18番25号 | G39: =事業所一覧!G39 -> 合同会社カピリナ | H39: =事業所一覧!H39 -> ● | ... M39: =事業所一覧!M39 -> 0
A40: =事業所一覧!A40 -> 2751120540 | B40: =事業所一覧!B40 -> ウルぱあに | C40: =事業所一覧!C40 -> 072-439-9578 | D40: =事業所一覧!D40 -> 072-468-9658 | E40: =事業所一覧!E40 -> 596-0825 | F40: =事業所一覧!F40 -> 岸和田市土生町三丁目14番27号川口ビル２Ｆ | G40: =事業所一覧!G40 -> 株式会社ａｓｏｂｉｌ | H40: =事業所一覧!H40 -> ● | ... M40: =事業所一覧!M40 -> 0
A41: =事業所一覧!A41 -> 2751120557 | B41: =事業所一覧!B41 -> こどもパークゆめっこ | C41: =事業所一覧!C41 -> 072-436-1165 | D41: =事業所一覧!D41 -> 072-493-6594 | E41: =事業所一覧!E41 -> 596-0073 | F41: =事業所一覧!F41 -> 岸和田市岸城町28番36号 | G41: =事業所一覧!G41 -> 株式会社NUTSドリーム | H41: =事業所一覧!H41 -> ☆ | ... M41: =事業所一覧!M41 -> 0
A42: =事業所一覧!A42 -> 2751120565 | B42: =事業所一覧!B42 -> 放課後等デイサービスＯＲＡＮＧＥ | C42: =事業所一覧!C42 -> 072-489-5885 | D42: =事業所一覧!D42 -> 072-489-5553 | E42: =事業所一覧!E42 -> 596-0821 | F42: =事業所一覧!F42 -> 岸和田市小松里町2416番地 | G42: =事業所一覧!G42 -> 株式会社ビロー | H42: =事業所一覧!H42 -> ● | ... M42: =事業所一覧!M42 -> 0
... A55: =事業所一覧!A55 -> 2751120698 | B55: =事業所一覧!B55 -> 児童発達支援・放課後等デイサービス ＨＵＧＳわーむ | C55: =事業所一覧!C55 -> 072-447-4301 | D55: =事業所一覧!D55 -> 072-447-4302 | E55: =事業所一覧!E55 -> 596-0047 | F55: =事業所一覧!F55 -> 岸和田市上野町東10番41号 | G55: =事業所一覧!G55 -> 株式会社オキシテック | H55: =事業所一覧!H55 -> ● | ... M55: =事業所一覧!M55 -> 0

Sheet 池田市
A1: 池田市 | N1: 市町村一覧に戻る
H2: ☆ 主として重症心身障がい児を通わせる事業所
A3: 事業所番号 | B3: 事業所名称 | C3: TEL | D3: FAX | E3: 〒 | F3: 所在地 | G3: 申請者 | H3: 児 | I3: 定員 | J3: 居 | K3: 放 | L3: 定員 | M3: 保 | N3: 備考
A4: =事業所一覧!A56 -> 2752520029 | B4: =事業所一覧!B56 -> はっぴーすまいる | C4: =事業所一覧!C56 -> 072-751-8234 | D4: =事業所一覧!D56 -> 072-751-8234 | E4: =事業所一覧!E56 -> 563-0021 | F4: =事業所一覧!F56 -> 池田市畑一丁目５番29号 | G4: =事業所一覧!G56 -> 合同会社はっぴーすまいる | H4: =事業所一覧!H56 -> 0 | ... N4: =事業所一覧!N56 -> 0
A5: =事業所一覧!A57 -> 2752520037 | B5: =事業所一覧!B57 -> ゴールデンハウス | C5: =事業所一覧!C57 -> 072-750-0303 | D5: =事業所一覧!D57 -> 072-750-0505 | E5: =事業所一覧!E57 -> 563-0024 | F5: =事業所一覧!F57 -> 池田市鉢塚一丁目８番２号 | G5: =事業所一覧!G57 -> 株式会社泰らぎ | H5: =事業所一覧!H57 -> ● | ... N5: =事業所一覧!N57 -> 0
A6: =事業所一覧!A58 -> 2752520045 | B6: =事業所一覧!B58 -> スマイルファクトリー | C6: =事業所一覧!C58 -> 072-751-1145 | D6: =事業所一覧!D58 -> 072-751-6881 | E6: =事業所一覧!E58 -> 563-0017 | F6: =事業所一覧!F58 -> 池田市伏尾台二丁目11番地 | G6: =事業所一覧!G58 -> 特定非営利活動法人トイボックス | H6: =事業所一覧!H58 -> ● | ... N6: =事業所一覧!N58 -> 0
A7: =事業所一覧!A59 -> 2752520052 | B7: =事業所一覧!B59 -> 児童発達支援・放課後等デイサービスＯｈａｎａ（オハナ） | C7: =事業所一覧!C59 -> 072-734-8784 | D7: =事業所一覧!D59 -> 072-734-8774 | E7: =事業所一覧!E59 -> 563-0042 | F7: =事業所一覧!F59 -> 池田市宇保町７番１号 | G7: =事業所一覧!G59 -> 一般社団法人ＣＬＣ Ｏｈａｎａ | H7: =事業所一覧!H59 -> ● | ... N7: =事業所一覧!N59 -> 0
A8: =事業所一覧!A60 -> 2752520060 | B8: =事業所一覧!B60 -> やわらソレイユ | C8: =事業所一覧!C60 -> 072-760-4302 | D8: =事業所一覧!D60 -> 072-760-4301 | E8: =事業所一覧!E60 -> 563-0032 | F8: =事業所一覧!F60 -> 池田市石橋二丁目14番11号１階 | G8: =事業所一覧!G60 -> 株式会社ワイズトライン | H8: =事業所一覧!H60 -> ☆ | ... N8: =事業所一覧!N60 -> 0
A9: =事業所一覧!A61 -> 2752520094 | B9: =事業所一覧!B61 -> デイサービスＳunはーと | C9: =事業所一覧!C61 -> 072-702-3577 | D9: =事業所一覧!D61 -> 072-702-3566 | E9: =事業所一覧!E61 -> 563-0033 | F9: =事業所一覧!F61 -> 池田市住吉一丁目14番25号103号,203号 | G9: =事業所一覧!G61 -> 合同会社Ｓunはーと | H9: =事業所一覧!H61 -> ● | ... N9: =事業所一覧!N61 -> 0
A10: =事業所一覧!A62 -> 2752520128 | B10: =事業所一覧!B62 -> Ｏｈａｎａ緑丘 | C10: =事業所一覧!C62 -> 072-736-9757 | D10: =事業所一覧!D62 -> 072-736-9757 | E10: =事業所一覧!E62 -> 563-0026 | F10: =事業所一覧!F62 -> 池田市緑丘一丁目７番21号 | G10: =事業所一覧!G62 -> 一般社団法人ＣＬＣ Ｏｈａｎａ | H10: =事業所一覧!H62 -> 0 | ... N10: =事業所一覧!N62 -> 0
A11: =事業所一覧!A63 -> 2752520169 | B11: =事業所一覧!B63 -> Ｒ．Ｅ．Ａ．Ｄ．Ｄ． | C11: =事業所一覧!C63 -> 072-752-0001 | D11: =事業所一覧!D63 -> 072-752-0002 | E11: =事業所一覧!E63 -> 563-0058 | F11: =事業所一覧!F63 -> 池田市栄本町４番24号 | G11: =事業所一覧!G63 -> 一般社団法人Ｒ．Ｅ．Ａ．Ｄ．Ｄ． | H11: =事業所一覧!H63 -> ● | ... N11: =事業所一覧!N63 -> 0
A12: =事業所一覧!A64 -> 2752520177 | B12: =事業所一覧!B64 -> ＭＯＭＢ池田 | C12: =事業所一覧!C64 -> 072-753-0807 | D12: =事業所一覧!D64 -> 072-753-0808 | E12: =事業所一覧!E64 -> 563-0043 | F12: =事業所一覧!F64 -> 池田市神田一丁目32番17号 Bellino １Ｂ号 | G12: =事業所一覧!G64 -> 株式会社ネクステム | H12: =事業所一覧!H64 -> ● | ... N12: =事業所一覧!N64 -> 0
A13: =事業所一覧!A65 -> 2752520185 | B13: =事業所一覧!B65 -> はっぴーすてっぷ | C13: =事業所一覧!C65 -> 072-747-2480 | D13: =事業所一覧!D65 -> 072-786-6331 | E13: =事業所一覧!E65 -> 563-0022 | F13: =事業所一覧!F65 -> 池田市旭丘一丁目８番16号旭丘プラザ102号室 | G13: =事業所一覧!G65 -> 合同会社はっぴーすまいる | H13: =事業所一覧!H65 -> ● | ... N13: =事業所一覧!N65 -> 0
A14: =事業所一覧!A66 -> 2752520193 | B14: =事業所一覧!B66 -> ぶるーべりー石橋 | C14: =事業所一覧!C66 -> 072-737-9225 | D14: =事業所一覧!D66 -> 072-737-9203 | E14: =事業所一覧!E66 -> 563-0033 | F14: =事業所一覧!F66 -> 池田市住吉一丁目14番23号１階ベルクサイト101号室 | G14: =事業所一覧!G66 -> 株式会社Ｕｎited Ｐｏｗｅｒｓ | H14: =事業所一覧!H66 -> 0 | ... N14: =事業所一覧!N66 -> 0
A15: =事業所一覧!A67 -> 2752520201 | B15: =事業所一覧!B67 -> ｃｏｃｏｒｏ | C15: =事業所一覧!C67 -> 072-736-8514 | D15: =事業所一覧!D67 -> 072-736-8515 | E15: =事業所一覧!E67 -> 563-0021 | F15: =事業所一覧!F67 -> 池田市畑五丁目１番20号 | G15: =事業所一覧!G67 -> 株式会社ＧＲＯＷＳ | H15: =事業所一覧!H67 -> ☆ | ... N15: =事業所一覧!N67 -> 0
... A21: =事業所一覧!A73 -> 2752520292 | B21: =事業所一覧!B73 -> ハーティワン桃園 | C21: =事業所一覧!C73 -> 072-737-4836 | D21: =事業所一覧!D73 -> 072-767-9717 | E21: =事業所一覧!E73 -> 563-0045 | F21: =事業所一覧!F73 -> 池田市桃園一丁目7番18号スプリングリバーⅡ101 | G21: =事業所一覧!G73 -> 有限会社三宮企画 | H21: =事業所一覧!H73 -> ● | ... N21: =事業所一覧!N73 -> 0
A22: =事業所一覧!A74 -> 2752520318 | B22: =事業所一覧!B74 -> ＫＯＫＯＩＲＯ | C22: =事業所一覧!C74 -> ０７０－８９６２-1788 | D22: =事業所一覧!D74 -> - | E22: =事業所一覧!E74 -> 563-0025 | F22: =事業所一覧!F74 -> 池田市城南三丁目２番13号シャーメゾンラピス１階 | G22: =事業所一覧!G74 -> 合同会社ＨａｌｅＮａｌｕ | H22: =事業所一覧!H74 -> ● | I22: =事業所一覧!I74 -> 10 | K22: =事業所一覧!K74 -> ● | L22: =事業所一覧!L74 -> 10 | M22: =事業所一覧!M74 -> 0
A23: =事業所一覧!A75 -> 2752520334 | B23: =事業所一覧!B75 -> るる | C23: =事業所一覧!C75 -> ０７２－７３４－７５１８ | D23: =事業所一覧!D75 -> ０７２－７３４－７５１８ | E23: =事業所一覧!E75 -> 563-0032 | F23: =事業所一覧!F75 -> 池田市石橋一丁目23番13-101号 | G23: =事業所一覧!G75 -> 知音株式会社 | H23: =事業所一覧!H75 -> ● | I23: =事業所一覧!I75 -> 10 | K23: =事業所一覧!K75 -> ● | L23: =事業所一覧!L75 -> 10 | M23: =事業所一覧!M75 -> 0
A24: =事業所一覧!A76 -> 2752520342 | B24: =事業所一覧!B76 -> ハーティワンおりいぶ | C24: =事業所一覧!C76 -> ０７２－７４４－２１６６ | D24: =事業所一覧!D76 -> ０７２－７４－２１６７ | E24: =事業所一覧!E76 -> 563-0058 | F24: =事業所一覧!F76 -> 池田市栄本町９番６号 ２階・３階・４階・5階 | G24: =事業所一覧!G76 -> 有限会社三宮企画 | H24: =事業所一覧!H76 -> ● | I24: =事業所一覧!I76 -> 10 | K24: =事業所一覧!K76 -> ● | L24: =事業所一覧!L76 -> 10 | M24: =事業所一覧!M76 -> ●
A25: =事業所一覧!A77 -> 2752520359 | B25: =事業所一覧!B77 -> フォレストキッズ池田教室 | C25: =事業所一覧!C77 -> 072-735-7750 | D25: =事業所一覧!D77 -> 072-735-７７80 | E25: =事業所一覧!E77 -> 563-0025 | F25: =事業所一覧!F77 -> 池田市城南一丁目２番２号コンフォートプレイス１階 | G25: =事業所一覧!G77 -> アサヒ産業株式会社 | H25: =事業所一覧!H77 -> ● | I25: =事業所一覧!I77 -> 10 | K25: =事業所一覧!K77 -> 0 | L25: =事業所一覧!L77 -> 0 | M25: =事業所一覧!M77 -> 0
A26: =事業所一覧!A78 -> 2752520367 | B26: =事業所一覧!B78 -> キックオフ | C26: =事業所一覧!C78 -> 072-774-4602 | D26: =事業所一覧!D78 -> 072-702-4432 | E26: =事業所一覧!E78 -> 563-0059 | F26: =事業所一覧!F78 -> 池田市西本町６番17号メゾンクレール201号室 | G26: =事業所一覧!G78 -> 株式会社グッドサポート | H26: =事業所一覧!H78 -> ● | I26: =事業所一覧!I78 -> 10 | K26: =事業所一覧!K78 -> ● | L26: =事業所一覧!L78 -> 10 | M26: =事業所一覧!M78 -> 0
A27: =事業所一覧!A79 -> 2752520383 | B27: =事業所一覧!B79 -> コアキッズ・ケア | C27: =事業所一覧!C79 -> 072-737-7039 | D27: =事業所一覧!D79 -> 072-737-7049 | E27: =事業所一覧!E79 -> 563-0055 | F27: =事業所一覧!F79 -> 池田市菅原町１番14号 | G27: =事業所一覧!G79 -> 株式会社メディカル・ハンド | H27: =事業所一覧!H79 -> ☆ | I27: =事業所一覧!I79 -> 5 | K27: =事業所一覧!K79 -> ☆ | L27: =事業所一覧!L79 -> 5 | M27: =事業所一覧!M79 -> 0
A28: =事業所一覧!A80 -> 2752520391 | B28: =事業所一覧!B80 -> ＭＯＭＢ石橋 | C28: =事業所一覧!C80 -> 072-737-8265 | D28: =事業所一覧!D80 -> 072-737-8266 | E28: =事業所一覧!E80 -> 563-0032 | F28: =事業所一覧!F80 -> 池田市石橋三丁目1番21号モンジット1階 | G28: =事業所一覧!G80 -> 株式会社ネクステム | H28: =事業所一覧!H80 -> 0 | I28: =事業所一覧!I80 -> 0 | K28: =事業所一覧!K80 -> ● | L28: =事業所一覧!L80 -> 10 | M28: =事業所一覧!M80 -> 0
A29: =事業所一覧!A81 -> 2752520417 | B29: =事業所一覧!B81 -> Ｌｉｎｏぷれいす池田 | C29: =事業所一覧!C81 -> 072-737-7121 | D29: =事業所一覧!D81 -> 072-707-2604 | E29: =事業所一覧!E81 -> 563-0023 | F29: =事業所一覧!F81 -> 池田市井口堂一丁目９番26号 アーユス井口堂西棟２階２号室 | G29: =事業所一覧!G81 -> 株式会社シーシー | H29: =事業所一覧!H81 -> 0 | I29: =事業所一覧!I81 -> 0 | K29: =事業所一覧!K81 -> ● | L29: =事業所一覧!L81 -> 10 | M29: =事業所一覧!M81 -> 0
A30: =事業所一覧!A82 -> 2752520433 | B30: =事業所一覧!B82 -> 児童発達支援・放課後等デイサービス ソラーレ神田 | C30: =事業所一覧!C82 -> ０７２－７３６－８０８９ | D30: =事業所一覧!D82 -> ０７２－７３６－８０８９ | E30: =事業所一覧!E82 -> 563-0043 | F30: =事業所一覧!F82 -> 池田市神田二丁目17番６号 | G30: =事業所一覧!G82 -> 株式会社スタジオＤ＆Ｈ | H30: =事業所一覧!H82 -> ● | I30: =事業所一覧!I82 -> 10 | K30: =事業所一覧!K82 -> ● | L30: =事業所一覧!L82 -> 10 | M30: =事業所一覧!M82 -> ●
A31: =事業所一覧!A83 -> 2752520441 | B31: =事業所一覧!B83 -> 児童発達支援・放課後等デイサービス ここふる | C31: =事業所一覧!C83 -> 072-739-6158 | D31: =事業所一覧!D83 -> 072-739-6159 | E31: =事業所一覧!E83 -> 563-0024 | F31: =事業所一覧!F83 -> 池田市鉢塚三丁目15番２号メゾンさつき１階106号室 | G31: =事業所一覧!G83 -> 株式会社めぐみ | H31: =事業所一覧!H83 -> ☆ | I31: =事業所一覧!I83 -> 5 | K31: =事業所一覧!K83 -> ☆ | L31: =事業所一覧!L83 -> 5 | M31: =事業所一覧!M83 -> 0
A32: =事業所一覧!A84 -> 2752520458 | B32: =事業所一覧!B84 -> ＮＰＯ法人つぼみ | C32: =事業所一覧!C84 -> 090-7962-7570 | D32: =事業所一覧!D84 -> - | E32: =事業所一覧!E84 -> 563-0032 | F32: =事業所一覧!F84 -> 池田市石橋二丁目13番29号２階 | G32: =事業所一覧!G84 -> ＮＰＯ法人つぼみ | H32: =事業所一覧!H84 -> ● | I32: =事業所一覧!I84 -> 10 | K32: =事業所一覧!K84 -> ● | L32: =事業所一覧!L84 -> 10 | M32: =事業所一覧!M84 -> ●
A33: =事業所一覧!A85 -> 2752520466 | B33: =事業所一覧!B85 -> ワナビー城南 | C33: =事業所一覧!C85 -> 072-768-8184 | D33: =事業所一覧!D85 -> 072-768-8184 | E33: =事業所一覧!E85 -> 563-0025 | F33: =事業所一覧!F85 -> 池田市城南一丁目９番22号ＡＸＩＳ池田グリーンプラザⅠ ２Ｆ－Ｄ | G33: =事業所一覧!G85 -> 株式会社ミヤビコーポレーション | H33: =事業所一覧!H85 -> ● | I33: =事業所一覧!I85 -> 10 | K33: =事業所一覧!K85 -> ● | L33: =事業所一覧!L85 -> 10 | M33: =事業所一覧!M85 -> ●
... A51: =事業所一覧!A103 -> 2752520649 | B51: =事業所一覧!B103 -> こどもサポート教室「きらり」池田駅前校 | C51: =事業所一覧!C103 -> 072-739-9600 | D51: =事業所一覧!D103 -> 072-739-9600 | E51: =事業所一覧!E103 -> 563-0056 | F51: =事業所一覧!F103 -> 池田市栄町９番13号サカエマチ壱番館２階Ｄ・Ｅ号室 | G51: =事業所一覧!G103 -> 株式会社クラ・ゼミ | H51: =事業所一覧!H103 -> ● | I51: =事業所一覧!I103 -> 10 | K51: =事業所一覧!K103 -> ● | L51: =事業所一覧!L103 -> 10 | M51: =事業所一覧!M103 -> 0

Sheet 泉大津市
A1: 泉大津市 | N1: 市町村一覧に戻る
H2: ☆ 主として重症心身障がい児を通わせる事業所
A3: 事業所番号 | B3: 事業所名称 | C3: TEL | D3: FAX | E3: 〒 | F3: 所在地 | G3: 申請者 | H3: 児 | I3: 定員 | J3: 居 | K3: 放 | L3: 定員 | M3: 保 | N3: 備考
A4: =事業所一覧!A104 -> 2750620011 | B4: =事業所一覧!B104 -> ILIS CLUB泉大津 | C4: =事業所一覧!C104 -> 0725-22-6650 | D4: =事業所一覧!D104 -> 0725-22-6651 | E4: =事業所一覧!E104 -> 595-0024 | F4: =事業所一覧!F104 -> 泉大津市池浦町一丁目２番18号 | G4: =事業所一覧!G104 -> 株式会社アイリス | H4: =事業所一覧!H104 -> ● | ... N4: =事業所一覧!N104 -> 0
A5: =事業所一覧!A105 -> 2750620086 | B5: =事業所一覧!B105 -> 清流の家 泉大津 | C5: =事業所一覧!C105 -> 0725-23-2760 | D5: =事業所一覧!D105 -> 0725-23-2770 | E5: =事業所一覧!E105 -> 595-0071 | F5: =事業所一覧!F105 -> 泉大津市助松町二丁目４番10号 | G5: =事業所一覧!G105 -> 合同会社哲人社 | H5: =事業所一覧!H105 -> ● | ... M5: =事業所一覧!M105 -> 0
A6: =事業所一覧!A106 -> 2750620094 | B6: =事業所一覧!B106 -> 児童発達支援・放課後等デイサービスろはすの家 | C6: =事業所一覧!C106 -> 0725-31-3100 | D6: =事業所一覧!D106 -> 0725-31-3200 | E6: =事業所一覧!E106 -> 595-0015 | F6: =事業所一覧!F106 -> 泉大津市二田町一丁目20番19号 | G6: =事業所一覧!G106 -> 株式会社ＨＨＩ | H6: =事業所一覧!H106 -> ☆ | ... M6: =事業所一覧!M106 -> 0
A7: =事業所一覧!A107 -> 2750620169 | B7: =事業所一覧!B107 -> さんＳＵＮアフタースクール泉大津 | C7: =事業所一覧!C107 -> 0725-20-6202 | D7: =事業所一覧!D107 -> 0725-20-6203 | E7: =事業所一覧!E107 -> 595-0043 | F7: =事業所一覧!F107 -> 泉大津市清水町１番40号 | G7: =事業所一覧!G107 -> 株式会社ＩＬＯ | H7: =事業所一覧!H107 -> ● | ... M7: =事業所一覧!M107 -> 0
A8: =事業所一覧!A108 -> 2750620177 | B8: =事業所一覧!B108 -> はぐハウスⅡ | C8: =事業所一覧!C108 -> 0725-92-8918 | D8: =事業所一覧!D108 -> 0725-92-8981 | E8: =事業所一覧!E108 -> 595-0071 | F8: =事業所一覧!F108 -> 泉大津市助松町三丁目１－25 ビーチマンションⅡ１階102号 | G8: =事業所一覧!G108 -> ＩＯＳメディカルケア株式会社 | H8: =事業所一覧!H108 -> ☆ | ... M8: =事業所一覧!M108 -> 0
A9: =事業所一覧!A109 -> 2750620250 | B9: =事業所一覧!B109 -> 運動学習支援教室 みらいずジュニア | C9: =事業所一覧!C109 -> 0725-58-7533 | D9: =事業所一覧!D109 -> 0725-58-7534 | E9: =事業所一覧!E109 -> 595-0023 | F9: =事業所一覧!F109 -> 泉大津市北豊中町一丁目498番地1 | G9: =事業所一覧!G109 -> 社会福祉法人豊中福祉会 | H9: =事業所一覧!H109 -> ● | ... M9: =事業所一覧!M109 -> 0
A10: =事業所一覧!A110 -> 2750620268 | B10: =事業所一覧!B110 -> 児童発達支援・放課後等デイサービス ろはすの家 つぼみ | C10: =事業所一覧!C110 -> 0725-31-3300 | D10: =事業所一覧!D110 -> 0725-31-3400 | E10: =事業所一覧!E110 -> 595-0015 | F10: =事業所一覧!F110 -> 泉大津市二田町三丁目４番15号 | G10: =事業所一覧!G110 -> 株式会社ＨＨＩ | H10: =事業所一覧!H110 -> ● | ... M10: =事業所一覧!M110 -> 0
A11: =事業所一覧!A111 -> 2750620284 | B11: =事業所一覧!B111 -> こどもサポートばんびーに | C11: =事業所一覧!C111 -> 090-2705-1640 | D11: =事業所一覧!D111 -> - | E11: =事業所一覧!E111 -> 595-0013 | F11: =事業所一覧!F111 -> 泉大津市宮町10番5号 | G11: =事業所一覧!G111 -> 株式会社ＫＪＴ | H11: =事業所一覧!H111 -> ● | ... M11: =事業所一覧!M111 -> 0
A12: =事業所一覧!A112 -> 2750620300 | B12: =事業所一覧!B112 -> 児童発達支援 ぱぴぷ | C12: =事業所一覧!C112 -> 0725-90-4110 | D12: =事業所一覧!D112 -> 0725-90-4118 | E12: =事業所一覧!E112 -> 595-0021 | F12: =事業所一覧!F112 -> 泉大津市東豊中町三丁目14番12号 新井ビル１階 | G12: =事業所一覧!G112 -> 株式会社Ｔｈｅ Ｆｉｒｓｔ | H12: =事業所一覧!H112 -> ● | ... M12: =事業所一覧!M112 -> 0
A13: =事業所一覧!A113 -> 2750620318 | B13: =事業所一覧!B113 -> ジャンプ泉大津 | C13: =事業所一覧!C113 -> 0725-24-0215 | D13: =事業所一覧!D113 -> 0725-24-0331 | E13: =事業所一覧!E113 -> 595-0014 | F13: =事業所一覧!F113 -> 泉大津市寿町14番１号 | G13: =事業所一覧!G113 -> 株式会社JUMP | H13: =事業所一覧!H113 -> ● | ... M13: =事業所一覧!M113 -> 0
A14: =事業所一覧!A114 -> 2750620334 | B14: =事業所一覧!B114 -> あすなろ | C14: =事業所一覧!C114 -> ０７２５－９９－８５１２ | D14: =事業所一覧!D114 -> ０７２５－９９－８５１３ | E14: =事業所一覧!E114 -> 595-0024 | F14: =事業所一覧!F114 -> 泉大津市池浦町二丁目14番27号 | G14: =事業所一覧!G114 -> 株式会社Ｏ－プランニング | H14: =事業所一覧!H114 -> ● | ... M14: =事業所一覧!M114 -> 0
A15: =事業所一覧!A115 -> 2750620375 | B15: =事業所一覧!B115 -> 子どもデイサービス サニー | C15: =事業所一覧!C115 -> 0725-25-8127 | D15: =事業所一覧!D115 -> 0725-51-7588 | E15: =事業所一覧!E115 -> 595-0011 | F15: =事業所一覧!F115 -> 泉大津市曽根町三丁目９番30号 | G15: =事業所一覧!G115 -> 合同会社リレイション | H15: =事業所一覧!H115 -> ● | ... M15: =事業所一覧!M115 -> 0
A16: =事業所一覧!A116 -> 2750620383 | B16: =事業所一覧!B116 -> ホップステップこっちゃん | C16: =事業所一覧!C116 -> 0725-92-9972 | D16: =事業所一覧!D116 -> 0725-92-9972 | E16: =事業所一覧!E116 -> 595-0021 | F16: =事業所一覧!F116 -> 泉大津市東豊中町一丁目５番48号シンエイビル１階101号 | G16: =事業所一覧!G116 -> 株式会社藤花 | H16: =事業所一覧!H116 -> ● | ... M16: =事業所一覧!M116 -> 0
... A20: =事業所一覧!A120 -> 2751120458 | B20: =事業所一覧!B120 -> スポーツアカデミー泉大津 | C20: =事業所一覧!C120 -> 0725-25-8517 | D20: =事業所一覧!D120 -> 0725-25-8517 | E20: =事業所一覧!E120 -> 595-0071 | F20: =事業所一覧!F120 -> 泉大津市助松町三丁目９番４０-106号 | G20: =事業所一覧!G120 -> 株式会社赤い糸 | H20: =事業所一覧!H120 -> ● | ... M20: =事業所一覧!M120 -> 0
A21: =事業所一覧!A121 -> 2750620425 | B21: =事業所一覧!B121 -> 放課後等デイサービス ウィズ・ユー泉大津 | C21: =事業所一覧!C121 -> 0725-58-7603 | D21: =事業所一覧!D121 -> 0725-58-7604 | E21: =事業所一覧!E121 -> 595-0025 | F21: =事業所一覧!F121 -> 泉大津市旭町18番３号 アルザ203号室 | G21: =事業所一覧!G121 -> 新秋堂株式会社 | H21: =事業所一覧!H121 -> ● | ... K21: =事業所一覧!K121 -> ● | L21: =事業所一覧!L122 -> 10 | M21: =事業所一覧!M121 -> 0
A22: =事業所一覧!A122 -> 2750620433 | B22: =事業所一覧!B122 -> はぴにこ | C22: =事業所一覧!C122 -> 0725-58-9916 | D22: =事業所一覧!D122 -> 0725-58-9917 | E22: =事業所一覧!E122 -> 595-0006 | F22: =事業所一覧!F122 -> 泉大津市東助松町一丁目１番２号 | G22: =事業所一覧!G122 -> 株式会社ｂｒａｎｃｈ | H22: =事業所一覧!H122 -> ● | ... K22: =事業所一覧!K122 -> ● | L22: =事業所一覧!L123 -> 10 | M22: =事業所一覧!M122 -> 0
A23: =事業所一覧!A123 -> 2750620441 | B23: =事業所一覧!B123 -> こどもサポートばんびーに ＰＡＳＳＯ | C23: =事業所一覧!C123 -> 0725-24-9096 | D23: =事業所一覧!D123 -> 0725-24-9097 | E23: =事業所一覧!E123 -> 595-0013 | F23: =事業所一覧!F123 -> 泉大津市宮町９番46号 | G23: =事業所一覧!G123 -> 株式会社ＫＪＴ | H23: =事業所一覧!H123 -> ● | ... K23: =事業所一覧!K123 -> ● | L23: =事業所一覧!L130 -> 10 | M23: =事業所一覧!M123 -> 0
A24: =事業所一覧!A124 -> 2750620458 | B24: =事業所一覧!B124 -> すこやか | C24: =事業所一覧!C124 -> ０７２５－４１－４９９８ | D24: =事業所一覧!D124 -> ０７２５－４１－４８７４ | E24: =事業所一覧!E124 -> 595-0021 | F24: =事業所一覧!F124 -> 泉大津市東豊中町三丁目１番15号４階 | G24: =事業所一覧!G124 -> 社会福祉法人健福祉会 | H24: =事業所一覧!H124 -> ● | ... K24: =事業所一覧!K124 -> ● | L24: =事業所一覧!L131 -> 10 | M24: =事業所一覧!M124 -> 0
A25: =事業所一覧!A125 -> 2750620474 | B25: =事業所一覧!B125 -> 児童発達支援事業所 さんらいず | C25: =事業所一覧!C125 -> 0725-58-9127 | D25: =事業所一覧!D125 -> 0725-58-9128 | E25: =事業所一覧!E125 -> ５９５－００２７ | F25: =事業所一覧!F125 -> 泉大津市下条町12－12 | G25: =事業所一覧!G125 -> 株式会社おひさま | H25: =事業所一覧!H125 -> ● | ... K25: =事業所一覧!K125 -> ● | L25: =事業所一覧!L133 -> 10 | M25: =事業所一覧!M125 -> 0
A26: =事業所一覧!A126 -> 2750620482 | B26: =事業所一覧!B126 -> トンガリばたけ 泉大津教室 | C26: =事業所一覧!C126 -> 0725-54-9991 | D26: =事業所一覧!D126 -> 0725-54-9993 | E26: =事業所一覧!E126 -> 595-0024 | F26: =事業所一覧!F126 -> 泉大津市池浦町一丁目７番４号 | G26: =事業所一覧!G126 -> ｉｔｒａｄｅ株式会社 | H26: =事業所一覧!H126 -> ● | ... K26: =事業所一覧!K126 -> ● | L26: =事業所一覧!L134 -> 10 | M26: =事業所一覧!M126 -> 0
A27: =事業所一覧!A127 -> 2750620490 | B27: =事業所一覧!B127 -> 児童発達支援・放課後等デイサービス こども館 | C27: =事業所一覧!C127 -> 0725-39-8764 | D27: =事業所一覧!D127 -> 0725-39-8764 | E27: =事業所一覧!E127 -> 595-0033 | F27: =事業所一覧!F127 -> 泉大津市板原三丁目６番１号 | G27: =事業所一覧!G127 -> 合同会社ＨＩＫＡＲＵ | H27: =事業所一覧!H127 -> ● | ... K27: =事業所一覧!K127 -> ● | L27: =事業所一覧!L135 -> 10 | M27: =事業所一覧!M127 -> 0
A28: =事業所一覧!A128 -> 2750620508 | B28: =事業所一覧!B128 -> Ｄｅｌｉｇｈｔ泉大津教室 | C28: =事業所一覧!C128 -> 090-8375-8167 | D28: =事業所一覧!D128 -> 0725-30-5520 | E28: =事業所一覧!E128 -> 595-0043 | F28: =事業所一覧!F128 -> 泉大津市清水町七丁目20番２号 | G28: =事業所一覧!G128 -> 株式会社ぽいんせちあ | H28: =事業所一覧!H128 -> ● | ... K28: =事業所一覧!K128 -> 0 | M28: =事業所一覧!M128 -> 0
A29: =事業所一覧!A129 -> 2750620516 | B29: =事業所一覧!B129 -> あおぞら | C29: =事業所一覧!C129 -> 0725-46-5757 | D29: =事業所一覧!D129 -> - | E29: =事業所一覧!E129 -> 595-0021 | F29: =事業所一覧!F129 -> 泉大津市東豊中町一丁目３番３号 エルセレーノ府中１F | G29: =事業所一覧!G129 -> 株式会社まほろば | H29: =事業所一覧!H129 -> ● | ... K29: =事業所一覧!K129 -> ● | M29: =事業所一覧!M129 -> 0

Sheet 貝塚市
A1: 貝塚市 | N1: 市町村一覧に戻る
H2: ☆ 主として重症心身障がい児を通わせる事業所
A3: 事業所番号 | B3: 事業所名称 | C3: TEL | D3: FAX | E3: 〒 | F3: 所在地 | G3: 申請者 | H3: 児 | I3: 定員 | J3: 居 | K3: 放 | L3: 定員 | M3: 保 | N3: 備考
A4: =事業所一覧!A130 -> 2751320017 | B4: =事業所一覧!B130 -> こどもデイケアいずみ自閉症児支援センター | C4: =事業所一覧!C130 -> 072-421-3011 | D4: =事業所一覧!D130 -> 072-421-3011 | E4: =事業所一覧!E130 -> 597-0046 | F4: =事業所一覧!F130 -> 貝塚市東山二丁目1番1号 | G4: =事業所一覧!G130 -> 社会福祉法人三ヶ山学園 | H4: =事業所一覧!H130 -> ● | ... N4: =事業所一覧!N130 -> 0
A5: =事業所一覧!A131 -> 2751320025 | B5: =事業所一覧!B131 -> ほっこりの里 | C5: =事業所一覧!C131 -> 072-423-0020 | D5: =事業所一覧!D131 -> 072-423-0021 | E5: =事業所一覧!E131 -> 597-0052 | F5: =事業所一覧!F131 -> 貝塚市窪田１４７－１ | G5: =事業所一覧!G131 -> 社会福祉法人ほっこり福祉会 | H5: =事業所一覧!H131 -> ● | ... N5: =事業所一覧!N131 -> 0
A6: =事業所一覧!A132 -> 2751320033 | B6: =事業所一覧!B132 -> みつばち加神アフタースクール | C6: =事業所一覧!C132 -> 072-425-4066 | D6: =事業所一覧!D132 -> 072-424-7532 | E6: =事業所一覧!E132 -> 597-0071 | F6: =事業所一覧!F132 -> 貝塚市加神二丁目15番28号 | G6: =事業所一覧!G132 -> 特定非営利活動法人彩福祉会 | H6: =事業所一覧!H132 -> 0 | ... N6: =事業所一覧!N132 -> 0
A7: =事業所一覧!A133 -> 2751320041 | B7: =事業所一覧!B133 -> 児童福祉サービスＬａｒｉｍａｒ | C7: =事業所一覧!C133 -> 072-433-3900 | D7: =事業所一覧!D133 -> 072-433-3915 | E7: =事業所一覧!E133 -> 597-0053 | F7: =事業所一覧!F133 -> 貝塚市地蔵堂１番地８ | G7: =事業所一覧!G133 -> ＮＰＯ法人児童福祉サービスＬａｒｉｍａｒ | H7: =事業所一覧!H133 -> ● | ... N7: =事業所一覧!N133 -> 0
A8: =事業所一覧!A134 -> 2751320090 | B8: =事業所一覧!B134 -> みつばち森アフタースクール | C8: =事業所一覧!C134 -> 072-424-8822 | D8: =事業所一覧!D134 -> 072-424-6610 | E8: =事業所一覧!E134 -> 597-0044 | F8: =事業所一覧!F134 -> 貝塚市森510番地１ | G8: =事業所一覧!G134 -> 特定非営利活動法人彩福祉会 | H8: =事業所一覧!H134 -> 0 | ... N8: =事業所一覧!N134 -> 0
A9: =事業所一覧!A135 -> 2751320108 | B9: =事業所一覧!B135 -> 放課後デイサービス・児童発達支援ぱれっと | C9: =事業所一覧!C135 -> 072-415-0329 | D9: =事業所一覧!D135 -> 072-415-0329 | E9: =事業所一覧!E135 -> 597-0033 | F9: =事業所一覧!F135 -> 貝塚市半田一丁目17番３号ヴァンテーヌ西納101号 | G9: =事業所一覧!G135 -> 株式会社カワカミ建装 | H9: =事業所一覧!H135 -> ● | ... N9: =事業所一覧!N135 -> 0
A10: =事業所一覧!A136 -> 2751320124 | B10: =事業所一覧!B136 -> こっとんオルタ | C10: =事業所一覧!C136 -> 072-425-2433 | D10: =事業所一覧!D136 -> 072-425-2434 | E10: =事業所一覧!E136 -> 597-0033 | F10: =事業所一覧!F136 -> 貝塚市半田一丁目10番40号 | G10: =事業所一覧!G136 -> 一般社団法人ＳＥＥＤ | H10: =事業所一覧!H136 -> ● | ... N10: =事業所一覧!N136 -> 0
A11: =事業所一覧!A137 -> 2751320132 | B11: =事業所一覧!B137 -> 児童デイサービスいっぽ | C11: =事業所一覧!C137 -> 072-488-7258 | D11: =事業所一覧!D137 -> 072-488-7259 | E11: =事業所一覧!E137 -> 597-0033 | F11: =事業所一覧!F137 -> 貝塚市半田二丁目22番６号 | G11: =事業所一覧!G137 -> 株式会社フォーライフ | H11: =事業所一覧!H137 -> ● | ... N11: =事業所一覧!N137 -> 0
A12: =事業所一覧!A138 -> 2751320199 | B12: =事業所一覧!B138 -> こどもデイサービスｅｎｉｓｈｉ | C12: =事業所一覧!C138 -> 072-446-3930 | D12: =事業所一覧!D138 -> 072-446-3931 | E12: =事業所一覧!E138 -> 597-0046 | F12: =事業所一覧!F138 -> 貝塚市東山七丁目６番21号 | G12: =事業所一覧!G138 -> 株式会社縁 | H12: =事業所一覧!H138 -> ☆ | ... N12: =事業所一覧!N138 -> 0
A13: =事業所一覧!A139 -> 2751320207 | B13: =事業所一覧!B139 -> わくわくエイト | C13: =事業所一覧!C139 -> 072-479-3677 | D13: =事業所一覧!D139 -> 072-479-3688 | E13: =事業所一覧!E139 -> 597-0083 | F13: =事業所一覧!F139 -> 貝塚市海塚二丁目22番15号 山裾ビル４階 | G13: =事業所一覧!G139 -> 株式会社ＷＡＫＯ | H13: =事業所一覧!H139 -> ● | ... N13: =事業所一覧!N139 -> 0
A14: =事業所一覧!A140 -> 2751320249 | B14: =事業所一覧!B140 -> 運動＆学習療育 あなたが宝モノ 貝塚王子教室 | C14: =事業所一覧!C140 -> 072-479-3524 | D14: =事業所一覧!D140 -> 072-479-3534 | E14: =事業所一覧!E140 -> 597-0051 | F14: =事業所一覧!F140 -> 貝塚市王子1028番地１ | G14: =事業所一覧!G140 -> 株式会社 いのちの木 | H14: =事業所一覧!H140 -> ● | ... N14: =事業所一覧!N140 -> 0
A15: =事業所一覧!A141 -> 2751320256 | B15: =事業所一覧!B141 -> 児童デイサービス ルミナス | C15: =事業所一覧!C141 -> 072-428-7444 | D15: =事業所一覧!D141 -> 072-428-7445 | E15: =事業所一覧!E141 -> 597-0081 | F15: =事業所一覧!F141 -> 貝塚市麻生中973番地１ | G15: =事業所一覧!G141 -> 株式会社Ｗｅｌｆａｒｅ | H15: =事業所一覧!H141 -> ☆ | ... N15: =事業所一覧!N141 -> 0
... A30: =事業所一覧!A156 -> 2751320421 | B30: =事業所一覧!B156 -> 完全マンツーマン あなたが宝モノ 貝塚王子教室 | C30: =事業所一覧!C156 -> 072-488-7038 | D30: =事業所一覧!D156 -> 072-488-7039 | E30: =事業所一覧!E156 -> 597-0051 | F30: =事業所一覧!F156 -> 貝塚市王子1029番５号 いのちの木リエゾンビル１階 | G30: =事業所一覧!G156 -> こえていこう株式会社 | H30: =事業所一覧!H156 -> ● | ... N30: =事業所一覧!N156 -> 0

Sheet 守口市
A1: 守口市 | N1: 市町村一覧に戻る
H2: ☆ 主として重症心身障がい児を通わせる事業所
A3: 事業所番号 | B3: 事業所名称 | C3: TEL | D3: FAX | E3: 〒 | F3: 所在地 | G3: 申請者 | H3: 児 | I3: 定員 | J3: 居 | K3: 放 | L3: 定員 | M3: 保 | N3: 備考
A4: =事業所一覧!A157 -> 2753220041 | B4: =事業所一覧!B157 -> 放課後等デイサービス事業所どり～むはうす | C4: =事業所一覧!C157 -> 06-6994-8560 | D4: =事業所一覧!D157 -> 06-6994-8561 | E4: =事業所一覧!E157 -> 570-0056 | F4: =事業所一覧!F157 -> 守口市寺内町一丁目８番７号創建ビル１階及び２階 | G4: =事業所一覧!G157 -> 株式会社ドリームフューチャー | H4: =事業所一覧!H157 -> 0 | ... N4: =事業所一覧!N157 -> 0
A5: =事業所一覧!A158 -> 2753220058 | B5: =事業所一覧!B158 -> みずいろはうす | C5: =事業所一覧!C158 -> 06-6780-4212 | D5: =事業所一覧!D158 -> 06-6780-4213 | E5: =事業所一覧!E158 -> 570-0048 | F5: =事業所一覧!F158 -> 守口市寺方本通三丁目１番21号 | G5: =事業所一覧!G158 -> 合同会社からふるぱーとなーず | H5: =事業所一覧!H158 -> ● | ... N5: =事業所一覧!N158 -> 0
A6: =事業所一覧!A159 -> 2753220066 | B6: =事業所一覧!B159 -> ぷりずむ | C6: =事業所一覧!C159 -> 06-4304-4585 | D6: =事業所一覧!D159 -> 06-4304-4589 | E6: =事業所一覧!E159 -> 570-0053 | F6: =事業所一覧!F159 -> 守口市高瀬町一丁目５番18号101号室 | G6: =事業所一覧!G159 -> スバル・トータルプランニング株式会社 | H6: =事業所一覧!H159 -> ● | ... N6: =事業所一覧!N159 -> 0
A7: =事業所一覧!A160 -> 2753220090 | B7: =事業所一覧!B160 -> ワイワイスマイル守口教室 | C7: =事業所一覧!C160 -> 06-6780-4248 | D7: =事業所一覧!D160 -> 06-6780-4249 | E7: =事業所一覧!E160 -> 570-0014 | F7: =事業所一覧!F160 -> 守口市藤田町三丁目41番６号ツインコープ守口北館１階 | G7: =事業所一覧!G160 -> 株式会社四谷宮本 | H7: =事業所一覧!H160 -> 0 | ... M7: =事業所一覧!M160 -> 0
A8: =事業所一覧!A161 -> 2753220108 | B8: =事業所一覧!B161 -> どんぐりの家 | C8: =事業所一覧!C161 -> 06-6906-7233 | D8: =事業所一覧!D161 -> 06-6906-7233 | E8: =事業所一覧!E161 -> 570-0021 | F8: =事業所一覧!F161 -> 守口市八雲東町一丁目５番８号 | G8: =事業所一覧!G161 -> 合同会社鷹山 | H8: =事業所一覧!H161 -> ● | ... M8: =事業所一覧!M161 -> 0
A9: =事業所一覧!A162 -> 2753220116 | B9: =事業所一覧!B162 -> きらら守口 | C9: =事業所一覧!C162 -> 06-7163-7231 | D9: =事業所一覧!D162 -> 06-7162-3161 | E9: =事業所一覧!E162 -> 570-0084 | F9: =事業所一覧!F162 -> 守口市緑町１番７号グリーンハイツ101号室 | G9: =事業所一覧!G162 -> 一般社団法人芳縁会 | H9: =事業所一覧!H162 -> ● | ... M9: =事業所一覧!M162 -> 0
A10: =事業所一覧!A163 -> 2753220124 | B10: =事業所一覧!B163 -> 地域生活総合支援センターいま | C10: =事業所一覧!C163 -> 06-6780-4370 | D10: =事業所一覧!D163 -> 06-6780-4371 | E10: =事業所一覧!E163 -> 570-0048 | F10: =事業所一覧!F163 -> 守口市寺方本通二丁目20番４号 | G10: =事業所一覧!G163 -> 社会福祉法人大阪府障害者福祉事業団 | H10: =事業所一覧!H163 -> 0 | ... M10: =事業所一覧!M163 -> 0
A11: =事業所一覧!A164 -> 2753220173 | B11: =事業所一覧!B164 -> あさがおねっと | C11: =事業所一覧!C164 -> 06-7508-4909 | D11: =事業所一覧!D164 -> 06-7508-4909 | E11: =事業所一覧!E164 -> 570-0006 | F11: =事業所一覧!F164 -> 守口市八雲西町二丁目12番13号 | G11: =事業所一覧!G164 -> 株式会社あさがおねっと | H11: =事業所一覧!H164 -> ● | ... M11: =事業所一覧!M164 -> 0
A12: =事業所一覧!A165 -> 2753220181 | B12: =事業所一覧!B165 -> 放課後等デイサービスウィズ守口滝井 | C12: =事業所一覧!C165 -> 06-6967-8735 | D12: =事業所一覧!D165 -> 06-6967-8135 | E12: =事業所一覧!E165 -> 570-0076 | F12: =事業所一覧!F165 -> 守口市滝井西町三丁目７番４号 | G12: =事業所一覧!G165 -> 株式会社エール | H12: =事業所一覧!H165 -> ● | ... M12: =事業所一覧!M165 -> 0
A13: =事業所一覧!A166 -> 2753220199 | B13: =事業所一覧!B166 -> 放課後等デイサービスらいとすぺーす | C13: =事業所一覧!C166 -> 06-7508-3313 | D13: =事業所一覧!D166 -> 06-7509-4422 | E13: =事業所一覧!E166 -> 570-0029 | F13: =事業所一覧!F166 -> 守口市来迎町５番17号 | G13: =事業所一覧!G166 -> 合同会社らいとすぺーす | H13: =事業所一覧!H166 -> 0 | ... M13: =事業所一覧!M166 -> 0
A14: =事業所一覧!A167 -> 2753220223 | B14: =事業所一覧!B167 -> ゆりいか | C14: =事業所一覧!C167 -> 06-4397-7582 | D14: =事業所一覧!D167 -> 06-4397-7583 | E14: =事業所一覧!E167 -> 570-0081 | F14: =事業所一覧!F167 -> 守口市日吉町二丁目14番２号 | G14: =事業所一覧!G167 -> スバル・トータルプランニング株式会社 | H14: =事業所一覧!H167 -> ● | ... M14: =事業所一覧!M167 -> 0
A15: =事業所一覧!A168 -> 2753220272 | B15: =事業所一覧!B168 -> YCCもこもこ守口教室 | C15: =事業所一覧!C168 -> 06-6998-7001 | D15: =事業所一覧!D168 -> 06-6998-7002 | E15: =事業所一覧!E168 -> 570-0034 | F15: =事業所一覧!F168 -> 守口市西郷通一丁目４番14号扇商事ビル３Ｆ | G15: =事業所一覧!G168 -> 株式会社One Vision | H15: =事業所一覧!H168 -> ● | ... M15: =事業所一覧!M168 -> 0
A16: =事業所一覧!A169 -> 2753220280 | B16: =事業所一覧!B169 -> 放課後等デイサービス くりーむうさぎ・守口 | C16: =事業所一覧!C169 -> 06-6916-3505 | D16: =事業所一覧!D169 -> 06-6916-3506 | E16: =事業所一覧!E169 -> 570-0005 | F16: =事業所一覧!F169 -> 守口市八雲中町二丁目１番４号 あんしんらいふ守口１F B号室 | G16: =事業所一覧!G169 -> 株式会社ブリス | H16: =事業所一覧!H169 -> 0 | ... M16: =事業所一覧!M169 -> 0
A17: =事業所一覧!A170 -> 2753220306 | B17: =事業所一覧!B170 -> 児童デイ はっぴー | C17: =事業所一覧!C170 -> 06-6916-0555 | D17: =事業所一覧!D170 -> 06-6916-0333 | E17: =事業所一覧!E170 -> 570-0012 | F17: =事業所一覧!F170 -> 守口市大久保町五丁目39番６号 | G17: =事業所一覧!G170 -> 株式会社オールケア守口 | H17: =事業所一覧!H170 -> ☆ | ... M17: =事業所一覧!M170 -> 0
A18: =事業所一覧!A171 -> 2753220314 | B18: =事業所一覧!B171 -> オールケア大日 | C18: =事業所一覧!C171 -> 06-6904-1010 | D18: =事業所一覧!D171 -> 06-6904-1011 | E18: =事業所一覧!E171 -> 570-0015 | F18: =事業所一覧!F171 -> 守口市梶町一丁目4番14号 | G18: =事業所一覧!G171 -> 株式会社オールケア大日 | H18: =事業所一覧!H171 -> ●・☆ | ... M18: =事業所一覧!M171 -> ●
... A51: =事業所一覧!A204 -> 2753220686 | B51: =事業所一覧!B204 -> 放課後等デイサービス メルルキッズⅡ | C51: =事業所一覧!C204 -> 06-6906-5556 | D51: =事業所一覧!D204 -> 06-6906-8101 | E51: =事業所一覧!E204 -> 570-0014 | F51: =事業所一覧!F204 -> 守口市藤田町五丁目35番９号なるなるビル１F102 | G51: =事業所一覧!G204 -> 株式会社太成堂 | H51: =事業所一覧!H204 -> ● | ... M51: =事業所一覧!M204 -> 0

Sheet 茨木市
A1: 茨木市 | N1: 市町村一覧に戻る
H2: ☆ 主として重症心身障がい児を通わせる事業所
A3: 事業所番号 | B3: 事業所名称 | C3: TEL | D3: FAX | E3: 〒 | F3: 所在地 | G3: 申請者 | H3: 児 | I3: 定員 | J3: 居 | K3: 放 | L3: 定員 | M3: 保 | N3: 備考
A4: =事業所一覧!A205 -> 2754220024 | B4: =事業所一覧!B205 -> 児童発達支援事業所すくすく親子教室 | C4: =事業所一覧!C205 -> 072-620-9817 | D4: =事業所一覧!D205 -> 072-620-9833 | E4: =事業所一覧!E205 -> 567-0031 | F4: =事業所一覧!F205 -> 茨木市春日三丁目13番5号 | G4: =事業所一覧!G205 -> 茨木市 | H4: =事業所一覧!H205 -> ● | ... N4: =事業所一覧!N205 -> 0
A5: =事業所一覧!A206 -> 2754220032 | B5: =事業所一覧!B206 -> さくらんぼるーむ | C5: =事業所一覧!C206 -> 072-634-5624 | D5: =事業所一覧!D206 -> 072-634-5625 | E5: =事業所一覧!E206 -> 567-0892 | F5: =事業所一覧!F206 -> 茨木市並木町1番6号 茨木スクエアービル201・202号 | G5: =事業所一覧!G206 -> 社会福祉法人育成福祉会 | H5: =事業所一覧!H206 -> ● | ... N5: =事業所一覧!N206 -> 0
A6: =事業所一覧!A207 -> 2754220081 | B6: =事業所一覧!B207 -> デイサービスなかよし | C6: =事業所一覧!C207 -> 072-627-9005 | D6: =事業所一覧!D207 -> 072-622-9393 | E6: =事業所一覧!E207 -> 567-0036 | F6: =事業所一覧!F207 -> 茨木市上穂積二丁目5番16号 | G6: =事業所一覧!G207 -> 特定非営利活動法人ふれあいぽっぽ | H6: =事業所一覧!H207 -> ● | ... N6: =事業所一覧!N207 -> 0
A7: =事業所一覧!A208 -> 2754220107 | B7: =事業所一覧!B208 -> 発達支援センターれふあ | C7: =事業所一覧!C208 -> 072-641-4512 | D7: =事業所一覧!D208 -> 072-641-3173 | E7: =事業所一覧!E208 -> 567-0059 | F7: =事業所一覧!F208 -> 茨木市清水一丁目28番15号 | G7: =事業所一覧!G208 -> 社会福祉法人慶徳会 | H7: =事業所一覧!H208 -> ● | ... N7: =事業所一覧!N208 -> 0
A8: =事業所一覧!A209 -> 2754220123 | B8: =事業所一覧!B209 -> 生活介護事業所あいの | C8: =事業所一覧!C209 -> 072-627-1919 | D8: =事業所一覧!D209 -> 072-627-1940 | E8: =事業所一覧!E209 -> 567-0012 | F8: =事業所一覧!F209 -> 茨木市東太田1丁目4番39号 | G8: =事業所一覧!G209 -> 社会福祉法人藍野福祉会 | H8: =事業所一覧!H209 -> 0 | ... N8: =事業所一覧!N209 -> 0
A9: =事業所一覧!A210 -> 2754220156 | B9: =事業所一覧!B210 -> ハイトップファミリー真砂 | C9: =事業所一覧!C210 -> 072-652-3733 | D9: =事業所一覧!D210 -> 072-652-3734 | E9: =事業所一覧!E210 -> 567-0851 | F9: =事業所一覧!F210 -> 茨木市真砂一丁目28番17号１Ｆ | G9: =事業所一覧!G210 -> 株式会社大阪医科学研究所 | H9: =事業所一覧!H210 -> 0 | ... N9: =事業所一覧!N210 -> 0
A10: =事業所一覧!A211 -> 2754220206 | B10: =事業所一覧!B211 -> 発達サポートセンターつむぎ | C10: =事業所一覧!C211 -> 072-622-1818 | D10: =事業所一覧!D211 -> 072-622-1886 | E10: =事業所一覧!E211 -> 567-0888 | F10: =事業所一覧!F211 -> 茨木市駅前一丁目８番20号１階右側 | G10: =事業所一覧!G211 -> 一般社団法人明日へのつむぎ | H10: =事業所一覧!H211 -> 0 | ... N10: =事業所一覧!N211 -> 0
A11: =事業所一覧!A212 -> 2754220214 | B11: =事業所一覧!B212 -> ジョイジョイ | C11: =事業所一覧!C212 -> 072-635-4077 | D11: =事業所一覧!D212 -> 072-635-2115 | E11: =事業所一覧!E212 -> 567-0891 | F11: =事業所一覧!F212 -> 茨木市水尾二丁目７番18号 | G11: =事業所一覧!G212 -> 宗教法人日本同盟基督教団茨木聖書教会 | H11: =事業所一覧!H212 -> ● | ... N11: =事業所一覧!N212 -> 0
A12: =事業所一覧!A213 -> 2754220230 | B12: =事業所一覧!B213 -> こども発達支援センター風 | C12: =事業所一覧!C213 -> 072-636-0110 | D12: =事業所一覧!D213 -> 072-646-6890 | E12: =事業所一覧!E213 -> 567-0861 | F12: =事業所一覧!F213 -> 茨木市東奈良三丁目16番14号茨木市南茨木多世代交流センター２階特別利用保育室 | G12: =事業所一覧!G213 -> 社会福祉法人大阪府障害者福祉事業団 | H12: =事業所一覧!H213 -> ● | ... N12: =事業所一覧!N213 -> 0
A13: =事業所一覧!A214 -> 2754220271 | B13: =事業所一覧!B214 -> わくわくクラブ茨木校 | C13: =事業所一覧!C214 -> 072-637-2515 | D13: =事業所一覧!D214 -> 072-637-2516 | E13: =事業所一覧!E214 -> 567-0829 | F13: =事業所一覧!F214 -> 茨木市双葉町13番25号つじせビル４階 | G13: =事業所一覧!G214 -> 株式会社興学社 | H13: =事業所一覧!H214 -> ● | ... N13: =事業所一覧!N214 -> 0
A14: =事業所一覧!A215 -> 2754220289 | B14: =事業所一覧!B215 -> なないろKids | C14: =事業所一覧!C215 -> 072-609-5276 | D14: =事業所一覧!D215 -> 072-697-9878 | E14: =事業所一覧!E215 -> 567-0031 | F14: =事業所一覧!F215 -> 茨木市春日三丁目14番41号 メゾン春日101号室 | G14: =事業所一覧!G215 -> 株式会社ドリームリンク | H14: =事業所一覧!H215 -> ● | ... N14: =事業所一覧!N215 -> 0
A15: =事業所一覧!A216 -> 2754220297 | B15: =事業所一覧!B216 -> 放課後等デイサービス輝茨木館 | C15: =事業所一覧!C216 -> 072-646-8713 | D15: =事業所一覧!D216 -> 072-646-8714 | E15: =事業所一覧!E216 -> 567-0865 | F15: =事業所一覧!F216 -> 茨木市横江二丁目８番43号C-POINTビル303号室 | G15: =事業所一覧!G216 -> セントラルポイント株式会社 | H15: =事業所一覧!H216 -> 0 | ... N15: =事業所一覧!N216 -> 0
... A67: =事業所一覧!A268 -> 2754220933 | B67: =事業所一覧!B268 -> ＡＫＩＤＳ茨木 | C67: =事業所一覧!C268 -> 050-3442-0592 | D67: =事業所一覧!D268 -> 050-3172-2290 | E67: =事業所一覧!E268 -> 567-0828 | F67: =事業所一覧!F268 -> 茨木市舟木町２番25号 エルボスク１ ４階 | G67: =事業所一覧!G268 -> 株式会社日英 | H67: =事業所一覧!H268 -> ● | ... N67: =事業所一覧!N268 -> 0

Sheet 泉佐野市
A1: 泉佐野市 | N1: 市町村一覧に戻る
H2: ☆ 主として重症心身障がい児を通わせる事業所
A3: 事業所番号 | B3: 事業所名称 | C3: TEL | D3: FAX | E3: 〒 | F3: 所在地 | G3: 申請者 | H3: 児 | I3: 定員 | J3: 居 | K3: 放 | L3: 定員 | M3: 保 | N3: 備考
A4: =事業所一覧!A269 -> 2754520027 | B4: =事業所一覧!B269 -> ＩＬＩＳ ＣＬＵＢ泉佐野 | C4: =事業所一覧!C269 -> 072-468-6973 | D4: =事業所一覧!D269 -> 072-468-6983 | E4: =事業所一覧!E269 -> 598-0034 | F4: =事業所一覧!F269 -> 泉佐野市長滝281－５ | G4: =事業所一覧!G269 -> 株式会社アイリス | H4: =事業所一覧!H269 -> ● | ... N4: =事業所一覧!N269 -> 0
A5: =事業所一覧!A270 -> 2754520068 | B5: =事業所一覧!B270 -> アスレチッククラブこっとん | C5: =事業所一覧!C270 -> 072-425-0843 | D5: =事業所一覧!D270 -> 072-425-0845 | E5: =事業所一覧!E270 -> 598-0032 | F5: =事業所一覧!F270 -> 泉佐野市新安松一丁目４番16号 | G5: =事業所一覧!G270 -> 一般社団法人SEED | H5: =事業所一覧!H270 -> ● | ... N5: =事業所一覧!N270 -> 0
A6: =事業所一覧!A271 -> 2754520076 | B6: =事業所一覧!B271 -> 放課後等デイサービスりーふ | C6: =事業所一覧!C271 -> 072-467-1855 | D6: =事業所一覧!D271 -> 072-467-1880 | E6: =事業所一覧!E271 -> 598-0021 | F6: =事業所一覧!F271 -> 泉佐野市日根野415番地 | G6: =事業所一覧!G271 -> 株式会社土原造園 | H6: =事業所一覧!H271 -> 0 | ... N6: =事業所一覧!N271 -> 0
A7: =事業所一覧!A272 -> 2754520134 | B7: =事業所一覧!B272 -> いいね放課後等デイサービス | C7: =事業所一覧!C272 -> 072-465-1171 | D7: =事業所一覧!D272 -> 072-465-1172 | E7: =事業所一覧!E272 -> 598-0034 | F7: =事業所一覧!F272 -> 泉佐野市長滝3839番地の１ | G7: =事業所一覧!G272 -> いいね合同会社 | H7: =事業所一覧!H272 -> ● | ... N7: =事業所一覧!N272 -> 0
A8: =事業所一覧!A273 -> 2754520142 | B8: =事業所一覧!B273 -> 放課後等デイサービスぴあーちぇ | C8: =事業所一覧!C273 -> 072-424-7191 | D8: =事業所一覧!D273 -> 072-424-7191 | E8: =事業所一覧!E273 -> 598-0024 | F8: =事業所一覧!F273 -> 泉佐野市上之郷2221番地の１ | G8: =事業所一覧!G273 -> 株式会社ひなた | H8: =事業所一覧!H273 -> ● | ... N8: =事業所一覧!N273 -> 0
A9: =事業所一覧!A274 -> 2754520175 | B9: =事業所一覧!B274 -> 良心地 | C9: =事業所一覧!C274 -> 072-465-3114 | D9: =事業所一覧!D274 -> 072-465-3114 | E9: =事業所一覧!E274 -> 598-0033 | F9: =事業所一覧!F274 -> 泉佐野市南中安松1281番地の5 | G9: =事業所一覧!G274 -> 合同会社いごこち | H9: =事業所一覧!H274 -> 0 | ... N9: =事業所一覧!N274 -> 0
A10: =事業所一覧!A275 -> 2754520183 | B10: =事業所一覧!B275 -> 放課後等デイサービスめーぷる | C10: =事業所一覧!C275 -> 072-493-2335 | D10: =事業所一覧!D275 -> 072-493-2336 | E10: =事業所一覧!E275 -> 598-0021 | F10: =事業所一覧!F275 -> 泉佐野市日根野584番地 | G10: =事業所一覧!G275 -> 株式会社Leaf | H10: =事業所一覧!H275 -> 0 | ... N10: =事業所一覧!N275 -> 0
A11: =事業所一覧!A276 -> 2754520191 | B11: =事業所一覧!B276 -> 放課後等デイサービスオリオリ | C11: =事業所一覧!C276 -> 072-425-2215 | D11: =事業所一覧!D276 -> 072-425-2215 | E11: =事業所一覧!E276 -> 598-0042 | F11: =事業所一覧!F276 -> 泉佐野市西本町14ー18 | G11: =事業所一覧!G276 -> 合同会社大北 | H11: =事業所一覧!H276 -> 0 | ... N11: =事業所一覧!N276 -> 0
A12: =事業所一覧!A277 -> 2754520225 | B12: =事業所一覧!B277 -> キッズキャンパスラビット | C12: =事業所一覧!C277 -> 072-442-8112 | D12: =事業所一覧!D277 -> 072-468-7106 | E12: =事業所一覧!E277 -> 598-0032 | F12: =事業所一覧!F277 -> 泉佐野市新安松二丁目２番37号１ | G12: =事業所一覧!G277 -> 株式会社ラビット | H12: =事業所一覧!H277 -> ● | ... N12: =事業所一覧!N277 -> 0
A13: =事業所一覧!A278 -> 2754520233 | B13: =事業所一覧!B278 -> 運動＆学習療育あなたが宝モノ泉佐野教室 | C13: =事業所一覧!C278 -> 072-463-1203 | D13: =事業所一覧!D278 -> 072-463-1202 | E13: =事業所一覧!E278 -> 598-0001 | F13: =事業所一覧!F278 -> 泉佐野市上瓦屋687-１松浪ビル３Ｆ | G13: =事業所一覧!G278 -> 株式会社いのちの木 | H13: =事業所一覧!H278 -> ● | ... N13: =事業所一覧!N278 -> 0
A14: =事業所一覧!A279 -> 2754520258 | B14: =事業所一覧!B279 -> ラビット | C14: =事業所一覧!C279 -> 072-468-7009 | D14: =事業所一覧!D279 -> 072-468-7106 | E14: =事業所一覧!E279 -> 598-0032 | F14: =事業所一覧!F279 -> 泉佐野市新安松二丁目２番37号 | G14: =事業所一覧!G279 -> 株式会社ラビット | H14: =事業所一覧!H279 -> ● | ... N14: =事業所一覧!N279 -> 0
A15: =事業所一覧!A280 -> 2754520282 | B15: =事業所一覧!B280 -> ぴんくイルカ | C15: =事業所一覧!C280 -> 072-477-0039 | D15: =事業所一覧!D280 -> 072-477-7088 | E15: =事業所一覧!E280 -> 598-0006 | F15: =事業所一覧!F280 -> 泉佐野市市場西三丁目10番７号 アーバンウェルネス202号室 | G15: =事業所一覧!G280 -> 合同会社みらい | H15: =事業所一覧!H280 -> ● | ... N15: =事業所一覧!N280 -> 0
... A24: =事業所一覧!A289 -> 2754520407 | B24: =事業所一覧!B289 -> まいるーむ放課後子ども教室 鶴原校 | C24: =事業所一覧!C289 -> 072-493-9777 | D24: =事業所一覧!D289 -> 072-493-2995 | E24: =事業所一覧!E289 -> 598-0071 | F24: =事業所一覧!F289 -> 泉佐野市鶴原1545番地の１ | G24: =事業所一覧!G289 -> 株式会社ＷｉｌｌＳｔａｎｄ | H24: =事業所一覧!H289 -> ● | ... N24: =事業所一覧!N289 -> 0

Sheet 富田林市
A1: 富田林市 | N1: 市町村一覧に戻る
H2: ☆ 主として重症心身障がい児を通わせる事業所
A3: 事業所番号 | B3: 事業所名称 | C3: TEL | D3: FAX | E3: 〒 | F3: 所在地 | G3: 申請者 | H3: 児 | I3: 定員 | J3: 居 | K3: 放 | L3: 定員 | M3: 保 | N3: 備考
A4: =事業所一覧!A290 -> 2754920029 | B4: =事業所一覧!B290 -> わくわくクラブ | C4: =事業所一覧!C290 -> 0721-55-2959 | D4: =事業所一覧!D290 -> 0721-55-2959 | E4: =事業所一覧!E290 -> 584-0045 | F4: =事業所一覧!F290 -> 富田林市山中田町２丁目15-27 | G4: =事業所一覧!G290 -> 特定非営利活動法人子ども・若もの支援ネットワーク大阪 | H4: =事業所一覧!H290 -> ● | ... N4: =事業所一覧!N290 -> 0
A5: =事業所一覧!A291 -> 2754920037 | B5: =事業所一覧!B291 -> 四天王寺和らぎ苑 | C5: =事業所一覧!C291 -> 0721-29-0836 | D5: =事業所一覧!D291 -> 0721-29-3916 | E5: =事業所一覧!E291 -> 584-0082 | F5: =事業所一覧!F291 -> 富田林市向陽台1-3-21 | G5: =事業所一覧!G291 -> 社会福祉法人四天王寺福祉事業団 | H5: =事業所一覧!H291 -> ☆ | ... N5: =事業所一覧!N291 -> 0
A6: =事業所一覧!A292 -> 2754920078 | B6: =事業所一覧!B292 -> 陽だまり | C6: =事業所一覧!C292 -> 0721-21-6449 | D6: =事業所一覧!D292 -> 0721-21-5571 | E6: =事業所一覧!E292 -> 584-0048 | F6: =事業所一覧!F292 -> 富田林市西板持町二丁目１番38号附１ | G6: =事業所一覧!G292 -> 一般社団法人スマイル・１ | H6: =事業所一覧!H292 -> 0 | ... N6: =事業所一覧!N292 -> 0
A7: =事業所一覧!A293 -> 2754920110 | B7: =事業所一覧!B293 -> 放課後デイサービス運動療育バード | C7: =事業所一覧!C293 -> 0721-24-0905 | D7: =事業所一覧!D293 -> 0721-24-0905 | E7: =事業所一覧!E293 -> 584-0066 | F7: =事業所一覧!F293 -> 富田林市錦織北一丁目５番10号 | G7: =事業所一覧!G293 -> 株式会社ＮＥＳＴ | H7: =事業所一覧!H293 -> 0 | ... N7: =事業所一覧!N293 -> 0
A8: =事業所一覧!A294 -> 2750720019 | B8: =事業所一覧!B294 -> こども発達支援センターＳun | C8: =事業所一覧!C294 -> 0721-26-7331 | D8: =事業所一覧!D294 -> 0721-26-7377 | E8: =事業所一覧!E294 -> 584-0012 | F8: =事業所一覧!F294 -> 富田林市粟ヶ池町2969番地の５富田林市市民会館地下1階 | G8: =事業所一覧!G294 -> 社会福祉法人大阪府障害者福祉事業団 | H8: =事業所一覧!H294 -> ● | ... N8: =事業所一覧!N294 -> 0
A9: =事業所一覧!A295 -> 2754920136 | B9: =事業所一覧!B295 -> 放課後等デイサービスそら | C9: =事業所一覧!C295 -> 0721-81-0417 | D9: =事業所一覧!D295 -> 0721-81-0417 | E9: =事業所一覧!E295 -> 584-0036 | F9: =事業所一覧!F295 -> 富田林市甲田二丁目20番14号２階 | G9: =事業所一覧!G295 -> 特定非営利活動法人志塾フリースクールラシーナ | H9: =事業所一覧!H295 -> 0 | ... N9: =事業所一覧!N295 -> 0
A10: =事業所一覧!A296 -> 2754920144 | B10: =事業所一覧!B296 -> ここなくらぶ向陽台 | C10: =事業所一覧!C296 -> 0721-40-2310 | D10: =事業所一覧!D296 -> 0721-40-2311 | E10: =事業所一覧!E296 -> 584-0082 | F10: =事業所一覧!F296 -> 富田林市向陽台二丁目２番13号Ｙ１ビル１階 | G10: =事業所一覧!G296 -> 株式会社シンシアリティー | H10: =事業所一覧!H296 -> ● | ... N10: =事業所一覧!N296 -> 0
A11: =事業所一覧!A297 -> 2754920151 | B11: =事業所一覧!B297 -> 放課後等デイサービスつばさ | C11: =事業所一覧!C297 -> 0721-28-6677 | D11: =事業所一覧!D297 -> 0721-28-6688 | E11: =事業所一覧!E297 -> 584-0082 | F11: =事業所一覧!F297 -> 富田林市向陽台二丁目７番29号向陽台ビル２階 | G11: =事業所一覧!G297 -> 株式会社南ウイング | H11: =事業所一覧!H297 -> 0 | ... N11: =事業所一覧!N297 -> 0
A12: =事業所一覧!A298 -> 2754920185 | B12: =事業所一覧!B298 -> 療育スクール did it | C12: =事業所一覧!C298 -> 0721-26-8810 | D12: =事業所一覧!D298 -> 0721-26-8810 | E12: =事業所一覧!E298 -> 584-0069 | F12: =事業所一覧!F298 -> 富田林市錦織東二丁目６番10号 | G12: =事業所一覧!G298 -> 合同会社POPO | H12: =事業所一覧!H298 -> ● | ... N12: =事業所一覧!N298 -> 0
A13: =事業所一覧!A299 -> 2754920193 | B13: =事業所一覧!B299 -> ｂｏｎキッズ富田林 | C13: =事業所一覧!C299 -> 0721-55-2266 | D13: =事業所一覧!D299 -> 0721-55-2266 | E13: =事業所一覧!E299 -> 584-0024 | F13: =事業所一覧!F299 -> 富田林市若松町二丁目３番２号 太陽ビル301号室 | G13: =事業所一覧!G299 -> 合同会社オフィスぼん | H13: =事業所一覧!H299 -> ● | ... N13: =事業所一覧!N299 -> 0
A14: =事業所一覧!A300 -> 2754920201 | B14: =事業所一覧!B300 -> 放課後等デイサービスつばさネクスト | C14: =事業所一覧!C300 -> 0721-26-8668 | D14: =事業所一覧!D300 -> 0721-26-8669 | E14: =事業所一覧!E300 -> 584-0082 | F14: =事業所一覧!F300 -> 富田林市向陽台五丁目７番17号 | G14: =事業所一覧!G300 -> 株式会社南ウイング | H14: =事業所一覧!H300 -> ● | ... N14: =事業所一覧!N300 -> 0
A15: =事業所一覧!A301 -> 2754920219 | B15: =事業所一覧!B301 -> きらりウキウキルーム | C15: =事業所一覧!C301 -> 0721-21-6341 | D15: =事業所一覧!D301 -> 0721-21-6344 | E15: =事業所一覧!E301 -> 584-0067 | F15: =事業所一覧!F301 -> 富田林市錦織南一丁目16-18 古賀ビル２・３階 | G15: =事業所一覧!G301 -> 株式会社エーシン | H15: =事業所一覧!H301 -> ● | ... N15: =事業所一覧!N301 -> 0
... A46: =事業所一覧!A332 -> 2754920557 | B46: =事業所一覧!B332 -> 放課後等デイサービスつばさステップ | C46: =事業所一覧!C332 -> 0721-70-7660 | D46: =事業所一覧!D332 -> 0721-70-7661 | E46: =事業所一覧!E332 -> 584-0082 | F46: =事業所一覧!F332 -> 富田林市向陽台二丁目４番32号 | G46: =事業所一覧!G332 -> 株式会社南ウイング | H46: =事業所一覧!H332 -> ● | ... N46: =事業所一覧!N332 -> 0

Sheet 河内長野市
A1: 河内長野市 | N1: 市町村一覧に戻る
H2: ☆ 主として重症心身障がい児を通わせる事業所
A3: 事業所番号 | B3: 事業所名称 | C3: TEL | D3: FAX | E3: 〒 | F3: 所在地 | G3: 申請者 | H3: 児 | I3: 定員 | J3: 居 | K3: 放 | L3: 定員 | M3: 保 | N3: 備考
A4: =事業所一覧!A333 -> 2750720027 | B4: =事業所一覧!B333 -> 放課後等デイサービスひまわり | C4: =事業所一覧!C333 -> 0721-69-7909 | D4: =事業所一覧!D333 -> 0721-69-7913 | E4: =事業所一覧!E333 -> 586-0068 | F4: =事業所一覧!F333 -> 河内長野市北青葉台２-16Lache１ns Grun３階 | G4: =事業所一覧!G333 -> 有限会社エイコー | H4: =事業所一覧!H333 -> 0 | ... N4: =事業所一覧!N333 -> 0
A5: =事業所一覧!A334 -> 2750720043 | B5: =事業所一覧!B334 -> 児童デイサービス あゆみ | C5: =事業所一覧!C334 -> 0721-56-7311 | D5: =事業所一覧!D334 -> 0721-56-7311 | E5: =事業所一覧!E334 -> 586-0021 | F5: =事業所一覧!F334 -> 河内長野市原町三丁目10番13号 | G5: =事業所一覧!G334 -> 特定非営利活動法人地域支援センターあゆみ | H5: =事業所一覧!H334 -> ● | ... N5: =事業所一覧!N334 -> 0
A6: =事業所一覧!A335 -> 2750720050 | B6: =事業所一覧!B335 -> 障がい児通所支援河内長野ぴょんぴょん教室 | C6: =事業所一覧!C335 -> 0721-26-7312 | D6: =事業所一覧!D335 -> 0721-26-7312 | E6: =事業所一覧!E335 -> 586-0032 | F6: =事業所一覧!F335 -> 河内長野市栄町25番37号 | G6: =事業所一覧!G335 -> 社会福祉法人大阪府肢体不自由者協会 | H6: =事業所一覧!H335 -> ● | ... N6: =事業所一覧!N335 -> 0
A7: =事業所一覧!A336 -> 2750720118 | B7: =事業所一覧!B336 -> 放課後等デイサービスまりん | C7: =事業所一覧!C336 -> 0721-69-8680 | D7: =事業所一覧!D336 -> 0721-69-8681 | E7: =事業所一覧!E336 -> 586-0023 | F7: =事業所一覧!F336 -> 河内長野市野作町14番13号田中ビル１階 | G7: =事業所一覧!G336 -> 合同会社アクアマリン | H7: =事業所一覧!H336 -> ● | ... N7: =事業所一覧!N336 -> 0
A8: =事業所一覧!A337 -> 2750720134 | B8: =事業所一覧!B337 -> こども発達支援センターｍｕｍ | C8: =事業所一覧!C337 -> 0721-55-2272 | D8: =事業所一覧!D337 -> 0721-55-2276 | E8: =事業所一覧!E337 -> 586-0046 | F8: =事業所一覧!F337 -> 河内長野市中片添町11番９号 | G8: =事業所一覧!G337 -> 社会福祉法人大阪府障害者福祉事業団 | H8: =事業所一覧!H337 -> ● | ... N8: =事業所一覧!N337 -> 0
A9: =事業所一覧!A338 -> 2750720142 | B9: =事業所一覧!B338 -> ぽえむ | C9: =事業所一覧!C338 -> 0721-56-7861 | D9: =事業所一覧!D338 -> 0721-56-7862 | E9: =事業所一覧!E338 -> 586-0032 | F9: =事業所一覧!F338 -> 河内長野市栄町５番１８号 | G9: =事業所一覧!G338 -> 一般社団法人アルク | H9: =事業所一覧!H338 -> ● | ... N9: =事業所一覧!N338 -> 0
A10: =事業所一覧!A339 -> 2750720159 | B10: =事業所一覧!B339 -> ＰＯＮＯ | C10: =事業所一覧!C339 -> 0721-26-9933 | D10: =事業所一覧!D339 -> 0721-26-9934 | E10: =事業所一覧!E339 -> 586-0032 | F10: =事業所一覧!F339 -> 河内長野市栄町25番37号 101号室 | G10: =事業所一覧!G339 -> 社会福祉法人ぬくもり | H10: =事業所一覧!H339 -> 0 | ... N10: =事業所一覧!N339 -> 0
A11: =事業所一覧!A340 -> 2750720167 | B11: =事業所一覧!B340 -> 児童発達支援・放課後等デイサービス トリプル | C11: =事業所一覧!C340 -> 0721-69-9390 | D11: =事業所一覧!D340 -> 0721-69-9391 | E11: =事業所一覧!E340 -> 586-0012 | F11: =事業所一覧!F340 -> 河内長野市菊水町８番３号釜平ビル２階 | G11: =事業所一覧!G340 -> 一般社団法人トリプル | H11: =事業所一覧!H340 -> ● | ... N11: =事業所一覧!N340 -> 0
A12: =事業所一覧!A341 -> 2750720175 | B12: =事業所一覧!B341 -> ぐるぐる | C12: =事業所一覧!C341 -> 0721-68-7971 | D12: =事業所一覧!D341 -> 0721-68-7971 | E12: =事業所一覧!E341 -> 586-0022 | F12: =事業所一覧!F341 -> 河内長野市本多町４番６号１階・２階202号室 | G12: =事業所一覧!G341 -> ＮＰＯ法人オルケスタ | H12: =事業所一覧!H341 -> ● | ... N12: =事業所一覧!N341 -> 0
A13: =事業所一覧!A342 -> 2750720183 | B13: =事業所一覧!B342 -> まりん ２ | C13: =事業所一覧!C342 -> 0721-50-1033 | D13: =事業所一覧!D342 -> 0721-50-1034 | E13: =事業所一覧!E342 -> 586-0006 | F13: =事業所一覧!F342 -> 河内長野市松ヶ丘中町1314番地３ | G13: =事業所一覧!G342 -> 合同会社アクアマリン | H13: =事業所一覧!H342 -> ● | ... N13: =事業所一覧!N342 -> 0
A14: =事業所一覧!A343 -> 2750720209 | B14: =事業所一覧!B343 -> かみひこうき 野作 | C14: =事業所一覧!C343 -> 0721-21-9036 | D14: =事業所一覧!D343 -> 0721-21-9037 | E14: =事業所一覧!E343 -> 586-0025 | F14: =事業所一覧!F343 -> 河内長野市昭栄町３番32号 ジョイフル昭栄１階103号・104号 | G14: =事業所一覧!G343 -> 株式会社T-angle | H14: =事業所一覧!H343 -> ● | ... N14: =事業所一覧!N343 -> 0
A15: =事業所一覧!A344 -> 2750720217 | B15: =事業所一覧!B344 -> ぽえむ プラス | C15: =事業所一覧!C344 -> 0721-70-7308 | D15: =事業所一覧!D344 -> 0721-70-7309 | E15: =事業所一覧!E344 -> 586-0016 | F15: =事業所一覧!F344 -> 河内長野市西代町３番10号 ナカムラビル２階 | G15: =事業所一覧!G344 -> 一般社団法人アルク | H15: =事業所一覧!H344 -> 0 | ... N15: =事業所一覧!N344 -> 0
... A34: =事業所一覧!A363 -> 2750720456 | B34: =事業所一覧!B363 -> クローバーキッズ | C34: =事業所一覧!C363 -> 090-6374-1017 | D34: =事業所一覧!D363 -> - | E34: =事業所一覧!E363 -> 586-0024 | F34: =事業所一覧!F363 -> 河内長野市西之山町４番23号 アルトリーベビル１階４号室 | G34: =事業所一覧!G363 -> 株式会社ＣｌｏｖｅｒＫｉｄｓ | H34: =事業所一覧!H363 -> ● | ... N34: =事業所一覧!N363 -> 0

Sheet 松原市
A1: 松原市 | N1: 市町村一覧に戻る
H2: ☆ 主として重症心身障がい児を通わせる事業所
A3: 事業所番号 | B3: 事業所名称 | C3: TEL | D3: FAX | E3: 〒 | F3: 所在地 | G3: 申請者 | H3: 児 | I3: 定員 | J3: 居 | K3: 放 | L3: 定員 | M3: 保 | N3: 備考
A4: =事業所一覧!A364 -> 2754820039 | B4: =事業所一覧!B364 -> みんなの木松原 | C4: =事業所一覧!C364 -> 072-349-1785 | D4: =事業所一覧!D364 -> 072-349-1786 | E4: =事業所一覧!E364 -> 580-0044 | F4: =事業所一覧!F364 -> 松原市田井城１丁目６番２２号１階１F-B号室 | G4: =事業所一覧!G364 -> ニューライフ株式会社 | H4: =事業所一覧!H364 -> 0 | ... N4: =事業所一覧!N364 -> 0
A5: =事業所一覧!A365 -> 2754820054 | B5: =事業所一覧!B365 -> 運動療育型児童デイあろは | C5: =事業所一覧!C365 -> 072-332-3030 | D5: =事業所一覧!D365 -> 072-332-3030 | E5: =事業所一覧!E365 -> 580-0032 | F5: =事業所一覧!F365 -> 松原市天美東七丁目12番25号ローズクイーン天美101号 | G5: =事業所一覧!G365 -> 有限会社ＳＫ | H5: =事業所一覧!H365 -> ● | ... N5: =事業所一覧!N365 -> 0
A6: =事業所一覧!A366 -> 2754820070 | B6: =事業所一覧!B366 -> ライズ児童デイサービスまつばら | C6: =事業所一覧!C366 -> 072-330-1560 | D6: =事業所一覧!D366 -> 072-330-1561 | E6: =事業所一覧!E366 -> 580-0002 | F6: =事業所一覧!F366 -> 松原市小川一丁目12番16号 | G6: =事業所一覧!G366 -> 有限会社エスエヌ企画 | H6: =事業所一覧!H366 -> ● | ... N6: =事業所一覧!N366 -> 0
A7: =事業所一覧!A367 -> 2754820104 | B7: =事業所一覧!B367 -> グローイングアップひかり学園 | C7: =事業所一覧!C367 -> 072-349-0218 | D7: =事業所一覧!D367 -> 072-349-0218 | E7: =事業所一覧!E367 -> 580-0016 | F7: =事業所一覧!F367 -> 松原市上田一丁目７番36号ふぁみ～ゆ上田Ⅱ305号室 | G7: =事業所一覧!G367 -> 合同会社ＫＣＡ | H7: =事業所一覧!H367 -> ● | ... N7: =事業所一覧!N367 -> 0
A8: =事業所一覧!A368 -> 2754820112 | B8: =事業所一覧!B368 -> 育み | C8: =事業所一覧!C368 -> 072-349-7407 | D8: =事業所一覧!D368 -> 072-349-7407 | E8: =事業所一覧!E368 -> 580-0026 | F8: =事業所一覧!F368 -> 松原市天美我堂一丁目７番地朝日プラザ松原F棟101/102 | G8: =事業所一覧!G368 -> 株式会社はぐくみ | H8: =事業所一覧!H368 -> ● | ... N8: =事業所一覧!N368 -> 0
A9: =事業所一覧!A369 -> 2754820138 | B9: =事業所一覧!B369 -> つむぎ | C9: =事業所一覧!C369 -> 050-1183-4062 | D9: =事業所一覧!D369 -> 050-1183-4062 | E9: =事業所一覧!E369 -> 580-0014 | F9: =事業所一覧!F369 -> 松原市岡四丁目２番22号 | G9: =事業所一覧!G369 -> 有限会社あすか | H9: =事業所一覧!H369 -> ● | ... N9: =事業所一覧!N369 -> 0
A10: =事業所一覧!A370 -> 2754820146 | B10: =事業所一覧!B370 -> 学習支援はぐくみ松原ほたる教室 | C10: =事業所一覧!C370 -> 072-349-1133 | D10: =事業所一覧!D370 -> 072-349-1134 | E10: =事業所一覧!E370 -> 580-0043 | F10: =事業所一覧!F370 -> 松原市阿保三丁目５番３号 | G10: =事業所一覧!G370 -> 株式会社はぐくみ | H10: =事業所一覧!H370 -> 0 | ... N10: =事業所一覧!N370 -> 0
A11: =事業所一覧!A371 -> 2754820153 | B11: =事業所一覧!B371 -> 児童デイサービス・アニマートまつばら | C11: =事業所一覧!C371 -> 072-247-5812 | D11: =事業所一覧!D371 -> 072-247-5813 | E11: =事業所一覧!E371 -> 580-0016 | F11: =事業所一覧!F371 -> 松原市上田一丁目７番36号ふぁみ～ゆ上田Ⅱ２階202号室 | G11: =事業所一覧!G371 -> 株式会社かぐらしょ | H11: =事業所一覧!H371 -> 0 | ... N11: =事業所一覧!N371 -> 0
A12: =事業所一覧!A372 -> 2754820179 | B12: =事業所一覧!B372 -> こどもサポート教室「きらり」河内松原校 | C12: =事業所一覧!C372 -> 072-349-3242 | D12: =事業所一覧!D372 -> 072-349-3242 | E12: =事業所一覧!E372 -> 580-0016 | F12: =事業所一覧!F372 -> 松原市上田三丁目４番11号ペルルＹＴＫ３階301 | G12: =事業所一覧!G372 -> 株式会社クラ・ゼミ | H12: =事業所一覧!H372 -> ● | ... N12: =事業所一覧!N372 -> 0
A13: =事業所一覧!A373 -> 2754820195 | B13: =事業所一覧!B373 -> 放課後等デイサービスにじいろ倶楽部まつばら | C13: =事業所一覧!C373 -> 072-338-6012 | D13: =事業所一覧!D373 -> 072-338-6013 | E13: =事業所一覧!E373 -> 580-0006 | F13: =事業所一覧!F373 -> 松原市大堀三丁目２番１号 | G13: =事業所一覧!G373 -> 株式会社くるみの樹 | H13: =事業所一覧!H373 -> 0 | ... N13: =事業所一覧!N373 -> 0
A14: =事業所一覧!A374 -> 2754820229 | B14: =事業所一覧!B374 -> サンリスペクト | C14: =事業所一覧!C374 -> 072-331-4451 | D14: =事業所一覧!D374 -> 072-350-4455 | E14: =事業所一覧!E374 -> 580-0033 | F14: =事業所一覧!F374 -> 松原市天美南六丁目７番３号 | G14: =事業所一覧!G374 -> サンリスペクト株式会社 | H14: =事業所一覧!H374 -> 0 | ... N14: =事業所一覧!N374 -> 0
A15: =事業所一覧!A375 -> 2754820245 | B15: =事業所一覧!B375 -> 放課後等デイサービス テラ | C15: =事業所一覧!C375 -> 072-335-5551 | D15: =事業所一覧!D375 -> 072-335-5533 | E15: =事業所一覧!E375 -> 580-0032 | F15: =事業所一覧!F375 -> 松原市天美東八丁目13番23号 | G15: =事業所一覧!G375 -> 社会福祉法人立青福祉会 | H15: =事業所一覧!H375 -> 0 | ... N15: =事業所一覧!N375 -> 0
... A41: =事業所一覧!A401 -> 2754820567 | B41: =事業所一覧!B401 -> らいずキッズまつばら | C41: =事業所一覧!C401 -> 072-321-1785 | D41: =事業所一覧!D401 -> 072-321-1786 | E41: =事業所一覧!E401 -> 580-0032 | F41: =事業所一覧!F401 -> 松原市天美東八丁目４番29号１階 | G41: =事業所一覧!G401 -> 株式会社ＢＥＬＬ ＲＩＳＥ | H41: =事業所一覧!H401 -> ● | ... N41: =事業所一覧!N401 -> 0

Sheet 大東市
A1: 大東市 | N1: 市町村一覧に戻る
H2: ☆ 主として重症心身障がい児を通わせる事業所
A3: 事業所番号 | B3: 事業所名称 | C3: TEL | D3: FAX | E3: 〒 | F3: 所在地 | G3: 申請者 | H3: 児 | I3: 定員 | J3: 居 | K3: 放 | L3: 定員 | M3: 保 | N3: 備考
A4: =事業所一覧!A402 -> 2751920014 | B4: =事業所一覧!B402 -> 大東市立幼児発達支援教室 | C4: =事業所一覧!C402 -> 072-812-7792 | D4: =事業所一覧!D402 -> 072-812-7792 | E4: =事業所一覧!E402 -> 574-0011 | F4: =事業所一覧!F402 -> 大東市北条一丁目16番16号 | G4: =事業所一覧!G402 -> 大東市 | H4: =事業所一覧!H402 -> ● | ... N4: =事業所一覧!N402 -> 0
A5: =事業所一覧!A403 -> 2751920063 | B5: =事業所一覧!B403 -> 児童発達支援ポラリス運動day | C5: =事業所一覧!C403 -> 072-871-2726 | D5: =事業所一覧!D403 -> 072-871-2727 | E5: =事業所一覧!E403 -> 574-0046 | F5: =事業所一覧!F403 -> 大東市赤井一丁目15番１号大東ビル１ ２階 | G5: =事業所一覧!G403 -> 一般社団法人ポラリス | H5: =事業所一覧!H403 -> ● | ... N5: =事業所一覧!N403 -> 0
A6: =事業所一覧!A404 -> 2751920071 | B6: =事業所一覧!B404 -> いきいきケアサポートにしの大東店 | C6: =事業所一覧!C404 -> 072-875-0131 | D6: =事業所一覧!D404 -> 072-875-0132 | E6: =事業所一覧!E404 -> 574-0025 | F6: =事業所一覧!F404 -> 大東市御供田四丁目４番11号ロイヤルメゾン千國１階右２号 | G6: =事業所一覧!G404 -> 合同会社放課後等デイサービスいきいき | H6: =事業所一覧!H404 -> 0 | ... N6: =事業所一覧!N404 -> 0
A7: =事業所一覧!A405 -> 2751920089 | B7: =事業所一覧!B405 -> bamboo・スポーツ塾ふらっと大東 | C7: =事業所一覧!C405 -> 072-875-8113 | D7: =事業所一覧!D405 -> 072-875-8103 | E7: =事業所一覧!E405 -> 574-0026 | F7: =事業所一覧!F405 -> 大東市住道二丁目２番110号大東サンメイツ２番館110号室 | G7: =事業所一覧!G405 -> 一般社団法人ふらっと | H7: =事業所一覧!H405 -> ● | ... N7: =事業所一覧!N405 -> 0
A8: =事業所一覧!A406 -> 2751920097 | B8: =事業所一覧!B406 -> ぽっぷこーん大東 | C8: =事業所一覧!C406 -> 072-865-7517 | D8: =事業所一覧!D406 -> 072-865-7519 | E8: =事業所一覧!E406 -> 574-0028 | F8: =事業所一覧!F406 -> 大東市幸町22番25号 | G8: =事業所一覧!G406 -> 株式会社グッド・ケア・グループ | H8: =事業所一覧!H406 -> 0 | ... N8: =事業所一覧!N406 -> 0
A9: =事業所一覧!A407 -> 2751920121 | B9: =事業所一覧!B407 -> ふらっとＨＯＲＡ | C9: =事業所一覧!C407 -> 072-872-3333 | D9: =事業所一覧!D407 -> 072-872-5557 | E9: =事業所一覧!E407 -> 574-0034 | F9: =事業所一覧!F407 -> 大東市朋来一丁目21番18号グラッドホーラ101号 | G9: =事業所一覧!G407 -> 株式会社ＳＡＣＣ | H9: =事業所一覧!H407 -> ● | ... N9: =事業所一覧!N407 -> 0
A10: =事業所一覧!A408 -> 2751920139 | B10: =事業所一覧!B408 -> ｆｌａｔ大東いいもりぷらざ店 | C10: =事業所一覧!C408 -> 072-812-6011 | D10: =事業所一覧!D408 -> 072-812-6012 | E10: =事業所一覧!E408 -> 574-0011 | F10: =事業所一覧!F408 -> 大東市北条一丁目16番16号４階 | G10: =事業所一覧!G408 -> 株式会社ｆｌａｔ | H10: =事業所一覧!H408 -> ● | ... N10: =事業所一覧!N408 -> 0
A11: =事業所一覧!A409 -> 2751920147 | B11: =事業所一覧!B409 -> 児童発達支援・放課後等デイサービスてくてく | C11: =事業所一覧!C409 -> 072-877-8055 | D11: =事業所一覧!D409 -> 072-877-8066 | E11: =事業所一覧!E409 -> 574-0003 | F11: =事業所一覧!F409 -> 大東市明美の里町16番30号２階 | G11: =事業所一覧!G409 -> 特定非営利活動法人発達凸凹サポーターてくてく | H11: =事業所一覧!H409 -> ● | ... N11: =事業所一覧!N409 -> 0
A12: =事業所一覧!A410 -> 2751920154 | B12: =事業所一覧!B410 -> 放課後等デイサービスくりーむうさぎ | C12: =事業所一覧!C410 -> 072-888-9230 | D12: =事業所一覧!D410 -> 072-888-9230 | E12: =事業所一覧!E410 -> 574-0045 | F12: =事業所一覧!F410 -> 大東市太子田二丁目10番16号 | G12: =事業所一覧!G410 -> 株式会社プリス | H12: =事業所一覧!H410 -> 0 | ... N12: =事業所一覧!N410 -> 0
A13: =事業所一覧!A411 -> 2751920162 | B13: =事業所一覧!B411 -> ぽっぷこーん大東ＮＥＸＴ | C13: =事業所一覧!C411 -> 072-800-8381 | D13: =事業所一覧!D411 -> 072-800-8382 | E13: =事業所一覧!E411 -> 574-0014 | F13: =事業所一覧!F411 -> 大東市寺川三丁目11番10号 | G13: =事業所一覧!G411 -> 株式会社グッド・ケア・グループ | H13: =事業所一覧!H411 -> 0 | ... N13: =事業所一覧!N411 -> 0
A14: =事業所一覧!A412 -> 2751920188 | B14: =事業所一覧!B412 -> 慶生会ＫＩＤＳステージ野崎 | C14: =事業所一覧!C412 -> 072-863-1221 | D14: =事業所一覧!D412 -> 072-863-1220 | E14: =事業所一覧!E412 -> 574-0011 | F14: =事業所一覧!F412 -> 大東市北条一丁目２番41号１階 | G14: =事業所一覧!G412 -> 社会福祉法人慶生会 | H14: =事業所一覧!H412 -> ● | ... N14: =事業所一覧!N412 -> 0
A15: =事業所一覧!A413 -> 2751920196 | B15: =事業所一覧!B413 -> ふらっとＨＯＲＡ２ | C15: =事業所一覧!C413 -> 072-803-7818 | D15: =事業所一覧!D413 -> 072-872-5557 | E15: =事業所一覧!E413 -> 574-0044 | F15: =事業所一覧!F413 -> 大東市三箇四丁目17番15号 | G15: =事業所一覧!G413 -> 株式会社ＳＡＣＣ | H15: =事業所一覧!H413 -> 0 | ... N15: =事業所一覧!N413 -> 0
... A30: =事業所一覧!A428 -> 2751920394 | B30: =事業所一覧!B428 -> ふぁみりずむ | C30: =事業所一覧!C428 -> 080-3806-2558 | D30: =事業所一覧!D428 -> 072-813-7237 | E30: =事業所一覧!E428 -> 574-0014 | F30: =事業所一覧!F428 -> 大東市赤井一丁目3番22号 住道はりまやビル３階 | G30: =事業所一覧!G428 -> 合同会社Ｉ ｓｔａｒ Ｌａｂ | H30: =事業所一覧!H428 -> ● | ... N30: =事業所一覧!N428 -> 0
A31: =事業所一覧!A429 -> 2751920402 | B31: =事業所一覧!B429 -> ピリナ | C31: =事業所一覧!C429 -> 072-800-8556 | D31: =事業所一覧!D429 -> 072-800-8565 | E31: =事業所一覧!E429 -> 574-0011 | F31: =事業所一覧!F429 -> 大東市北条一丁目７番23号樋口ビル１階 | G31: =事業所一覧!G429 -> 株式会社わらみ | H31: =事業所一覧!H429 -> ☆ | ... M31: =事業所一覧!M429 -> 0
A32: =事業所一覧!A430 -> 2751920410 | B32: =事業所一覧!B430 -> 放課後等デイサービス ななみ | C32: =事業所一覧!C430 -> 072-800-4003 | D32: =事業所一覧!D430 -> 072-800-4004 | E32: =事業所一覧!E430 -> 574-0074 | F32: =事業所一覧!F430 -> 大東市谷川二丁目８番43号 | G32: =事業所一覧!G430 -> 株式会社 和心 | H32: =事業所一覧!H430 -> ● | ... M32: =事業所一覧!M430 -> 0
A33: =事業所一覧!A431 -> 2751920428 | B33: =事業所一覧!B431 -> ワンストップスクールＲＩＧＳ大東 | C33: =事業所一覧!C431 -> 072-803-8601 | D33: =事業所一覧!D431 -> 072-803-8602 | E33: =事業所一覧!E431 -> 574-0034 | F33: =事業所一覧!F431 -> 大東市朋来二丁目５番35号サンメゾンイースト１Ｆ | G33: =事業所一覧!G431 -> 株式会社ＧＹＧ | H33: =事業所一覧!H431 -> ● | ... M33: =事業所一覧!M431 -> 0
A34: =事業所一覧!A432 -> 2751920444 | B34: =事業所一覧!B432 -> 放課後等デイサービス はれ | C34: =事業所一覧!C432 -> 072-813-5501 | D34: =事業所一覧!D432 -> 072-813-5502 | E34: =事業所一覧!E432 -> 574-0045 | F34: =事業所一覧!F432 -> 大東市太子田一丁目１番８号 | G34: =事業所一覧!G432 -> 株式会社和心 | H34: =事業所一覧!H432 -> ● | ... M34: =事業所一覧!M432 -> 0
A35: =事業所一覧!A433 -> 2751920451 | B35: =事業所一覧!B433 -> アステリつくーる | C35: =事業所一覧!C433 -> 072-812-5147 | D35: =事業所一覧!D433 -> 072-812-5148 | E35: =事業所一覧!E433 -> 574-0043 | F35: =事業所一覧!F433 -> 大東市灰塚五丁目１番45号ＢＵＩＬＤよしかわ302号 | G35: =事業所一覧!G433 -> 合同会社みらい共生社会推進協議会 | H35: =事業所一覧!H433 -> ● | ... M35: =事業所一覧!M433 -> 0
A36: =事業所一覧!A434 -> 2751920469 | B36: =事業所一覧!B434 -> きらめキッズ大東ねくすと | C36: =事業所一覧!C434 -> 072-813-2338 | D36: =事業所一覧!D434 -> 072-813-2606 | E36: =事業所一覧!E434 -> 574-0024 | F36: =事業所一覧!F434 -> 大東市泉町二丁目10番18号アキツマンション１階１Ｆ号 | G36: =事業所一覧!G434 -> 株式会社リベルテ | H36: =事業所一覧!H434 -> ● | ... M36: =事業所一覧!M434 -> 0
A37: =事業所一覧!A435 -> 2751920477 | B37: =事業所一覧!B435 -> 児童発達支援管理・放課後等デイサービス ゆあてらす | C37: =事業所一覧!C435 -> 072-875-6677 | D37: =事業所一覧!D435 -> 072-870-0730 | E37: =事業所一覧!E435 -> 574-0043 | F37: =事業所一覧!F435 -> 大東市灰塚五丁目６番４号 ２階 | G37: =事業所一覧!G435 -> 株式会社Ｓ－Ｐｌａｎｎｉｎｇ | H37: =事業所一覧!H435 -> ● | ... M37: =事業所一覧!M435 -> 0
A38: =事業所一覧!A436 -> 2751920485 | B38: =事業所一覧!B436 -> アステリ野崎教室 | C38: =事業所一覧!C436 -> 072-812-3347 | D38: =事業所一覧!D436 -> 072-812-3348 | E38: =事業所一覧!E436 -> 574-0011 | F38: =事業所一覧!F436 -> 大東市北条一丁目13番12号 | G38: =事業所一覧!G436 -> 合同会社みらい共生社会推進協議会 | H38: =事業所一覧!H436 -> 0 | ... M38: =事業所一覧!M436 -> 0
A39: =事業所一覧!A437 -> 2751920493 | B39: =事業所一覧!B437 -> PARC（パルク）ウィル大東 | C39: =事業所一覧!C437 -> ０７２－８００－５５２６ | D39: =事業所一覧!D437 -> ０７２－８００－５５２７ | E39: =事業所一覧!E437 -> 574-00２７ | F39: =事業所一覧!F437 -> 大東市三住町４番13号２階 | G39: =事業所一覧!G437 -> 株式会社メディケア・リハビリ | H39: =事業所一覧!H437 -> ☆ | ... M39: =事業所一覧!M437 -> ●
A40: =事業所一覧!A438 -> 2751920501 | B40: =事業所一覧!B438 -> ワンストップスクールＲＩＧＳ大東ＥＡＳＴ | C40: =事業所一覧!C438 -> ０７２－８８６－３８５０ | D40: =事業所一覧!D438 -> 0 | E40: =事業所一覧!E438 -> 574-0014 | F40: =事業所一覧!F438 -> 大東市寺川三丁目９番１号 サンハイツ岩本１階 | G40: =事業所一覧!G438 -> 株式会社ＧＹＧ | H40: =事業所一覧!H438 -> ● | ... M40: =事業所一覧!M438 -> 0
A41: =事業所一覧!A439 -> 2751920519 | B41: =事業所一覧!B439 -> 放課後等デイサービス そら | C41: =事業所一覧!C439 -> 072-813-8030 | D41: =事業所一覧!D439 -> 072-803-8031 | E41: =事業所一覧!E439 -> 574-0064 | F41: =事業所一覧!F439 -> 大阪府大東市御領三丁目５番31号 | G41: =事業所一覧!G439 -> 株式会社 和心 | H41: =事業所一覧!H439 -> ● | ... M41: =事業所一覧!M439 -> 0
A42: =事業所一覧!A440 -> 2751920527 | B42: =事業所一覧!B440 -> ＳｍｉｌｅＰａｉｎｔ | C42: =事業所一覧!C440 -> ０７２－８８６－７０１７ | D42: =事業所一覧!D440 -> ０７２－８８６－７０１８ | E42: =事業所一覧!E440 -> 574-0011 | F42: =事業所一覧!F440 -> 大東市野崎三丁目16番地16号 | G42: =事業所一覧!G440 -> 合同会社縁 | H42: =事業所一覧!H440 -> 0 | ... M42: =事業所一覧!M440 -> 0
... A45: =事業所一覧!A443 -> 2751920568 | B45: =事業所一覧!B443 -> 児童発達支援・放課後等デイサービスわくわく大東 | C45: =事業所一覧!C443 -> 072-812-7014 | D45: =事業所一覧!D443 -> 072-812-7015 | E45: =事業所一覧!E443 -> 574-0057 | F45: =事業所一覧!F443 -> 大東市新田西町２番24号 | G45: =事業所一覧!G443 -> 合同会社ハッピーウェイ | H45: =事業所一覧!H443 -> ● | ... M45: =事業所一覧!M443 -> 0

Sheet 和泉市
A1: 和泉市 | N1: 市町村一覧に戻る
H2: ☆ 主として重症心身障がい児を通わせる事業所
A3: 事業所番号 | B3: 事業所名称 | C3: TEL | D3: FAX | E3: 〒 | F3: 所在地 | G3: 申請者 | H3: 児 | I3: 定員 | J3: 居 | K3: 放 | L3: 定員 | M3: 保 | N3: 備考
A4: =事業所一覧!A444 -> 2750520021 | B4: =事業所一覧!B444 -> わわ | C4: =事業所一覧!C444 -> 0725-24-4030 | D4: =事業所一覧!D444 -> 0725-24-5680 | E4: =事業所一覧!E444 -> 594-0083 | F4: =事業所一覧!F444 -> 和泉市池上町2丁目5番16号 | G4: =事業所一覧!G444 -> 株式会社HISWAY | H4: =事業所一覧!H444 -> 0 | ... N4: =事業所一覧!N444 -> 0
A5: =事業所一覧!A445 -> 2750520047 | B5: =事業所一覧!B445 -> ゆとりの里 | C5: =事業所一覧!C445 -> 0725-50-2001 | D5: =事業所一覧!D445 -> 0725-50-2001 | E5: =事業所一覧!E445 -> 594-1104 | F5: =事業所一覧!F445 -> 和泉市万町384番地 | G5: =事業所一覧!G445 -> 有限会社旭日 | J5: =事業所一覧!J445 -> 0 | K5: =事業所一覧!K445 -> ● | L5: =事業所一覧!L445 -> 10 | M5: =事業所一覧!M445 -> 0 | N5: =事業所一覧!N445 -> 0
A6: =事業所一覧!A446 -> 2750520054 | B6: =事業所一覧!B446 -> 放課後等デイサービス事業所マザーズ | C6: =事業所一覧!C446 -> 0725-26-0026 | D6: =事業所一覧!D446 -> 0725-26-1559 | E6: =事業所一覧!E446 -> 594-0003 | F6: =事業所一覧!F446 -> 和泉市太町１５８番地の１３ | G6: =事業所一覧!G446 -> 特定非営利活動法人サポートネット・マザーズ | H6: =事業所一覧!H446 -> 0 | ... N6: =事業所一覧!N446 -> 0
A7: =事業所一覧!A447 -> 2750520070 | B7: =事業所一覧!B447 -> ぷちとまと | C7: =事業所一覧!C447 -> 0725-30-4680 | D7: =事業所一覧!D447 -> 0725-30-4680 | E7: =事業所一覧!E447 -> 594-0032 | F7: =事業所一覧!F447 -> 和泉市池田下町1218－１番地 | G7: =事業所一覧!G447 -> 特定非営利活動法人ぷちとまとの会 | H7: =事業所一覧!H447 -> 0 | ... N7: =事業所一覧!N447 -> 0
A8: =事業所一覧!A448 -> 2750520112 | B8: =事業所一覧!B448 -> 運動療育クラブのあ泉北和泉 | C8: =事業所一覧!C448 -> 0725-92-8455 | D8: =事業所一覧!D448 -> 0725-92-8455 | E8: =事業所一覧!E448 -> 594-0042 | F8: =事業所一覧!F448 -> 和泉市箕形町一丁目２番６号 | G8: =事業所一覧!G448 -> 一般社団法人のあ | H8: =事業所一覧!H448 -> ● | ... N8: =事業所一覧!N448 -> 0
A9: =事業所一覧!A449 -> 2750520146 | B9: =事業所一覧!B449 -> でぃあはーつ | C9: =事業所一覧!C449 -> 0725-24-3265 | D9: =事業所一覧!D449 -> 0725-24-3265 | E9: =事業所一覧!E449 -> 594-0003 | F9: =事業所一覧!F449 -> 和泉市太町570番地の９ ２階 | G9: =事業所一覧!G449 -> 株式会社煌 | H9: =事業所一覧!H449 -> 0 | ... N9: =事業所一覧!N449 -> 0
A10: =事業所一覧!A450 -> 2750520153 | B10: =事業所一覧!B450 -> 児童発達支援・放課後等デイサービスにじ | C10: =事業所一覧!C450 -> 0725-90-7384 | D10: =事業所一覧!D450 -> 0725-90-7761 | E10: =事業所一覧!E450 -> 594-0013 | F10: =事業所一覧!F450 -> 和泉市鶴山台二丁目１番１号棟105 | G10: =事業所一覧!G450 -> 有限会社北勝 | H10: =事業所一覧!H450 -> ● | ... N10: =事業所一覧!N450 -> 0
A11: =事業所一覧!A451 -> 2750520161 | B11: =事業所一覧!B451 -> 児童デイサービスびりぃぶ | C11: =事業所一覧!C451 -> 0725-90-7026 | D11: =事業所一覧!D451 -> 0725-90-7036 | E11: =事業所一覧!E451 -> 594-1151 | F11: =事業所一覧!F451 -> 和泉市唐国町二丁目８番58号１階 | G11: =事業所一覧!G451 -> 株式会社はじめ | H11: =事業所一覧!H451 -> ● | ... N11: =事業所一覧!N451 -> 0
A12: =事業所一覧!A452 -> 2755320047 | B12: =事業所一覧!B452 -> スイートピー | C12: =事業所一覧!C452 -> 0725-50-3222 | D12: =事業所一覧!D452 -> 0725-50-3233 | E12: =事業所一覧!E452 -> 594-1111 | F12: =事業所一覧!F452 -> 和泉市光明台三丁目20番４号 | G12: =事業所一覧!G452 -> 株式会社スイートピー | H12: =事業所一覧!H452 -> 0 | ... N12: =事業所一覧!N452 -> 0
A13: =事業所一覧!A453 -> 2750520237 | B13: =事業所一覧!B453 -> 児童発達支援・放課後等デイサービスドレミ | C13: =事業所一覧!C453 -> 0725-43-5555 | D13: =事業所一覧!D453 -> 0725-44-5656 | E13: =事業所一覧!E453 -> 594-0003 | F13: =事業所一覧!F453 -> 和泉市太町24番地１ | G13: =事業所一覧!G453 -> 株式会社トップケアサービス | H13: =事業所一覧!H453 -> ● | ... N13: =事業所一覧!N453 -> 0
A14: =事業所一覧!A454 -> 2750520278 | B14: =事業所一覧!B454 -> フェアリーテイル | C14: =事業所一覧!C454 -> 0725-38-7725 | D14: =事業所一覧!D454 -> 0725-38-7725 | E14: =事業所一覧!E454 -> 594-0076 | F14: =事業所一覧!F454 -> 和泉市肥子町二丁目５番54号サラスバティ肥子１階Ｄ号 | G14: =事業所一覧!G454 -> 株式会社キーポイント | H14: =事業所一覧!H454 -> ● | ... N14: =事業所一覧!N454 -> 0
A15: =事業所一覧!A455 -> 2750520310 | B15: =事業所一覧!B455 -> 音楽療育おとゆいキッズ | C15: =事業所一覧!C455 -> 0725-53-1066 | D15: =事業所一覧!D455 -> 0725-53-1066 | E15: =事業所一覧!E455 -> 594-1155 | F15: =事業所一覧!F455 -> 和泉市緑ケ丘一丁目９番８号 | G15: =事業所一覧!G455 -> 特定非営利活動法人音楽サポートネット音結 | H15: =事業所一覧!H455 -> ● | ... N15: =事業所一覧!N455 -> 0
A16: =事業所一覧!A456 -> 2750520336 | B16: =事業所一覧!B456 -> スマイル | C16: =事業所一覧!C456 -> 0725-40-2525 | D16: =事業所一覧!D456 -> 0725-40-2526 | E16: =事業所一覧!E456 -> 594-0064 | F16: =事業所一覧!F456 -> 和泉市寺門町一丁目１番５号 | G16: =事業所一覧!G456 -> 株式会社Ｍｅｒｒｙ | H16: =事業所一覧!H456 -> ● | ... N16: =事業所一覧!N456 -> 0
A17: =事業所一覧!A457 -> 2750520377 | B17: =事業所一覧!B457 -> 放課後等デイサービスなういずみ | C17: =事業所一覧!C457 -> 072-590-4900 | D17: =事業所一覧!D457 -> 072-590-4899 | E17: =事業所一覧!E457 -> 594-0071 | F17: =事業所一覧!F457 -> 和泉市府中町七丁目２番５号 | G17: =事業所一覧!G457 -> 株式会社晴友 | H17: =事業所一覧!H457 -> ● | ... N17: =事業所一覧!N457 -> 0
... A49: =事業所一覧!A489 -> 2750520831 | B49: =事業所一覧!B489 -> ジャンプ和泉中央 | C49: =事業所一覧!C489 -> 0725-92-6010 | D49: =事業所一覧!D489 -> - | E49: =事業所一覧!E489 -> 594-1151 | F49: =事業所一覧!F489 -> 和泉市唐国町二丁目13番７号 | G49: =事業所一覧!G489 -> 株式会社ＪＵＭＰ | H49: =事業所一覧!H489 -> 0 | ... N49: =事業所一覧!N489 -> 0

Sheet 箕面市
A1: 箕面市 | N1: 市町村一覧に戻る
H2: ☆ 主として重症心身障がい児を通わせる事業所
A3: 事業所番号 | B3: 事業所名称 | C3: TEL | D3: FAX | E3: 〒 | F3: 所在地 | G3: 申請者 | H3: 児 | I3: 定員 | J3: 居 | K3: 放 | L3: 定員 | M3: 保 | N3: 備考
A4: =事業所一覧!A490 -> 2751420023 | B4: =事業所一覧!B490 -> こども発達支援センター青空 | C4: =事業所一覧!C490 -> 072-729-0125 | D4: =事業所一覧!D490 -> 072-729-0125 | E4: =事業所一覧!E490 -> 562-0015 | F4: =事業所一覧!F490 -> 箕面市稲六丁目15番26号 | G4: =事業所一覧!G490 -> 社会福祉法人大阪府障害者福祉事業団 | H4: =事業所一覧!H490 -> ● | ... N4: =事業所一覧!N490 -> 0
A5: =事業所一覧!A491 -> 2751420031 | B5: =事業所一覧!B491 -> 地域支援センターわとと | C5: =事業所一覧!C491 -> 072-734-6955 | D5: =事業所一覧!D491 -> 072-734-6887 | E5: =事業所一覧!E491 -> 562-0035 | F5: =事業所一覧!F491 -> 箕面市船場東2丁目6－46 チャレンジMMGビル2階 | G5: =事業所一覧!G491 -> 社会福祉法人北摂福祉会 | H5: =事業所一覧!H491 -> ● | ... N5: =事業所一覧!N491 -> 0
A6: =事業所一覧!A492 -> 2751420049 | B6: =事業所一覧!B492 -> どれみ | C6: =事業所一覧!C492 -> 072-747-6024 | D6: =事業所一覧!D492 -> 072-747-6024 | E6: =事業所一覧!E492 -> 562-0036 | F6: =事業所一覧!F492 -> 箕面市船場西２丁目１９－９ | G6: =事業所一覧!G492 -> 株式会社サポート | H6: =事業所一覧!H492 -> ● | ... N6: =事業所一覧!N492 -> 0
A7: =事業所一覧!A493 -> 2751420064 | B7: =事業所一覧!B493 -> まめべや | C7: =事業所一覧!C493 -> 072-730-2521 | D7: =事業所一覧!D493 -> 072-730-2520 | E7: =事業所一覧!E493 -> 562-0036 | F7: =事業所一覧!F493 -> 箕面市船場西三丁目８番６号２０１号 | G7: =事業所一覧!G493 -> 株式会社まめっと | H7: =事業所一覧!H493 -> ● | ... N7: =事業所一覧!N493 -> 0
A8: =事業所一覧!A494 -> 2751420072 | B8: =事業所一覧!B494 -> スマイルブーケ放課後等デイサービス たんぽぽハウス | C8: =事業所一覧!C494 -> 072-720-5511 | D8: =事業所一覧!D494 -> 072-720-5512 | E8: =事業所一覧!E494 -> 562-00０4 | F8: =事業所一覧!F494 -> 箕面市牧落三丁目３番12号村上ビル201号室 | G8: =事業所一覧!G494 -> 株式会社スマイルブーケ | H8: =事業所一覧!H494 -> 0 | ... N8: =事業所一覧!N494 -> 0
A9: =事業所一覧!A495 -> 2751420080 | B9: =事業所一覧!B495 -> 麦の子 | C9: =事業所一覧!C495 -> 072-722-7400 | D9: =事業所一覧!D495 -> 072-724-9698 | E9: =事業所一覧!E495 -> 562-0014 | F9: =事業所一覧!F495 -> 箕面市萱野一丁目19番４号箕面市立萱野中央人権文化センター内 | G9: =事業所一覧!G495 -> 特定非営利活動法人暮らしづくりネットワーク北芝 | H9: =事業所一覧!H495 -> ● | ... N9: =事業所一覧!N495 -> 0
A10: =事業所一覧!A496 -> 2751420098 | B10: =事業所一覧!B496 -> ドリームケアデイサービス如意谷 | C10: =事業所一覧!C496 -> 072-700-7761 | D10: =事業所一覧!D496 -> 072-700-7762 | E10: =事業所一覧!E496 -> 562-0011 | F10: =事業所一覧!F496 -> 箕面市如意谷三丁目１番12号 | G10: =事業所一覧!G496 -> 有限会社ドリームケア | H10: =事業所一覧!H496 -> ● | ... N10: =事業所一覧!N496 -> 0
A11: =事業所一覧!A497 -> 2751420114 | B11: =事業所一覧!B497 -> はつかぜ | C11: =事業所一覧!C497 -> 072-734-7922 | D11: =事業所一覧!D497 -> 072-734-7923 | E11: =事業所一覧!E497 -> 562-0031 | F11: =事業所一覧!F497 -> 箕面市小野原東三丁目５番38号協栄箕面第２ハイツ105・106号室 | G11: =事業所一覧!G497 -> 合同会社イナツヒコ | H11: =事業所一覧!H497 -> ☆ | ... N11: =事業所一覧!N497 -> 0
A12: =事業所一覧!A498 -> 2751420130 | B12: =事業所一覧!B498 -> スマイルブーケ放課後等デイサービス たんぽぽクラブ | C12: =事業所一覧!C498 -> 072-737-5454 | D12: =事業所一覧!D498 -> 072-737-5854 | E12: =事業所一覧!E498 -> 562-0033 | F12: =事業所一覧!F498 -> 箕面市今宮四丁目20番２号 | G12: =事業所一覧!G498 -> 株式会社スマイルブーケ | H12: =事業所一覧!H498 -> ● | ... M12: =事業所一覧!M498 -> 0
A13: =事業所一覧!A499 -> 2751420148 | B13: =事業所一覧!B499 -> リアン・プラス第２教室 | C13: =事業所一覧!C499 -> 072-734-7960 | D13: =事業所一覧!D499 -> 072-734-7970 | E13: =事業所一覧!E499 -> 562-0025 | F13: =事業所一覧!F499 -> 箕面市粟生外院一丁目21番52号 | G13: =事業所一覧!G499 -> 特定非営利活動法人ＰＬＵＳ ＯＮＥ | H13: =事業所一覧!H499 -> ● | ... M13: =事業所一覧!M499 -> 0
A14: =事業所一覧!A500 -> 2751420155 | B14: =事業所一覧!B500 -> 放課後等デイサービスメイプル | C14: =事業所一覧!C500 -> 072-702-0000 | D14: =事業所一覧!D500 -> 072-702-0000 | E14: =事業所一覧!E500 -> 562-0033 | F14: =事業所一覧!F500 -> 箕面市今宮三丁目８番１号 | G14: =事業所一覧!G500 -> エスぺランサ合同会社 | H14: =事業所一覧!H500 -> 0 | ... M14: =事業所一覧!M500 -> 0
A15: =事業所一覧!A501 -> 2751420171 | B15: =事業所一覧!B501 -> welfare箕面 | C15: =事業所一覧!C501 -> 072-737-4328 | D15: =事業所一覧!D501 -> 072-737-4338 | E15: =事業所一覧!E501 -> 562-0015 | F15: =事業所一覧!F501 -> 箕面市稲五丁目13番６号コーポいな１階 | G15: =事業所一覧!G501 -> 株式会社Azars | H15: =事業所一覧!H501 -> ● | ... M15: =事業所一覧!M501 -> 0
A16: =事業所一覧!A502 -> 2751420197 | B16: =事業所一覧!B502 -> 運動クラブりずむ | C16: =事業所一覧!C502 -> 072-734-7515 | D16: =事業所一覧!D502 -> 072-734-7514 | E16: =事業所一覧!E502 -> 562-0004 | F16: =事業所一覧!F502 -> 箕面市牧落三丁目19番38号 林下ビル101号室 | G16: =事業所一覧!G502 -> 株式会社ＤＲＣフィールズ | H16: =事業所一覧!H502 -> ● | ... M16: =事業所一覧!M502 -> 0
A17: =事業所一覧!A503 -> 2751420205 | B17: =事業所一覧!B503 -> Ｌｉｎｏぷれいす箕面 | C17: =事業所一覧!C503 -> 072-737-7413 | D17: =事業所一覧!D503 -> 072-737-7434 | E17: =事業所一覧!E503 -> 562-0046 | F17: =事業所一覧!F503 -> 箕面市桜ケ丘四丁目11番15号桜ヶ丘ビル102 | G17: =事業所一覧!G503 -> 株式会社ぷれいす | H17: =事業所一覧!H503 -> 0 | ... M17: =事業所一覧!M503 -> 0
A18: =事業所一覧!A504 -> 2751420221 | B18: =事業所一覧!B504 -> 個別療育センターココスマイル | C18: =事業所一覧!C504 -> 072-723-7110 | D18: =事業所一覧!D504 -> 072-723-7117 | E18: =事業所一覧!E504 -> 562-0004 | F18: =事業所一覧!F504 -> 箕面市牧落四丁目６番12号 | G18: =事業所一覧!G504 -> 一般社団法人たけのこ | H18: =事業所一覧!H504 -> ● | ... M18: =事業所一覧!M504 -> 0
A19: =事業所一覧!A505 -> 2751420239 | B19: =事業所一覧!B505 -> めばえ２１ | C19: =事業所一覧!C505 -> 072-737-8735 | D19: =事業所一覧!D505 -> 072-737-8766 | E19: =事業所一覧!E505 -> 562-0001 | F19: =事業所一覧!F505 -> 箕面市桜四丁目11番15号 箕面桜医療ビル３階 | G19: =事業所一覧!G505 -> 特定非営利活動法人ダウン症ファミリー総合支援めばえ２１ | H19: =事業所一覧!H505 -> ● | ... M19: =事業所一覧!M505 -> ●
A20: =事業所一覧!A506 -> 2751420254 | B20: =事業所一覧!B506 -> Ｌｉｎｏぷれいす箕面東 | C20: =事業所一覧!C506 -> 072-736-9882 | D20: =事業所一覧!D506 -> 072-736-9883 | E20: =事業所一覧!E506 -> 562-0025 | F20: =事業所一覧!F506 -> 箕面市粟生外院一丁目20番７号小路貸店舗１階 | G20: =事業所一覧!G506 -> 株式会社シーシー | H20: =事業所一覧!H506 -> 0 | ... M20: =事業所一覧!M506 -> 0
A21: =事業所一覧!A507 -> 2751420288 | B21: =事業所一覧!B507 -> アートチャイルドケアＳＥＤスクール箕面 | C21: =事業所一覧!C507 -> 0727-68-8481 | D21: =事業所一覧!D507 -> 0727-68-8482 | E21: =事業所一覧!E507 -> 562-0043 | F21: =事業所一覧!F507 -> 箕面市桜井一丁目13番２号ハレリア桜井２Ｆ | G21: =事業所一覧!G507 -> アートチャイルドケア株式会社 | H21: =事業所一覧!H507 -> ● | ... M21: =事業所一覧!M507 -> 0
A22: =事業所一覧!A508 -> 2751420304 | B22: =事業所一覧!B508 -> アフタースクール ぴあにしも | C22: =事業所一覧!C508 -> 072-786-5360 | D22: =事業所一覧!D508 -> 072-786-7160 | E22: =事業所一覧!E508 -> 562-0041 | F22: =事業所一覧!F508 -> 箕面市桜四丁目18番１号203 | G22: =事業所一覧!G508 -> 一般社団法人中曽教育研究所 | H22: =事業所一覧!H508 -> ● | ... M22: =事業所一覧!M508 -> 0
A23: =事業所一覧!A509 -> 2751420320 | B23: =事業所一覧!B509 -> 個別療育センターココスマイル本部 | C23: =事業所一覧!C509 -> 072-736-8720 | D23: =事業所一覧!D509 -> 072-736-8721 | E23: =事業所一覧!E509 -> 562-0014 | F23: =事業所一覧!F509 -> 箕面市萱野五丁目12番１号 ２階 | G23: =事業所一覧!G509 -> 一般社団法人たけのこ | H23: =事業所一覧!H509 -> ● | ... M23: =事業所一覧!M509 -> 0
... A54: =事業所一覧!A540 -> 2751420775 | B54: =事業所一覧!B540 -> 放課後等デイサービス ウィズ・ユー箕面plus | C54: =事業所一覧!C540 -> 0727-39-9221 | D54: =事業所一覧!D540 -> - | E54: =事業所一覧!E540 -> 562-0004 | F54: =事業所一覧!F540 -> 箕面市牧落三丁目14番32号 | G54: =事業所一覧!G540 -> 株式会社神戸物語 | H54: =事業所一覧!H540 -> 0 | ... M54: =事業所一覧!M540 -> 0

Sheet 柏原市
A1: 柏原市 | N1: 市町村一覧に戻る
H2: ☆ 主として重症心身障がい児を通わせる事業所
A3: 事業所番号 | B3: 事業所名称 | C3: TEL | D3: FAX | E3: 〒 | F3: 所在地 | G3: 申請者 | H3: 児 | I3: 定員 | J3: 居 | K3: 放 | L3: 定員 | M3: 保 | N3: 備考
A4: =事業所一覧!A541 -> 2754620025 | B4: =事業所一覧!B541 -> きっずサポートなにわ | C4: =事業所一覧!C541 -> 072-978-2206 | D4: =事業所一覧!D541 -> 072-975-1010 | E4: =事業所一覧!E541 -> 582-0025 | F4: =事業所一覧!F541 -> 柏原市国分西一丁目3番43号HOPEハウス１０１、102 | G4: =事業所一覧!G541 -> 社会福祉法人なにわの里 | H4: =事業所一覧!H541 -> ● | ... N4: =事業所一覧!N541 -> 0
A5: =事業所一覧!A542 -> 2754620041 | B5: =事業所一覧!B542 -> すいっちＪｒ | C5: =事業所一覧!C542 -> 072-921-3434 | D5: =事業所一覧!D542 -> 072-921-3434 | E5: =事業所一覧!E542 -> 582-0024 | F5: =事業所一覧!F542 -> 柏原市田辺一丁目２番22号 | G5: =事業所一覧!G542 -> 特定非営利活動法人みんな | H5: =事業所一覧!H542 -> 0 | ... N5: =事業所一覧!N542 -> 0
A6: =事業所一覧!A543 -> 2754620058 | B6: =事業所一覧!B543 -> ぽかぽか | C6: =事業所一覧!C543 -> 072-933-7575 | D6: =事業所一覧!D543 -> 072-933-7576 | E6: =事業所一覧!E543 -> 582-0005 | F6: =事業所一覧!F543 -> 柏原市法善寺四丁目10番29号 | G6: =事業所一覧!G543 -> 特定非営利活動法人ぽかぽか | H6: =事業所一覧!H543 -> ● | ... N6: =事業所一覧!N543 -> 0
A7: =事業所一覧!A544 -> 2754620066 | B7: =事業所一覧!B544 -> 放課後デイサービスはつらつ柏原 | C7: =事業所一覧!C544 -> 072-970-6669 | D7: =事業所一覧!D544 -> 072-970-6669 | E7: =事業所一覧!E544 -> 582-0009 | F7: =事業所一覧!F544 -> 柏原市大正二丁目５番５号 | G7: =事業所一覧!G544 -> 株式会社なかつき | H7: =事業所一覧!H544 -> ● | ... N7: =事業所一覧!N544 -> 0
A8: =事業所一覧!A545 -> 2754620082 | B8: =事業所一覧!B545 -> あうる | C8: =事業所一覧!C545 -> 072-921-1930 | D8: =事業所一覧!D545 -> 072-921-2695 | E8: =事業所一覧!E545 -> 582-0002 | F8: =事業所一覧!F545 -> 柏原市今町一丁目１番６号 | G8: =事業所一覧!G545 -> 特定非営利活動法人みんな | H8: =事業所一覧!H545 -> ● | ... N8: =事業所一覧!N545 -> 0
A9: =事業所一覧!A546 -> 2754620132 | B9: =事業所一覧!B546 -> Ｆｕｌｌ-Ｓｍｉｌｅ～ふるすまいる～ | C9: =事業所一覧!C546 -> 072-972-3700 | D9: =事業所一覧!D546 -> 072-972-3700 | E9: =事業所一覧!E546 -> 582-0016 | F9: =事業所一覧!F546 -> 柏原市安堂町13番32号 | G9: =事業所一覧!G546 -> 株式会社わかな | H9: =事業所一覧!H546 -> 0 | ... N9: =事業所一覧!N546 -> 0
A10: =事業所一覧!A547 -> 2754620140 | B10: =事業所一覧!B547 -> 放課後等デイサービス ノーサイド柏原 | C10: =事業所一覧!C547 -> 072-970-6346 | D10: =事業所一覧!D547 -> 072-970-6347 | E10: =事業所一覧!E547 -> 582-0009 | F10: =事業所一覧!F547 -> 柏原市大正一丁目８番12号マンション明和１Ｆ | G10: =事業所一覧!G547 -> ＴＥＡＭＣＡＲＥ株式会社 | H10: =事業所一覧!H547 -> ☆ | ... N10: =事業所一覧!N547 -> 0
A11: =事業所一覧!A548 -> 2754620165 | B11: =事業所一覧!B548 -> 放課後等デイサービス クローバー | C11: =事業所一覧!C548 -> 072-971-7888 | D11: =事業所一覧!D548 -> 072-971-7889 | E11: =事業所一覧!E548 -> 582-0009 | F11: =事業所一覧!F548 -> 柏原市大正三丁目２番33号 | G11: =事業所一覧!G548 -> 社会福祉法人明寿会 | H11: =事業所一覧!H548 -> 0 | ... N11: =事業所一覧!N548 -> 0
A12: =事業所一覧!A549 -> 2754620173 | B12: =事業所一覧!B549 -> にしむら小児科児童発達支援ことり | C12: =事業所一覧!C549 -> 072-976-6600 | D12: =事業所一覧!D549 -> 072-976-6601 | E12: =事業所一覧!E549 -> 582-0021 | F12: =事業所一覧!F549 -> 柏原市国分本町一丁目９番14号 | G12: =事業所一覧!G549 -> 医療法人涼楓会 | H12: =事業所一覧!H549 -> ● | ... N12: =事業所一覧!N549 -> 0
A13: =事業所一覧!A550 -> 2754620181 | B13: =事業所一覧!B550 -> TOMODACHI柏原 | C13: =事業所一覧!C550 -> 072-976-2020 | D13: =事業所一覧!D550 -> 072-976-2020 | E13: 582-0025 | F13: =事業所一覧!F550 -> 柏原市国分西二丁目1番15号マンション国分ウエスト1階4号室 | G13: =事業所一覧!G550 -> 株式会社エイル | H13: =事業所一覧!H550 -> ☆ | I13: =事業所一覧!I550 -> 5 | J13: =事業所一覧!J550 -> 0 | K13: =事業所一覧!K550 -> ☆ | L13: =事業所一覧!L550 -> 5 | M13: =事業所一覧!M550 -> 0 | N13: =事業所一覧!N550 -> 0
A14: =事業所一覧!A551 -> 2754620207 | B14: =事業所一覧!B551 -> 児童発達支援・放課後等デイサービス ヒロアス | C14: =事業所一覧!C551 -> 072-940-6413 | D14: =事業所一覧!D551 -> 072-940-6414 | E14: =事業所一覧!E551 -> 582-0019 | F14: =事業所一覧!F551 -> 柏原市平野一丁目12番８号 第２コーポ平野１階 106号 | G14: =事業所一覧!G551 -> 株式会社Ｔｉｅｓ | H14: =事業所一覧!H551 -> ● | ... N14: =事業所一覧!N551 -> 0
A15: =事業所一覧!A552 -> 2754620223 | B15: =事業所一覧!B552 -> 放課後等デイサービスそら | C15: =事業所一覧!C552 -> ０７２－９５９－５７００ | D15: =事業所一覧!D552 -> ０７２－９５９－５７０１ | E15: =事業所一覧!E552 -> 582-0021 | F15: =事業所一覧!F552 -> 柏原市国分本町七丁目８番25号 | G15: =事業所一覧!G552 -> 株式会社そら | H15: =事業所一覧!H552 -> ● | ... N15: =事業所一覧!N552 -> 0
A16: =事業所一覧!A553 -> 2754620231 | B16: =事業所一覧!B553 -> 児童デイサービスオハナ・ＣｈｅｅＨｏｏ | C16: =事業所一覧!C553 -> 072-973-6058 | D16: =事業所一覧!D553 -> 072-973-6059 | E16: =事業所一覧!E553 -> 581-0002 | F16: =事業所一覧!F553 -> 柏原市今町二丁目６番３号 | G16: =事業所一覧!G553 -> 一般社団法人Ｃｉｒｃｌｅ | H16: =事業所一覧!H553 -> ● | ... N16: =事業所一覧!N553 -> 0
A17: =事業所一覧!A554 -> 2754620249 | B17: =事業所一覧!B554 -> 児童発達支援・放課後等デイサービス ｅｋｕｂｏ Ｃｏｃｃｏ | C17: =事業所一覧!C554 -> 072-973-1192 | D17: =事業所一覧!D554 -> 072-973-1192 | E17: =事業所一覧!E554 -> 582-0018 | F17: =事業所一覧!F554 -> 柏原市大県一丁目１－１ ファミーユＴ＆Ｍ１階店舗北 | G17: =事業所一覧!G554 -> 株式会社ｒｕｓｏｎ | H17: =事業所一覧!H554 -> ● | ... N17: =事業所一覧!N554 -> 0
A18: =事業所一覧!A555 -> 2754620256 | B18: =事業所一覧!B555 -> グッドウィル ハグモア 柏原 | C18: =事業所一覧!C555 -> 072-973-6690 | D18: =事業所一覧!D555 -> - | E18: =事業所一覧!E555 -> 582-0016 | F18: =事業所一覧!F555 -> 柏原市安堂町13番32号 | G18: =事業所一覧!G555 -> 株式会社Ｔｈｅ Ｆｉｒｓｔ | H18: =事業所一覧!H555 -> ● | ... N18: =事業所一覧!N555 -> 0

Sheet 羽曳野市
A1: 羽曳野市 | N1: 市町村一覧に戻る
H2: ☆ 主として重症心身障がい児を通わせる事業所
A3: 事業所番号 | B3: 事業所名称 | C3: TEL | D3: FAX | E3: 〒 | F3: 所在地 | G3: 申請者 | H3: 児 | I3: 定員 | J3: 居 | K3: 放 | L3: 定員 | M3: 保 | N3: 備考
A4: =事業所一覧!A556 -> 2753820022 | B4: =事業所一覧!B556 -> ほまれっこ | C4: =事業所一覧!C556 -> 072-959-3262 | D4: =事業所一覧!D556 -> 072-957-2215 | E4: =事業所一覧!E556 -> 583-0841 | F4: =事業所一覧!F556 -> 羽曳野市駒ヶ谷106番地1 | G4: =事業所一覧!G556 -> 社会福祉法人ふたかみ福祉会 | H4: =事業所一覧!H556 -> 0 | ... N4: =事業所一覧!N556 -> 0
A5: =事業所一覧!A557 -> 2753820030 | B5: =事業所一覧!B557 -> 放課後等デイサービス(四天王寺悲田院児童発達支援センター) | C5: =事業所一覧!C557 -> 072-957-7516 | D5: =事業所一覧!D557 -> 072-950-1531 | E5: =事業所一覧!E557 -> 583-0868 | F5: =事業所一覧!F557 -> 羽曳野市学園前6丁目1番1号 | G5: =事業所一覧!G557 -> 社会福祉法人四天王寺福祉事業団 | H5: =事業所一覧!H557 -> 0 | ... N5: =事業所一覧!N557 -> 0
A6: =事業所一覧!A558 -> 2753820089 | B6: =事業所一覧!B558 -> 放課後等デイサービスほほえみ | C6: =事業所一覧!C558 -> 072-959-8688 | D6: =事業所一覧!D558 -> 072-959-8688 | E6: =事業所一覧!E558 -> 583-0881 | F6: =事業所一覧!F558 -> 羽曳野市島泉二丁目３番13号リバーサイドヒロハイム１階 | G6: =事業所一覧!G558 -> 株式会社ステラサポート | H6: =事業所一覧!H558 -> ● | ... N6: =事業所一覧!N558 -> 0
A7: =事業所一覧!A559 -> 2753820105 | B7: =事業所一覧!B559 -> ストーリー | C7: =事業所一覧!C559 -> 072-978-8336 | D7: =事業所一覧!D559 -> 072-978-8339 | E7: =事業所一覧!E559 -> 583-0872 | F7: =事業所一覧!F559 -> 羽曳野市はびきの三丁目10番４号ヴィラ桃山台１階店舗東側 | G7: =事業所一覧!G559 -> 株式会社バスター | H7: =事業所一覧!H559 -> ● | ... N7: =事業所一覧!N559 -> 0
A8: =事業所一覧!A560 -> 2753820113 | B8: =事業所一覧!B560 -> ＣＯＣＯはびきの | C8: =事業所一覧!C560 -> 072-933-5500 | D8: =事業所一覧!D560 -> 072-958-4186 | E8: =事業所一覧!E560 -> 583-0861 | F8: =事業所一覧!F560 -> 羽曳野市西浦三丁目11番12号１階 | G8: =事業所一覧!G560 -> 株式会社アイケアラ | H8: =事業所一覧!H560 -> ● | ... N8: =事業所一覧!N560 -> 0
A9: =事業所一覧!A561 -> 2753820139 | B9: =事業所一覧!B561 -> 療育ルームストーリー | C9: =事業所一覧!C561 -> 072-979-7800 | D9: =事業所一覧!D561 -> 072-979-7810 | E9: =事業所一覧!E561 -> 583-0884 | F9: =事業所一覧!F561 -> 羽曳野市野290番地の１ ２階 | G9: =事業所一覧!G561 -> 株式会社バスター | H9: =事業所一覧!H561 -> ● | ... N9: =事業所一覧!N561 -> 0
A10: =事業所一覧!A562 -> 2753820154 | B10: =事業所一覧!B562 -> さん | C10: =事業所一覧!C562 -> 072-959-2036 | D10: =事業所一覧!D562 -> 072-959-2037 | E10: =事業所一覧!E562 -> 583-0883 | F10: =事業所一覧!F562 -> 羽曳野市向野一丁目４番21号 | G10: =事業所一覧!G562 -> 株式会社三杉 | H10: =事業所一覧!H562 -> ☆ | ... N10: =事業所一覧!N562 -> 0
A11: =事業所一覧!A563 -> 2753820196 | B11: =事業所一覧!B563 -> ビーナスキッズはびきの | C11: =事業所一覧!C563 -> 072-959-7785 | D11: =事業所一覧!D563 -> 072-959-7795 | E11: =事業所一覧!E563 -> 583-0857 | F11: =事業所一覧!F563 -> 羽曳野市誉田三丁目２０-26 | G11: =事業所一覧!G563 -> 株式会社ビーナス | H11: =事業所一覧!H563 -> ● | ... N11: =事業所一覧!N563 -> 0
A12: =事業所一覧!A564 -> 2753820204 | B12: =事業所一覧!B564 -> 放課後等デイサービス ノーサイドはびきの | C12: =事業所一覧!C564 -> 072-978-8989 | D12: =事業所一覧!D564 -> 072-978-8990 | E12: =事業所一覧!E564 -> 583-0856 | F12: =事業所一覧!F564 -> 羽曳野市白鳥一丁目12番５号西谷ビル１階 | G12: =事業所一覧!G564 -> ＴＥＡＭＣＡＲＥ株式会社 | H12: =事業所一覧!H564 -> ● | ... N12: =事業所一覧!N564 -> 0
A13: =事業所一覧!A565 -> 2753820220 | B13: =事業所一覧!B565 -> 音楽療育特化型事業所 リズムストーリー | C13: =事業所一覧!C565 -> 072-959-6716 | D13: =事業所一覧!D565 -> 072-959-6717 | E13: =事業所一覧!E565 -> 583-0856 | F13: =事業所一覧!F565 -> 羽曳野市白鳥三丁目16番３号 セシル古市101号 | G13: =事業所一覧!G565 -> 株式会社バスター | H13: =事業所一覧!H565 -> ● | ... N13: =事業所一覧!N565 -> 0
A14: =事業所一覧!A566 -> 2753820261 | B14: =事業所一覧!B566 -> とも児童発達・放課後デイ事業所 | C14: =事業所一覧!C566 -> 072-954-0699 | D14: =事業所一覧!D566 -> 072-954-0699 | E14: =事業所一覧!E566 -> 583-0874 | F14: =事業所一覧!F566 -> 羽曳野市郡戸248番地の６ | G14: =事業所一覧!G566 -> たけ株式会社 | H14: =事業所一覧!H566 -> ● | ... N14: =事業所一覧!N566 -> 0
A15: =事業所一覧!A567 -> 2754820120 | B15: =事業所一覧!B567 -> リンク | C15: =事業所一覧!C567 -> 072-959-８６５０ | D15: =事業所一覧!D567 -> 072-959-8651 | E15: =事業所一覧!E567 -> 583-085４ | F15: =事業所一覧!F567 -> 羽曳野市軽里一丁目３番４号新栄プロパティー軽里23号 | G15: =事業所一覧!G567 -> 一般社団法人ココイク | H15: =事業所一覧!H567 -> 0 | ... N15: =事業所一覧!N567 -> 0
... A39: =事業所一覧!A591 -> 2753820576 | B39: =事業所一覧!B591 -> オルオルハウス 古市駅前 | C39: =事業所一覧!C591 -> 072-957-1700 | D39: =事業所一覧!D591 -> 072-957-1701 | E39: =事業所一覧!E591 -> 583-0853 | F39: =事業所一覧!F591 -> 羽曳野市栄町４番８号 新栄プロパティー古市駅前４階 | G39: =事業所一覧!G591 -> 株式会社ＬＡＵＬＥＡ | H39: =事業所一覧!H591 -> ● | ... N39: =事業所一覧!N591 -> 0

Sheet 門真市
A1: 門真市 | N1: 市町村一覧に戻る
H2: ☆ 主として重症心身障がい児を通わせる事業所
A3: 事業所番号 | B3: 事業所名称 | C3: TEL | D3: FAX | E3: 〒 | F3: 所在地 | G3: 申請者 | H3: 児 | I3: 定員 | J3: 居 | K3: 放 | L3: 定員 | M3: 保 | N3: 備考
A4: =事業所一覧!A592 -> 2752620027 | B4: =事業所一覧!B592 -> 放課後等デイサービスなかよしハウス | C4: =事業所一覧!C592 -> 06-6908-5151 | D4: =事業所一覧!D592 -> 06-6908-6161 | E4: =事業所一覧!E592 -> 571-0038 | F4: =事業所一覧!F592 -> 門真市柳田町７番２０号 シェルマンド薩摩１０１ | G4: =事業所一覧!G592 -> 株式会社志 | H4: =事業所一覧!H592 -> 0 | ... N4: =事業所一覧!N592 -> 0
A5: =事業所一覧!A593 -> 2752620035 | B5: =事業所一覧!B593 -> 放課後等デイサービスげんきハウス | C5: =事業所一覧!C593 -> 06-6907-5353 | D5: =事業所一覧!D593 -> 06-6907-6363 | E5: =事業所一覧!E593 -> 571-0048 | F5: =事業所一覧!F593 -> 門真市新橋町13-15サンリーフ21 １Ｆ | G5: =事業所一覧!G593 -> 株式会社志 | H5: =事業所一覧!H593 -> 0 | ... N5: =事業所一覧!N593 -> 0
A6: =事業所一覧!A594 -> 2752620043 | B6: =事業所一覧!B594 -> 門真市障がい者福祉センター放課後等デイサービスすてっぷ | C6: =事業所一覧!C594 -> 06-6904-6812 | D6: =事業所一覧!D594 -> 06-6904-6840 | E6: =事業所一覧!E594 -> 571-0064 | F6: =事業所一覧!F594 -> 門真市御堂町14番１号 | G6: =事業所一覧!G594 -> 株式会社オールケアライフ | H6: =事業所一覧!H594 -> 0 | ... N6: =事業所一覧!N594 -> 0
A7: =事業所一覧!A595 -> 2752620068 | B7: =事業所一覧!B595 -> キッズ・レインボー | C7: =事業所一覧!C595 -> 06-7165-7978 | D7: =事業所一覧!D595 -> 06-7161-3968 | E7: =事業所一覧!E595 -> 571-0046 | F7: =事業所一覧!F595 -> 門真市本町14番13号 | G7: =事業所一覧!G595 -> 特定非営利活動法人門真市手をつなぐ育成会 | H7: =事業所一覧!H595 -> ● | ... N7: =事業所一覧!N595 -> 0
A8: =事業所一覧!A596 -> 2752620076 | B8: =事業所一覧!B596 -> ジェイ・エスステージジュニア | C8: =事業所一覧!C596 -> 072-884-1606 | D8: =事業所一覧!D596 -> 072-884-９７７９ | E8: =事業所一覧!E596 -> 571-0013 | F8: =事業所一覧!F596 -> 門真市下馬伏町15番22号 | G8: =事業所一覧!G596 -> 社会福祉法人門真共生福祉会 | H8: =事業所一覧!H596 -> 0 | ... N8: =事業所一覧!N596 -> 0
A9: =事業所一覧!A597 -> 2752620084 | B9: =事業所一覧!B597 -> ＹＣＣこども教育研究所きらきら | C9: =事業所一覧!C597 -> 072-812-2443 | D9: =事業所一覧!D597 -> 072-812-2443 | E9: =事業所一覧!E597 -> 571-0078 | F9: =事業所一覧!F597 -> 門真市常盤町７番８号１－Ｂ | G9: =事業所一覧!G597 -> 一般社団法人ＹＣＣこども教育研究所 | H9: =事業所一覧!H597 -> ● | ... N9: =事業所一覧!N597 -> 0
A10: =事業所一覧!A598 -> 2752620100 | B10: =事業所一覧!B598 -> チャイルドハート門真駅前学館 | C10: =事業所一覧!C598 -> 06-6780-4392 | D10: =事業所一覧!D598 -> 06-6780-4393 | E10: =事業所一覧!E598 -> 571-0048 | F10: =事業所一覧!F598 -> 門真市新橋町15番１号リーフスタイル門真１階 | G10: =事業所一覧!G598 -> 株式会社キッズエデュケーション | H10: =事業所一覧!H598 -> ● | ... N10: =事業所一覧!N598 -> 0
A11: =事業所一覧!A599 -> 2752620118 | B11: =事業所一覧!B599 -> ＹＣＣもこもこ大和田教室 | C11: =事業所一覧!C599 -> 072-885-3320 | D11: =事業所一覧!D599 -> 072-885-3330 | E11: =事業所一覧!E599 -> 571-0079 | F11: =事業所一覧!F599 -> 門真市常称寺町17-14 川島第11ビル105 | G11: =事業所一覧!G599 -> 株式会社One Vision | H11: =事業所一覧!H599 -> ● | ... N11: =事業所一覧!N599 -> 0
A12: =事業所一覧!A600 -> 2752620126 | B12: =事業所一覧!B600 -> ハッピーテラス門真教室 | C12: =事業所一覧!C600 -> 06-6115-5700 | D12: =事業所一覧!D600 -> 06-6115-5466 | E12: =事業所一覧!E600 -> 571-0030 | F12: =事業所一覧!F600 -> 門真市末広町17番18号ポケットアベニュー１階 | G12: =事業所一覧!G600 -> 株式会社十全 | H12: =事業所一覧!H600 -> ● | ... N12: =事業所一覧!N600 -> 0
A13: =事業所一覧!A601 -> 2752620134 | B13: =事業所一覧!B601 -> チャイルドハート門真学館 | C13: =事業所一覧!C601 -> 06-4304-4428 | D13: =事業所一覧!D601 -> 06-4304-4429 | E13: =事業所一覧!E601 -> 571-0048 | F13: =事業所一覧!F601 -> 門真市新橋町16番５号グレイス辻本１階 | G13: =事業所一覧!G601 -> 株式会社キッズエデュケーション | H13: =事業所一覧!H601 -> 0 | ... N13: =事業所一覧!N601 -> 0
A14: =事業所一覧!A602 -> 2752620142 | B14: =事業所一覧!B602 -> ファミリアキッズ門真 | C14: =事業所一覧!C602 -> 06-6780-3800 | D14: =事業所一覧!D602 -> 06-6780-3811 | E14: =事業所一覧!E602 -> 571-0054 | F14: =事業所一覧!F602 -> 門真市浜町６番19号高栄マンション１階 | G14: =事業所一覧!G602 -> 株式会社Ｓ＆Ｓ | H14: =事業所一覧!H602 -> ● | ... N14: =事業所一覧!N602 -> 0
A15: =事業所一覧!A603 -> 2752620167 | B15: =事業所一覧!B603 -> 療育教室門真校 | C15: =事業所一覧!C603 -> 072-887-5656 | D15: =事業所一覧!D603 -> 072-887-5657 | E15: =事業所一覧!E603 -> 571-0074 | F15: =事業所一覧!F603 -> 門真市宮前町２番19号 | G15: =事業所一覧!G603 -> 株式会社教育サポート | H15: =事業所一覧!H603 -> 0 | ... N15: =事業所一覧!N603 -> 0
... A34: =事業所一覧!A622 -> 2752620407 | B34: =事業所一覧!B622 -> 児童発達支援ｕｍｂｒｅｌｌａ | C34: =事業所一覧!C622 -> 072-813-5864 | D34: =事業所一覧!D622 -> - | E34: =事業所一覧!E622 -> 571-0079 | F34: =事業所一覧!F622 -> 門真市野里町９番９号サンワビル301 | G34: =事業所一覧!G622 -> 株式会社ユニバーサルケア | H34: =事業所一覧!H622 -> ● | ... N34: =事業所一覧!N622 -> 0

Sheet 摂津市
A1: 摂津市 | N1: 市町村一覧に戻る
H2: ☆ 主として重症心身障がい児を通わせる事業所
A3: 事業所番号 | B3: 事業所名称 | C3: TEL | D3: FAX | E3: 〒 | F3: 所在地 | G3: 申請者 | H3: 児 | I3: 定員 | J3: 居 | K3: 放 | L3: 定員 | M3: 保 | N3: 備考
A4: =事業所一覧!A623 -> 2753720016 | B4: =事業所一覧!B623 -> 摂津市立めばえ園 | C4: =事業所一覧!C623 -> 072-654-9200 | D4: =事業所一覧!D623 -> 072-654-9200 | E4: =事業所一覧!E623 -> 566-0071 | F4: =事業所一覧!F623 -> 摂津市鳥飼下二丁目1番4号 | G4: =事業所一覧!G623 -> 摂津市 | H4: =事業所一覧!H623 -> ● | ... N4: =事業所一覧!N623 -> 0
A5: =事業所一覧!A624 -> 2753720024 | B5: =事業所一覧!B624 -> 児童デイサービス癒す手 | C5: =事業所一覧!C624 -> 072-629-1412 | D5: =事業所一覧!D624 -> 072-629-1412 | E5: =事業所一覧!E624 -> 566-0011 | F5: =事業所一覧!F624 -> 摂津市千里丘東二丁目6番19号 | G5: =事業所一覧!G624 -> 有限会社イヤステ | H5: =事業所一覧!H624 -> ● | ... N5: =事業所一覧!N624 -> 0
A6: =事業所一覧!A625 -> 2753720057 | B6: =事業所一覧!B625 -> デイサービスおとは摂津児童館 | C6: =事業所一覧!C625 -> 072-654-0555 | D6: =事業所一覧!D625 -> 072-654-6660 | E6: =事業所一覧!E625 -> 566-0063 | F6: =事業所一覧!F625 -> 摂津市鳥飼銘木町7番11号 | G6: =事業所一覧!G625 -> 株式会社ｍｏｏｎｊｅｌｌｙｃｏｍｐａｎｙ | H6: =事業所一覧!H625 -> ● | ... N6: =事業所一覧!N625 -> 0
A7: =事業所一覧!A626 -> 2753720073 | B7: =事業所一覧!B626 -> 障がい児通所支援北摂ぴょんぴょん教室 | C7: =事業所一覧!C626 -> 06-6155-6503 | D7: =事業所一覧!D626 -> 06-6155-6503 | E7: =事業所一覧!E626 -> 566-0024 | F7: =事業所一覧!F626 -> 摂津市正雀本町二丁目21番1号イー・ティー・ワンビル２階 | G7: =事業所一覧!G626 -> 社会福祉法人大阪府肢体不自由者協会 | H7: =事業所一覧!H626 -> ● | ... N7: =事業所一覧!N626 -> 0
A8: =事業所一覧!A627 -> 2753720081 | B8: =事業所一覧!B627 -> おかえりホームきゅら海 | C8: =事業所一覧!C627 -> 072-665-5000 | D8: =事業所一覧!D627 -> 072-665-5111 | E8: =事業所一覧!E627 -> 566-0064 | F8: =事業所一覧!F627 -> 摂津市鳥飼中二丁目４番36号101 | G8: =事業所一覧!G627 -> 一般社団法人あまみ徳之島ライフサポート | H8: =事業所一覧!H627 -> 0 | ... N8: =事業所一覧!N627 -> 0
A9: =事業所一覧!A628 -> 2753720099 | B9: =事業所一覧!B628 -> とことこ | C9: =事業所一覧!C628 -> 06-6155-4448 | D9: =事業所一覧!D628 -> 06-6155-4551 | E9: =事業所一覧!E628 -> 566-0001 | F9: =事業所一覧!F628 -> 摂津市千里丘七丁目10番24号アメニティ・ブワ201号・205号 | G9: =事業所一覧!G628 -> ＮＰＯ法人Ｖｉｅｗぷらす | H9: =事業所一覧!H628 -> ● | ... N9: =事業所一覧!N628 -> 0
A10: =事業所一覧!A629 -> 2753720107 | B10: =事業所一覧!B629 -> 学園町学童デイホーム遊育園 | C10: =事業所一覧!C629 -> 072-665-9125 | D10: =事業所一覧!D629 -> 072-665-9126 | E10: =事業所一覧!E629 -> 566-0033 | F10: =事業所一覧!F629 -> 摂津市学園町一丁目２番33号フェルティ摂津１Ｆ | G10: =事業所一覧!G629 -> 社会福祉法人桃林会 | H10: =事業所一覧!H629 -> ● | ... N10: =事業所一覧!N629 -> 0
A11: =事業所一覧!A630 -> 2753720131 | B11: =事業所一覧!B630 -> 鳥飼東学童デイホーム遊育園 | C11: =事業所一覧!C630 -> 072-650-5530 | D11: =事業所一覧!D630 -> 072-650-5535 | E11: =事業所一覧!E630 -> 566-0062 | F11: =事業所一覧!F630 -> 摂津市鳥飼上三丁目２番27号 | G11: =事業所一覧!G630 -> 社会福祉法人桃林会 | H11: =事業所一覧!H630 -> ● | ... N11: =事業所一覧!N630 -> 0
A12: =事業所一覧!A631 -> 2753720149 | B12: =事業所一覧!B631 -> わくわくクラブ千里丘校 | C12: =事業所一覧!C631 -> 06-6338-2022 | D12: =事業所一覧!D631 -> 06-6338-2033 | E12: =事業所一覧!E631 -> 566-0001 | F12: =事業所一覧!F631 -> 摂津市千里丘一丁目13番27号都ビル５階 | G12: =事業所一覧!G631 -> 株式会社興学社 | H12: =事業所一覧!H631 -> ● | ... N12: =事業所一覧!N631 -> 0
A13: =事業所一覧!A632 -> 2753720164 | B13: =事業所一覧!B632 -> リールスメイト千里丘 | C13: =事業所一覧!C632 -> 06-7176-1321 | D13: =事業所一覧!D632 -> 06-7176-1322 | E13: =事業所一覧!E632 -> 566-0001 | F13: =事業所一覧!F632 -> 摂津市千里丘五丁目３番17号セントマンションむらやま101号室 | G13: =事業所一覧!G632 -> 株式会社ケア２１ | H13: =事業所一覧!H632 -> ● | ... N13: =事業所一覧!N632 -> 0
A14: =事業所一覧!A633 -> 2753720172 | B14: =事業所一覧!B633 -> リールスメイト摂津別府 | C14: =事業所一覧!C633 -> 06-7175-1621 | D14: =事業所一覧!D633 -> 06-7175-1622 | E14: =事業所一覧!E633 -> 566-0042 | F14: =事業所一覧!F633 -> 摂津市東別府二丁目8番1号 | G14: =事業所一覧!G633 -> 株式会社ケア２１ | H14: =事業所一覧!H633 -> ● | ... N14: =事業所一覧!N633 -> 0
A15: =事業所一覧!A634 -> 2753720198 | B15: =事業所一覧!B634 -> 発達支援スペース遊育園 | C15: =事業所一覧!C634 -> 06-6382-0311 | D15: =事業所一覧!D634 -> 06-6382-0316 | E15: =事業所一覧!E634 -> 566-0022 | F15: =事業所一覧!F634 -> 摂津市三島三丁目15番２号 ２階 | G15: =事業所一覧!G634 -> 社会福祉法人桃林会 | H15: =事業所一覧!H634 -> ● | ... N15: =事業所一覧!N634 -> 0
... A28: =事業所一覧!A647 -> 2753720347 | B28: =事業所一覧!B647 -> はーもにー広場 | C28: =事業所一覧!C647 -> 072-648-5718 | D28: =事業所一覧!D647 -> 072-648-5719 | E28: =事業所一覧!E647 -> 566-0053 | F28: =事業所一覧!F647 -> 摂津市鳥飼野々一丁目30番６号 TK01TORIKAI２階 | G28: =事業所一覧!G647 -> 株式会社幸育 | H28: =事業所一覧!H647 -> ● | ... N28: =事業所一覧!N647 -> 0

Sheet 高石市
A1: 高石市 | N1: 市町村一覧に戻る
H2: ☆ 主として重症心身障がい児を通わせる事業所
A3: 事業所番号 | B3: 事業所名称 | C3: TEL | D3: FAX | E3: 〒 | F3: 所在地 | G3: 申請者 | H3: 児 | I3: 定員 | J3: 居 | K3: 放 | L3: 定員 | M3: 保 | N3: 備考
A4: =事業所一覧!A648 -> 2755320039 | B4: =事業所一覧!B648 -> フレンド | C4: =事業所一覧!C648 -> 072-275-6830 | D4: =事業所一覧!D648 -> 072-275-6831 | E4: =事業所一覧!E648 -> 592-0014 | F4: =事業所一覧!F648 -> 高石市綾園二丁目２番９号 | G4: =事業所一覧!G648 -> フレンズ株式会社 | H4: =事業所一覧!H648 -> ● | ... N4: =事業所一覧!N648 -> 0
A5: =事業所一覧!A649 -> 2755320054 | B5: =事業所一覧!B649 -> きらとまなぶ | C5: =事業所一覧!C649 -> 072-275-6974 | D5: =事業所一覧!D649 -> 072-275-6984 | E5: =事業所一覧!E649 -> 592-0014 | F5: =事業所一覧!F649 -> 高石市綾園一丁目12番14号玉置ビル1階(101号) | G5: =事業所一覧!G649 -> 株式会社ｃｌａｕｄｉａ | H5: =事業所一覧!H649 -> ● | ... N5: =事業所一覧!N649 -> 0
A6: =事業所一覧!A650 -> 2755320062 | B6: =事業所一覧!B650 -> 児童デイサービススカイ | C6: =事業所一覧!C650 -> 072-350-2508 | D6: =事業所一覧!D650 -> 072-350-2513 | E6: =事業所一覧!E650 -> 592-0014 | F6: =事業所一覧!F650 -> 高石市綾園二丁目２番７号中田ビル101号室 | G6: =事業所一覧!G650 -> 合同会社コネクト | H6: =事業所一覧!H650 -> ☆ | ... N6: =事業所一覧!N650 -> 0
A7: =事業所一覧!A651 -> 2755320070 | B7: =事業所一覧!B651 -> 泉嶺ホーム高石園 | C7: =事業所一覧!C651 -> 072-266-0056 | D7: =事業所一覧!D651 -> 072-277-0325 | E7: =事業所一覧!E651 -> 592-0012 | F7: =事業所一覧!F651 -> 高石市西取石一丁目16番11号コーポ富之里103号室 | G7: =事業所一覧!G651 -> 社会福祉法人南湖会 | H7: =事業所一覧!H651 -> 0 | ... N7: =事業所一覧!N651 -> 0
A8: =事業所一覧!A652 -> 2755320096 | B8: =事業所一覧!B652 -> 児童発達支援・放課後等デイサービスはぐハウス | C8: =事業所一覧!C652 -> 072-265-5505 | D8: =事業所一覧!D652 -> 072-265-5506 | E8: =事業所一覧!E652 -> 592-0002 | F8: =事業所一覧!F652 -> 高石市羽衣三丁目２番３号ＲＩＳＥ羽衣Ａ号室 | G8: =事業所一覧!G652 -> ＩＯＳメディカルケア株式会社 | H8: =事業所一覧!H652 -> ☆ | ... N8: =事業所一覧!N652 -> 0
A9: =事業所一覧!A653 -> 2755320104 | B9: =事業所一覧!B653 -> ｇｒａｃｅ | C9: =事業所一覧!C653 -> 072-262-0011 | D9: =事業所一覧!D653 -> 072-242-8867 | E9: =事業所一覧!E653 -> 592-0003 | F9: =事業所一覧!F653 -> 高石市東羽衣三丁目15番地26 | G9: =事業所一覧!G653 -> 一般社団法人総合福祉支援活動の会 | H9: =事業所一覧!H653 -> 0 | ... N9: =事業所一覧!N653 -> 0
A10: =事業所一覧!A654 -> 2755320112 | B10: =事業所一覧!B654 -> きらとまなぶ らいふ | C10: =事業所一覧!C654 -> 072-267-4245 | D10: =事業所一覧!D654 -> 072-267-4246 | E10: =事業所一覧!E654 -> 592-0005 | F10: =事業所一覧!F654 -> 高石市千代田一丁目26番17号(102号) | G10: =事業所一覧!G654 -> 株式会社ｃｌａｕｄｉａ | H10: =事業所一覧!H654 -> ● | ... N10: =事業所一覧!N654 -> 0
A11: =事業所一覧!A655 -> 2755320120 | B11: =事業所一覧!B655 -> 児童デイサービス こもっこ | C11: =事業所一覧!C655 -> 072-276-4882 | D11: =事業所一覧!D655 -> 072-276-4883 | E11: =事業所一覧!E655 -> 592-0005 | F11: =事業所一覧!F655 -> 高石市千代田三丁目10番21号 | G11: =事業所一覧!G655 -> 株式会社 栄拓 | H11: =事業所一覧!H655 -> ☆ | ... N11: =事業所一覧!N655 -> 0
A12: =事業所一覧!A656 -> 2755320138 | B12: =事業所一覧!B656 -> マーブル高石校 | C12: =事業所一覧!C656 -> 0 | D12: =事業所一覧!D656 -> 0 | E12: =事業所一覧!E656 -> 592-0005 | F12: =事業所一覧!F656 -> 高石市千代田一丁目８番20号 Ｋ・Ｋビル２階 | G12: =事業所一覧!G656 -> 株式会社マーブル | H12: =事業所一覧!H656 -> 0 | ... N12: =事業所一覧!N656 -> 0
A13: =事業所一覧!A657 -> 2755320146 | B13: =事業所一覧!B657 -> 児童発達支援・放課後等デイサービス ＰＯＰＯ | C13: =事業所一覧!C657 -> 072-267-1101 | D13: =事業所一覧!D657 -> 072-267-1102 | E13: =事業所一覧!E657 -> 592-0005 | F13: =事業所一覧!F657 -> 高石市千代田五丁目１番36号 | G13: =事業所一覧!G657 -> 株式会社ＴＲＥＥ | H13: =事業所一覧!H657 -> ● | ... N13: =事業所一覧!N657 -> 0
A14: =事業所一覧!A658 -> 2755320161 | B14: =事業所一覧!B658 -> オリーブまなびの家 | C14: =事業所一覧!C658 -> 072-242-4904 | D14: =事業所一覧!D658 -> 072-242-4905 | E14: =事業所一覧!E658 -> 592-0005 | F14: =事業所一覧!F658 -> 高石市千代田六丁目12番９号 | G14: =事業所一覧!G658 -> 株式会社オリーブ | H14: =事業所一覧!H658 -> ● | ... N14: =事業所一覧!N658 -> 0
A15: =事業所一覧!A659 -> 2755320179 | B15: =事業所一覧!B659 -> スポーツアカデミー高石 | C15: =事業所一覧!C659 -> 072-247-7274 | D15: =事業所一覧!D659 -> 072-247-7142 | E15: =事業所一覧!E659 -> 592-0014 | F15: =事業所一覧!F659 -> 高石市綾園七丁目3番35号櫛谷ビル101 | G15: =事業所一覧!G659 -> 株式会社赤い糸 | H15: =事業所一覧!H659 -> ● | ... N15: =事業所一覧!N659 -> 0
... A20: =事業所一覧!A664 -> 2755320229 | B20: =事業所一覧!B664 -> フレンドぷらす | C20: =事業所一覧!C664 -> 072-275-6830 | D20: =事業所一覧!D664 -> 072-275-6831 | E20: =事業所一覧!E664 -> 592-0014 | F20: =事業所一覧!F664 -> 高石市綾園二丁目１番40号 | G20: =事業所一覧!G664 -> フレンズ株式会社 | H20: =事業所一覧!H664 -> ● | ... N20: =事業所一覧!N664 -> 0

Sheet 藤井寺市
A1: 藤井寺市 | N1: 市町村一覧に戻る
H2: ☆ 主として重症心身障がい児を通わせる事業所
A3: 事業所番号 | B3: 事業所名称 | C3: TEL | D3: FAX | E3: 〒 | F3: 所在地 | G3: 申請者 | H3: 児 | I3: 定員 | J3: 居 | K3: 放 | L3: 定員 | M3: 保 | N3: 備考
A4: =事業所一覧!A665 -> 2753420013 | B4: =事業所一覧!B665 -> ぽんぽこはうす | C4: =事業所一覧!C665 -> 072-926-8088 | D4: =事業所一覧!D665 -> 072-926-8089 | E4: =事業所一覧!E665 -> 583-0011 | F4: =事業所一覧!F665 -> 藤井寺市沢田一丁目26番32号 | G4: =事業所一覧!G665 -> 株式会社ＰＲＯｍｅｓｓａ | H4: =事業所一覧!H665 -> ● | ... N4: =事業所一覧!N665 -> 0
A5: =事業所一覧!A666 -> 2753420021 | B5: =事業所一覧!B666 -> Ｔｉｃｋｌｅ Ｔｉｃｋｌｅ | C5: =事業所一覧!C666 -> 072-926-8340 | D5: =事業所一覧!D666 -> 072-926-8340 | E5: =事業所一覧!E666 -> 583-0035 | F5: =事業所一覧!F666 -> 藤井寺市北岡一丁目３番10号 | G5: =事業所一覧!G666 -> 合同会社稲康会 | H5: =事業所一覧!H666 -> 0 | ... N5: =事業所一覧!N666 -> 0
A6: =事業所一覧!A667 -> 2753420047 | B6: =事業所一覧!B667 -> ぽんぽこはうす２ | C6: =事業所一覧!C667 -> 072-921-6266 | D6: =事業所一覧!D667 -> 072-921-6266 | E6: =事業所一覧!E667 -> 583-0008 | F6: =事業所一覧!F667 -> 藤井寺市大井一丁目４番33号 | G6: =事業所一覧!G667 -> 株式会社ＰＲＯmessa | H6: =事業所一覧!H667 -> ● | ... N6: =事業所一覧!N667 -> 0
A7: =事業所一覧!A668 -> 2753420096 | B7: =事業所一覧!B668 -> ぽんぽこはうすPROSSIMO | C7: =事業所一覧!C668 -> 072-974-2153 | D7: =事業所一覧!D668 -> 072-974-2153 | E7: =事業所一覧!E668 -> 583-0035 | F7: =事業所一覧!F668 -> 藤井寺市北岡一丁目1番13号2C | G7: =事業所一覧!G668 -> 株式会社ＰＲＯmessa | H7: =事業所一覧!H668 -> 0 | ... N7: =事業所一覧!N668 -> 0
A8: =事業所一覧!A669 -> 2753420138 | B8: =事業所一覧!B669 -> ビーナスキッズふじいでら | C8: =事業所一覧!C669 -> 072-959-5632 | D8: =事業所一覧!D669 -> 072-959-6233 | E8: =事業所一覧!E669 -> 583-0007 | F8: =事業所一覧!F669 -> 藤井寺市林三丁目12番10号 ２階 | G8: =事業所一覧!G669 -> 株式会社ビーナス | H8: =事業所一覧!H669 -> ● | ... N8: =事業所一覧!N669 -> 0
A9: =事業所一覧!A670 -> 2753420161 | B9: =事業所一覧!B670 -> ぽんぽこはうすluce | C9: =事業所一覧!C670 -> 072-927-0014 | D9: =事業所一覧!D670 -> 072-927-0014 | E9: =事業所一覧!E670 -> 583-0008 | F9: =事業所一覧!F670 -> 藤井寺市大井二丁目５番10号 ２階 | G9: =事業所一覧!G670 -> 株式会社PROmessa | H9: =事業所一覧!H670 -> ● | ... N9: =事業所一覧!N670 -> 0
A10: =事業所一覧!A671 -> 2753420179 | B10: =事業所一覧!B671 -> ＬＩＦＥ ＳＴＡＮＤ ＵＰ | C10: =事業所一覧!C671 -> 072-959-7337 | D10: =事業所一覧!D671 -> 072-959-7739 | E10: =事業所一覧!E671 -> 583-0014 | F10: =事業所一覧!F671 -> 藤井寺市野中一丁目97番地１第３セイワビル２－１Ａ号室 | G10: =事業所一覧!G671 -> 株式会社ＩＬＩＦＥ | H10: =事業所一覧!H671 -> 0 | ... N10: =事業所一覧!N671 -> 0
A11: =事業所一覧!A672 -> 2753420187 | B11: =事業所一覧!B672 -> 就労準備型放課後等デイサービス グラン | C11: =事業所一覧!C672 -> 072-959-6636 | D11: =事業所一覧!D672 -> 072-959-6635 | E11: =事業所一覧!E672 -> 583-0017 | F11: =事業所一覧!F672 -> 藤井寺市藤ケ丘二丁目６番12号藤ヶ丘ハイツ１Ｆ－１ | G11: =事業所一覧!G672 -> 合同会社リアン | H11: =事業所一覧!H672 -> ● | ... N11: =事業所一覧!N672 -> 0
A12: =事業所一覧!A673 -> 2753420195 | B12: =事業所一覧!B673 -> リハこどもセンター オハナＫＩＤＳ | C12: =事業所一覧!C673 -> 072-931-6530 | D12: =事業所一覧!D673 -> 0 | E12: =事業所一覧!E673 -> 583-0011 | F12: =事業所一覧!F673 -> 藤井寺市沢田二丁目9番31号 | G12: =事業所一覧!G673 -> 合同会社 ｈａｎａｈａｎａ | H12: =事業所一覧!H673 -> ● | ... N12: =事業所一覧!N673 -> 0
A13: =事業所一覧!A674 -> 2753420203 | B13: =事業所一覧!B674 -> Snuggle UP | C13: =事業所一覧!C674 -> 072-976-5803 | D13: =事業所一覧!D674 -> 072-976-5804 | E13: =事業所一覧!E674 -> 583-0024 | F13: =事業所一覧!F674 -> 藤井寺市藤井寺二丁目6番3号2階201・202・２０３号室 | G13: =事業所一覧!G674 -> 株式会社 ＫＯｈＨＡＫＵ | H13: =事業所一覧!H674 -> ● | ... N13: =事業所一覧!N674 -> 0
A14: =事業所一覧!A675 -> 2753420237 | B14: =事業所一覧!B675 -> ぽんぽこはうすｃｕｏｒｅ | C14: =事業所一覧!C675 -> 080-8316-4555 | D14: =事業所一覧!D675 -> 0 | E14: =事業所一覧!E675 -> 583-0008 | F14: =事業所一覧!F675 -> 藤井寺市大井一丁目４番32号102号室 | G14: =事業所一覧!G675 -> 株式会社PROmessa | H14: =事業所一覧!H675 -> ● | ... N14: =事業所一覧!N675 -> 0
A15: =事業所一覧!A676 -> 2753420229 | B15: =事業所一覧!B676 -> Ｔｉｃｋｌｅ Ｔｉｃｋｌｅ Ｓｗｉｔｃｈ | C15: =事業所一覧!C676 -> 072-915-0373 | D15: =事業所一覧!D676 -> 072-926-6659 | E15: =事業所一覧!E676 -> 583-0014 | F15: =事業所一覧!F676 -> 藤井寺市野中三丁目２番17号 庸浩倉庫 | G15: =事業所一覧!G676 -> 合同会社稲康会 | H15: =事業所一覧!H676 -> 0 | ... N15: =事業所一覧!N676 -> 0
... A24: =事業所一覧!A685 -> 2753420336 | B24: =事業所一覧!B685 -> 発達支援つむぎ 道明寺ルーム | C24: =事業所一覧!C685 -> 072-979-3330 | D24: =事業所一覧!D685 -> 072-979-3332 | E24: =事業所一覧!E685 -> 583-0012 | F24: =事業所一覧!F685 -> 藤井寺市道明寺六丁目16番12号 | G24: =事業所一覧!G685 -> 社会福祉法人どろんこ会 | H24: =事業所一覧!H685 -> ● | ... N24: =事業所一覧!N685 -> 0

Sheet 泉南市
A1: 泉南市 | N1: 市町村一覧に戻る
H2: ☆ 主として重症心身障がい児を通わせる事業所
A3: 事業所番号 | B3: 事業所名称 | C3: TEL | D3: FAX | E3: 〒 | F3: 所在地 | G3: 申請者 | H3: 児 | I3: 定員 | J3: 居 | K3: 放 | L3: 定員 | M3: 保 | N3: 備考
A4: =事業所一覧!A686 -> 2755620024 | B4: こころneo | C4: =事業所一覧!C686 -> 072-474-9556 | D4: =事業所一覧!D686 -> 072-474-8556 | E4: =事業所一覧!E686 -> 590-0505 | F4: =事業所一覧!F686 -> 泉南市信達大苗代252番地 | G4: =事業所一覧!G686 -> 特定非営利活動法人地域福祉創造協会ウインク | H4: ● | I4: 10 | J4: =事業所一覧!J686 -> 0 | K4: ● | L4: 10 | M4: =事業所一覧!M686 -> 0 | N4: =事業所一覧!N686 -> 0
A5: =事業所一覧!A687 -> 2755620040 | B5: =事業所一覧!B687 -> こころｐｌｕｓ | C5: =事業所一覧!C687 -> 072-486-5562 | D5: =事業所一覧!D687 -> 072-486-5561 | E5: =事業所一覧!E687 -> 590-0505 | F5: =事業所一覧!F687 -> 泉南市樽井二丁目21-3 | G5: =事業所一覧!G687 -> 特定非営利活動法人地域福祉創造協会ウインク | H5: =事業所一覧!H687 -> ● | ... N5: =事業所一覧!N687 -> 0
A6: =事業所一覧!A688 -> 2755620065 | B6: =事業所一覧!B688 -> デイセンターわくわく | C6: =事業所一覧!C688 -> 072-483-3082 | D6: =事業所一覧!D688 -> 072-483-9553 | E6: =事業所一覧!E688 -> 590-0504 | F6: =事業所一覧!F688 -> 泉南市信達市場1222番地12 | G6: =事業所一覧!G688 -> 社会福祉法人いずみ野福祉会 | H6: =事業所一覧!H688 -> 0 | ... N6: =事業所一覧!N688 -> 0
A7: =事業所一覧!A689 -> 2755620073 | B7: =事業所一覧!B689 -> こころPal | C7: =事業所一覧!C689 -> 072-483-5568 | D7: =事業所一覧!D689 -> 072-483-5569 | E7: =事業所一覧!E689 -> 590-0505 | F7: =事業所一覧!F689 -> 泉南市信達大苗代249番地 | G7: =事業所一覧!G689 -> 特定非営利活動法人地域福祉創造協会ウインク | H7: =事業所一覧!H689 -> 0 | ... N7: =事業所一覧!N689 -> 0
A8: =事業所一覧!A690 -> 2755620081 | B8: =事業所一覧!B690 -> オーパ | C8: =事業所一覧!C690 -> 072-483-0817 | D8: =事業所一覧!D690 -> 072-483-0818 | E8: =事業所一覧!E690 -> 590-0522 | F8: =事業所一覧!F690 -> 泉南市信達牧野164番地４ | G8: =事業所一覧!G690 -> 株式会社ＧＥＮ | H8: =事業所一覧!H690 -> 0 | ... N8: =事業所一覧!N690 -> 0
A9: =事業所一覧!A691 -> 2755620099 | B9: =事業所一覧!B691 -> サクラッコ | C9: =事業所一覧!C691 -> 072-415-4879 | D9: =事業所一覧!D691 -> 072-415-2686 | E9: =事業所一覧!E691 -> 590-0503 | F9: =事業所一覧!F691 -> 泉南市新家1495番地の１ | G9: =事業所一覧!G691 -> 社会福祉法人桜花会 | H9: =事業所一覧!H691 -> 0 | ... N9: =事業所一覧!N691 -> 0
A10: =事業所一覧!A692 -> 2755620107 | B10: =事業所一覧!B692 -> せんなんケアキッズ | C10: =事業所一覧!C692 -> 072-480-6333 | D10: =事業所一覧!D692 -> 072-480-6332 | E10: =事業所一覧!E692 -> 590-0522 | F10: =事業所一覧!F692 -> 泉南市信達牧野934番地 | G10: =事業所一覧!G692 -> デイキッズ株式会社 | H10: =事業所一覧!H692 -> ● | ... N10: =事業所一覧!N692 -> 0
A11: =事業所一覧!A693 -> 2755620115 | B11: =事業所一覧!B693 -> オーパ・サード | C11: =事業所一覧!C693 -> 072-483-0812 | D11: =事業所一覧!D693 -> 072-483-0813 | E11: =事業所一覧!E693 -> 590-0522 | F11: =事業所一覧!F693 -> 泉南市信達牧野164番地１ | G11: =事業所一覧!G693 -> 株式会社ＧＥＮ | H11: =事業所一覧!H693 -> 0 | ... N11: =事業所一覧!N693 -> 0
A12: =事業所一覧!A694 -> 2755620131 | B12: =事業所一覧!B694 -> オーパ・セカンド | C12: =事業所一覧!C694 -> 072-479-7775 | D12: =事業所一覧!D694 -> 072-479-7778 | E12: =事業所一覧!E694 -> 590-0522 | F12: =事業所一覧!F694 -> 泉南市信達牧野167番地１向井ビル２階 | G12: =事業所一覧!G694 -> 株式会社ＧＥＮ | H12: =事業所一覧!H694 -> 0 | ... N12: =事業所一覧!N694 -> 0
A13: =事業所一覧!A695 -> 2755620149 | B13: =事業所一覧!B695 -> いいねせんなん | C13: =事業所一覧!C695 -> 072-484-1171 | D13: =事業所一覧!D695 -> 072-484-1172 | E13: =事業所一覧!E695 -> 590-0521 | F13: =事業所一覧!F695 -> 泉南市樽井二丁目17番６号 | G13: =事業所一覧!G695 -> いいね合同会社 | H13: =事業所一覧!H695 -> ● | ... N13: =事業所一覧!N695 -> 0
A14: =事業所一覧!A696 -> 2755620156 | B14: =事業所一覧!B696 -> オーパ・アスリートクラブ | C14: =事業所一覧!C696 -> 072-482-8080 | D14: =事業所一覧!D696 -> 072-482-8081 | E14: =事業所一覧!E696 -> 590-0504 | F14: =事業所一覧!F696 -> 泉南市信達市場1014番地１ | G14: =事業所一覧!G696 -> 株式会社ＧＥＮ | H14: =事業所一覧!H696 -> 0 | ... N14: =事業所一覧!N696 -> 0
A15: =事業所一覧!A697 -> 2755620164 | B15: =事業所一覧!B697 -> きりんせんなん | C15: =事業所一覧!C697 -> 072-457-5600 | D15: =事業所一覧!D697 -> 072-457-4003 | E15: =事業所一覧!E697 -> 590-0526 | F15: =事業所一覧!F697 -> 泉南市男里二丁目231番地の３ | G15: =事業所一覧!G697 -> 特定非営利活動法人フォレスト | H15: =事業所一覧!H697 -> 0 | ... N15: =事業所一覧!N697 -> 0
A16: =事業所一覧!A698 -> 2755620172 | B16: =事業所一覧!B698 -> 進学と就職支援あなたが宝モノ泉南兎田教室 | C16: =事業所一覧!C698 -> 072-465-6555 | D16: =事業所一覧!D698 -> 072-465-6556 | E16: =事業所一覧!E698 -> 590-0501 | F16: =事業所一覧!F698 -> 泉南市兎田1103番地19 | G16: =事業所一覧!G698 -> 株式会社いのちの木 | H16: =事業所一覧!H698 -> ● | ... N16: =事業所一覧!N698 -> 0
... A26: =事業所一覧!A708 -> 2755620289 | B26: =事業所一覧!B708 -> みらいえみふるキッズ 児童発達支援・放課後等デイサービス | C26: =事業所一覧!C708 -> 072-480-0305 | D26: =事業所一覧!D708 -> 072-480-0308 | E26: =事業所一覧!E708 -> 590-0521 | F26: =事業所一覧!F708 -> 泉南市樽井五丁目28番37号 | G26: =事業所一覧!G708 -> 有限会社ホームヘルプサービスみらい | H26: =事業所一覧!H708 -> ● | ... N26: =事業所一覧!N708 -> 0

Sheet 四條畷市
A1: 四條畷市 | N1: 市町村一覧に戻る
H2: ☆ 主として重症心身障がい児を通わせる事業所
A3: 事業所番号 | B3: 事業所名称 | C3: TEL | D3: FAX | E3: 〒 | F3: 所在地 | G3: 申請者 | H3: 児 | I3: 定員 | J3: 居 | K3: 放 | L3: 定員 | M3: 保 | N3: 備考
A4: =事業所一覧!A709 -> 2755720030 | B4: =事業所一覧!B709 -> ｆｌａｔ清滝店 | C4: =事業所一覧!C709 -> 072-814-7757 | D4: =事業所一覧!D709 -> 072-814-7756 | E4: =事業所一覧!E709 -> 575-0062 | F4: =事業所一覧!F709 -> 四條畷市清滝新町５番13号NESTビル２階 | G4: =事業所一覧!G709 -> 株式会社ｆｌａｔ | H4: =事業所一覧!H709 -> ● | ... N4: =事業所一覧!N709 -> 0
A5: =事業所一覧!A710 -> 2755720048 | B5: =事業所一覧!B710 -> 放課後等デイサービス事業所ぽっぷこーん | C5: =事業所一覧!C710 -> 072-813-1017 | D5: =事業所一覧!D710 -> 072-863-1013 | E5: =事業所一覧!E710 -> 575-0055 | F5: =事業所一覧!F710 -> 四條畷市西中野一丁目９番29号 | G5: =事業所一覧!G710 -> 株式会社グッド・ケア・グループ | H5: =事業所一覧!H710 -> 0 | ... N5: =事業所一覧!N710 -> 0
A6: =事業所一覧!A711 -> 2755720063 | B6: =事業所一覧!B711 -> みんなの家 | C6: =事業所一覧!C711 -> 0743-84-8388 | D6: =事業所一覧!D711 -> 0743-84-8388 | E6: =事業所一覧!E711 -> 575-0013 | F6: =事業所一覧!F711 -> 四條畷市田原台四丁目3-27 | G6: =事業所一覧!G711 -> 株式会社サムアイズ | H6: =事業所一覧!H711 -> 0 | ... N6: =事業所一覧!N711 -> 0
A7: =事業所一覧!A712 -> 2755720097 | B7: =事業所一覧!B712 -> 放課後デイのぞみののんちゃん | C7: =事業所一覧!C712 -> 072-877-5077 | D7: =事業所一覧!D712 -> 0 | E7: =事業所一覧!E712 -> 575-0033 | F7: =事業所一覧!F712 -> 四條畷市美田町11番14号 | G7: =事業所一覧!G712 -> 株式会社のぞみ | H7: =事業所一覧!H712 -> 0 | ... N7: =事業所一覧!N712 -> 0
A8: =事業所一覧!A713 -> 2755720105 | B8: =事業所一覧!B713 -> こどもサポート教室「きらり」忍ケ丘駅前校 | C8: =事業所一覧!C713 -> 072-803-6222 | D8: =事業所一覧!D713 -> 072-803-6222 | E8: =事業所一覧!E713 -> 575-0003 | F8: =事業所一覧!F713 -> 四條畷市岡山東一丁目８番８号中田コーポレーションビル２Ｆ | G8: =事業所一覧!G713 -> 株式会社クラ・ゼミ | H8: =事業所一覧!H713 -> ● | ... N8: =事業所一覧!N713 -> 0
A9: =事業所一覧!A714 -> 2755720113 | B9: =事業所一覧!B714 -> めばえの家 | C9: =事業所一覧!C714 -> 0743-87-9399 | D9: =事業所一覧!D714 -> 0743-87-9399 | E9: =事業所一覧!E714 -> 575-0013 | F9: =事業所一覧!F714 -> 四條畷市田原台五丁目３番５号 | G9: =事業所一覧!G714 -> 株式会社サムアイズ | H9: =事業所一覧!H714 -> 0 | ... N9: =事業所一覧!N714 -> 0
A10: =事業所一覧!A715 -> 2755720139 | B10: =事業所一覧!B715 -> bamboo・スポーツ塾２号店 | C10: =事業所一覧!C715 -> 072-813-4521 | D10: =事業所一覧!D715 -> 072-813-4522 | E10: =事業所一覧!E715 -> 575-0023 | F10: =事業所一覧!F715 -> 四條畷市楠公二丁目８番26号 | G10: =事業所一覧!G715 -> 一般社団法人ふらっと | H10: =事業所一覧!H715 -> ● | ... N10: =事業所一覧!N715 -> 0
A11: =事業所一覧!A716 -> 2755720147 | B11: =事業所一覧!B716 -> 慶生会ＫＩＤＳステージ四條畷 | C11: =事業所一覧!C716 -> 072-803-0707 | D11: =事業所一覧!D716 -> 072-803-0706 | E11: =事業所一覧!E716 -> 575-0023 | F11: =事業所一覧!F716 -> 四條畷市楠公二丁目10－16 ２階 | G11: =事業所一覧!G716 -> 社会福祉法人慶生会 | H11: =事業所一覧!H716 -> ● | ... N11: =事業所一覧!N716 -> 0
A12: =事業所一覧!A717 -> 2755720154 | B12: =事業所一覧!B717 -> みらいえキッズ | C12: =事業所一覧!C717 -> 072-812-6651 | D12: =事業所一覧!D717 -> 072-812-6652 | E12: =事業所一覧!E717 -> 575-0051 | F12: =事業所一覧!F717 -> 四條畷市中野本町２番１号 ダイシンビル１階 | G12: =事業所一覧!G717 -> 合同会社愛夢 | H12: =事業所一覧!H717 -> ● | ... N12: =事業所一覧!N717 -> 0
A13: =事業所一覧!A718 -> 2755720162 | B13: =事業所一覧!B718 -> ぽっぷこーんなわてplus | C13: =事業所一覧!C718 -> 072-395-5815 | D13: =事業所一覧!D718 -> 072-395-6190 | E13: =事業所一覧!E718 -> 575-0021 | F13: =事業所一覧!F718 -> 四條畷市南野一丁目16番13号 | G13: =事業所一覧!G718 -> 株式会社グッド・ケア・グループ | H13: =事業所一覧!H718 -> 0 | ... N13: =事業所一覧!N718 -> 0
A14: =事業所一覧!A719 -> 2755720188 | B14: =事業所一覧!B719 -> KIDSクラブ たわら | C14: =事業所一覧!C719 -> 0743-78-9499 | D14: =事業所一覧!D719 -> 0743-78-8599 | E14: =事業所一覧!E719 -> 575-0014 | F14: =事業所一覧!F719 -> 四條畷市上田原６１３番地G棟B２F | G14: =事業所一覧!G719 -> 医療法人和幸会 | H14: =事業所一覧!H719 -> 0 | ... N14: =事業所一覧!N719 -> 0
A15: =事業所一覧!A720 -> 2755720196 | B15: =事業所一覧!B720 -> 放課後等デイサービス ＳＯＲＡ | C15: =事業所一覧!C720 -> 072-842-2666 | D15: =事業所一覧!D720 -> 072-842-2667 | E15: =事業所一覧!E720 -> 575-0001 | F15: =事業所一覧!F720 -> 四條畷市砂一丁目13番26号１階 | G15: =事業所一覧!G720 -> 株式会社ビレッジ | H15: =事業所一覧!H720 -> ● | ... N15: =事業所一覧!N720 -> 0
... A18: =事業所一覧!A723 -> 2755720238 | B18: =事業所一覧!B723 -> リアライ忍ケ丘校 | C18: =事業所一覧!C723 -> 090-6666-1460 | D18: =事業所一覧!D723 -> 0 | E18: =事業所一覧!E723 -> 575-0003 | F18: =事業所一覧!F723 -> 四條畷市岡山東二丁目1番27号 バンベール忍ケ丘206号室 | G18: =事業所一覧!G723 -> 株式会社リアライ | H18: =事業所一覧!H723 -> 0 | ... N18: =事業所一覧!N723 -> 0

Sheet 交野市
A1: 交野市 | N1: 市町村一覧に戻る
H2: ☆ 主として重症心身障がい児を通わせる事業所
A3: 事業所番号 | B3: 事業所名称 | C3: TEL | D3: FAX | E3: 〒 | F3: 所在地 | G3: 申請者 | H3: 児 | I3: 定員 | J3: 居 | K3: 放 | L3: 定員 | M3: 保 | N3: 備考
A4: =事業所一覧!A724 -> 2753620059 | B4: =事業所一覧!B724 -> きらり | C4: =事業所一覧!C724 -> 072-895-5552 | D4: =事業所一覧!D724 -> 072-895-5553 | E4: =事業所一覧!E724 -> 576-0054 | F4: =事業所一覧!F724 -> 交野市幾野一丁目37番13号１階中央区画 | G4: =事業所一覧!G724 -> 株式会社にじいろ | H4: =事業所一覧!H724 -> ● | ... N4: =事業所一覧!N724 -> 0
A5: =事業所一覧!A725 -> 2753620067 | B5: =事業所一覧!B725 -> 花ごころ | C5: =事業所一覧!C725 -> 072-845-6377 | D5: =事業所一覧!D725 -> 072-845-6317 | E5: =事業所一覧!E725 -> 576-0053 | F5: =事業所一覧!F725 -> 交野市郡津五丁目10番４号郡津ハイライフ202号室・203号室 | G5: =事業所一覧!G725 -> 有限会社光の里福祉協会 | H5: =事業所一覧!H725 -> ● | ... N5: =事業所一覧!N725 -> 0
A6: =事業所一覧!A726 -> 2753620075 | B6: =事業所一覧!B726 -> 児童デイサービス福の木 | C6: =事業所一覧!C726 -> 072-808-7862 | D6: =事業所一覧!D726 -> 072-808-7863 | E6: =事業所一覧!E726 -> 576-0066 | F6: =事業所一覧!F726 -> 交野市青山二丁目８番25号 | G6: =事業所一覧!G726 -> 合同会社福は内 | H6: =事業所一覧!H726 -> 0 | ... N6: =事業所一覧!N726 -> 0
A7: =事業所一覧!A727 -> 2753620083 | B7: =事業所一覧!B727 -> ふわり | C7: =事業所一覧!C727 -> 072-865-6254 | D7: =事業所一覧!D727 -> 072-865-6255 | E7: =事業所一覧!E727 -> 576-0032 | F7: =事業所一覧!F727 -> 交野市私市山手二丁目４番１号 | G7: =事業所一覧!G727 -> 株式会社にじいろ | H7: =事業所一覧!H727 -> ● | ... N7: =事業所一覧!N727 -> 0
A8: =事業所一覧!A728 -> 2753620091 | B8: =事業所一覧!B728 -> ピースフルケアおりひめ | C8: =事業所一覧!C728 -> 072-800-1212 | D8: =事業所一覧!D728 -> 072-800-1213 | E8: =事業所一覧!E728 -> 576-0053 | F8: =事業所一覧!F728 -> 交野市郡津五丁目47番11号 | G8: =事業所一覧!G728 -> 有限会社ピースフルケア | H8: =事業所一覧!H728 -> 0 | ... N8: =事業所一覧!N728 -> 0
A9: =事業所一覧!A729 -> 2753620109 | B9: =事業所一覧!B729 -> ひより | C9: =事業所一覧!C729 -> 072-800-1614 | D9: =事業所一覧!D729 -> 072-800-1615 | E9: =事業所一覧!E729 -> 576-0043 | F9: =事業所一覧!F729 -> 交野市松塚14番５ユニライフ交野郡津102号室 | G9: =事業所一覧!G729 -> 株式会社にじいろ | H9: =事業所一覧!H729 -> ● | ... N9: =事業所一覧!N729 -> 0
A10: =事業所一覧!A730 -> 2753620125 | B10: =事業所一覧!B730 -> にこり | C10: =事業所一覧!C730 -> 072-896-5390 | D10: =事業所一覧!D730 -> 072-896-5391 | E10: =事業所一覧!E730 -> 576-0052 | F10: =事業所一覧!F730 -> 交野市私部五丁目23番14号 | G10: =事業所一覧!G730 -> 一般社団法人そらいろ | H10: =事業所一覧!H730 -> 0 | ... N10: =事業所一覧!N730 -> 0
A11: =事業所一覧!A731 -> 2750320075 | B11: =事業所一覧!B731 -> おれんじはうす | C11: =事業所一覧!C731 -> 072-807-8791 | D11: =事業所一覧!D731 -> 072-807-8728 | E11: =事業所一覧!E731 -> 576-0016 | F11: =事業所一覧!F731 -> 交野市星田五丁目29番８号レスポワール星田105号室 | G11: =事業所一覧!G731 -> 合同会社からふるぱーとなーず | H11: =事業所一覧!H731 -> ● | ... N11: =事業所一覧!N731 -> 0
A12: =事業所一覧!A732 -> 2753620133 | B12: =事業所一覧!B732 -> 児童デイサービスりはぷらす | C12: =事業所一覧!C732 -> 072-808-6583 | D12: =事業所一覧!D732 -> 072-808-6589 | E12: =事業所一覧!E732 -> 576-0016 | F12: =事業所一覧!F732 -> 交野市星田七丁目４番10号 | G12: =事業所一覧!G732 -> 合同会社Ｓｐｒｉｎｇ Ｐｌｕｓ | H12: =事業所一覧!H732 -> 0 | ... N12: =事業所一覧!N732 -> 0
A13: =事業所一覧!A733 -> 2753620141 | B13: =事業所一覧!B733 -> ひかりプラスほっぷ教室 | C13: =事業所一覧!C733 -> 072-894-1911 | D13: =事業所一覧!D733 -> 072-894-1912 | E13: =事業所一覧!E733 -> 576-0041 | F13: =事業所一覧!F733 -> 交野市私部西一丁目17番7号102・103 | G13: =事業所一覧!G733 -> 株式会社エターナルライト | H13: =事業所一覧!H733 -> ● | ... N13: =事業所一覧!N733 -> 0
A14: =事業所一覧!A734 -> 2753620166 | B14: =事業所一覧!B734 -> きらきらり | C14: =事業所一覧!C734 -> 072-896-5650 | D14: =事業所一覧!D734 -> 072-896-5658 | E14: =事業所一覧!E734 -> 576-0016 | F14: =事業所一覧!F734 -> 交野市星田三丁目７番３号 | G14: =事業所一覧!G734 -> 株式会社にじいろ | H14: =事業所一覧!H734 -> ● | ... N14: =事業所一覧!N734 -> 0
A15: =事業所一覧!A735 -> 2753620174 | B15: =事業所一覧!B735 -> どんぐり 交野店 | C15: =事業所一覧!C735 -> 080-4638-5170 | D15: =事業所一覧!D735 -> 072-865-3457 | E15: =事業所一覧!E735 -> 576-0051 | F15: =事業所一覧!F735 -> 交野市倉治八丁目11番5号 | G15: =事業所一覧!G735 -> 株式会社どんぐりの里 | H15: =事業所一覧!H735 -> ● | ... N15: =事業所一覧!N735 -> 0
... A22: =事業所一覧!A742 -> 2753620240 | B22: =事業所一覧!B742 -> 彩Ｓａｉ Ｋｉｄｓ かたの | C22: =事業所一覧!C742 -> 072-894-9888 | D22: =事業所一覧!D742 -> 072-894-9889 | E22: =事業所一覧!E742 -> 576-0051 | F22: =事業所一覧!F742 -> 交野市倉治二丁目41番１号 | G22: =事業所一覧!G742 -> Ｓｕｎｌｉｎｋ株式会社 | H22: =事業所一覧!H742 -> 0 | ... N22: =事業所一覧!N742 -> 0

Sheet 大阪狭山市
A1: 大阪狭山市 | N1: 市町村一覧に戻る
H2: ☆ 主として重症心身障がい児を通わせる事業所
A3: 事業所番号 | B3: 事業所名称 | C3: TEL | D3: FAX | E3: 〒 | F3: 所在地 | G3: 申請者 | H3: 児 | I3: 定員 | J3: 居 | K3: 放 | L3: 定員 | M3: 保 | N3: 備考
A4: =事業所一覧!A743 -> 2759320043 | B4: =事業所一覧!B743 -> 児童デイサービスわおん | C4: =事業所一覧!C743 -> 072-360-0721 | D4: =事業所一覧!D743 -> 072-360-0722 | E4: =事業所一覧!E743 -> 589-0023 | F4: =事業所一覧!F743 -> 大阪狭山市大野台四丁目１番19号 | G4: =事業所一覧!G743 -> 株式会社ＷＡＯＮ | H4: =事業所一覧!H743 -> ● | ... N4: =事業所一覧!N743 -> 0
A5: =事業所一覧!A744 -> 2759320068 | B5: =事業所一覧!B744 -> こどもサポート教室「きらり」大阪狭山金剛校 | C5: =事業所一覧!C744 -> 072-360-1077 | D5: =事業所一覧!D744 -> 072-360-1077 | E5: =事業所一覧!E744 -> 589-0011 | F5: =事業所一覧!F744 -> 大阪狭山市半田一丁目622番地１ウエスティ金剛４－２ | G5: =事業所一覧!G744 -> 株式会社クラ・ゼミ | H5: =事業所一覧!H744 -> ● | ... N5: =事業所一覧!N744 -> 0
A6: =事業所一覧!A745 -> 2759320076 | B6: =事業所一覧!B745 -> まんてん狭山西山台第１教室 | C6: =事業所一覧!C745 -> 072-247-4777 | D6: =事業所一覧!D745 -> 072-247-4778 | E6: =事業所一覧!E745 -> 589-0022 | F6: =事業所一覧!F745 -> 大阪狭山市西山台二丁目13番10号西側１階 | G6: =事業所一覧!G745 -> 株式会社まんてんプラス | H6: =事業所一覧!H745 -> ● | ... N6: =事業所一覧!N745 -> 0
A7: =事業所一覧!A746 -> 2759320084 | B7: =事業所一覧!B746 -> ＴＳアフタースクール | C7: =事業所一覧!C746 -> 072-365-3957 | D7: =事業所一覧!D746 -> 072-365-3958 | E7: =事業所一覧!E746 -> 589-0022 | F7: =事業所一覧!F746 -> 大阪狭山市西山台六丁目１番９号１階 | G7: =事業所一覧!G746 -> 有限会社ＴＳｃｏｍｐａｎｙ | H7: =事業所一覧!H746 -> 0 | ... N7: =事業所一覧!N746 -> 0
A8: =事業所一覧!A747 -> 2759320092 | B8: =事業所一覧!B747 -> あんずの会放課後等児童デイサービスソレイユ | C8: =事業所一覧!C747 -> 072-367-1510 | D8: =事業所一覧!D747 -> 072-367-1510 | E8: =事業所一覧!E747 -> 589-00２１ | F8: =事業所一覧!F747 -> 大阪狭山市今熊１丁目４－６ | G8: =事業所一覧!G747 -> 特定非営利活動法人あんずの会 | H8: =事業所一覧!H747 -> 0 | ... N8: =事業所一覧!N747 -> 0
A9: =事業所一覧!A748 -> 2759320100 | B9: =事業所一覧!B748 -> さんＳＵＮアフタースクール大阪狭山 | C9: =事業所一覧!C748 -> 072-247-4866 | D9: =事業所一覧!D748 -> 072-247-4877 | E9: =事業所一覧!E748 -> 589-0021 | F9: =事業所一覧!F748 -> 大阪狭山市今熊一丁目62番地の４ ２Ｆ201号 | G9: =事業所一覧!G748 -> 一般社団法人ＹＯＲＩＭＯＲＥ | H9: =事業所一覧!H748 -> ● | ... N9: =事業所一覧!N748 -> 0
A10: =事業所一覧!A749 -> 2759320126 | B10: =事業所一覧!B749 -> まなびっこ | C10: =事業所一覧!C749 -> 072-220-8359 | D10: =事業所一覧!D749 -> 072-220-8359 | E10: =事業所一覧!E749 -> 589-0021 | F10: =事業所一覧!F749 -> 大阪狭山市茱萸木六丁目９３４ | G10: =事業所一覧!G749 -> 一般社団法人発達支援ルームまなび | H10: =事業所一覧!H749 -> ● | ... N10: =事業所一覧!N749 -> 0
A11: =事業所一覧!A750 -> 2759320134 | B11: =事業所一覧!B750 -> スポーツデイ Advance | C11: =事業所一覧!C750 -> 072-366-8333 | D11: =事業所一覧!D750 -> 072-366-8333 | E11: =事業所一覧!E750 -> 589-0005 | F11: =事業所一覧!F750 -> 大阪狭山市混合二丁目７番２号 | G11: =事業所一覧!G750 -> 合同会社Advance | H11: =事業所一覧!H750 -> ● | ... N11: =事業所一覧!N750 -> 0
A12: =事業所一覧!A751 -> 2759320142 | B12: =事業所一覧!B751 -> まんてん狭山西山台第2教室 | C12: =事業所一覧!C751 -> 072-349-6124 | D12: =事業所一覧!D751 -> 072-349-6125 | E12: =事業所一覧!E751 -> 589-0022 | F12: =事業所一覧!F751 -> 大阪狭山市西山台三丁目５番20号 ２階 | G12: =事業所一覧!G751 -> 株式会社まんてんプラス | H12: =事業所一覧!H751 -> ● | ... N12: =事業所一覧!N751 -> 0
A13: =事業所一覧!A752 -> 2759320167 | B13: =事業所一覧!B752 -> 児童デイサービス ポーラーパイン | C13: =事業所一覧!C752 -> 072-368-5300 | D13: =事業所一覧!D752 -> 072-367-8004 | E13: =事業所一覧!E752 -> 589-0022 | F13: =事業所一覧!F752 -> 大阪狭山市西山台三丁目５番18号 井上ビル１階 | G13: =事業所一覧!G752 -> 有限会社総合医療企画 | H13: =事業所一覧!H752 -> ☆ | ... N13: =事業所一覧!N752 -> 0
A14: =事業所一覧!A753 -> 2759320175 | B14: =事業所一覧!B753 -> まんてん狭山西山台第3教室 | C14: =事業所一覧!C753 -> 072-290-7746 | D14: =事業所一覧!D753 -> 072-290-7747 | E14: =事業所一覧!E753 -> 589-0022 | F14: =事業所一覧!F753 -> 大阪狭山市西山台三丁目３番12号 | G14: =事業所一覧!G753 -> 株式会社まんてんプラス | H14: =事業所一覧!H753 -> ● | ... N14: =事業所一覧!N753 -> 0
A15: =事業所一覧!A754 -> 2759320183 | B15: =事業所一覧!B754 -> ＴＳアフタースクールさうす | C15: =事業所一覧!C754 -> 080-2536-7040 | D15: =事業所一覧!D754 -> 072-365-3958 | E15: =事業所一覧!E754 -> 589-0022 | F15: =事業所一覧!F754 -> 大阪狭山市西山台三丁目２番10号 | G15: =事業所一覧!G754 -> 有限会社ＴＳｃｏｍｐａｎｙ | H15: =事業所一覧!H754 -> 0 | ... N15: =事業所一覧!N754 -> 0
... A26: =事業所一覧!A765 -> 2759320324 | B26: =事業所一覧!B765 -> Ｇｒｏｗ | C26: =事業所一覧!C765 -> 072-339-4886 | D26: =事業所一覧!D765 -> - | E26: =事業所一覧!E765 -> 589-0011 | F26: =事業所一覧!F765 -> 大阪狭山市半田二丁目255番地２ 松井ビル２階 | G26: =事業所一覧!G765 -> 株式会社RaiseupFill | H26: =事業所一覧!H765 -> ● | ... N26: =事業所一覧!N765 -> 0

Sheet 阪南市
A1: 阪南市 | N1: 市町村一覧に戻る
H2: ☆ 主として重症心身障がい児を通わせる事業所
A3: 事業所番号 | B3: 事業所名称 | C3: TEL | D3: FAX | E3: 〒 | F3: 所在地 | G3: 申請者 | H3: 児 | I3: 定員 | J3: 居 | K3: 放 | L3: 定員 | M3: 保 | N3: 備考
A4: =事業所一覧!A766 -> 2759520030 | B4: =事業所一覧!B766 -> 子ども支援ステーションハル | C4: =事業所一覧!C766 -> 072-471-7474 | D4: =事業所一覧!D766 -> 072-471-7575 | E4: =事業所一覧!E766 -> 599-0212 | F4: =事業所一覧!F766 -> 阪南市自然田816番地の１ | G4: =事業所一覧!G766 -> 有限会社ハルコーポレーション | H4: =事業所一覧!H766 -> ● | ... N4: =事業所一覧!N766 -> 0
A5: =事業所一覧!A767 -> 2759520055 | B5: =事業所一覧!B767 -> 放課後等デイサービスツーピース | C5: =事業所一覧!C767 -> 072-474-4887 | D5: =事業所一覧!D767 -> 072-474-4888 | E5: =事業所一覧!E767 -> 599-0232 | F5: =事業所一覧!F767 -> 阪南市箱作1103番地 | G5: =事業所一覧!G767 -> 株式会社Ｈｉｇａｓｈｉ | H5: =事業所一覧!H767 -> 0 | ... N5: =事業所一覧!N767 -> 0
A6: =事業所一覧!A768 -> 2759520063 | B6: =事業所一覧!B768 -> エンカレッジ広場ハル | C6: =事業所一覧!C768 -> 072-471-4444 | D6: =事業所一覧!D768 -> 072-471-4445 | E6: =事業所一覧!E768 -> 599-0201 | F6: =事業所一覧!F768 -> 阪南市尾崎町90番地１ | G6: =事業所一覧!G768 -> 有限会社ハルコーポレーション | H6: =事業所一覧!H768 -> ●・☆ | ... N6: =事業所一覧!N768 -> 0
A7: =事業所一覧!A769 -> 2759520071 | B7: =事業所一覧!B769 -> キッズひまわり | C7: =事業所一覧!C769 -> 072-473-8008 | D7: =事業所一覧!D769 -> 072-473-8007 | E7: =事業所一覧!E769 -> 599-0212 | F7: =事業所一覧!F769 -> 阪南市自然田728番２ シエスタ フロール102、103、105号 | G7: =事業所一覧!G769 -> 株式会社ひまわり | H7: =事業所一覧!H769 -> ● | ... N7: =事業所一覧!N769 -> 0
A8: =事業所一覧!A770 -> 2759520089 | B8: =事業所一覧!B770 -> Ｆｕｎ ａｃｔｉｏｎ | C8: =事業所一覧!C770 -> 072-424-4250 | D8: =事業所一覧!D770 -> 072-424-4846 | E8: =事業所一覧!E770 -> 599-0202 | F8: =事業所一覧!F770 -> 阪南市下出662番地の14 | G8: =事業所一覧!G770 -> Ｆｕｎ ａｃｔｉｏｎ合同会社 | H8: =事業所一覧!H770 -> 0 | ... N8: =事業所一覧!N770 -> 0
A9: =事業所一覧!A771 -> 2759520097 | B9: =事業所一覧!B771 -> あぁどばぁく舞 | C9: =事業所一覧!C771 -> 072-425-1855 | D9: =事業所一覧!D771 -> 072-４２４-６６４２ | E9: =事業所一覧!E771 -> 599-0224 | F9: =事業所一覧!F771 -> 阪南市舞一丁目23番15号 | G9: =事業所一覧!G771 -> 一般社団法人アァドバァク | H9: =事業所一覧!H771 -> ● | ... N9: =事業所一覧!N771 -> 0
A10: =事業所一覧!A772 -> 2759520121 | B10: =事業所一覧!B772 -> 阪南こども総合支援研究所 こころカラフル | C10: =事業所一覧!C772 -> 072-473-6011 | D10: =事業所一覧!D772 -> 072-473-6101 | E10: =事業所一覧!E772 -> 590-0521 | F10: =事業所一覧!F772 -> 阪南市貝掛381番地 | G10: =事業所一覧!G772 -> 特定非営利活動法人地域福祉創造協会ウインク | H10: =事業所一覧!H772 -> ● | ... N10: =事業所一覧!N772 -> 0
A11: =事業所一覧!A773 -> 2759520139 | B11: =事業所一覧!B773 -> ハピスポはんなん | C11: =事業所一覧!C773 -> ０７２－４７１－９９００ | D11: =事業所一覧!D773 -> ０７２－４７１－００６６ | E11: =事業所一覧!E773 -> 599-0201 | F11: =事業所一覧!F773 -> 阪南市尾崎町105番地の５ 池田ビル２階 | G11: =事業所一覧!G773 -> 社会福祉法人北野福祉会 | H11: =事業所一覧!H773 -> ● | ... N11: =事業所一覧!N773 -> 0
A12: =事業所一覧!A774 -> 2759520147 | B12: =事業所一覧!B774 -> キッズすまいる | C12: =事業所一覧!C774 -> 072‐479‐7776 | D12: =事業所一覧!D774 -> 072‐479-7774 | E12: =事業所一覧!E774 -> 599‐０２２１ | F12: =事業所一覧!F774 -> 阪南市鳥取中371番地の３ | G12: =事業所一覧!G774 -> 株式会社すまいる | H12: =事業所一覧!H774 -> ● | ... N12: =事業所一覧!N774 -> 0

Sheet 島本町
A1: 島本町 | N1: 市町村一覧に戻る
H2: ☆ 主として重症心身障がい児を通わせる事業所
A3: 事業所番号 | B3: 事業所名称 | C3: TEL | D3: FAX | E3: 〒 | F3: 所在地 | G3: 申請者 | H3: 児 | I3: 定員 | J3: 居 | K3: 放 | L3: 定員 | M3: 保 | N3: 備考
A4: =事業所一覧!A775 -> 2753920012 | B4: =事業所一覧!B775 -> クローバーしまもと | C4: =事業所一覧!C775 -> 075-334-5968 | D4: =事業所一覧!D775 -> 075-334-5968 | E4: =事業所一覧!E775 -> 618-0011 | F4: =事業所一覧!F775 -> 三島郡島本町広瀬三丁目３番24号 | G4: =事業所一覧!G775 -> 特定非営利活動法人クローバー自立支援センターしまもと | H4: =事業所一覧!H775 -> ● | ... N4: =事業所一覧!N775 -> 0
A5: =事業所一覧!A776 -> 2753920038 | B5: =事業所一覧!B776 -> 障害者自立支援拠点レモンテラス | C5: =事業所一覧!C776 -> 075－963-6981 | D5: =事業所一覧!D776 -> ０７５－９６３－６９８２ | E5: =事業所一覧!E776 -> 618-0011 | F5: =事業所一覧!F776 -> 三島郡島本町広瀬二丁目７番４号 | G5: =事業所一覧!G776 -> 社会福祉法人大阪水上隣保館 | H5: =事業所一覧!H776 -> ● | ... N5: =事業所一覧!N776 -> 0
A6: =事業所一覧!A777 -> 2750920247 | B6: =事業所一覧!B777 -> Ｐｅｒｓｏｎａｌ Ｓｐａｃｅアドバンス | C6: =事業所一覧!C777 -> 075-961-8388 | D6: =事業所一覧!D777 -> 075-961-8387 | E6: =事業所一覧!E777 -> 618-001３ | F6: =事業所一覧!F777 -> 三島郡島本町江川一丁目１１－３４号 １Ｆ | G6: =事業所一覧!G777 -> 合同会社Ａｄｖａｎｃｅ | H6: =事業所一覧!H777 -> ● | ... N6: =事業所一覧!N777 -> 0
A7: =事業所一覧!A778 -> 2753920087 | B7: =事業所一覧!B778 -> ＢａＴＯＮ ＭＩＮＡＳＥ | C7: =事業所一覧!C778 -> 075-925-7405 | D7: =事業所一覧!D778 -> 075-925-7407 | E7: =事業所一覧!E778 -> 618-0011 | F7: =事業所一覧!F778 -> 三島郡島本町広瀬四丁目20番20号松田店舗Ｂ号 | G7: =事業所一覧!G778 -> 株式会社ＢａＴＯＮ | H7: =事業所一覧!H778 -> ● | ... N7: =事業所一覧!N778 -> 0
A8: =事業所一覧!A779 -> 2753920095 | B8: =事業所一覧!B779 -> こども発達支援 Ｃｏｃｏｒｏ島本 | C8: =事業所一覧!C779 -> 075-962-1777 | D8: =事業所一覧!D779 -> 075-962-1781 | E8: =事業所一覧!E779 -> 618-0022 | F8: =事業所一覧!F779 -> 三島郡島本町桜井二丁目７番１号 | G8: =事業所一覧!G779 -> 社会福祉法人 南山城学園 | H8: =事業所一覧!H779 -> ● | ... N8: =事業所一覧!N779 -> 0
A9: =事業所一覧!A780 -> 2753920111 | B9: =事業所一覧!B780 -> ＳＥＮサポート らぷらす | C9: =事業所一覧!C780 -> 075-950-6515 | D9: =事業所一覧!D780 -> 075-950-6516 | E9: =事業所一覧!E780 -> 618-0014 | F9: =事業所一覧!F780 -> 三島郡島本町水無瀬二丁目５番７号ひかりビル３階 | G9: =事業所一覧!G780 -> 一般社団法人アンビシャス | H9: =事業所一覧!H780 -> ● | ... N9: =事業所一覧!N780 -> 0
A10: =事業所一覧!A781 -> 2753920129 | B10: =事業所一覧!B781 -> 放課後等デイサービスぴくしー | C10: =事業所一覧!C781 -> 075-963-5088 | D10: =事業所一覧!D781 -> 075-963-5088 | E10: =事業所一覧!E781 -> 618-0013 | F10: =事業所一覧!F781 -> 三島郡島本町江川二丁目13番水瀬駅前団地１号棟108号室 | G10: =事業所一覧!G781 -> 一般社団法人アンビシャス | H10: =事業所一覧!H781 -> ● | ... N10: =事業所一覧!N781 -> 0
A11: =事業所一覧!A782 -> 2753920137 | B11: =事業所一覧!B782 -> ぱれっと あおば | C11: =事業所一覧!C782 -> 075-777-2230 | D11: =事業所一覧!D782 -> 075-777-2230 | E11: =事業所一覧!E782 -> 618-0015 | F11: =事業所一覧!F782 -> 三島郡島本町青葉一丁目７番14号 | G11: =事業所一覧!G782 -> 有限会社officeぱれっと | H11: =事業所一覧!H782 -> ● | ... N11: =事業所一覧!N782 -> 0
A12: =事業所一覧!A783 -> 2753920145 | B12: =事業所一覧!B783 -> ＢａＴＯＮ ＭＩＮＡＳＥ ｐｌｕｓ | C12: =事業所一覧!C783 -> ０７５－９５０－８６１１ | D12: =事業所一覧!D783 -> ０７５－９５０－８６１２ | E12: =事業所一覧!E783 -> ６１８－００１３ | F12: =事業所一覧!F783 -> 三島郡島本町江川二丁目11番８号 | G12: =事業所一覧!G783 -> 株式会社ＢａＴＯＮ | H12: =事業所一覧!H783 -> ● | ... N12: =事業所一覧!N783 -> 0
A13: =事業所一覧!A784 -> 2753920152 | B13: =事業所一覧!B784 -> アミィ | C13: =事業所一覧!C784 -> 075-962-1002 | D13: =事業所一覧!D784 -> 075-962-1002 | E13: =事業所一覧!E784 -> 618-0011 | F13: =事業所一覧!F784 -> 三島郡島本町広瀬四丁目22番５号 Ｍ．Ｆｏｕｒ１階103号 | G13: =事業所一覧!G784 -> 株式会社ＡＲＴ ＢＡＳＥ | H13: =事業所一覧!H784 -> ● | ... N13: =事業所一覧!N784 -> 0
A14: =事業所一覧!A785 -> 2754220115 | B14: =事業所一覧!B785 -> キッズナースワン | C14: =事業所一覧!C785 -> 075-950-6991 | D14: =事業所一覧!D785 -> 075-963-3444 | E14: =事業所一覧!E785 -> 567-0085 | F14: =事業所一覧!F785 -> 三島郡島本町水無瀬二丁目5番1号 | G14: =事業所一覧!G785 -> 特定非営利活動法人ナース・ワン | H14: =事業所一覧!H785 -> 0 | ... N14: =事業所一覧!N785 -> 0
A15: =事業所一覧!A786 -> 2753920160 | B15: =事業所一覧!B786 -> ＢａＴＯＮ ＬＩＮＫＳ | C15: =事業所一覧!C786 -> 075-925-7315 | D15: =事業所一覧!D786 -> 075-925-7316 | E15: =事業所一覧!E786 -> 618-0013 | F15: =事業所一覧!F786 -> 三島郡島本町江川二丁目11番11号 友永ビル１階 | G15: =事業所一覧!G786 -> 株式会社ＢａＴＯＮ | H15: =事業所一覧!H786 -> ● | ... N15: =事業所一覧!N786 -> 0

Sheet 豊能郡
A1: 豊能町 | N1: 市町村一覧に戻る
H2: ☆ 主として重症心身障がい児を通わせる事業所
A3: 事業所番号 | B3: 事業所名称 | C3: TEL | D3: FAX | E3: 〒 | F3: 所在地 | G3: 申請者 | H3: 児 | I3: 定員 | J3: 居 | K3: 放 | L3: 定員 | M3: 保 | N3: 備考
A4: =事業所一覧!A787 -> 2754720015 | B4: =事業所一覧!B787 -> 地域支援センター第２わとと | C4: =事業所一覧!C787 -> 072-737-9638 | D4: =事業所一覧!D787 -> 072-737-9639 | E4: =事業所一覧!E787 -> 563-0101 | F4: =事業所一覧!F787 -> 豊能郡豊能町吉川340番地１ | G4: =事業所一覧!G787 -> 社会福祉法人北摂福祉会 | H4: =事業所一覧!H787 -> ● | ... N4: =事業所一覧!N787 -> 0
A5: =事業所一覧!A788 -> 2754720031 | B5: =事業所一覧!B788 -> ふたば 新光風台店 | C5: =事業所一覧!C788 -> 072-983-5286 | D5: =事業所一覧!D788 -> ０７２－９６８－８５８６ | E5: =事業所一覧!E788 -> 563-010５ | F5: =事業所一覧!F788 -> 豊能郡豊能町新光風台一丁目６-142 | G5: =事業所一覧!G788 -> 合同会社ベルク | H5: =事業所一覧!H788 -> ● | ... N5: =事業所一覧!N788 -> 0
A7: 能勢町 | N7: 市町村一覧に戻る
H8: ☆ 主として重症心身障がい児を通わせる事業所
A9: 事業所番号 | B9: 事業所名称 | C9: TEL | D9: FAX | E9: 〒 | F9: 所在地 | G9: 申請者 | H9: 児 | I9: 定員 | J9: 居 | K9: 放 | L9: 定員 | M9: 保 | N9: 備考
A10: =事業所一覧!A789 -> 2754720049 | B10: =事業所一覧!B789 -> かるがも発達サポート | C10: =事業所一覧!C789 -> 080-2579－0951 | D10: =事業所一覧!D789 -> 0 | E10: =事業所一覧!E789 -> 563-0362 | F10: =事業所一覧!F789 -> 豊能郡能勢町森上138番２ | G10: =事業所一覧!G789 -> 一般社団法人ＮＵＶＩＯＮ | H10: =事業所一覧!H789 -> 0 | ... N10: =事業所一覧!N789 -> 0

Sheet 泉南郡
A1: 熊取町 | N1: 市町村一覧に戻る
H2: ☆ 主として重症心身障がい児を通わせる事業所
A3: 事業所番号 | B3: 事業所名称 | C3: TEL | D3: FAX | E3: 〒 | F3: 所在地 | G3: 申請者 | H3: 児 | I3: 定員 | J3: 居 | K3: 放 | L3: 定員 | M3: 保 | N3: 備考
A4: =事業所一覧!A790 -> 2751220019 | B4: =事業所一覧!B790 -> 児童デイサービスそら | C4: =事業所一覧!C790 -> 072-424-2881 | D4: =事業所一覧!D790 -> 072-453-3125 | E4: =事業所一覧!E790 -> 590-0406 | F4: =事業所一覧!F790 -> 泉南郡熊取町大久保東一丁目5番7号 | G4: =事業所一覧!G790 -> 株式会社ジョワ | H4: =事業所一覧!H790 -> 0 | ... N4: =事業所一覧!N790 -> 0
A5: =事業所一覧!A791 -> 2751220035 | B5: =事業所一覧!B791 -> そら五月ヶ丘 | C5: =事業所一覧!C791 -> 072-425-7917 | D5: =事業所一覧!D791 -> 072-453-3125 | E5: =事業所一覧!E791 -> 590-0445 | F5: =事業所一覧!F791 -> 泉南郡熊取町五月ケ丘二丁目１番25号 | G5: =事業所一覧!G791 -> 株式会社ジョワ | H5: =事業所一覧!H791 -> 0 | ... N5: =事業所一覧!N791 -> 0
A6: =事業所一覧!A792 -> 2751220076 | B6: =事業所一覧!B792 -> 風さん | C6: =事業所一覧!C792 -> 072-415-2294 | D6: =事業所一覧!D792 -> 072-496-2294 | E6: =事業所一覧!E792 -> 590-0451 | F6: =事業所一覧!F792 -> 泉南郡熊取町野田一丁目２番12号ネゴロビル２階 | G6: =事業所一覧!G792 -> 株式会社Ｖｉｅｎｔｏ | H6: =事業所一覧!H792 -> 0 | ... M6: =事業所一覧!M792 -> 0
A7: =事業所一覧!A793 -> 2751220118 | B7: =事業所一覧!B793 -> そら | C7: =事業所一覧!C793 -> 072-453-3071 | D7: =事業所一覧!D793 -> 072-453-3125 | E7: =事業所一覧!E793 -> 590-0450 | F7: =事業所一覧!F793 -> 泉南郡熊取町大宮三丁目644番地２ | G7: =事業所一覧!G793 -> 株式会社ジョワ | H7: =事業所一覧!H793 -> ● | ... K7: =事業所一覧!K793 -> ● | L7: =事業所一覧!#REF! -> #REF! | M7: =事業所一覧!M793 -> 0
A8: =事業所一覧!A794 -> 2751220142 | B8: =事業所一覧!B794 -> あったかい | C8: =事業所一覧!C794 -> 072-468-7303 | D8: =事業所一覧!D794 -> 072-468-7116 | E8: =事業所一覧!E794 -> 590-0415 | F8: =事業所一覧!F794 -> 泉南郡熊取町五門西一丁目１番３号 | G8: =事業所一覧!G794 -> 合同会社Ｎ．Ｉ．Ｌａｂ | H8: =事業所一覧!H794 -> ☆ | ... M8: =事業所一覧!M794 -> 0
A9: =事業所一覧!A795 -> 2751220191 | B9: =事業所一覧!B795 -> 放課後等デイサービス まなびの森 | C9: =事業所一覧!C795 -> 072-487-5188 | D9: =事業所一覧!D795 -> 072-486-8428 | E9: =事業所一覧!E795 -> 590-0457 | F9: =事業所一覧!F795 -> 泉南郡熊取町朝代東一丁目６番８号 | G9: =事業所一覧!G795 -> 一般社団法人凪 | H9: =事業所一覧!H795 -> ● | ... M9: =事業所一覧!M795 -> 0
A10: =事業所一覧!A796 -> 2751220167 | B10: =事業所一覧!B796 -> 児童発達支援・放課後等デイサービスふぉんたーな | C10: =事業所一覧!C796 -> 090-6557-7196 | D10: =事業所一覧!D796 -> 0 | E10: =事業所一覧!E796 -> 590-0402 | F10: =事業所一覧!F796 -> 泉南郡熊取町大久保北二丁目20番４号 | G10: =事業所一覧!G796 -> 一般社団法人あぼかど | H10: =事業所一覧!H796 -> ● | ... M10: =事業所一覧!M796 -> ●
A11: =事業所一覧!A797 -> 2751220175 | B11: =事業所一覧!B797 -> 風さんＮＩＣＯ | C11: =事業所一覧!C797 -> 072-468-7725 | D11: =事業所一覧!D797 -> 072-468-7726 | E11: =事業所一覧!E797 -> 590-0415 | F11: =事業所一覧!F797 -> 泉南郡熊取町五門西一丁目２番６号 | G11: =事業所一覧!G797 -> 株式会社Ｖｉｅｎｔｏ | H11: =事業所一覧!H797 -> 0 | ... M11: =事業所一覧!M797 -> ●
A12: =事業所一覧!A798 -> 2751220209 | B12: =事業所一覧!B798 -> 寺子屋ナビ | C12: =事業所一覧!C798 -> 070-9031-7739 | D12: =事業所一覧!D798 -> 0 | E12: =事業所一覧!E798 -> 590-0432 | F12: =事業所一覧!F798 -> 泉南郡熊取町小垣内一丁目11番８号105 | G12: =事業所一覧!G798 -> 株式会社寺子屋 | H12: =事業所一覧!H798 -> 0 | ... M12: =事業所一覧!M798 -> ●
A13: =事業所一覧!A799 -> 2751220217 | B13: =事業所一覧!B799 -> リハこどもデイ ミント | C13: =事業所一覧!C799 -> ０７２－４７９－７１８１ | D13: =事業所一覧!D799 -> ０７２－４７９－７１７１ | E13: =事業所一覧!E799 -> 590-0432 | F13: =事業所一覧!F799 -> 泉南郡熊取町小垣内二丁目830番地１ | G13: =事業所一覧!G799 -> 社会福祉法人のぼり藤 | H13: =事業所一覧!H799 -> ● | ... M13: =事業所一覧!M799 -> 0
A14: =事業所一覧!A800 -> 2751220225 | B14: =事業所一覧!B800 -> 放課後等デイサービス ほっぷ | C14: =事業所一覧!C800 -> 072-424-3109 | D14: =事業所一覧!D800 -> 0 | E14: =事業所一覧!E800 -> 590-0472 | F14: =事業所一覧!F800 -> 泉南郡熊取町七山西1668－７ | G14: =事業所一覧!G800 -> 株式会社ＨＹｃｏｒｐ | H14: =事業所一覧!H800 -> 0 | ... M14: =事業所一覧!M800 -> 0
A15: =事業所一覧!A801 -> 2751220233 | B15: =事業所一覧!B801 -> 児童発達支援・放課後等デイサービス あむる | C15: =事業所一覧!C801 -> 072-447-5620 | D15: =事業所一覧!D801 -> - | E15: =事業所一覧!E801 -> 590-0403 | F15: =事業所一覧!F801 -> 泉南郡熊取町大久保中四丁目９番７号 | G15: =事業所一覧!G801 -> 株式会社アサヒ | H15: =事業所一覧!H801 -> ● | ... M15: =事業所一覧!M801 -> 0
A16: =事業所一覧!A802 -> 2751220241 | B16: =事業所一覧!B802 -> まいるーむ放課後こども教室 チャレンジ | C16: =事業所一覧!C802 -> 072-493-2995 | D16: =事業所一覧!D802 -> 072-493-2995 | E16: =事業所一覧!E802 -> 590-0412 | F16: =事業所一覧!F802 -> 泉南郡熊取町紺屋二丁目21番15号１階２階 | G16: =事業所一覧!G802 -> 株式会社ＷｉｌｌＳｔａｎｄ | H16: =事業所一覧!H802 -> ● | ... M16: =事業所一覧!M802 -> 0
A18: 田尻町 | N18: 市町村一覧に戻る
H19: ☆ 主として重症心身障がい児を通わせる事業所
A20: 事業所番号 | B20: 事業所名称 | C20: TEL | D20: FAX | E20: 〒 | F20: 所在地 | G20: 申請者 | H20: 児 | I20: 定員 | J20: 居 | K20: 放 | L20: 定員 | M20: 保 | N20: 備考
A21: =事業所一覧!A804 -> 2751220043 | B21: =事業所一覧!B804 -> たじりこころ園 | C21: =事業所一覧!C804 -> 070-1070-7060 | D21: =事業所一覧!D804 -> - | E21: =事業所一覧!E804 -> 598-0091 | F21: =事業所一覧!F804 -> 泉南郡田尻町嘉祥寺432-2 たじりエンゼル２階 | G21: =事業所一覧!G804 -> 特定非営利活動法人地域福祉創造協会ウインク | H21: =事業所一覧!H804 -> ● | ... N21: =事業所一覧!N804 -> 0
A24: 岬町 | N24: 市町村一覧に戻る
H25: ☆ 主として重症心身障がい児を通わせる事業所
A26: 事業所番号 | B26: 事業所名称 | C26: TEL | D26: FAX | E26: 〒 | F26: 所在地 | G26: 申請者 | H26: 児 | I26: 定員 | J26: 居 | K26: 放 | L26: 定員 | M26: 保 | N26: 備考
A27: =事業所一覧!A805 -> 2751220183 | B27: =事業所一覧!B805 -> かっかキッズ みさき | C27: =事業所一覧!C805 -> 072-425-7254 | D27: =事業所一覧!D805 -> 072-425-4636 | E27: =事業所一覧!E805 -> 599-0311 | F27: =事業所一覧!F805 -> 泉南郡岬町多奈川谷川1744 | G27: =事業所一覧!G805 -> 株式会社ひだまりかっか | H27: =事業所一覧!H805 -> ● | ... N27: =事業所一覧!N805 -> 0

Sheet 忠岡町
A1: 忠岡町 | N1: 市町村一覧に戻る
H2: ☆ 主として重症心身障がい児を通わせる事業所
A3: 事業所番号 | B3: 事業所名称 | C3: TEL | D3: FAX | E3: 〒 | F3: 所在地 | G3: 申請者 | H3: 児 | I3: 定員 | J3: 居 | K3: 放 | L3: 定員 | M3: 保 | N3: 備考
A4: =事業所一覧!A806 -> 2755400013 | B4: =事業所一覧!B806 -> リハこどもデイアイビー | C4: =事業所一覧!C806 -> 0725-90-6123 | D4: =事業所一覧!D806 -> 0725-90-6124 | E4: =事業所一覧!E806 -> 595-0804 | F4: =事業所一覧!F806 -> 泉北郡忠岡町馬瀬一丁目１番８号 | G4: =事業所一覧!G806 -> 株式会社グランドアイビー | H4: =事業所一覧!H806 -> ● | ... N4: =事業所一覧!N806 -> 0
A5: =事業所一覧!A807 -> 2755400021 | B5: =事業所一覧!B807 -> こどもデイサービスハニーコスモス | C5: =事業所一覧!C807 -> 0725-20-6173 | D5: =事業所一覧!D807 -> 0725-20-6173 | E5: =事業所一覧!E807 -> 595-0812 | F5: =事業所一覧!F807 -> 泉北郡忠岡町忠岡中一丁目10番４号 | G5: =事業所一覧!G807 -> 株式会社足利塾 | H5: =事業所一覧!H807 -> ● | ... N5: =事業所一覧!N807 -> 0
A6: =事業所一覧!A808 -> 2755400039 | B6: =事業所一覧!B808 -> リハこどもデイ メイフラワー | C6: =事業所一覧!C808 -> 0725-21-3336 | D6: =事業所一覧!D808 -> 0725-21-3337 | E6: =事業所一覧!E808 -> 595-0804 | F6: =事業所一覧!F808 -> 泉北郡忠岡町馬瀬三丁目２番５号１階・２階（203号室） | G6: =事業所一覧!G808 -> 株式会社グランドアイビー | H6: =事業所一覧!H808 -> ● | ... N6: =事業所一覧!N808 -> 0
A7: =事業所一覧!A809 -> 2755400047 | B7: =事業所一覧!B809 -> こどもデイサービスアレ・オリヴィエ | C7: =事業所一覧!C809 -> 0725-30-2941 | D7: =事業所一覧!D809 -> 0725-30-2941 | E7: =事業所一覧!E809 -> 595-0813 | F7: =事業所一覧!F809 -> 泉北郡忠岡町忠岡南一丁目４番８号 | G7: =事業所一覧!G809 -> 株式会社足利塾 | H7: =事業所一覧!H809 -> ● | ... N7: =事業所一覧!N809 -> 0
A8: =事業所一覧!A810 -> 2755400062 | B8: =事業所一覧!B810 -> リハこどもデイ フクシア | C8: =事業所一覧!C810 -> 0725-20-0830 | D8: =事業所一覧!D810 -> 0725-20-0831 | E8: =事業所一覧!E810 -> 595-0802 | F8: =事業所一覧!F810 -> 泉北郡忠岡町高月南三丁目８番37号 | G8: =事業所一覧!G810 -> 社会福祉法人のぼり藤 | H8: =事業所一覧!H810 -> ● | ... N8: =事業所一覧!N810 -> 0
A9: =事業所一覧!A811 -> 2755400070 | B9: =事業所一覧!B811 -> ファーストステップ忠岡 | C9: =事業所一覧!C811 -> 0725-58-9022 | D9: =事業所一覧!D811 -> 0725-58-9023 | E9: =事業所一覧!E811 -> 595-0812 | F9: =事業所一覧!F811 -> 泉北郡忠岡町忠岡中一丁目11番12号 １階 | G9: =事業所一覧!G811 -> 株式会社Ｔｈｅ Ｆｉｒｓｔ | H9: =事業所一覧!H811 -> ● | ... N9: =事業所一覧!N811 -> 0

Sheet 南河内郡
A1: 太子町 | N1: 市町村一覧に戻る
H2: ☆ 主として重症心身障がい児を通わせる事業所
A3: 事業所番号 | B3: 事業所名称 | C3: TEL | D3: FAX | E3: 〒 | F3: 所在地 | G3: 申請者 | H3: 児 | I3: 定員 | J3: 居 | K3: 放 | L3: 定員 | M3: 保 | N3: 備考
A4: =事業所一覧!A812 -> 2753520010 | B4: =事業所一覧!B812 -> デイサービスＧＯＹＡ きっずくらぶ | C4: =事業所一覧!C812 -> 0721-69-6667 | D4: =事業所一覧!D812 -> 0721-98-3151 | E4: =事業所一覧!E812 -> 583-0992 | F4: =事業所一覧!F812 -> 南河内郡太子町山田2652番地の４ | G4: =事業所一覧!G812 -> 株式会社であい | H4: =事業所一覧!H812 -> 0 | ... N4: =事業所一覧!N812 -> 共生型
A5: =事業所一覧!A813 -> 2753580055 | B5: =事業所一覧!B813 -> えーる | C5: =事業所一覧!C813 -> 0721-98-2201 | D5: =事業所一覧!D813 -> 0721-98-2210 | E5: =事業所一覧!E813 -> 583-099１ | F5: =事業所一覧!F813 -> 南河内郡太子町大字春日103番地の47 | G5: =事業所一覧!G813 -> 株式会社 雅板金工業 | H5: ● | I5: 10 | K5: ● | L5: 10
A6: =事業所一覧!A814 -> 2753580089 | B6: =事業所一覧!B814 -> ふれんど | C6: =事業所一覧!C814 -> ０９０－７３４２－８５８４ | D6: =事業所一覧!D814 -> 0 | E6: =事業所一覧!E814 -> ５８３－０９９１ | F6: =事業所一覧!F814 -> 南河内郡太子町大字春日230番地２吉田マンション102号室・202号室 | G6: =事業所一覧!G814 -> ネクストイノベーション合同会社 | H6: ☆ | I6: 5 | K6: ☆ | L6: 5
A8: 河南町 | N8: 市町村一覧に戻る
H9: ☆ 主として重症心身障がい児を通わせる事業所
A10: 事業所番号 | B10: 事業所名称 | C10: TEL | D10: FAX | E10: 〒 | F10: 所在地 | G10: 申請者 | H10: 児 | I10: 定員 | J10: 居 | K10: 放 | L10: 定員 | M10: 保 | N10: 備考
A11: =事業所一覧!A815 -> 2753540018 | B11: =事業所一覧!B815 -> 学童ちむちむ | C11: =事業所一覧!C815 -> 0721-93-2009 | D11: =事業所一覧!D815 -> 0721-93-2009 | E11: =事業所一覧!E815 -> 585-0035 | F11: =事業所一覧!F815 -> 南河内郡河南町大字寛弘寺856番地の９ | G11: =事業所一覧!G815 -> 特定非営利活動法人のーまらいず | H11: =事業所一覧!H815 -> ● | ... M11: =事業所一覧!M815 -> 0
A12: =事業所一覧!A816 -> 2753540034 | B12: =事業所一覧!B816 -> どんぐり学園河南校 | C12: =事業所一覧!C816 -> 0721-69-6967 | D12: =事業所一覧!D816 -> 0721-69-8567 | E12: =事業所一覧!E816 -> 585-0014 | F12: =事業所一覧!F816 -> 南河内郡河南町白木75番 | G12: =事業所一覧!G816 -> 社会福祉法人鳳雛会 | H12: =事業所一覧!H816 -> ● | ... M12: =事業所一覧!M816 -> 0
A13: =事業所一覧!A817 -> 2753540042 | B13: =事業所一覧!B817 -> てぃーだ | C13: =事業所一覧!C817 -> 0721-68-7155 | D13: =事業所一覧!D817 -> 0721-68-7156 | E13: =事業所一覧!E817 -> 585-0005 | F13: =事業所一覧!F817 -> 南河内郡河南町大宝二丁目５番２号 | G13: =事業所一覧!G817 -> 特定非営利活動法人のーまらいず | H13: =事業所一覧!H817 -> 0 | ... M13: =事業所一覧!M817 -> 0
A16: 千早赤阪村 | N16: 市町村一覧に戻る
H17: ☆ 主として重症心身障がい児を通わせる事業所
A18: 事業所番号 | B18: 事業所名称 | C18: TEL | D18: FAX | E18: 〒 | F18: 所在地 | G18: 申請者 | H18: 児 | I18: 定員 | J18: 居 | K18: 放 | L18: 定員 | M18: 保 | N18: 備考
A19: =事業所一覧!A818 -> 2753580014 | B19: =事業所一覧!B818 -> マザーズハウスつむぎ | C19: =事業所一覧!C818 -> 0721-21-1092 | D19: =事業所一覧!D818 -> 0721-21-6626 | E19: =事業所一覧!E818 -> 585-0053 | F19: =事業所一覧!F818 -> 南河内郡千早赤阪村大字小吹68番地の646 | G19: =事業所一覧!G818 -> ＮＰＯ法人ちはや子どもサポート | H19: =事業所一覧!H818 -> ● | ... M19: =事業所一覧!M818 -> 0
A20: =事業所一覧!A819 -> 2753580022 | B20: =事業所一覧!B819 -> マザーズハウスきずな２nd | C20: =事業所一覧!C819 -> 0721-21-7128 | D20: =事業所一覧!D819 -> 0721-21-6626 | E20: =事業所一覧!E819 -> 585-0053 | F20: =事業所一覧!F819 -> 南河内郡千早赤阪村大字小吹68番地の487 | G20: =事業所一覧!G819 -> ＮＰＯ法人ちはや子どもサポート | H20: =事業所一覧!H819 -> ● | ... M20: =事業所一覧!M819 -> 0
A21: =事業所一覧!A820 -> 2753580030 | B21: =事業所一覧!B820 -> マザーズハウスはばたき | C21: =事業所一覧!C820 -> 0721-22-0118 | D21: =事業所一覧!D820 -> 0721-21-6626 | E21: =事業所一覧!E820 -> 586-0053 | F21: =事業所一覧!F820 -> 南河内郡千早赤阪村大字小吹68番地の463 | G21: =事業所一覧!G820 -> ＮＰＯ法人ちはや子どもサポート | H21: =事業所一覧!H820 -> ● | ... M21: =事業所一覧!M820 -> 0
A22: =事業所一覧!A821 -> 2753580071 | B22: =事業所一覧!B821 -> マザーズハウスきずなＳｔｅｐ | C22: =事業所一覧!C821 -> 0721-21-7615 | D22: =事業所一覧!D821 -> 0721-21-6626 | E22: =事業所一覧!E821 -> 585-0053 | F22: =事業所一覧!F821 -> 南河内郡千早赤阪村大字小吹68番地827 | G22: =事業所一覧!G821 -> ＮＰＯ法人ちはや子どもサポート | H22: =事業所一覧!H821 -> ● | ... M22: =事業所一覧!M821 -> 0

Sheet 事業所一覧
A1: 事業所一覧 | N1: 市町村一覧に戻る
H2: ☆ 主として重症心身障がい児を通わせる事業所
A3: 事業所番号 | B3: 事業所名称 | C3: TEL | D3: FAX | E3: 〒 | F3: 所在地 | G3: 申請者 | H3: 児 | I3: 定員 | J3: 居 | K3: 放 | L3: 定員 | M3: 保 | N3: 備考
A4: 2751120037 | B4: ほっとスペースあん | C4: 072-433-3907 | D4: 072-433-3907 | E4: 596-0047 | F4: 岸和田市上野町東13番10号三八ビル１階Ｂ号室 | G4: 特定非営利活動法人まんまる | K4: ● | L4: 10 | O4: =IF(ISERROR(FIND("群",F4))=FALSE,LEFT(F4,FIND("群",F4)),IF(ISERROR(FIND("市",F4))=FALSE,LEFT(F4,FIND("市",F4)),IF(ISERROR(FIND("町",F4))=FALSE,LEFT(F4,FIND("町",F4)),IF(ISERROR(FIND("村",F4))=FALSE,LEFT(F4,FIND("村",F4)))))) -> 岸和田市 | P4: =COUNTIF($O$4:O4,"岸和田市") -> 1
A5: 2751120045 | B5: ＣｏＣｏ | C5: 072-433-2822 | D5: 072-433-2823 | E5: 596-0823 | F5: 岸和田市下松町一丁目11番７号 | G5: ボンズ株式会社 | H5: ● | I5: 10 | K5: ● | L5: 10 | O5: =IF(ISERROR(FIND("群",F5))=FALSE,LEFT(F5,FIND("群",F5)),IF(ISERROR(FIND("市",F5))=FALSE,LEFT(F5,FIND("市",F5)),IF(ISERROR(FIND("町",F5))=FALSE,LEFT(F5,FIND("町",F5)),IF(ISERROR(FIND("村",F5))=FALSE,LEFT(F5,FIND("村",F5)))))) -> 岸和田市 | P5: =COUNTIF($O$4:O5,"岸和田市") -> 2
A6: 2751120052 | B6: はなはな | C6: 072-441-1308 | D6: 072-441-3825 | E6: 596-0102 | F6: 岸和田市山直中町875番地 | G6: 社会福祉法人いずみ野福祉会 | K6: ● | L6: 10 | O6: =IF(ISERROR(FIND("群",F6))=FALSE,LEFT(F6,FIND("群",F6)),IF(ISERROR(FIND("市",F6))=FALSE,LEFT(F6,FIND("市",F6)),IF(ISERROR(FIND("町",F6))=FALSE,LEFT(F6,FIND("町",F6)),IF(ISERROR(FIND("村",F6))=FALSE,LEFT(F6,FIND("村",F6)))))) -> 岸和田市 | P6: =COUNTIF($O$4:O6,"岸和田市") -> 3
A7: 2751120086 | B7: 放課後等デイサービスこまつり | C7: 072-448-6617 | D7: 072-443-6639 | E7: 596-0821 | F7: 岸和田市小松里町911-１ | G7: 社会福祉法人光生会 | K7: ● | L7: 10 | O7: =IF(ISERROR(FIND("群",F7))=FALSE,LEFT(F7,FIND("群",F7)),IF(ISERROR(FIND("市",F7))=FALSE,LEFT(F7,FIND("市",F7)),IF(ISERROR(FIND("町",F7))=FALSE,LEFT(F7,FIND("町",F7)),IF(ISERROR(FIND("村",F7))=FALSE,LEFT(F7,FIND("村",F7)))))) -> 岸和田市 | P7: =COUNTIF($O$4:O7,"岸和田市") -> 4
A8: 2751120102 | B8: 放課後等デイサービスなう | C8: 072-457-1361 | D8: 072-457-1993 | E8: 596-0826 | F8: 岸和田市作才町1180番地１階 | G8: 株式会社晴友 | H8: ● | I8: 10 | K8: ● | L8: 10 | O8: =IF(ISERROR(FIND("群",F8))=FALSE,LEFT(F8,FIND("群",F8)),IF(ISERROR(FIND("市",F8))=FALSE,LEFT(F8,FIND("市",F8)),IF(ISERROR(FIND("町",F8))=FALSE,LEFT(F8,FIND("町",F8)),IF(ISERROR(FIND("村",F8))=FALSE,LEFT(F8,FIND("村",F8)))))) -> 岸和田市 | P8: =COUNTIF($O$4:O8,"岸和田市") -> 5
A9: 2751120128 | B9: 児童デイサービスばらの木 | C9: 072-447-6960 | D9: 072-447-6961 | E9: 596-0001 | F9: 岸和田市磯上町一丁目14番23号 | G9: 株式会社百花 | H9: ● | I9: 10 | K9: ● | L9: 10 | O9: =IF(ISERROR(FIND("群",F9))=FALSE,LEFT(F9,FIND("群",F9)),IF(ISERROR(FIND("市",F9))=FALSE,LEFT(F9,FIND("市",F9)),IF(ISERROR(FIND("町",F9))=FALSE,LEFT(F9,FIND("町",F9)),IF(ISERROR(FIND("村",F9))=FALSE,LEFT(F9,FIND("村",F9)))))) -> 岸和田市 | P9: =COUNTIF($O$4:O9,"岸和田市") -> 6
A10: 2751120144 | B10: キッズハウスなごみ家 | C10: 072-468-6960 | D10: 072-468-6961 | E10: 596-0831 | F10: 岸和田市畑町四丁目１番16号 | G10: アプリコットマネジメント株式会社 | H10: ● | I10: 10 | K10: ● | L10: 10 | O10: =IF(ISERROR(FIND("群",F10))=FALSE,LEFT(F10,FIND("群",F10)),IF(ISERROR(FIND("市",F10))=FALSE,LEFT(F10,FIND("市",F10)),IF(ISERROR(FIND("町",F10))=FALSE,LEFT(F10,FIND("町",F10)),IF(ISERROR(FIND("村",F10))=FALSE,LEFT(F10,FIND("村",F10)))))) -> 岸和田市 | P10: =COUNTIF($O$4:O10,"岸和田市") -> 7
A11: 2751120151 | B11: 運動＆学習療育あなたが宝モノ 岸和田堺町教室 | C11: 072-433-1231 | D11: 072-433-1241 | E11: 596-0072 | F11: 岸和田市堺町１番38号大起ビル３Ｆ | G11: 株式会社いのちの木 | H11: ● | I11: 10 | K11: ● | L11: 10 | M11: ● | O11: =IF(ISERROR(FIND("群",F11))=FALSE,LEFT(F11,FIND("群",F11)),IF(ISERROR(FIND("市",F11))=FALSE,LEFT(F11,FIND("市",F11)),IF(ISERROR(FIND("町",F11))=FALSE,LEFT(F11,FIND("町",F11)),IF(ISERROR(FIND("村",F11))=FALSE,LEFT(F11,FIND("村",F11)))))) -> 岸和田市 | P11: =COUNTIF($O$4:O11,"岸和田市") -> 8
A12: 2751120177 | B12: ジェイキッズきりん | C12: 072-477-3535 | D12: 072-457-5493 | E12: 596-0825 | F12: 岸和田市土生町2475-22 | G12: 株式会社ジェイケア | H12: ● | I12: 10 | K12: ● | L12: 10 | O12: =IF(ISERROR(FIND("群",F12))=FALSE,LEFT(F12,FIND("群",F12)),IF(ISERROR(FIND("市",F12))=FALSE,LEFT(F12,FIND("市",F12)),IF(ISERROR(FIND("町",F12))=FALSE,LEFT(F12,FIND("町",F12)),IF(ISERROR(FIND("村",F12))=FALSE,LEFT(F12,FIND("村",F12)))))) -> 岸和田市 | P12: =COUNTIF($O$4:O12,"岸和田市") -> 9
A13: 2751120185 | B13: こどもランドなっつ | C13: 072-443-2261 | D13: 072-443-2263 | E13: 596-0816 | F13: 岸和田市尾生町八丁目27番10号 | G13: 株式会社ＮＵＴＳドリーム | H13: ● | I13: 10 | K13: ● | L13: 10 | O13: =IF(ISERROR(FIND("群",F13))=FALSE,LEFT(F13,FIND("群",F13)),IF(ISERROR(FIND("市",F13))=FALSE,LEFT(F13,FIND("市",F13)),IF(ISERROR(FIND("町",F13))=FALSE,LEFT(F13,FIND("町",F13)),IF(ISERROR(FIND("村",F13))=FALSE,LEFT(F13,FIND("村",F13)))))) -> 岸和田市 | P13: =COUNTIF($O$4:O13,"岸和田市") -> 10
A14: 2751120193 | B14: 児童デイサービスばらの木アネックス | C14: 072-447-6088 | D14: 072-447-6089 | E14: 596-0045 | F14: 岸和田市別所町二丁目３番２号 | G14: 株式会社百花 | H14: ● | I14: 10 | K14: ● | L14: 10 | O14: =IF(ISERROR(FIND("群",F14))=FALSE,LEFT(F14,FIND("群",F14)),IF(ISERROR(FIND("市",F14))=FALSE,LEFT(F14,FIND("市",F14)),IF(ISERROR(FIND("町",F14))=FALSE,LEFT(F14,FIND("町",F14)),IF(ISERROR(FIND("村",F14))=FALSE,LEFT(F14,FIND("村",F14)))))) -> 岸和田市 | P14: =COUNTIF($O$4:O14,"岸和田市") -> 11
A15: 2751120201 | B15: 放課後デイサービスつじい | C15: 072-479-4182 | D15: 072-479-4183 | E15: 596-0816 | F15: 岸和田市尾生町三丁目３番50号 | G15: 株式会社文衛門 | H15: ● | I15: 10 | K15: ● | L15: 10 | O15: =IF(ISERROR(FIND("群",F15))=FALSE,LEFT(F15,FIND("群",F15)),IF(ISERROR(FIND("市",F15))=FALSE,LEFT(F15,FIND("市",F15)),IF(ISERROR(FIND("町",F15))=FALSE,LEFT(F15,FIND("町",F15)),IF(ISERROR(FIND("村",F15))=FALSE,LEFT(F15,FIND("村",F15)))))) -> 岸和田市 | P15: =COUNTIF($O$4:O15,"岸和田市") -> 12
A16: 2751120219 | B16: 放課後デイサービス・ふれあい泉 | C16: 072-440-2752 | D16: 072-440-2753 | E16: 596-0002 | F16: 岸和田市吉井町二丁目12番21号 | G16: 特定非営利活動法人ふれあい泉 | K16: ● | L16: 10 | O16: =IF(ISERROR(FIND("群",F16))=FALSE,LEFT(F16,FIND("群",F16)),IF(ISERROR(FIND("市",F16))=FALSE,LEFT(F16,FIND("市",F16)),IF(ISERROR(FIND("町",F16))=FALSE,LEFT(F16,FIND("町",F16)),IF(ISERROR(FIND("村",F16))=FALSE,LEFT(F16,FIND("村",F16)))))) -> 岸和田市 | P16: =COUNTIF($O$4:O16,"岸和田市") -> 13
A17: 2751120227 | B17: こどもハウスだんぼ | C17: 072-493-8326 | D17: 072-493-8327 | E17: 596-0814 | F17: 岸和田市岡山町35番地の２ トニワンハイツ岡山102号室 | G17: 株式会社ＮＵＴＳドリーム | H17: ☆ | I17: 5 | K17: ☆ | L17: 5 | O17: =IF(ISERROR(FIND("群",F17))=FALSE,LEFT(F17,FIND("群",F17)),IF(ISERROR(FIND("市",F17))=FALSE,LEFT(F17,FIND("市",F17)),IF(ISERROR(FIND("町",F17))=FALSE,LEFT(F17,FIND("町",F17)),IF(ISERROR(FIND("村",F17))=FALSE,LEFT(F17,FIND("村",F17)))))) -> 岸和田市 | P17: =COUNTIF($O$4:O17,"岸和田市") -> 14
A18: 2751120243 | B18: アリス | C18: 072-479-5670 | D18: 072-479-5671 | E18: 596-0823 | F18: 岸和田市下松町三丁目４番１号Ａ棟102号、104号、105号 | G18: 合同会社アーリーケア | H18: ● | I18: 10 | K18: ● | L18: 10 | M18: ● | O18: =IF(ISERROR(FIND("群",F18))=FALSE,LEFT(F18,FIND("群",F18)),IF(ISERROR(FIND("市",F18))=FALSE,LEFT(F18,FIND("市",F18)),IF(ISERROR(FIND("町",F18))=FALSE,LEFT(F18,FIND("町",F18)),IF(ISERROR(FIND("村",F18))=FALSE,LEFT(F18,FIND("村",F18)))))) -> 岸和田市 | P18: =COUNTIF($O$4:O18,"岸和田市") -> 15
A19: 2751120268 | B19: キッズハウスなごみ家土生 | C19: 072-428-7550 | D19: 072-428-7553 | E19: 596-0825 | F19: 岸和田市土生町九丁目11番11号 | G19: アプリコットマネジメント株式会社 | H19: ● | I19: 10 | K19: ● | L19: 10 | O19: =IF(ISERROR(FIND("群",F19))=FALSE,LEFT(F19,FIND("群",F19)),IF(ISERROR(FIND("市",F19))=FALSE,LEFT(F19,FIND("市",F19)),IF(ISERROR(FIND("町",F19))=FALSE,LEFT(F19,FIND("町",F19)),IF(ISERROR(FIND("村",F19))=FALSE,LEFT(F19,FIND("村",F19)))))) -> 岸和田市 | P19: =COUNTIF($O$4:O19,"岸和田市") -> 16
A20: 2751120276 | B20: 児童福祉サービスＬａｒｉｍａｒ Arch | C20: 072-443-1331 | D20: 072-443-1332 | E20: 596-0003 | F20: 岸和田市中井町二丁目８番31号 | G20: ＮＰＯ法人児童福祉サービスＬａｒｉｍａｒ | K20: ● | L20: 10 | O20: =IF(ISERROR(FIND("群",F20))=FALSE,LEFT(F20,FIND("群",F20)),IF(ISERROR(FIND("市",F20))=FALSE,LEFT(F20,FIND("市",F20)),IF(ISERROR(FIND("町",F20))=FALSE,LEFT(F20,FIND("町",F20)),IF(ISERROR(FIND("村",F20))=FALSE,LEFT(F20,FIND("村",F20)))))) -> 岸和田市 | P20: =COUNTIF($O$4:O20,"岸和田市") -> 17
A21: 2751120284 | B21: 発達支援教室レッツ | C21: 072-477-5974 | D21: 050-3730-7560 | E21: 596-0823 | F21: 岸和田市下松町三丁目５番11号 | G21: 一般社団法人ライトアップ | K21: ● | L21: 10 | M21: ● | O21: =IF(ISERROR(FIND("群",F21))=FALSE,LEFT(F21,FIND("群",F21)),IF(ISERROR(FIND("市",F21))=FALSE,LEFT(F21,FIND("市",F21)),IF(ISERROR(FIND("町",F21))=FALSE,LEFT(F21,FIND("町",F21)),IF(ISERROR(FIND("村",F21))=FALSE,LEFT(F21,FIND("村",F21)))))) -> 岸和田市 | P21: =COUNTIF($O$4:O21,"岸和田市") -> 18
A22: 2751120318 | B22: 児童発達支援・放課後等デイサービスＨＵＧＳ | C22: 072-430-1160 | D22: 072-430-1161 | E22: 596-0047 | F22: 岸和田市上野町東10番39号１階 | G22: 株式会社オキシテック | H22: ● | I22: 10 | K22: ● | L22: 10 | O22: =IF(ISERROR(FIND("群",F22))=FALSE,LEFT(F22,FIND("群",F22)),IF(ISERROR(FIND("市",F22))=FALSE,LEFT(F22,FIND("市",F22)),IF(ISERROR(FIND("町",F22))=FALSE,LEFT(F22,FIND("町",F22)),IF(ISERROR(FIND("村",F22))=FALSE,LEFT(F22,FIND("村",F22)))))) -> 岸和田市 | P22: =COUNTIF($O$4:O22,"岸和田市") -> 19
A23: 2751120334 | B23: 多機能型事業所 子どもの森 | C23: 072-424-2872 | D23: 072-424-2872 | E23: 596-0805 | F23: 岸和田市田治米町13番地の４ | G23: 一般社団法人子どもの森 | H23: ● | I23: 10 | J23: ● | K23: ● | L23: 10 | M23: ● | O23: =IF(ISERROR(FIND("群",F23))=FALSE,LEFT(F23,FIND("群",F23)),IF(ISERROR(FIND("市",F23))=FALSE,LEFT(F23,FIND("市",F23)),IF(ISERROR(FIND("町",F23))=FALSE,LEFT(F23,FIND("町",F23)),IF(ISERROR(FIND("村",F23))=FALSE,LEFT(F23,FIND("村",F23)))))) -> 岸和田市 | P23: =COUNTIF($O$4:O23,"岸和田市") -> 20
A24: 2751320140 | B24: 児童発達支援・放課後等デイサービス陽（ひなた） | C24: 072-438-2275 | D24: 072-438-2275 | E24: 596-0056 | F24: 岸和田市北町10番7号 | G24: 株式会社藤企画 | H24: ● | I24: 10 | K24: ● | L24: 10 | O24: =IF(ISERROR(FIND("群",F24))=FALSE,LEFT(F24,FIND("群",F24)),IF(ISERROR(FIND("市",F24))=FALSE,LEFT(F24,FIND("市",F24)),IF(ISERROR(FIND("町",F24))=FALSE,LEFT(F24,FIND("町",F24)),IF(ISERROR(FIND("村",F24))=FALSE,LEFT(F24,FIND("村",F24)))))) -> 岸和田市 | P24: =COUNTIF($O$4:O24,"岸和田市") -> 21
A25: 2751120342 | B25: 清流の家 岸和田 | C25: 072-420-0020 | D25: 072-420-0021 | E25: 596-0827 | F25: 岸和田市上松町457－１ | G25: 合同会社哲人社 | H25: ● | I25: 10 | K25: ● | L25: 10 | O25: =IF(ISERROR(FIND("群",F25))=FALSE,LEFT(F25,FIND("群",F25)),IF(ISERROR(FIND("市",F25))=FALSE,LEFT(F25,FIND("市",F25)),IF(ISERROR(FIND("町",F25))=FALSE,LEFT(F25,FIND("町",F25)),IF(ISERROR(FIND("村",F25))=FALSE,LEFT(F25,FIND("村",F25)))))) -> 岸和田市 | P25: =COUNTIF($O$4:O25,"岸和田市") -> 22
A26: 2751120367 | B26: 進学＆就職支援あなたが宝モノ岸和田沼町教室 | C26: 072-433-5266 | D26: 072-433-5277 | E26: 596-0053 | F26: 岸和田市沼町18番1号川長ビル２F | G26: 株式会社いのちの木 | H26: ● | I26: 10 | K26: ● | L26: 10 | M26: ● | O26: =IF(ISERROR(FIND("群",F26))=FALSE,LEFT(F26,FIND("群",F26)),IF(ISERROR(FIND("市",F26))=FALSE,LEFT(F26,FIND("市",F26)),IF(ISERROR(FIND("町",F26))=FALSE,LEFT(F26,FIND("町",F26)),IF(ISERROR(FIND("村",F26))=FALSE,LEFT(F26,FIND("村",F26)))))) -> 岸和田市 | P26: =COUNTIF($O$4:O26,"岸和田市") -> 23
A27: 2751120375 | B27: 児童デイサービスくれよん下池田 | C27: 072-441-1717 | D27: 072-441-1919 | E27: 596-0811 | F27: 岸和田市下池田町一丁目６番17号 | G27: 有限会社サプラス | H27: ● | I27: 10 | K27: ● | L27: 10 | O27: =IF(ISERROR(FIND("群",F27))=FALSE,LEFT(F27,FIND("群",F27)),IF(ISERROR(FIND("市",F27))=FALSE,LEFT(F27,FIND("市",F27)),IF(ISERROR(FIND("町",F27))=FALSE,LEFT(F27,FIND("町",F27)),IF(ISERROR(FIND("村",F27))=FALSE,LEFT(F27,FIND("村",F27)))))) -> 岸和田市 | P27: =COUNTIF($O$4:O27,"岸和田市") -> 24
A28: 2751120383 | B28: 放課後児童デイサービスくれよん | C28: 072-448-6611 | D28: 072-448-6612 | E28: 596-0821 | F28: 岸和田市小松里町874番地３ | G28: 有限会社サプラス | H28: ● | I28: 10 | K28: ● | L28: 10 | O28: =IF(ISERROR(FIND("群",F28))=FALSE,LEFT(F28,FIND("群",F28)),IF(ISERROR(FIND("市",F28))=FALSE,LEFT(F28,FIND("市",F28)),IF(ISERROR(FIND("町",F28))=FALSE,LEFT(F28,FIND("町",F28)),IF(ISERROR(FIND("村",F28))=FALSE,LEFT(F28,FIND("村",F28)))))) -> 岸和田市 | P28: =COUNTIF($O$4:O28,"岸和田市") -> 25
A29: 2751120425 | B29: 放課後等デイサービス・児童発達支援 ひなたきっず | C29: ０７２－４３７－１０１１ | D29: ０７２－４３７－１０１１ | E29: ５９６－００３５ | F29: 岸和田市春木泉町10番33号 宮城ビル１階 | G29: 株式会社スズヤ | H29: ● | I29: 10 | K29: ● | L29: 10 | O29: =IF(ISERROR(FIND("群",F29))=FALSE,LEFT(F29,FIND("群",F29)),IF(ISERROR(FIND("市",F29))=FALSE,LEFT(F29,FIND("市",F29)),IF(ISERROR(FIND("町",F29))=FALSE,LEFT(F29,FIND("町",F29)),IF(ISERROR(FIND("村",F29))=FALSE,LEFT(F29,FIND("村",F29)))))) -> 岸和田市 | P29: =COUNTIF($O$4:O29,"岸和田市") -> 26
A30: 2751120433 | B30: 児童発達支援・放課後等デイサービスＯｈａｎａ・Pono | C30: ０７２－４９６－６７８２ | D30: ０７２－４９６－６７８２ | E30: ５９６－００２３ | F30: 岸和田市八幡町１番10号１階 | G30: 合同会社Ohana | H30: ● | I30: 10 | K30: ● | L30: 10 | O30: =IF(ISERROR(FIND("群",F30))=FALSE,LEFT(F30,FIND("群",F30)),IF(ISERROR(FIND("市",F30))=FALSE,LEFT(F30,FIND("市",F30)),IF(ISERROR(FIND("町",F30))=FALSE,LEFT(F30,FIND("町",F30)),IF(ISERROR(FIND("村",F30))=FALSE,LEFT(F30,FIND("村",F30)))))) -> 岸和田市 | P30: =COUNTIF($O$4:O30,"岸和田市") -> 27
A31: 2751120441 | B31: 児童デイサービス パピプケア | C31: 072-493-4140 | D31: 072-493-4141 | E31: 596-0823 | F31: 岸和田市下松町5062番地 | G31: 株式会社The First | H31: ● | I31: 10 | O31: =IF(ISERROR(FIND("群",F31))=FALSE,LEFT(F31,FIND("群",F31)),IF(ISERROR(FIND("市",F31))=FALSE,LEFT(F31,FIND("市",F31)),IF(ISERROR(FIND("町",F31))=FALSE,LEFT(F31,FIND("町",F31)),IF(ISERROR(FIND("村",F31))=FALSE,LEFT(F31,FIND("村",F31)))))) -> 岸和田市 | P31: =COUNTIF($O$4:O31,"岸和田市") -> 28
A32: 2751120466 | B32: フタール岸和田 | C32: 072-430-3110 | D32: 072-430-3111 | E32: 596-0045 | F32: 岸和田市別所町一丁目14番28号 Ｋ・ル・フタールビル３階・５階 | G32: 株式会社アップサポート | H32: ● | I32: 10 | K32: ● | L32: 10 | O32: =IF(ISERROR(FIND("群",F32))=FALSE,LEFT(F32,FIND("群",F32)),IF(ISERROR(FIND("市",F32))=FALSE,LEFT(F32,FIND("市",F32)),IF(ISERROR(FIND("町",F32))=FALSE,LEFT(F32,FIND("町",F32)),IF(ISERROR(FIND("村",F32))=FALSE,LEFT(F32,FIND("村",F32)))))) -> 岸和田市 | P32: =COUNTIF($O$4:O32,"岸和田市") -> 29
A33: 2751120482 | B33: 児童デイサービス こもっこ 岸和田 | C33: 072-479-8842 | D33: 072-479-8843 | E33: 596-0821 | F33: 岸和田市小松里町2076番 | G33: 株式会社 栄拓 | H33: ☆ | I33: 5 | K33: ☆ | L33: 5 | O33: =IF(ISERROR(FIND("群",F33))=FALSE,LEFT(F33,FIND("群",F33)),IF(ISERROR(FIND("市",F33))=FALSE,LEFT(F33,FIND("市",F33)),IF(ISERROR(FIND("町",F33))=FALSE,LEFT(F33,FIND("町",F33)),IF(ISERROR(FIND("村",F33))=FALSE,LEFT(F33,FIND("村",F33)))))) -> 岸和田市 | P33: =COUNTIF($O$4:O33,"岸和田市") -> 30
A34: 2751120474 | B34: ファーストクラス久米田校 | C34: 072-441-2361 | D34: 072-441-2361 | E34: 596-0812 | F34: 岸和田市大町475番地の19久米田ショッピングセンター201号室 | G34: 株式会社フルスイングリージェンシー | H34: ● | I34: 10 | K34: ● | L34: 10 | O34: =IF(ISERROR(FIND("群",F34))=FALSE,LEFT(F34,FIND("群",F34)),IF(ISERROR(FIND("市",F34))=FALSE,LEFT(F34,FIND("市",F34)),IF(ISERROR(FIND("町",F34))=FALSE,LEFT(F34,FIND("町",F34)),IF(ISERROR(FIND("村",F34))=FALSE,LEFT(F34,FIND("村",F34)))))) -> 岸和田市 | P34: =COUNTIF($O$4:O34,"岸和田市") -> 31
A35: 2751120490 | B35: ふりすくもーど | C35: 072-445-8822 | D35: 072-445-8811 | E35: 596-0813 | F35: 岸和田市池尻町211 | G35: 株式会社ミヤシタ | H35: ● | I35: 10 | K35: ● | L35: 10 | O35: =IF(ISERROR(FIND("群",F35))=FALSE,LEFT(F35,FIND("群",F35)),IF(ISERROR(FIND("市",F35))=FALSE,LEFT(F35,FIND("市",F35)),IF(ISERROR(FIND("町",F35))=FALSE,LEFT(F35,FIND("町",F35)),IF(ISERROR(FIND("村",F35))=FALSE,LEFT(F35,FIND("村",F35)))))) -> 岸和田市 | P35: =COUNTIF($O$4:O35,"岸和田市") -> 32
A36: 2751120508 | B36: 清流の家 春木 | C36: 072-430-5101 | D36: 072-430-5102 | E36: 596-0006 | F36: 岸和田市春木若松町３番27号 | G36: 合同会社哲人社 | H36: ● | I36: 10 | K36: ● | L36: 10 | O36: =IF(ISERROR(FIND("群",F36))=FALSE,LEFT(F36,FIND("群",F36)),IF(ISERROR(FIND("市",F36))=FALSE,LEFT(F36,FIND("市",F36)),IF(ISERROR(FIND("町",F36))=FALSE,LEFT(F36,FIND("町",F36)),IF(ISERROR(FIND("村",F36))=FALSE,LEFT(F36,FIND("村",F36)))))) -> 岸和田市 | P36: =COUNTIF($O$4:O36,"岸和田市") -> 33
A37: 2751120516 | B37: 児童発達支援・放課後等デイサービス ＧＯ | C37: 072-489-5905 | D37: 072-489-5905 | E37: 596-0004 | F37: 岸和田市荒木町二丁目５番２号 Ｍ’ｓビル４階401号室 | G37: 合同会社Ｇｒｏｗｔｈ Ｏｒｉｅｎｔｅｄ | H37: ● | I37: 10 | K37: ● | L37: 10 | O37: =IF(ISERROR(FIND("群",F37))=FALSE,LEFT(F37,FIND("群",F37)),IF(ISERROR(FIND("市",F37))=FALSE,LEFT(F37,FIND("市",F37)),IF(ISERROR(FIND("町",F37))=FALSE,LEFT(F37,FIND("町",F37)),IF(ISERROR(FIND("村",F37))=FALSE,LEFT(F37,FIND("村",F37)))))) -> 岸和田市 | P37: =COUNTIF($O$4:O37,"岸和田市") -> 34
A38: 2751120524 | B38: 児童デイサービスｍａｆａ | C38: 072-474-4654 | D38: 072-474-5649 | E38: 596-0044 | F38: 岸和田市西之内町７番21号１階 | G38: 株式会社ＩＴＯＳＡ | H38: ☆ | I38: 7 | K38: ☆ | L38: 7 | O38: =IF(ISERROR(FIND("群",F38))=FALSE,LEFT(F38,FIND("群",F38)),IF(ISERROR(FIND("市",F38))=FALSE,LEFT(F38,FIND("市",F38)),IF(ISERROR(FIND("町",F38))=FALSE,LEFT(F38,FIND("町",F38)),IF(ISERROR(FIND("村",F38))=FALSE,LEFT(F38,FIND("村",F38)))))) -> 岸和田市 | P38: =COUNTIF($O$4:O38,"岸和田市") -> 35
A39: 2751120532 | B39: 放課後等デイサービス ピリナ | C39: 090-8846-0939 | D39: 072-441-4439 | E39: 596-0003 | F39: 岸和田市中井町三丁目18番25号 | G39: 合同会社カピリナ | H39: ● | I39: 10 | K39: ● | L39: 10 | O39: =IF(ISERROR(FIND("群",F39))=FALSE,LEFT(F39,FIND("群",F39)),IF(ISERROR(FIND("市",F39))=FALSE,LEFT(F39,FIND("市",F39)),IF(ISERROR(FIND("町",F39))=FALSE,LEFT(F39,FIND("町",F39)),IF(ISERROR(FIND("村",F39))=FALSE,LEFT(F39,FIND("村",F39)))))) -> 岸和田市 | P39: =COUNTIF($O$4:O39,"岸和田市") -> 36
A40: 2751120540 | B40: ウルぱあに | C40: 072-439-9578 | D40: 072-468-9658 | E40: 596-0825 | F40: 岸和田市土生町三丁目14番27号川口ビル２Ｆ | G40: 株式会社ａｓｏｂｉｌ | H40: ● | I40: 10 | K40: ● | L40: 10 | O40: =IF(ISERROR(FIND("群",F40))=FALSE,LEFT(F40,FIND("群",F40)),IF(ISERROR(FIND("市",F40))=FALSE,LEFT(F40,FIND("市",F40)),IF(ISERROR(FIND("町",F40))=FALSE,LEFT(F40,FIND("町",F40)),IF(ISERROR(FIND("村",F40))=FALSE,LEFT(F40,FIND("村",F40)))))) -> 岸和田市 | P40: =COUNTIF($O$4:O40,"岸和田市") -> 37
A41: 2751120557 | B41: こどもパークゆめっこ | C41: 072-436-1165 | D41: 072-493-6594 | E41: 596-0073 | F41: 岸和田市岸城町28番36号 | G41: 株式会社NUTSドリーム | H41: ☆ | I41: 5 | K41: ☆ | L41: 5 | O41: =IF(ISERROR(FIND("群",F41))=FALSE,LEFT(F41,FIND("群",F41)),IF(ISERROR(FIND("市",F41))=FALSE,LEFT(F41,FIND("市",F41)),IF(ISERROR(FIND("町",F41))=FALSE,LEFT(F41,FIND("町",F41)),IF(ISERROR(FIND("村",F41))=FALSE,LEFT(F41,FIND("村",F41)))))) -> 岸和田市 | P41: =COUNTIF($O$4:O41,"岸和田市") -> 38
A42: 2751120565 | B42: 放課後等デイサービスＯＲＡＮＧＥ | C42: 072-489-5885 | D42: 072-489-5553 | E42: 596-0821 | F42: 岸和田市小松里町2416番地 | G42: 株式会社ビロー | H42: ● | I42: 10 | K42: ● | L42: 10 | O42: =IF(ISERROR(FIND("群",F42))=FALSE,LEFT(F42,FIND("群",F42)),IF(ISERROR(FIND("市",F42))=FALSE,LEFT(F42,FIND("市",F42)),IF(ISERROR(FIND("町",F42))=FALSE,LEFT(F42,FIND("町",F42)),IF(ISERROR(FIND("村",F42))=FALSE,LEFT(F42,FIND("村",F42)))))) -> 岸和田市 | P42: =COUNTIF($O$4:O42,"岸和田市") -> 39
A43: 2751120573 | B43: ちびこば岸和田 | C43: 072-493-4021 | D43: 072-493-4022 | E43: 596-0002 | F43: 岸和田市吉井町一丁目14番27号 | G43: 株式会社大阪やまと | K43: ● | L43: 10 | O43: =IF(ISERROR(FIND("群",F43))=FALSE,LEFT(F43,FIND("群",F43)),IF(ISERROR(FIND("市",F43))=FALSE,LEFT(F43,FIND("市",F43)),IF(ISERROR(FIND("町",F43))=FALSE,LEFT(F43,FIND("町",F43)),IF(ISERROR(FIND("村",F43))=FALSE,LEFT(F43,FIND("村",F43)))))) -> 岸和田市 | P43: =COUNTIF($O$4:O43,"岸和田市") -> 40
A44: 2751120581 | B44: ぽけっと | C44: 072-477-2037 | D44: 072-477-2037 | E44: 596-0825 | F44: 岸和田市土生町六丁目４番44号 | G44: 株式会社ペタゴー | K44: ● | L44: 10 | O44: =IF(ISERROR(FIND("群",F44))=FALSE,LEFT(F44,FIND("群",F44)),IF(ISERROR(FIND("市",F44))=FALSE,LEFT(F44,FIND("市",F44)),IF(ISERROR(FIND("町",F44))=FALSE,LEFT(F44,FIND("町",F44)),IF(ISERROR(FIND("村",F44))=FALSE,LEFT(F44,FIND("村",F44)))))) -> 岸和田市 | P44: =COUNTIF($O$4:O44,"岸和田市") -> 41
A45: 2751120599 | B45: 重心・医ケア児専門 児童デイサービス ひなたぼっこ | C45: 072-475-1110 | D45: 072-475-1110 | E45: 596-0035 | F45: 岸和田市春木泉町16番９号 | G45: 株式会社スズヤ | H45: ☆ | I45: 5 | K45: ☆ | L45: 5 | O45: =IF(ISERROR(FIND("群",F45))=FALSE,LEFT(F45,FIND("群",F45)),IF(ISERROR(FIND("市",F45))=FALSE,LEFT(F45,FIND("市",F45)),IF(ISERROR(FIND("町",F45))=FALSE,LEFT(F45,FIND("町",F45)),IF(ISERROR(FIND("村",F45))=FALSE,LEFT(F45,FIND("村",F45)))))) -> 岸和田市 | P45: =COUNTIF($O$4:O45,"岸和田市") -> 42
A46: 2751120607 | B46: 児童発達支援・放課後等デイサービス Ｂａｍｂｉｎｏ | C46: ０７２‐４８９‐５５２７ | D46: ０７２‐４８９‐５５２７ | E46: ５９３－０８２１ | F46: 岸和田市小松里町2137番地 | G46: 株式会社ＶＩＸＴ | H46: ● | I46: 10 | K46: ● | L46: 10 | O46: =IF(ISERROR(FIND("群",F46))=FALSE,LEFT(F46,FIND("群",F46)),IF(ISERROR(FIND("市",F46))=FALSE,LEFT(F46,FIND("市",F46)),IF(ISERROR(FIND("町",F46))=FALSE,LEFT(F46,FIND("町",F46)),IF(ISERROR(FIND("村",F46))=FALSE,LEFT(F46,FIND("村",F46)))))) -> 岸和田市 | P46: =COUNTIF($O$4:O46,"岸和田市") -> 43
A47: 2751120615 | B47: 岸和田こども総合支援研究所 こころＢＬＩＳＳ | C47: 072-443-0555 | D47: 072-443-0557 | E47: 596-0821 | F47: 岸和田市小松里町325番７の２ ２階 | G47: 特定非営利活動法人地域福祉創造協会ウインク | H47: ● | I47: 10 | K47: ● | L47: 10 | M47: ● | O47: =IF(ISERROR(FIND("群",F47))=FALSE,LEFT(F47,FIND("群",F47)),IF(ISERROR(FIND("市",F47))=FALSE,LEFT(F47,FIND("市",F47)),IF(ISERROR(FIND("町",F47))=FALSE,LEFT(F47,FIND("町",F47)),IF(ISERROR(FIND("村",F47))=FALSE,LEFT(F47,FIND("村",F47)))))) -> 岸和田市 | P47: =COUNTIF($O$4:O47,"岸和田市") -> 44
A48: 2751120623 | B48: ファーストクラス岸和田駅前校 | C48: 072-488-7733 | D48: 072-488-7758 | E48: 596-0054 | F48: 岸和田市宮本町18番７号ＳＡＫＵＲＡビル３階301号室 | G48: 株式会社フルスイングリージェンシー | H48: ● | I48: 10 | K48: ● | L48: 10 | O48: =IF(ISERROR(FIND("群",F48))=FALSE,LEFT(F48,FIND("群",F48)),IF(ISERROR(FIND("市",F48))=FALSE,LEFT(F48,FIND("市",F48)),IF(ISERROR(FIND("町",F48))=FALSE,LEFT(F48,FIND("町",F48)),IF(ISERROR(FIND("村",F48))=FALSE,LEFT(F48,FIND("村",F48)))))) -> 岸和田市 | P48: =COUNTIF($O$4:O48,"岸和田市") -> 45
A49: 2751120631 | B49: ＨＡｈａｈａ スマイル | C49: 072-489-6233 | D49: 072-489-6244 | E49: 596-0825 | F49: 岸和田市土生町五丁目３番29号 第一フジコーマンション５Ａ－１ | G49: 株式会社Ｄｅａｒ ｃｈｉｌｄｒｅｎ | M49: ● | O49: =IF(ISERROR(FIND("群",F49))=FALSE,LEFT(F49,FIND("群",F49)),IF(ISERROR(FIND("市",F49))=FALSE,LEFT(F49,FIND("市",F49)),IF(ISERROR(FIND("町",F49))=FALSE,LEFT(F49,FIND("町",F49)),IF(ISERROR(FIND("村",F49))=FALSE,LEFT(F49,FIND("村",F49)))))) -> 岸和田市 | P49: =COUNTIF($O$4:O49,"岸和田市") -> 46
A50: 2751120649 | B50: ＭＩＮＤ ａｆｔｅｒ ｓｃｈｏｏｌ ｐｌｕｓ | C50: 072-475-2633 | D50: 072-474-0729 | E50: 596-0004 | F50: 岸和田市荒木町一丁目６番16号 第二幸栄ビル | G50: 株式会社ＭＩＮＤ | H50: ● | I50: 10 | K50: ● | L50: 10 | O50: =IF(ISERROR(FIND("群",F50))=FALSE,LEFT(F50,FIND("群",F50)),IF(ISERROR(FIND("市",F50))=FALSE,LEFT(F50,FIND("市",F50)),IF(ISERROR(FIND("町",F50))=FALSE,LEFT(F50,FIND("町",F50)),IF(ISERROR(FIND("村",F50))=FALSE,LEFT(F50,FIND("村",F50)))))) -> 岸和田市 | P50: =COUNTIF($O$4:O50,"岸和田市") -> 47
A51: 2751120656 | B51: 就労準備型放課後等デイサービス 粋-SUI- | C51: 072-442-8378 | D51: 072-442-8378 | E51: 596-0825 | F51: 岸和田市土生町十二丁目４番９号 | G51: 株式会社オレゴニアン | H51: ● | I51: 10 | K51: ● | L51: 10 | O51: 岸和田市 | P51: =COUNTIF($O$4:O51,"岸和田市") -> 48
A52: 2751120664 | B52: オレンジベース | C52: ０７２－４８９－４８３３ | D52: ０７２－４８９－４８３３ | E52: 596-0821 | F52: 岸和田市小松里町2333番地１号 | G52: 株式会社ビロー | H52: ● | I52: 10 | K52: ● | L52: 10 | O52: 岸和田市 | P52: =COUNTIF($O$4:O52,"岸和田市") -> 49
A53: 2751120672 | B53: トンガリはうす 岸和田教室 | C53: ０７２４－８９－５５９１ | D53: ０７２４－８９－５５９２ | E53: 596-005２ | F53: 岸和田市並松町５番23号 | G53: ｉｃｒｏｓｓ株式会社 | H53: ● | I53: 10 | K53: ● | L53: 10 | O53: 岸和田市 | P53: =COUNTIF($O$4:O53,"岸和田市") -> 50
A54: 2751120680 | B54: 放課後等デイサービス びすけっと大宮校 | C54: ０７２－４７５－１０４７ | D54: - | E54: ５９６－００４８ | F54: 岸和田市上野町西27番80号 川口第一ビル101・102号 | G54: 株式会社Ｄｅａｒ Ｋｉｄｓ | K54: ● | L54: 10 | O54: 岸和田市 | P54: =COUNTIF($O$4:O54,"岸和田市") -> 51
A55: 2751120698 | B55: 児童発達支援・放課後等デイサービス ＨＵＧＳわーむ | C55: 072-447-4301 | D55: 072-447-4302 | E55: 596-0047 | F55: 岸和田市上野町東10番41号 | G55: 株式会社オキシテック | H55: ● | I55: 10 | K55: ● | L55: 10 | O55: 岸和田市 | P55: =COUNTIF($O$4:O55,"岸和田市") -> 52
A56: 2752520029 | B56: はっぴーすまいる | C56: 072-751-8234 | D56: 072-751-8234 | E56: 563-0021 | F56: 池田市畑一丁目５番29号 | G56: 合同会社はっぴーすまいる | K56: ● | L56: 10 | O56: =IF(ISERROR(FIND("群",F56))=FALSE,LEFT(F56,FIND("群",F56)),IF(ISERROR(FIND("市",F56))=FALSE,LEFT(F56,FIND("市",F56)),IF(ISERROR(FIND("町",F56))=FALSE,LEFT(F56,FIND("町",F56)),IF(ISERROR(FIND("村",F56))=FALSE,LEFT(F56,FIND("村",F56)))))) -> 池田市 | P56: =COUNTIF($O$4:O56,"池田市") -> 1
A57: 2752520037 | B57: ゴールデンハウス | C57: 072-750-0303 | D57: 072-750-0505 | E57: 563-0024 | F57: 池田市鉢塚一丁目８番２号 | G57: 株式会社泰らぎ | H57: ● | I57: 10 | K57: ● | L57: 10 | O57: =IF(ISERROR(FIND("群",F57))=FALSE,LEFT(F57,FIND("群",F57)),IF(ISERROR(FIND("市",F57))=FALSE,LEFT(F57,FIND("市",F57)),IF(ISERROR(FIND("町",F57))=FALSE,LEFT(F57,FIND("町",F57)),IF(ISERROR(FIND("村",F57))=FALSE,LEFT(F57,FIND("村",F57)))))) -> 池田市 | P57: =COUNTIF($O$4:O57,"池田市") -> 2
A58: 2752520045 | B58: スマイルファクトリー | C58: 072-751-1145 | D58: 072-751-6881 | E58: 563-0017 | F58: 池田市伏尾台二丁目11番地 | G58: 特定非営利活動法人トイボックス | H58: ● | I58: 10 | K58: ● | L58: 10 | O58: =IF(ISERROR(FIND("群",F58))=FALSE,LEFT(F58,FIND("群",F58)),IF(ISERROR(FIND("市",F58))=FALSE,LEFT(F58,FIND("市",F58)),IF(ISERROR(FIND("町",F58))=FALSE,LEFT(F58,FIND("町",F58)),IF(ISERROR(FIND("村",F58))=FALSE,LEFT(F58,FIND("村",F58)))))) -> 池田市 | P58: =COUNTIF($O$4:O58,"池田市") -> 3
A59: 2752520052 | B59: 児童発達支援・放課後等デイサービスＯｈａｎａ（オハナ） | C59: 072-734-8784 | D59: 072-734-8774 | E59: 563-0042 | F59: 池田市宇保町７番１号 | G59: 一般社団法人ＣＬＣ Ｏｈａｎａ | H59: ● | I59: 10 | K59: ● | L59: 10 | O59: =IF(ISERROR(FIND("群",F59))=FALSE,LEFT(F59,FIND("群",F59)),IF(ISERROR(FIND("市",F59))=FALSE,LEFT(F59,FIND("市",F59)),IF(ISERROR(FIND("町",F59))=FALSE,LEFT(F59,FIND("町",F59)),IF(ISERROR(FIND("村",F59))=FALSE,LEFT(F59,FIND("村",F59)))))) -> 池田市 | P59: =COUNTIF($O$4:O59,"池田市") -> 4
A60: 2752520060 | B60: やわらソレイユ | C60: 072-760-4302 | D60: 072-760-4301 | E60: 563-0032 | F60: 池田市石橋二丁目14番11号１階 | G60: 株式会社ワイズトライン | H60: ☆ | I60: 5 | K60: ☆ | L60: 5 | M60: ● | O60: =IF(ISERROR(FIND("群",F60))=FALSE,LEFT(F60,FIND("群",F60)),IF(ISERROR(FIND("市",F60))=FALSE,LEFT(F60,FIND("市",F60)),IF(ISERROR(FIND("町",F60))=FALSE,LEFT(F60,FIND("町",F60)),IF(ISERROR(FIND("村",F60))=FALSE,LEFT(F60,FIND("村",F60)))))) -> 池田市 | P60: =COUNTIF($O$4:O60,"池田市") -> 5
A61: 2752520094 | B61: デイサービスＳunはーと | C61: 072-702-3577 | D61: 072-702-3566 | E61: 563-0033 | F61: 池田市住吉一丁目14番25号103号,203号 | G61: 合同会社Ｓunはーと | H61: ● | I61: 10 | K61: ● | L61: 10 | O61: =IF(ISERROR(FIND("群",F61))=FALSE,LEFT(F61,FIND("群",F61)),IF(ISERROR(FIND("市",F61))=FALSE,LEFT(F61,FIND("市",F61)),IF(ISERROR(FIND("町",F61))=FALSE,LEFT(F61,FIND("町",F61)),IF(ISERROR(FIND("村",F61))=FALSE,LEFT(F61,FIND("村",F61)))))) -> 池田市 | P61: =COUNTIF($O$4:O61,"池田市") -> 6
A62: 2752520128 | B62: Ｏｈａｎａ緑丘 | C62: 072-736-9757 | D62: 072-736-9757 | E62: 563-0026 | F62: 池田市緑丘一丁目７番21号 | G62: 一般社団法人ＣＬＣ Ｏｈａｎａ | K62: ● | L62: 10 | O62: =IF(ISERROR(FIND("群",F62))=FALSE,LEFT(F62,FIND("群",F62)),IF(ISERROR(FIND("市",F62))=FALSE,LEFT(F62,FIND("市",F62)),IF(ISERROR(FIND("町",F62))=FALSE,LEFT(F62,FIND("町",F62)),IF(ISERROR(FIND("村",F62))=FALSE,LEFT(F62,FIND("村",F62)))))) -> 池田市 | P62: =COUNTIF($O$4:O62,"池田市") -> 7
A63: 2752520169 | B63: Ｒ．Ｅ．Ａ．Ｄ．Ｄ． | C63: 072-752-0001 | D63: 072-752-0002 | E63: 563-0058 | F63: 池田市栄本町４番24号 | G63: 一般社団法人Ｒ．Ｅ．Ａ．Ｄ．Ｄ． | H63: ● | I63: 10 | K63: ● | L63: 10 | M63: ● | O63: =IF(ISERROR(FIND("群",F63))=FALSE,LEFT(F63,FIND("群",F63)),IF(ISERROR(FIND("市",F63))=FALSE,LEFT(F63,FIND("市",F63)),IF(ISERROR(FIND("町",F63))=FALSE,LEFT(F63,FIND("町",F63)),IF(ISERROR(FIND("村",F63))=FALSE,LEFT(F63,FIND("村",F63)))))) -> 池田市 | P63: =COUNTIF($O$4:O63,"池田市") -> 8
A64: 2752520177 | B64: ＭＯＭＢ池田 | C64: 072-753-0807 | D64: 072-753-0808 | E64: 563-0043 | F64: 池田市神田一丁目32番17号 Bellino １Ｂ号 | G64: 株式会社ネクステム | H64: ● | I64: 10 | K64: ● | L64: 10 | O64: =IF(ISERROR(FIND("群",F64))=FALSE,LEFT(F64,FIND("群",F64)),IF(ISERROR(FIND("市",F64))=FALSE,LEFT(F64,FIND("市",F64)),IF(ISERROR(FIND("町",F64))=FALSE,LEFT(F64,FIND("町",F64)),IF(ISERROR(FIND("村",F64))=FALSE,LEFT(F64,FIND("村",F64)))))) -> 池田市 | P64: =COUNTIF($O$4:O64,"池田市") -> 9
A65: 2752520185 | B65: はっぴーすてっぷ | C65: 072-747-2480 | D65: 072-786-6331 | E65: 563-0022 | F65: 池田市旭丘一丁目８番16号旭丘プラザ102号室 | G65: 合同会社はっぴーすまいる | H65: ● | I65: 10 | K65: ● | L65: 10 | O65: =IF(ISERROR(FIND("群",F65))=FALSE,LEFT(F65,FIND("群",F65)),IF(ISERROR(FIND("市",F65))=FALSE,LEFT(F65,FIND("市",F65)),IF(ISERROR(FIND("町",F65))=FALSE,LEFT(F65,FIND("町",F65)),IF(ISERROR(FIND("村",F65))=FALSE,LEFT(F65,FIND("村",F65)))))) -> 池田市 | P65: =COUNTIF($O$4:O65,"池田市") -> 10
A66: 2752520193 | B66: ぶるーべりー石橋 | C66: 072-737-9225 | D66: 072-737-9203 | E66: 563-0033 | F66: 池田市住吉一丁目14番23号１階ベルクサイト101号室 | G66: 株式会社Ｕｎited Ｐｏｗｅｒｓ | K66: ● | L66: 10 | O66: =IF(ISERROR(FIND("群",F66))=FALSE,LEFT(F66,FIND("群",F66)),IF(ISERROR(FIND("市",F66))=FALSE,LEFT(F66,FIND("市",F66)),IF(ISERROR(FIND("町",F66))=FALSE,LEFT(F66,FIND("町",F66)),IF(ISERROR(FIND("村",F66))=FALSE,LEFT(F66,FIND("村",F66)))))) -> 池田市 | P66: =COUNTIF($O$4:O66,"池田市") -> 11
A67: 2752520201 | B67: ｃｏｃｏｒｏ | C67: 072-736-8514 | D67: 072-736-8515 | E67: 563-0021 | F67: 池田市畑五丁目１番20号 | G67: 株式会社ＧＲＯＷＳ | H67: ☆ | I67: 5 | K67: ☆ | L67: 5 | O67: =IF(ISERROR(FIND("群",F67))=FALSE,LEFT(F67,FIND("群",F67)),IF(ISERROR(FIND("市",F67))=FALSE,LEFT(F67,FIND("市",F67)),IF(ISERROR(FIND("町",F67))=FALSE,LEFT(F67,FIND("町",F67)),IF(ISERROR(FIND("村",F67))=FALSE,LEFT(F67,FIND("村",F67)))))) -> 池田市 | P67: =COUNTIF($O$4:O67,"池田市") -> 12
A68: 2752520219 | B68: ウキウキはなさく石橋教室 | C68: 072-761-8739 | D68: 072-761-8734 | E68: 563-0023 | F68: 池田市井口堂一丁目６番19号マエシカ井口堂店舗１F | G68: 株式会社はなさく | H68: ● | I68: 10 | K68: ● | L68: 10 | O68: 池田市 | P68: =COUNTIF($O$4:O68,"池田市") -> 13
A69: 2752520235 | B69: ステップ池田 | C69: 072-751-1555 | D69: 072-739-7595 | E69: 563-0042 | F69: 池田市宇保町９番21号 | G69: 株式会社アーバンホープ | H69: ● | I69: 10 | K69: ● | L69: 10 | O69: =IF(ISERROR(FIND("群",F69))=FALSE,LEFT(F69,FIND("群",F69)),IF(ISERROR(FIND("市",F69))=FALSE,LEFT(F69,FIND("市",F69)),IF(ISERROR(FIND("町",F69))=FALSE,LEFT(F69,FIND("町",F69)),IF(ISERROR(FIND("村",F69))=FALSE,LEFT(F69,FIND("村",F69)))))) -> 池田市 | P69: =COUNTIF($O$4:O69,"池田市") -> 14
A70: 2752520243 | B70: 児童発達支援 コアキッズ 放課後等デイサービス コアキッズ・ジュニア | C70: 072-734-6166 | D70: 072-734-6166 | E70: 563-0055 | F70: 池田市菅原町11番４号 ＢＥＮＩＹＡⅡ１階・２階・３階 | G70: 株式会社メディカル・ハンド | H70: ● | I70: 10 | K70: ● | L70: 10 | O70: =IF(ISERROR(FIND("群",F70))=FALSE,LEFT(F70,FIND("群",F70)),IF(ISERROR(FIND("市",F70))=FALSE,LEFT(F70,FIND("市",F70)),IF(ISERROR(FIND("町",F70))=FALSE,LEFT(F70,FIND("町",F70)),IF(ISERROR(FIND("村",F70))=FALSE,LEFT(F70,FIND("村",F70)))))) -> 池田市 | P70: =COUNTIF($O$4:O70,"池田市") -> 15
A71: 2752520250 | B71: ながれぼし | C71: 072-760-0055 | D71: 072-760-0055 | E71: 563-0033 | F71: 池田市住吉二丁目６番17号TNG住吉ビル１Ｆ | G71: 株式会社HAKOBUNE | H71: ● | I71: 10 | K71: ● | L71: 10 | O71: =IF(ISERROR(FIND("群",F71))=FALSE,LEFT(F71,FIND("群",F71)),IF(ISERROR(FIND("市",F71))=FALSE,LEFT(F71,FIND("市",F71)),IF(ISERROR(FIND("町",F71))=FALSE,LEFT(F71,FIND("町",F71)),IF(ISERROR(FIND("村",F71))=FALSE,LEFT(F71,FIND("村",F71)))))) -> 池田市 | P71: =COUNTIF($O$4:O71,"池田市") -> 16
A72: 2752520284 | B72: ぶるーべりー池田 | C72: 072-768-8661 | D72: 072-768-8654 | E72: 563-0031 | F72: 池田市天神一丁目３番12号 | G72: 株式会社United Powers | H72: ● | I72: 10 | M72: ● | O72: =IF(ISERROR(FIND("群",F72))=FALSE,LEFT(F72,FIND("群",F72)),IF(ISERROR(FIND("市",F72))=FALSE,LEFT(F72,FIND("市",F72)),IF(ISERROR(FIND("町",F72))=FALSE,LEFT(F72,FIND("町",F72)),IF(ISERROR(FIND("村",F72))=FALSE,LEFT(F72,FIND("村",F72)))))) -> 池田市 | P72: =COUNTIF($O$4:O72,"池田市") -> 17
A73: 2752520292 | B73: ハーティワン桃園 | C73: 072-737-4836 | D73: 072-767-9717 | E73: 563-0045 | F73: 池田市桃園一丁目7番18号スプリングリバーⅡ101 | G73: 有限会社三宮企画 | H73: ● | I73: 10 | K73: ● | L73: 10 | O73: =IF(ISERROR(FIND("群",F73))=FALSE,LEFT(F73,FIND("群",F73)),IF(ISERROR(FIND("市",F73))=FALSE,LEFT(F73,FIND("市",F73)),IF(ISERROR(FIND("町",F73))=FALSE,LEFT(F73,FIND("町",F73)),IF(ISERROR(FIND("村",F73))=FALSE,LEFT(F73,FIND("村",F73)))))) -> 池田市 | P73: =COUNTIF($O$4:O73,"池田市") -> 18
A74: 2752520318 | B74: ＫＯＫＯＩＲＯ | C74: ０７０－８９６２-1788 | D74: - | E74: 563-0025 | F74: 池田市城南三丁目２番13号シャーメゾンラピス１階 | G74: 合同会社ＨａｌｅＮａｌｕ | H74: ● | I74: 10 | K74: ● | L74: 10 | O74: =IF(ISERROR(FIND("群",F74))=FALSE,LEFT(F74,FIND("群",F74)),IF(ISERROR(FIND("市",F74))=FALSE,LEFT(F74,FIND("市",F74)),IF(ISERROR(FIND("町",F74))=FALSE,LEFT(F74,FIND("町",F74)),IF(ISERROR(FIND("村",F74))=FALSE,LEFT(F74,FIND("村",F74)))))) -> 池田市 | P74: =COUNTIF($O$4:O74,"池田市") -> 19
A75: 2752520334 | B75: るる | C75: ０７２－７３４－７５１８ | D75: ０７２－７３４－７５１８ | E75: 563-0032 | F75: 池田市石橋一丁目23番13-101号 | G75: 知音株式会社 | H75: ● | I75: 10 | K75: ● | L75: 10 | O75: =IF(ISERROR(FIND("群",F75))=FALSE,LEFT(F75,FIND("群",F75)),IF(ISERROR(FIND("市",F75))=FALSE,LEFT(F75,FIND("市",F75)),IF(ISERROR(FIND("町",F75))=FALSE,LEFT(F75,FIND("町",F75)),IF(ISERROR(FIND("村",F75))=FALSE,LEFT(F75,FIND("村",F75)))))) -> 池田市 | P75: =COUNTIF($O$4:O75,"池田市") -> 20
A76: 2752520342 | B76: ハーティワンおりいぶ | C76: ０７２－７４４－２１６６ | D76: ０７２－７４－２１６７ | E76: 563-0058 | F76: 池田市栄本町９番６号 ２階・３階・４階・5階 | G76: 有限会社三宮企画 | H76: ● | I76: 10 | K76: ● | L76: 10 | M76: ● | O76: =IF(ISERROR(FIND("群",F76))=FALSE,LEFT(F76,FIND("群",F76)),IF(ISERROR(FIND("市",F76))=FALSE,LEFT(F76,FIND("市",F76)),IF(ISERROR(FIND("町",F76))=FALSE,LEFT(F76,FIND("町",F76)),IF(ISERROR(FIND("村",F76))=FALSE,LEFT(F76,FIND("村",F76)))))) -> 池田市 | P76: =COUNTIF($O$4:O76,"池田市") -> 21
A77: 2752520359 | B77: フォレストキッズ池田教室 | C77: 072-735-7750 | D77: 072-735-７７80 | E77: 563-0025 | F77: 池田市城南一丁目２番２号コンフォートプレイス１階 | G77: アサヒ産業株式会社 | H77: ● | I77: 10 | O77: =IF(ISERROR(FIND("群",F77))=FALSE,LEFT(F77,FIND("群",F77)),IF(ISERROR(FIND("市",F77))=FALSE,LEFT(F77,FIND("市",F77)),IF(ISERROR(FIND("町",F77))=FALSE,LEFT(F77,FIND("町",F77)),IF(ISERROR(FIND("村",F77))=FALSE,LEFT(F77,FIND("村",F77)))))) -> 池田市 | P77: =COUNTIF($O$4:O77,"池田市") -> 22
A78: 2752520367 | B78: キックオフ | C78: 072-774-4602 | D78: 072-702-4432 | E78: 563-0059 | F78: 池田市西本町６番17号メゾンクレール201号室 | G78: 株式会社グッドサポート | H78: ● | I78: 10 | K78: ● | L78: 10 | O78: =IF(ISERROR(FIND("群",F78))=FALSE,LEFT(F78,FIND("群",F78)),IF(ISERROR(FIND("市",F78))=FALSE,LEFT(F78,FIND("市",F78)),IF(ISERROR(FIND("町",F78))=FALSE,LEFT(F78,FIND("町",F78)),IF(ISERROR(FIND("村",F78))=FALSE,LEFT(F78,FIND("村",F78)))))) -> 池田市 | P78: =COUNTIF($O$4:O78,"池田市") -> 23
A79: 2752520383 | B79: コアキッズ・ケア | C79: 072-737-7039 | D79: 072-737-7049 | E79: 563-0055 | F79: 池田市菅原町１番14号 | G79: 株式会社メディカル・ハンド | H79: ☆ | I79: 5 | K79: ☆ | L79: 5 | O79: =IF(ISERROR(FIND("群",F79))=FALSE,LEFT(F79,FIND("群",F79)),IF(ISERROR(FIND("市",F79))=FALSE,LEFT(F79,FIND("市",F79)),IF(ISERROR(FIND("町",F79))=FALSE,LEFT(F79,FIND("町",F79)),IF(ISERROR(FIND("村",F79))=FALSE,LEFT(F79,FIND("村",F79)))))) -> 池田市 | P79: =COUNTIF($O$4:O79,"池田市") -> 24
A80: 2752520391 | B80: ＭＯＭＢ石橋 | C80: 072-737-8265 | D80: 072-737-8266 | E80: 563-0032 | F80: 池田市石橋三丁目1番21号モンジット1階 | G80: 株式会社ネクステム | K80: ● | L80: 10 | O80: =IF(ISERROR(FIND("群",F80))=FALSE,LEFT(F80,FIND("群",F80)),IF(ISERROR(FIND("市",F80))=FALSE,LEFT(F80,FIND("市",F80)),IF(ISERROR(FIND("町",F80))=FALSE,LEFT(F80,FIND("町",F80)),IF(ISERROR(FIND("村",F80))=FALSE,LEFT(F80,FIND("村",F80)))))) -> 池田市 | P80: =COUNTIF($O$4:O80,"池田市") -> 25
A81: 2752520417 | B81: Ｌｉｎｏぷれいす池田 | C81: 072-737-7121 | D81: 072-707-2604 | E81: 563-0023 | F81: 池田市井口堂一丁目９番26号 アーユス井口堂西棟２階２号室 | G81: 株式会社シーシー | K81: ● | L81: 10 | O81: =IF(ISERROR(FIND("群",F81))=FALSE,LEFT(F81,FIND("群",F81)),IF(ISERROR(FIND("市",F81))=FALSE,LEFT(F81,FIND("市",F81)),IF(ISERROR(FIND("町",F81))=FALSE,LEFT(F81,FIND("町",F81)),IF(ISERROR(FIND("村",F81))=FALSE,LEFT(F81,FIND("村",F81)))))) -> 池田市 | P81: =COUNTIF($O$4:O81,"池田市") -> 26
A82: 2752520433 | B82: 児童発達支援・放課後等デイサービス ソラーレ神田 | C82: ０７２－７３６－８０８９ | D82: ０７２－７３６－８０８９ | E82: 563-0043 | F82: 池田市神田二丁目17番６号 | G82: 株式会社スタジオＤ＆Ｈ | H82: ● | I82: 10 | K82: ● | L82: 10 | M82: ● | O82: =IF(ISERROR(FIND("群",F82))=FALSE,LEFT(F82,FIND("群",F82)),IF(ISERROR(FIND("市",F82))=FALSE,LEFT(F82,FIND("市",F82)),IF(ISERROR(FIND("町",F82))=FALSE,LEFT(F82,FIND("町",F82)),IF(ISERROR(FIND("村",F82))=FALSE,LEFT(F82,FIND("村",F82)))))) -> 池田市 | P82: =COUNTIF($O$4:O82,"池田市") -> 27
A83: 2752520441 | B83: 児童発達支援・放課後等デイサービス ここふる | C83: 072-739-6158 | D83: 072-739-6159 | E83: 563-0024 | F83: 池田市鉢塚三丁目15番２号メゾンさつき１階106号室 | G83: 株式会社めぐみ | H83: ☆ | I83: 5 | K83: ☆ | L83: 5 | O83: =IF(ISERROR(FIND("群",F83))=FALSE,LEFT(F83,FIND("群",F83)),IF(ISERROR(FIND("市",F83))=FALSE,LEFT(F83,FIND("市",F83)),IF(ISERROR(FIND("町",F83))=FALSE,LEFT(F83,FIND("町",F83)),IF(ISERROR(FIND("村",F83))=FALSE,LEFT(F83,FIND("村",F83)))))) -> 池田市 | P83: =COUNTIF($O$4:O83,"池田市") -> 28
A84: 2752520458 | B84: ＮＰＯ法人つぼみ | C84: 090-7962-7570 | D84: - | E84: 563-0032 | F84: 池田市石橋二丁目13番29号２階 | G84: ＮＰＯ法人つぼみ | H84: ● | I84: 10 | K84: ● | L84: 10 | M84: ● | O84: =IF(ISERROR(FIND("群",F84))=FALSE,LEFT(F84,FIND("群",F84)),IF(ISERROR(FIND("市",F84))=FALSE,LEFT(F84,FIND("市",F84)),IF(ISERROR(FIND("町",F84))=FALSE,LEFT(F84,FIND("町",F84)),IF(ISERROR(FIND("村",F84))=FALSE,LEFT(F84,FIND("村",F84)))))) -> 池田市 | P84: =COUNTIF($O$4:O84,"池田市") -> 29
A85: 2752520466 | B85: ワナビー城南 | C85: 072-768-8184 | D85: 072-768-8184 | E85: 563-0025 | F85: 池田市城南一丁目９番22号ＡＸＩＳ池田グリーンプラザⅠ ２Ｆ－Ｄ | G85: 株式会社ミヤビコーポレーション | H85: ● | I85: 10 | K85: ● | L85: 10 | M85: ● | O85: =IF(ISERROR(FIND("群",F85))=FALSE,LEFT(F85,FIND("群",F85)),IF(ISERROR(FIND("市",F85))=FALSE,LEFT(F85,FIND("市",F85)),IF(ISERROR(FIND("町",F85))=FALSE,LEFT(F85,FIND("町",F85)),IF(ISERROR(FIND("村",F85))=FALSE,LEFT(F85,FIND("村",F85)))))) -> 池田市 | P85: =COUNTIF($O$4:O85,"池田市") -> 30
A86: 2752520474 | B86: 多機能型事業所Ｇｏｏｔｅｌａ | C86: 072-737-5381 | D86: 072-737-5382 | E86: 563-0031 | F86: 池田市天神一丁目10番19号 | G86: 株式会社Ｇｏｏｔｅｌａ | H86: ● | I86: 10 | K86: ● | L86: 10 | O86: =IF(ISERROR(FIND("群",F86))=FALSE,LEFT(F86,FIND("群",F86)),IF(ISERROR(FIND("市",F86))=FALSE,LEFT(F86,FIND("市",F86)),IF(ISERROR(FIND("町",F86))=FALSE,LEFT(F86,FIND("町",F86)),IF(ISERROR(FIND("村",F86))=FALSE,LEFT(F86,FIND("村",F86)))))) -> 池田市 | P86: =COUNTIF($O$4:O86,"池田市") -> 31
A87: 2752520482 | B87: 療育センターエコルド | C87: 072-735-7332 | D87: 072-735-7442 | E87: 563-0032 | F87: 池田市石橋三丁目１番11号大空第２ビル１階、３階 | G87: Ｄ＆Ｉ株式会社 | H87: ● | I87: 10 | K87: ● | L87: 10 | M87: ● | O87: =IF(ISERROR(FIND("群",F87))=FALSE,LEFT(F87,FIND("群",F87)),IF(ISERROR(FIND("市",F87))=FALSE,LEFT(F87,FIND("市",F87)),IF(ISERROR(FIND("町",F87))=FALSE,LEFT(F87,FIND("町",F87)),IF(ISERROR(FIND("村",F87))=FALSE,LEFT(F87,FIND("村",F87)))))) -> 池田市 | P87: =COUNTIF($O$4:O87,"池田市") -> 32
A88: 2752520490 | B88: エントランスリバティ 池田教室 | C88: 072-737-6165 | D88: 072-737-9147 | E88: 563-0025 | F88: 池田市城南二丁目２番１号ハイツ木下１階103号 | G88: 株式会社フューチャージニアス | H88: ● | I88: 10 | K88: ● | L88: 10 | O88: =IF(ISERROR(FIND("群",F88))=FALSE,LEFT(F88,FIND("群",F88)),IF(ISERROR(FIND("市",F88))=FALSE,LEFT(F88,FIND("市",F88)),IF(ISERROR(FIND("町",F88))=FALSE,LEFT(F88,FIND("町",F88)),IF(ISERROR(FIND("村",F88))=FALSE,LEFT(F88,FIND("村",F88)))))) -> 池田市 | P88: =COUNTIF($O$4:O88,"池田市") -> 33
A89: 2752520508 | B89: ＫＯＫＯＩＲＯ ＰＡＧＥ | C89: 072-776-1791 | D89: 050-3488-7960 | E89: 563-0023 | F89: 池田市井口堂一丁目２番２号ラヴィータ石橋阪大前101号室 | G89: 合同会社ＨａｌｅＮａｌｕ | H89: ● | I89: 10 | K89: ● | L89: 10 | M89: ● | O89: =IF(ISERROR(FIND("群",F89))=FALSE,LEFT(F89,FIND("群",F89)),IF(ISERROR(FIND("市",F89))=FALSE,LEFT(F89,FIND("市",F89)),IF(ISERROR(FIND("町",F89))=FALSE,LEFT(F89,FIND("町",F89)),IF(ISERROR(FIND("村",F89))=FALSE,LEFT(F89,FIND("村",F89)))))) -> 池田市 | P89: =COUNTIF($O$4:O89,"池田市") -> 34
A90: 2752520516 | B90: これからも石橋阪大前 | C90: 072-734-8571 | D90: 072-734-8572 | E90: 563-0032 | F90: 池田市石橋二丁目17番12号杉山ビル201号室 | G90: 一般社団法人これからも | H90: ● | I90: 10 | K90: ● | L90: 10 | O90: =IF(ISERROR(FIND("群",F90))=FALSE,LEFT(F90,FIND("群",F90)),IF(ISERROR(FIND("市",F90))=FALSE,LEFT(F90,FIND("市",F90)),IF(ISERROR(FIND("町",F90))=FALSE,LEFT(F90,FIND("町",F90)),IF(ISERROR(FIND("村",F90))=FALSE,LEFT(F90,FIND("村",F90)))))) -> 池田市 | P90: =COUNTIF($O$4:O90,"池田市") -> 35
A91: 2752520524 | B91: るるｐｌｕｓ | C91: 072-737-7719 | D91: 072-737-7719 | E91: 563-0038 | F91: 池田市荘園二丁目１番４号 | G91: 知音株式会社 | H91: ● | I91: 10 | K91: ● | L91: 10 | O91: 池田市 | P91: =COUNTIF($O$4:O91,"池田市") -> 36
A92: 2752520532 | B92: スポーツとまなびのひろばＳＡＩＹＯ池田校 | C92: 072-752-3313 | D92: 072-752-3313 | E92: 563-0025 | F92: 池田市城南一丁目３番21号豊岡ビル２Ｆ | G92: 株式会社ＳＡＩＹＯ | K92: ● | L92: 10 | O92: 池田市 | P92: =COUNTIF($O$4:O92,"池田市") -> 37
A93: 2752520540 | B93: ＬＩＴＡＬＩＣＯジュニア池田教室 | C93: ０７２－７３９－７４７６ | D93: ０７２－７３９－７４７７ | E93: ５６３－００４６ | F93: 池田市姫室町８番７号 広瀬ハイツ１階 | G93: 株式会社ＬＩＴＡＬＩＣＯパートナーズ | H93: ● | I93: 10 | M93: ● | O93: 池田市 | P93: =COUNTIF($O$4:O93,"池田市") -> 38
A94: 2752520557 | B94: わんダフル | C94: ０７２－７３９－７３３２ | D94: ０７２－７３９－７３３３ | E94: 563-0043 | F94: 池田市住吉一丁目４番３号 長沢マンション101号室 | G94: 一般社団法人いちかり | H94: ● | I94: 10 | K94: ● | L94: 10 | O94: 池田市 | P94: =COUNTIF($O$4:O94,"池田市") -> 39
A95: 2752520565 | B95: ワナビー槻木 | C95: ０７２－７３７－８２３１ | D95: ０７２－７３７－８２３１ | E95: ５６３－００５７ | F95: 池田市槻木町7番１３号 シラテック池田１階Ｂ号室 | G95: 株式会社ミヤビコーポレーション | H95: ● | I95: 10 | K95: ● | L95: 10 | O95: 池田市 | P95: =COUNTIF($O$4:O95,"池田市") -> 40
A96: 2752520573 | B96: 放課後等デイサービス ウィズ・ユー池田石橋阪大前 | C96: 072-739-7206 | D96: 072-739-7207 | E96: 563-0031 | F96: 池田市天神二丁目１番８号 TNG天神102号室 | G96: ウェルネスト合同会社 | H96: ● | I96: 10 | K96: ● | L96: 10 | O96: 池田市 | P96: =COUNTIF($O$4:O96,"池田市") -> 41
A97: 2752520581 | B97: グッデイ 五月丘 | C97: 072-714-0624 | D97: 072-714-0624 | E97: 563-0029 | F97: 池田市五月丘四丁目６番２号 メゾン五月丘102号 | G97: 株式会社藍星 | H97: ● | I97: 10 | K97: ● | L97: 10 | O97: 池田市 | P97: =COUNTIF($O$4:O97,"池田市") -> 42
A98: 2752520599 | B98: あんあん | C98: 072-751-2236 | D98: 072-751-2238 | E98: 563-0022 | F98: 池田市旭丘一丁目11番19号 東光ビル１階 | G98: 株式会社ＧＲＡＣＥ | H98: ☆ | I98: 5 | K98: ☆ | L98: 5 | O98: 池田市 | P98: =COUNTIF($O$4:O98,"池田市") -> 43
A99: 2752520607 | B99: あん呉羽 | C99: 072-736-8433 | D99: 072-751-2238 | E99: 563-0021 | F99: 池田市畑二丁目１番１号 シャノン呉羽の里２階 | G99: 株式会社ＧＲＡＣＥ | H99: ● | I99: 10 | K99: ● | L99: 10 | O99: 池田市 | P99: =COUNTIF($O$4:O99,"池田市") -> 44
A100: 2752520615 | B100: 運動療育スタジオｓｐａｒｋ池田 | C100: 072-754-7007 | D100: 072-754-7008 | E100: 563-0047 | F100: 池田市室町４番49号ＣＯＺＹ室町102号室 | G100: 株式会社クーバル・ウエルケア | H100: ● | I100: 10 | K100: ● | L100: 10 | O100: 池田市 | P100: =COUNTIF($O$4:O100,"池田市") -> 45
...
