Workbook

Sheet R8年7月
B3: 大阪府では、動物由来感染症の発生を防止し、又はまん延を防止するため、環境農林水産部と健康医療部が一体となって動物由来感染症の積極的な検査（サーベイランス）を実施しています。 検査の結果は、以下のとおりです。
L5: 令和8年7月31日現在
B6: 感染症名 | C6: 対象動物 | D6: 検体 | E6: 単位 | F6: 令和８年４月～６月 | I6: 令和８年７月 | L6: 令和８年度 計
F7: 検体数 | G7: 陽性 | H7: 陰性 | I7: 検体数 | J7: 陽性 | K7: 陰性 | L7: 検体数 | M7: 陽性 | N7: 陰性
B8: 結核 | C8: 牛 | E8: 頭 | F8: =SUM([1]R8年集計!F8,[1]R8年集計!I8,[1]R8年集計!L8) -> 0 | G8: =SUM([1]R8年集計!G8,[1]R8年集計!J8,[1]R8年集計!M8) -> 0 | H8: =SUM([1]R8年集計!H8,[1]R8年集計!K8,[1]R8年集計!N8) -> 0 | I8: =[1]R8年集計!O8 -> 0 | J8: =[1]R8年集計!P8 -> 0 | K8: =[1]R8年集計!Q8 -> 0 | L8: =F8+I8 -> 0 | M8: =G8+J8 -> 0 | N8: =H8+K8 -> 0
B9: 腸管出血性大腸菌 | C9: 牛・めん山羊 | D9: 糞便（農家） | E9: 検体 | F9: =SUM([1]R8年集計!F9,[1]R8年集計!I9,[1]R8年集計!L9) -> 25 | G9: =SUM([1]R8年集計!G9,[1]R8年集計!J9,[1]R8年集計!M9) -> 0 | H9: =SUM([1]R8年集計!H9,[1]R8年集計!K9,[1]R8年集計!N9) -> 25 | I9: =[1]R8年集計!O9 -> 19 | J9: =[1]R8年集計!P9 -> 0 | K9: =[1]R8年集計!Q9 -> 19 | L9: =F9+I9 -> 44 | M9: =G9+J9 -> 0 | N9: =H9+K9 -> 44
C10: 牛 | D10: 枝肉 （食肉処理場） | E10: 検体 | F10: =SUM([1]R8年集計!F10,[1]R8年集計!I10,[1]R8年集計!L10) -> 15 | G10: =SUM([1]R8年集計!G10,[1]R8年集計!J10,[1]R8年集計!M10) -> 0 | H10: =SUM([1]R8年集計!H10,[1]R8年集計!K10,[1]R8年集計!N10) -> 15 | I10: =[1]R8年集計!O10 -> 5 | J10: =[1]R8年集計!P10 -> 0 | K10: =[1]R8年集計!Q10 -> 5 | L10: =F10+I10 -> 20 | M10: =G10+J10 -> 0 | N10: =H10+K10 -> 20
B11: ウエストナイルウイルス 感染症 | C11: 蚊 | E11: 匹 | F11: =SUM([1]R8年集計!F11,[1]R8年集計!I11,[1]R8年集計!L11) -> 399 | G11: =SUM([1]R8年集計!G11,[1]R8年集計!J11,[1]R8年集計!M11) -> 0 | H11: =SUM([1]R8年集計!H11,[1]R8年集計!K11,[1]R8年集計!N11) -> 399 | I11: =[1]R8年集計!O11 -> 842 | J11: =[1]R8年集計!P11 -> 0 | K11: =[1]R8年集計!Q11 -> 842 | L11: =F11+I11 -> 1241 | M11: =G11+J11 -> 0 | N11: =H11+K11 -> 1241
C12: 野鳥 | D12: 脳 | E12: 羽 | F12: =SUM([1]R8年集計!F12,[1]R8年集計!I12,[1]R8年集計!L12) -> 0 | G12: =SUM([1]R8年集計!G12,[1]R8年集計!J12,[1]R8年集計!M12) -> 0 | H12: =SUM([1]R8年集計!H12,[1]R8年集計!K12,[1]R8年集計!N12) -> 0 | I12: =[1]R8年集計!O12 -> 0 | J12: =[1]R8年集計!P12 -> 0 | K12: =[1]R8年集計!Q12 -> 0 | L12: =F12+I12 -> 0 | M12: =G12+J12 -> 0 | N12: =H12+K12 -> 0
B13: 高病原性鳥インフルエンザ | C13: 鶏・アヒル | D13: 気管・クロアカスワブ | E13: 羽 | F13: =SUM([1]R8年集計!F13,[1]R8年集計!I13,[1]R8年集計!L13) -> 90 | G13: =SUM([1]R8年集計!G13,[1]R8年集計!J13,[1]R8年集計!M13) -> 0 | H13: =SUM([1]R8年集計!H13,[1]R8年集計!K13,[1]R8年集計!N13) -> 90 | I13: =[1]R8年集計!O13 -> 30 | J13: =[1]R8年集計!P13 -> 0 | K13: =[1]R8年集計!Q13 -> 30 | L13: =F13+I13 -> 120 | M13: =G13+J13 -> 0 | N13: =H13+K13 -> 120
D14: 気管・クロアカスワブ （食鳥処理場） | E14: 羽 | F14: =SUM([1]R8年集計!F14,[1]R8年集計!I14,[1]R8年集計!L14) -> 0 | G14: =SUM([1]R8年集計!G14,[1]R8年集計!J14,[1]R8年集計!M14) -> 0 | H14: =SUM([1]R8年集計!H14,[1]R8年集計!K14,[1]R8年集計!N14) -> 0 | I14: =[1]R8年集計!O14 -> 0 | J14: =[1]R8年集計!P14 -> 0 | K14: =[1]R8年集計!Q14 -> 0 | L14: =F14+I14 -> 0 | M14: =G14+J14 -> 0 | N14: =H14+K14 -> 0
D15: 血清 | E15: 羽 | F15: =SUM([1]R8年集計!F15,[1]R8年集計!I15,[1]R8年集計!L15) -> 190 | G15: =SUM([1]R8年集計!G15,[1]R8年集計!J15,[1]R8年集計!M15) -> 0 | H15: =SUM([1]R8年集計!H15,[1]R8年集計!K15,[1]R8年集計!N15) -> 190 | I15: =[1]R8年集計!O15 -> 50 | J15: =[1]R8年集計!P15 -> 0 | K15: =[1]R8年集計!Q15 -> 50 | L15: =F15+I15 -> 240 | M15: =G15+J15 -> 0 | N15: =H15+K15 -> 240
C16: 野鳥 | D16: 気管・クロアカスワブ | E16: 羽 | F16: =SUM([1]R8年集計!F16,[1]R8年集計!I16,[1]R8年集計!L16) -> 1 | G16: =SUM([1]R8年集計!G16,[1]R8年集計!J16,[1]R8年集計!M16) -> 0 | H16: =SUM([1]R8年集計!H16,[1]R8年集計!K16,[1]R8年集計!N16) -> 1 | I16: =[1]R8年集計!O16 -> 0 | J16: =[1]R8年集計!P16 -> 0 | K16: =[1]R8年集計!Q16 -> 0 | L16: =F16+I16 -> 1 | M16: =G16+J16 -> 0 | N16: =H16+K16 -> 1
C17: 野鳥（渡り鳥） | D17: 糞便 | E17: 検体 | F17: =SUM([1]R8年集計!F17,[1]R8年集計!I17,[1]R8年集計!L17) -> 53 | G17: =SUM([1]R8年集計!G17,[1]R8年集計!J17,[1]R8年集計!M17) -> 0 | H17: =SUM([1]R8年集計!H17,[1]R8年集計!K17,[1]R8年集計!N17) -> 53 | I17: =[1]R8年集計!O17 -> 0 | J17: =[1]R8年集計!P17 -> 0 | K17: =[1]R8年集計!Q17 -> 0 | L17: =F17+I17 -> 53 | M17: =G17+J17 -> 0 | N17: =H17+K17 -> 53
B18: 豚インフルエンザ | C18: 豚 | D18: 肺・鼻腔スワブ | E18: 頭 | F18: =SUM([1]R8年集計!F18,[1]R8年集計!I18,[1]R8年集計!L18) -> 0 | G18: =SUM([1]R8年集計!G18,[1]R8年集計!J18,[1]R8年集計!M18) -> 0 | H18: =SUM([1]R8年集計!H18,[1]R8年集計!K18,[1]R8年集計!N18) -> 0 | I18: =[1]R8年集計!O18 -> 0 | J18: =[1]R8年集計!P18 -> 0 | K18: =[1]R8年集計!Q18 -> 0 | L18: =F18+I18 -> 0 | M18: =G18+J18 -> 0 | N18: =H18+K18 -> 0
B19: デング熱 | C19: 蚊 | E19: 匹 | F19: =SUM([1]R8年集計!F19,[1]R8年集計!I19,[1]R8年集計!L19) -> 399 | G19: =SUM([1]R8年集計!G19,[1]R8年集計!J19,[1]R8年集計!M19) -> 0 | H19: =SUM([1]R8年集計!H19,[1]R8年集計!K19,[1]R8年集計!N19) -> 399 | I19: =[1]R8年集計!O19 -> 842 | J19: =[1]R8年集計!P19 -> 0 | K19: =[1]R8年集計!Q19 -> 842 | L19: =F19+I19 -> 1241 | M19: =G19+J19 -> 0 | N19: =H19+K19 -> 1241
B20: ジカウイルス感染症 | C20: 蚊 | E20: 匹 | F20: =SUM([1]R8年集計!F20,[1]R8年集計!I20,[1]R8年集計!L20) -> 399 | G20: =SUM([1]R8年集計!G20,[1]R8年集計!J20,[1]R8年集計!M20) -> 0 | H20: =SUM([1]R8年集計!H20,[1]R8年集計!K20,[1]R8年集計!N20) -> 399 | I20: =[1]R8年集計!O20 -> 842 | J20: =[1]R8年集計!P20 -> 0 | K20: =[1]R8年集計!Q20 -> 842 | L20: =F20+I20 -> 1241 | M20: =G20+J20 -> 0 | N20: =H20+K20 -> 1241
B21: チクングニア熱 | C21: 蚊 | E21: 匹 | F21: =SUM([1]R8年集計!F21,[1]R8年集計!I21,[1]R8年集計!L21) -> 94 | G21: =SUM([1]R8年集計!G21,[1]R8年集計!J21,[1]R8年集計!M21) -> 0 | H21: =SUM([1]R8年集計!H21,[1]R8年集計!K21,[1]R8年集計!N21) -> 94 | I21: =[1]R8年集計!O21 -> 347 | J21: =[1]R8年集計!P21 -> 0 | K21: =[1]R8年集計!Q21 -> 347 | L21: =F21+I21 -> 441 | M21: =G21+J21 -> 0 | N21: =H21+K21 -> 441
B22: 日本脳炎 | C22: 豚 | D22: 血清 | E22: 頭 | F22: =SUM([1]R8年集計!F22,[1]R8年集計!I22,[1]R8年集計!L22) -> 0 | G22: =SUM([1]R8年集計!G22,[1]R8年集計!J22,[1]R8年集計!M22) -> 0 | H22: =SUM([1]R8年集計!H22,[1]R8年集計!K22,[1]R8年集計!N22) -> 0 | I22: =[1]R8年集計!O22 -> 0 | J22: =[1]R8年集計!P22 -> 0 | K22: =[1]R8年集計!Q22 -> 0 | L22: =F22+I22 -> 0 | M22: =G22+J22 -> 0 | N22: =H22+K22 -> 0
C23: 蚊 | E23: 匹 | F23: =SUM([1]R8年集計!F23,[1]R8年集計!I23,[1]R8年集計!L23) -> 399 | G23: =SUM([1]R8年集計!G23,[1]R8年集計!J23,[1]R8年集計!M23) -> 0 | H23: =SUM([1]R8年集計!H23,[1]R8年集計!K23,[1]R8年集計!N23) -> 399 | I23: =[1]R8年集計!O23 -> 842 | J23: =[1]R8年集計!P23 -> 0 | K23: =[1]R8年集計!Q23 -> 842 | L23: =F23+I23 -> 1241 | M23: =G23+J23 -> 0 | N23: =H23+K23 -> 1241
B24: ブルセラ症 | C24: 牛 | D24: 血清 | E24: 頭 | F24: =SUM([1]R8年集計!F24,[1]R8年集計!I24,[1]R8年集計!L24) -> 1 | G24: =SUM([1]R8年集計!G24,[1]R8年集計!J24,[1]R8年集計!M24) -> 0 | H24: =SUM([1]R8年集計!H24,[1]R8年集計!K24,[1]R8年集計!N24) -> 1 | I24: =[1]R8年集計!O24 -> 0 | J24: =[1]R8年集計!P24 -> 0 | K24: =[1]R8年集計!Q24 -> 0 | L24: =F24+I24 -> 1 | M24: =G24+J24 -> 0 | N24: =H24+K24 -> 1
B25: レプトスピラ症 | C25: 豚 | D25: 腎 | E25: 頭 | F25: =SUM([1]R8年集計!F25,[1]R8年集計!I25,[1]R8年集計!L25) -> 0 | G25: =SUM([1]R8年集計!G25,[1]R8年集計!J25,[1]R8年集計!M25) -> 0 | H25: =SUM([1]R8年集計!H25,[1]R8年集計!K25,[1]R8年集計!N25) -> 0 | I25: =[1]R8年集計!O25 -> 0 | J25: =[1]R8年集計!P25 -> 0 | K25: =[1]R8年集計!Q25 -> 0 | L25: =F25+I25 -> 0 | M25: =G25+J25 -> 0 | N25: =H25+K25 -> 0
C26: アライグマ | D26: 尿 | E26: 頭 | F26: =SUM([1]R8年集計!F26,[1]R8年集計!I26,[1]R8年集計!L26) -> 9 | G26: =SUM([1]R8年集計!G26,[1]R8年集計!J26,[1]R8年集計!M26) -> 1 | H26: =SUM([1]R8年集計!H26,[1]R8年集計!K26,[1]R8年集計!N26) -> 8 | I26: =[1]R8年集計!O26 -> 0 | J26: =[1]R8年集計!P26 -> 0 | K26: =[1]R8年集計!Q26 -> 0 | L26: =F26+I26 -> 9 | M26: =G26+J26 -> 1 | N26: =H26+K26 -> 8
B27: 日本紅斑熱 | C27: アライグマ | D27: 血液 | E27: 頭 | F27: =SUM([1]R8年集計!F27,[1]R8年集計!I27,[1]R8年集計!L27) -> 15 | G27: =SUM([1]R8年集計!G27,[1]R8年集計!J27,[1]R8年集計!M27) -> 8 | H27: =SUM([1]R8年集計!H27,[1]R8年集計!K27,[1]R8年集計!N27) -> 7 | I27: =[1]R8年集計!O27 -> 5 | J27: =[1]R8年集計!P27 -> 2 | K27: =[1]R8年集計!Q27 -> 3 | L27: =F27+I27 -> 20 | M27: =G27+J27 -> 10 | N27: =H27+K27 -> 10
B28: 重症熱性血小板減少症候群 （S F T S ） | C28: アライグマ | D28: 血液 | E28: 頭 | F28: =SUM([1]R8年集計!F28,[1]R8年集計!I28,[1]R8年集計!L28) -> 15 | G28: =SUM([1]R8年集計!G28,[1]R8年集計!J28,[1]R8年集計!M28) -> 2 | H28: =SUM([1]R8年集計!H28,[1]R8年集計!K28,[1]R8年集計!N28) -> 13 | I28: =[1]R8年集計!O28 -> 5 | J28: =[1]R8年集計!P28 -> 1 | K28: =[1]R8年集計!Q28 -> 4 | L28: =F28+I28 -> 20 | M28: =G28+J28 -> 3 | N28: =H28+K28 -> 17
B29: 狂犬病 | C29: 犬 | D29: 脳 | E29: 頭 | F29: =SUM([1]R8年集計!F29,[1]R8年集計!I29,[1]R8年集計!L29) -> 0 | G29: =SUM([1]R8年集計!G29,[1]R8年集計!J29,[1]R8年集計!M29) -> 0 | H29: =SUM([1]R8年集計!H29,[1]R8年集計!K29,[1]R8年集計!N29) -> 0 | I29: =[1]R8年集計!O29 -> 0 | J29: =[1]R8年集計!P29 -> 0 | K29: =[1]R8年集計!Q29 -> 0 | L29: =F29+I29 -> 0 | M29: =G29+J29 -> 0 | N29: =H29+K29 -> 0
B30: クリプトスポリジウム | C30: 牛 | D30: 糞便 | E30: 頭 | F30: =SUM([1]R8年集計!F30,[1]R8年集計!I30,[1]R8年集計!L30) -> 0 | G30: =SUM([1]R8年集計!G30,[1]R8年集計!J30,[1]R8年集計!M30) -> 0 | H30: =SUM([1]R8年集計!H30,[1]R8年集計!K30,[1]R8年集計!N30) -> 0 | I30: =[1]R8年集計!O30 -> 0 | J30: =[1]R8年集計!P30 -> 0 | K30: =[1]R8年集計!Q30 -> 0 | L30: =F30+I30 -> 0 | M30: =G30+J30 -> 0 | N30: =H30+K30 -> 0
C31: アライグマ | D31: 糞便 | E31: 頭 | F31: =SUM([1]R8年集計!F31,[1]R8年集計!I31,[1]R8年集計!L31) -> 20 | G31: =SUM([1]R8年集計!G31,[1]R8年集計!J31,[1]R8年集計!M31) -> 1 | H31: =SUM([1]R8年集計!H31,[1]R8年集計!K31,[1]R8年集計!N31) -> 19 | I31: =[1]R8年集計!O31 -> 10 | J31: =[1]R8年集計!P31 -> 0 | K31: =[1]R8年集計!Q31 -> 10 | L31: =F31+I31 -> 30 | M31: =G31+J31 -> 1 | N31: =H31+K31 -> 29
B32: B S E | C32: 牛 | D32: 延髄 （食肉処理場） | E32: 頭 | F32: =SUM([1]R8年集計!F32,[1]R8年集計!I32,[1]R8年集計!L32) -> 0 | G32: =SUM([1]R8年集計!G32,[1]R8年集計!J32,[1]R8年集計!M32) -> 0 | H32: =SUM([1]R8年集計!H32,[1]R8年集計!K32,[1]R8年集計!N32) -> 0 | I32: =[1]R8年集計!O32 -> 0 | J32: =[1]R8年集計!P32 -> 0 | K32: =[1]R8年集計!Q32 -> 0 | L32: =F32+I32 -> 0 | M32: =G32+J32 -> 0 | N32: =H32+K32 -> 0
D33: 延髄（死亡牛） | E33: 頭 | F33: =SUM([1]R8年集計!F33,[1]R8年集計!I33,[1]R8年集計!L33) -> 0 | G33: =SUM([1]R8年集計!G33,[1]R8年集計!J33,[1]R8年集計!M33) -> 0 | H33: =SUM([1]R8年集計!H33,[1]R8年集計!K33,[1]R8年集計!N33) -> 0 | I33: =[1]R8年集計!O33 -> 0 | J33: =[1]R8年集計!P33 -> 0 | K33: =[1]R8年集計!Q33 -> 0 | L33: =F33+I33 -> 0 | M33: =G33+J33 -> 0 | N33: =H33+K33 -> 0
B34: 豚レンサ球菌感染症 | C34: 豚 | D34: 臓器・鼻汁 | E34: 頭 | F34: =SUM([1]R8年集計!F34,[1]R8年集計!I34,[1]R8年集計!L34) -> 0 | G34: =SUM([1]R8年集計!G34,[1]R8年集計!J34,[1]R8年集計!M34) -> 0 | H34: =SUM([1]R8年集計!H34,[1]R8年集計!K34,[1]R8年集計!N34) -> 0 | I34: =[1]R8年集計!O34 -> 0 | J34: =[1]R8年集計!P34 -> 0 | K34: =[1]R8年集計!Q34 -> 0 | L34: =F34+I34 -> 0 | M34: =G34+J34 -> 0 | N34: =H34+K34 -> 0
B35: ※1 レプトスピラ症は、感染動物の尿に汚染された可能性のある水や土壌に素手で触れないよう注意し、また触れた場合は十分に洗浄、消毒してください。
B36: ※2 日本紅斑熱およびSFTSは、マダニ類に咬まれることにより感染する恐れがありますので、野山に入る時には肌を露出しない服装や、虫除けスプレーを使用する等、注意しましょう。
B37: ※3 クリプトスポリジウムは、汚染された水を飲むことにより感染することがありますので、野外で生水を飲まないようにしましょう。
B38: ※1 日本脳炎は、蚊の媒介によって感染するため、蚊に刺されないように注意しましょう。
B40: ※5 レンサ球菌感染症は、手指の衛生対策が重要です。手指等に外傷がある場合は、豚肉の取扱いの際に手袋を着用しましょう。
