Workbook

Sheet 記入要領
A1: 産業廃棄物処理計画実施状況報告書の記入要領
B2: （※特別管理産業廃棄物処理計画実施状況報告書も準じて作成してください）
A3: 項目 | B3: 説明
A4: （第１面）
A5: 提出者について | B5: 産業廃棄物処理計画実施状況報告書の提出者は､多量排出事業者が法人の場合は法人の代表者です。ただし､処理計画実施状況報告書の作成単位である支店等の代表者で提出することもできます。
A6: 提出者の住所 | B6: 提出者の住所を府県名から記載してください。個人事業者の場合も考え方は同様です。
A7: 提出者の氏名 | B7: 個人の場合は個人の氏名を記入してください。屋号がある場合には屋号も記載してください。法人の場合は法人名、支店等の名称、代表者の氏名を記入してください。（代表者印、会社印等の押印はしないでください。）
A8: 提出者の電話番号 | B8: 上記提出者の電話番号を記入してください。
A9: 事業場の名称 | B9: 産業廃棄物を排出する工場、営業所、支店、病院名等の名称を記入してください。
A10: 事業場の所在地 | B10: 上記事業場の所在地を記入してください。
A11: 事業の種類 | B11: 日本標準産業分類の「中分類」に該当するコードを記入してください。
A12: 産業廃棄物処理計画における計画期間 | B12: 前年度に提出した産業廃棄物処理計画書に記載した計画期間を記入してください。
A13: 産業廃棄物処理計画における目標値 | B13: 項目ごとに、前年度に提出した産業廃棄物処理計画書に記載した目標値を記入してください。
A14: （第２面）
A15: （第２面）の入力について | B15: 「集計用シート」に入力すると自動的に第２面の該当部分に数値が入るように様式の電子ファイルを設定していますので、基本的には直接入力は不要ですが、うまく数値が入らない等の不具合がある場合については、直接入力してください。
A16: ①排出量 | B16: 当該事業場において生じた産業廃棄物の量
A17: ②自ら直接再生利用した量 | B17: ①の量のうち、中間処理をせず直接自ら再生利用した量
A18: ③自ら直接埋立処分又は海洋投入処分した量 | B18: ①の量のうち、中間処理をせず直接自ら埋立処分又は海洋投入処分した量
A19: ④自ら中間処理した量 | B19: ①の量のうち、自ら中間処理をした産業廃棄物の当該中間処理前の量
A20: ⑤④のうち熱回収を行った量 | B20: ④の量のうち、熱回収を行った量
A21: ⑥自ら中間処理した後の残さ量 | B21: 自ら中間処理をした後の量
A22: ⑦自ら中間処理により減量した量 | B22: ④の量から⑥の量を差し引いた量
A23: ⑧自ら中間処理した後再生利用した量 | B23: ⑥の量のうち、自ら利用し、又は他人に売却した量
A24: ⑨自ら中間処理した後自ら埋立処分又は海洋投入処分した量 | B24: ⑥の量のうち、自ら埋立処分及び海洋投入処分した量
A25: ⑩直接及び自ら中間処理した後の処理委託量 | B25: 中間処理及び最終処分を委託した量
A26: ⑪優良認定処理業者への処理委託量 | B26: ⑩の量のうち、優良認定処理業者（廃棄物の処理及び清掃に関する法律施行令第６条の11第２号に該当する者）への処理委託量
... A31: ③＋⑨自ら埋立処分又は海洋投入処分を行った量 | B31: ③の量と⑨の量を合計したもの
A32: （集計用シート）
A33: 集計用シートの取扱について | B33: 第２面の入力を補助するとともに、根拠資料となるものです。廃棄物処理法上の様式ではないため、多量排出事業者にかかる公表制度の対象外としていますが、提出のご協力をお願いします。
A34: 提出者の住所、名称、担当部署等について | B34: 提出内容について、確認のご連絡をさせていただくことがありますので、記入をお願いします。
A35: 産業廃棄物の種類について | B35: シートには２０項目の産業廃棄物の名称が入力可能です。産業廃棄物の種類別にコードの記入をお願いします。
A36: ①～⑭の項目について | B36: 上記（第２面）をご参照ください。
A37: ⑮その他の中間処理委託量 | B37: ⑩の量のうち、委託して破砕等の中間処理した量（⑫～⑭を除く）
A38: ⑯埋立処分委託量 | B38: ⑩の量のうち、直接委託して埋立て最終処分した量
A39: ②＋⑧自ら再生利用を行った量 | B39: ②の量と⑧の量を合計したもの(上記のデータから自動計算されます）
A40: ③＋⑨自ら埋立処分又は海洋投入処分を行った量 | B40: ③の量と⑨の量を合計したもの(上記のデータから自動計算されます）
A41: （その他留意事項）
A42: 個人情報の記載について | B42: 実施状況報告書は、公表制度（公衆への縦覧（H23.10.1からはインターネットによる公表））の対象となるため、代表者印、社員の個人名等、個人情報に該当する内容については、記載しないようにしてください。

Sheet 別紙（集計表）
E2: 特 別 管 理 産 業 廃 棄 物 処 理 計 画 実 施 状 況 報 告 書 の 〔 別 紙 〕 | V2: 記載例
M5: 報 告 者 | N5: 報 告 者 | P5: 提 出 者
O7: 住 所 | Q7: 名 称 | R7: 担当部署 | S7: 担当者名 | T7: 電話番号 | U7: FAX | V7: 電子メールアドレス
O8: 特別管理産業廃棄物を排出する事業場を総括的に管理する支店等の住所 | Q8: 特別管理産業廃棄物を排出する事業場を総括的に管理する支店等の名称 | R8: 報告担当部署の名称 | S8: 報告担当者の氏名 | T8: 報告担当部署の電話番号 | U8: 報告担当部署のFAX番号 | V8: 報告担当部署の電子メールアドレス
O9: 大阪府大阪市中央区大手前２丁目 | Q9: （医）○○会○○病院 理事長 大阪太郎 | R9: 総務課医事係 | S9: 浪花 花子 | T9: 06-0000-0000 | U9: 06-0000-0000
F12: 計 画 の 実 施 状 況
B13: 特別管理産業廃棄物の種類 | E13: ①排出量 | F13: ②自ら直接 | G13: ③自己直接埋立 | H13: ④自ら中間処理した量 | I13: ⑤ ④のうち | J13: ⑥自ら中間処理 | K13: ⑦自ら中間処理 | L13: ⑧自ら中間処理 | M13: ⑨自ら中間処理した後 | N13: ⑩直接及び自ら | O13: （ ⑩＝ ①-②-③-④＋⑥-⑧-⑨ ＝⑫＋⑬＋⑭＋⑮＋⑯ ） | U13: ②＋⑧ | V13: ③＋⑨
F14: 再生利用した量 | G14: 処分又は海洋投 | I14: 熱回収を行った量 | J14: した後の残さ量 | K14: により減量した量 | L14: した後再生利用 | M14: 自ら埋立処分又は海 | N14: 自己処理した後の | O14: 委 託 先 に よ る 区 分 | T14: ⑪優良認定処理業者への処理委託量(t) | U14: 自ら再生利用 | V14: 自ら埋立処分又は海洋
B15: コード | C15: 名 称 | E15: (t) | F15: (t) | G15: 入処分した量(t) | H15: (t) | I15: (t) | J15: (t) | K15: (t) | L15: した量 (t) | M15: 洋投入処分した量(t) | N15: 処理委託量 (t) | O15: ⑫再生利用業者への 処理委託量(t) | P15: ⑬熱回収認定業者 への処理委託量(t) | Q15: ⑭熱回収認定業者以外の 熱回収業者への処理委託量(t) | R15: ⑮その他の中間処理 委託量(t) | S15: ⑯埋立処分委託量(t) | U15: を行った量(t) | V15: 投入処分を行った量(t)
B16: コード参照 | C16: 特別管理産業廃棄物の種類 | E16: 発生した特別管理産業廃棄物の種類ごとの量 | F16: ①の量のうち、中間処理をせず直接自ら再生利用した量 | G16: ①の量のうち、中間処理をせず自ら埋立処分又は海洋投入処分した量 | H16: ①の量のうち、自ら中間処理した産業廃棄物の当該中間処理前の量 | I16: ④の量のうち熱回収を行った量 | J16: 自ら中間処理を行った後の量 | K16: ④の量から⑥の量を差し引いた量 | L16: ⑥の量のうち、自ら利用し、又は他人に売却した量 | M16: ⑥の量のうち、自ら埋立処分及び海洋投入処分した量 | N16: 中間処理及び最終処分を委託した量 | O16: ⑩の量のうち、処理業者への再生利用委託量（⑬、⑭除く） | P16: ⑩の量のうち、認定熱回収施設設置者である処理業者への焼却処理委託量 | Q16: ⑩の量のうち、認定熱回収施設設置者以外の熱回収を行っている処理業者への焼却処理委託量 | R16: ⑩の量のうち、委託して破砕等の中間処理した量（⑫～⑭を除く） | S16: ⑩の量のうち、直接委託して埋立て最終処分した量 | T16: ⑩の量のうち、優良認定処理業者への委託処理量 | U16: ②の量と⑧の量を合計したもの（自動計算） | V16: ③の量と③の量を合計したもの（自動計算）
A17: 1 | B17: 7300 | C17: ①感染性廃棄物 | E17: 90 | K17: =H17-J17 -> 0 | N17: =E17-F17-G17-H17+J17-L17-M17 -> 90 | R17: 90 | T17: 90 | U17: =F17+L17 -> 0 | V17: =G17+M17 -> 0
A18: 2 | B18: 7100 | C18: ②強酸 | E18: 80 | K18: =H18-J18 -> 0 | N18: =E18-F18-G18-H18+J18-L18-M18 -> 80 | O18: 80 | U18: =F18+L18 -> 0 | V18: =G18+M18 -> 0
A19: 3 | C19: ③ | K19: =H19-J19 -> 0 | N19: =E19-F19-G19-H19+J19-L19-M19 -> 0 | U19: =F19+L19 -> 0 | V19: =G19+M19 -> 0
A20: 4 | C20: ④ | K20: =H20-J20 -> 0 | N20: =E20-F20-G20-H20+J20-L20-M20 -> 0 | U20: =F20+L20 -> 0 | V20: =G20+M20 -> 0
A21: 5 | C21: ⑤ | K21: =H21-J21 -> 0 | N21: =E21-F21-G21-H21+J21-L21-M21 -> 0 | U21: =F21+L21 -> 0 | V21: =G21+M21 -> 0
A22: 6 | C22: ⑥ | K22: =H22-J22 -> 0 | N22: =E22-F22-G22-H22+J22-L22-M22 -> 0 | U22: =F22+L22 -> 0 | V22: =G22+M22 -> 0
A23: 7 | C23: ⑦ | K23: =H23-J23 -> 0 | N23: =E23-F23-G23-H23+J23-L23-M23 -> 0 | U23: =F23+L23 -> 0 | V23: =G23+M23 -> 0
A24: 8 | C24: ⑧ | K24: =H24-J24 -> 0 | N24: =E24-F24-G24-H24+J24-L24-M24 -> 0 | U24: =F24+L24 -> 0 | V24: =G24+M24 -> 0
A25: 9 | C25: ⑨ | K25: =H25-J25 -> 0 | N25: =E25-F25-G25-H25+J25-L25-M25 -> 0 | U25: =F25+L25 -> 0 | V25: =G25+M25 -> 0
A26: 10 | C26: ⑩ | K26: =H26-J26 -> 0 | N26: =E26-F26-G26-H26+J26-L26-M26 -> 0 | U26: =F26+L26 -> 0 | V26: =G26+M26 -> 0
A27: 11 | C27: ⑪ | K27: =H27-J27 -> 0 | N27: =E27-F27-G27-H27+J27-L27-M27 -> 0 | U27: =F27+L27 -> 0 | V27: =G27+M27 -> 0
A28: 12 | C28: ⑫ | K28: =H28-J28 -> 0 | N28: =E28-F28-G28-H28+J28-L28-M28 -> 0 | U28: =F28+L28 -> 0 | V28: =G28+M28 -> 0
A29: 13 | C29: ⑬ | K29: =H29-J29 -> 0 | N29: =E29-F29-G29-H29+J29-L29-M29 -> 0 | U29: =F29+L29 -> 0 | V29: =G29+M29 -> 0
A30: 14 | C30: ⑭ | K30: =H30-J30 -> 0 | N30: =E30-F30-G30-H30+J30-L30-M30 -> 0 | U30: =F30+L30 -> 0 | V30: =G30+M30 -> 0
... A36: 20 | C36: ⑳ | K36: =H36-J36 -> 0 | N36: =E36-F36-G36-H36+J36-L36-M36 -> 0 | U36: =F36+L36 -> 0 | V36: =G36+M36 -> 0
C37: 合計 | E37: =SUM(E17,E18,E19,E20,E21,E22,E23,E24,E25,E26,E27,E28,E29,E30,E31,E32,E33,E34,E35,E36) -> 170 | F37: =SUM(F17,F18,F19,F20,F21,F22,F23,F24,F25,F26,F27,F28,F29,F30,F31,F32,F33,F34,F35,F36) -> 0 | G37: =SUM(G17,G18,G19,G20,G21,G22,G23,G24,G25,G26,G27,G28,G29,G30,G31,G32,G33,G34,G35,G36) -> 0 | H37: =SUM(H17,H18,H19,H20,H21,H22,H23,H24,H25,H26,H27,H28,H29,H30,H31,H32,H33,H34,H35,H36) -> 0 | I37: =SUM(I17,I18,I19,I20,I21,I22,I23,I24,I25,I26,I27,I28,I29,I30,I31,I32,I33,I34,I35,I36) -> 0 | J37: =SUM(J17,J18,J19,J20,J21,J22,J23,J24,J25,J26,J27,J28,J29,J30,J31,J32,J33,J34,J35,J36) -> 0 | K37: =SUM(K17,K18,K19,K20,K21,K22,K23,K24,K25,K26,K27,K28,K29,K30,K31,K32,K33,K34,K35,K36) -> 0 | L37: =SUM(L17,L18,L19,L20,L21,L22,L23,L24,L25,L26,L27,L28,L29,L30,L31,L32,L33,L34,L35,L36) -> 0 | ... V37: =SUM(V17,V18,V19,V20,V21,V22,V23,V24,V25,V26,V27,V28,V29,V30,V31,V32,V33,V34,V35,V36) -> 0
O39: （注１）トン未満は原則として四捨五入。ただし、数字が有効であれば小数点以下３桁まで記載は可。
O40: （注２）上記の産業廃棄物の種類以外の排出実績があった場合は、必要に応じ、直接追加入力するとともに、第2面も追加してください。

Sheet 第１面
A1: 様式第二号の十四（第八条の十七の三関係） | E1: 記載例
A2: （第1面）
B3: 特別管理産業廃棄物処理計画実施状況報告書
C4: ○○年○○月○○日
A5: 大阪府知事 様
A6: （大阪府泉州農と緑の総合事務所長 様）
C7: 提出者
C8: 住 所 大阪府大阪市中央区大手前２丁目
C9: 氏 名 （医）○○会 ○○病院 理事長 大阪太郎
D10: （法人にあっては、名称及び代表者の氏名）
C11: 電話番号 ０６－００００－００００
A13: 廃棄物の処理及び清掃に関する法律第12条の２第11項の規定に基づき、○○ 年度の特別管
A14: 理産業廃棄物処理計画の実施状況を報告します。
A15: 事 業 場 の 名 称 | C15: ○○病院
A16: 事 業 場 の 所 在 地 | C16: 大阪府○○市××町□－□－□
A17: 事 業 の 種 類 | C17: ８３：病院
A18: 特別管理産業廃棄物処理計画における 計 画 期 間 | C18: ○○年４月１日～○○年３月３１日
A19: 特別管理産業廃棄物処理計画における目標値
B20: 項目 | C20: 目標値 | D20: 項目 | E20: 目標値
B21: 排出量 | C21: １８０ｔ | D21: 全処理委託量 | E21: １８０ｔ
B22: 自ら再生利用を行う 特別管理産業廃棄物の量 | C22: ｔ | D22: 優良認定処理業者への 処理委託量 | E22: １００ｔ
B23: 自ら熱回収を行う 特別管理産業廃棄物の量 | C23: ｔ | D23: 再生利用業者への 処理委託量 | E23: ｔ
B24: 自ら中間処理により減量する 特別管理産業廃棄物の量 | C24: ｔ | D24: 認定熱回収業者への 処理委託量 | E24: ｔ
B25: 自ら埋立処分又は 海洋投入処分を行う 特別管理産業廃棄物の量 | C25: ｔ | D25: 認定熱回収業者以外の 熱回収を行う業者への 処理委託量 | E25: ｔ
A26: 電子情報処理組織の使用に関する事項
B27: 特別管理産業廃棄物排出量 （ポリ塩化ビフェニル廃棄物を除く。） | C27: 前々年度 150 ｔ 前年度 170 ｔ
B28: （電子情報処理組織の使用に関して実施した取組）
B29: ※事務処理欄
C30: (日本産業規格 Ａ列4番）

Sheet 第２面①【感染性廃棄物】 
B2: 計画の実施状況 | H2: （特別管理産業廃棄物の種類： | K2: ='別紙（集計表）'!C17 -> ①感染性廃棄物 | Q2: ）
F4: 有償物量
C7: 不要物等発生量 | I7: 自ら直接 再生利用した量 | P7: 自ら中間処理した後 再生利用した量
H8: ② | I8: ='別紙（集計表）'!F17 -> 0 | O8: ⑧ | P8: ='別紙（集計表）'!L17 -> 0
F10: 排出量 | I10: 自ら直接埋立処分又は 海洋投入処分した量
E11: ① | F11: ='別紙（集計表）'!E17 -> 90 | H11: ③ | I11: ='別紙（集計表）'!G17 -> 0 | T11: ⑩のうち再生利用 業者への処理委託量
P12: 自ら中間処理した後 自ら埋立処分又は 海洋投入処分した量 | S12: ⑫ | T12: ='別紙（集計表）'!O17 -> 0 | V12: (第２面）
C13: 項目 | F13: 実績値 | I13: 自ら中間処理 した量 | M13: 自ら中間処理した 後の残さ量
C14: ①排出量 | F14: =F11 -> 90 | H14: ④ | I14: ='別紙（集計表）'!H17 -> 0 | L14: ⑥ | M14: ='別紙（集計表）'!J17 -> 0 | O14: ⑨ | P14: ='別紙（集計表）'!M17 -> 0
C15: ②＋⑧自ら再生利用を 行った量 | F15: =I8+P8 -> 0 | T15: ⑩のうち熱回収認定 業者への処理委託量
C16: ⑤自ら熱回収を行った量 | F16: =I17 -> 0 | I16: ④のうち熱回収 を行った量 | M16: 自ら中間処理によ り減量した量 | P16: 直接及び自ら 中間処理した後の 処理委託量 | S16: ⑬ | T16: ='別紙（集計表）'!P17 -> 0
C17: ⑦自ら中間処理により減 量した量 | F17: =M17 -> 0 | H17: ⑤ | I17: ='別紙（集計表）'!I17 -> 0 | L17: ⑦ | M17: ='別紙（集計表）'!K17 -> 0
C18: ③＋⑨自ら埋立処分又は 海洋投入処分を行った量 | F18: =I11+P14 -> 0 | O18: ⑩ | P18: ='別紙（集計表）'!N17 -> 90 | T18: ⑩のうち熱回収認定 業者以外の 熱回収を行う業者 への処理委託量
C19: ⑩全処理委託量 | F19: =P18 -> 90
C20: ⑪優良認定処理業者への 処理委託量 | F20: =P22 -> 90 | S20: ⑭ | T20: ='別紙（集計表）'!Q17 -> 0
C21: ⑫再生利用業者への処理 委託量 | F21: =T12 -> 0 | P21: ⑩のうち優良認定 処理業者への 処理委託量
C22: ⑬熱回収認定業者への処 理委託量 | F22: =T16 -> 0 | O22: ⑪ | P22: ='別紙（集計表）'!T17 -> 90
C23: ⑭熱回収認定業者以外の 熱回収を行う業者への処 理委託量 | F23: =T20 -> 0

Sheet 第２面②【強酸】
B2: 計画の実施状況 | H2: （特別管理産業廃棄物の種類： | K2: ='別紙（集計表）'!C18 -> ②強酸 | Q2: ）
F4: 有償物量
C7: 不要物等発生量 | I7: 自ら直接 再生利用した量 | P7: 自ら中間処理した後 再生利用した量
H8: ② | I8: ='別紙（集計表）'!F18 -> 0 | O8: ⑧ | P8: ='別紙（集計表）'!L18 -> 0
F10: 排出量 | I10: 自ら直接埋立処分又は 海洋投入処分した量
E11: ① | F11: ='別紙（集計表）'!E18 -> 80 | H11: ③ | I11: ='別紙（集計表）'!G18 -> 0 | T11: ⑩のうち再生利用 業者への処理委託量
P12: 自ら中間処理した後 自ら埋立処分又は 海洋投入処分した量 | S12: ⑫ | T12: ='別紙（集計表）'!O18 -> 80 | V12: (第２面）
C13: 項目 | F13: 実績値 | I13: 自ら中間処理 した量 | M13: 自ら中間処理した 後の残さ量
C14: ①排出量 | F14: =F11 -> 80 | H14: ④ | I14: ='別紙（集計表）'!H18 -> 0 | L14: ⑥ | M14: ='別紙（集計表）'!J18 -> 0 | O14: ⑨ | P14: ='別紙（集計表）'!M18 -> 0
C15: ②＋⑧自ら再生利用を 行った量 | F15: =I8+P8 -> 0 | T15: ⑩のうち熱回収認定 業者への処理委託量
C16: ⑤自ら熱回収を行った量 | F16: =I17 -> 0 | I16: ④のうち熱回収 を行った量 | M16: 自ら中間処理によ り減量した量 | P16: 直接及び自ら 中間処理した後の 処理委託量 | S16: ⑬ | T16: ='別紙（集計表）'!P18 -> 0
C17: ⑦自ら中間処理により減 量した量 | F17: =M17 -> 0 | H17: ⑤ | I17: ='別紙（集計表）'!I18 -> 0 | L17: ⑦ | M17: ='別紙（集計表）'!K18 -> 0
C18: ③＋⑨自ら埋立処分又は 海洋投入処分を行った量 | F18: =I11+P14 -> 0 | O18: ⑩ | P18: ='別紙（集計表）'!N18 -> 80 | T18: ⑩のうち熱回収認定 業者以外の 熱回収を行う業者 への処理委託量
C19: ⑩全処理委託量 | F19: =P18 -> 80
C20: ⑪優良認定処理業者への 処理委託量 | F20: =P22 -> 0 | S20: ⑭ | T20: ='別紙（集計表）'!Q18 -> 0
C21: ⑫再生利用業者への処理 委託量 | F21: =T12 -> 80 | P21: ⑩のうち優良認定 処理業者への 処理委託量
C22: ⑬熱回収認定業者への処 理委託量 | F22: =T16 -> 0 | O22: ⑪ | P22: ='別紙（集計表）'!T18 -> 0
C23: ⑭熱回収認定業者以外の 熱回収を行う業者への処 理委託量 | F23: =T20 -> 0

Sheet 第３面
G1: (第3面）
A2: 備考
A3: 1 | B3: 翌年度の6月30日までに提出すること。
A4: 2 | B4: 「事業の種類」の欄には、日本標準産業分類の区分を記入すること。
A5: 3 | B5: 「特別管理産業廃棄物処理計画における目標値」の欄には、項目ごとに、特別管理産業廃棄
B6: 物処理計画に記載した目標値を記入すること。
A7: 4 | B7: 第2面には、前年度の特別管理産業廃棄物処理に関して、①～⑭の欄のそれぞれに、(1)から
B8: (14)に掲げる量を記入すること。
B9: (1) ①欄 当該事業場において生じた特別管理産業廃棄物の量
B10: (2) ②欄 (1)の量のうち、中間処理をせず直接自ら再生利用した量
B11: (3) ③欄 (1)の量のうち、中間処理をせず直接自ら埋立処分又は海洋投入処分した量
B12: (4) ④欄 (1)の量のうち、自ら中間処理をした特別管理産業廃棄物の当該中間処理前の量
B13: (5) ⑤欄 (4)の量のうち、熱回収を行った量
B14: (6) ⑥欄 自ら中間処理をした後の量
B15: (７) ⑦欄 (4)の量から(6)の量を差し引いた量
B16: (8) ⑧欄 (6)の量のうち、自ら利用し、又は他人に売却した量
B17: (9) ⑨欄 (6)の量のうち、自ら埋立処分及び海洋投入処分した量
B18: (10) ⑩欄 中間処理及び最終処分を委託した量
B19: (11) ⑪欄 (10)の量のうち、優良認定処理業者（廃棄物の処理及び清掃に関する法律施行令
C20: （以下「令」という。）第６条の11第２号に該当する者）への処理委託量
B21: (12) ⑫欄 (10)の量のうち、処理業者への再生利用委託量
B22: (13) ⑬欄 (10)の量のうち、認定熱回収施設設置者（廃棄物の処理及び清掃に関する法律
C23: 第15条の３の３第１項の認定を受けた者）である処理業者への焼却処理委託量
B24: (14) ⑭欄 (10)の量のうち、認定熱回収施設設置者以外の熱回収を行っている処理業者への
C25: 焼却処理委託量
A26: 5 | B26: 第２面の左下の表には、項目ごとに、特別管理産業廃棄物処理計画に記載したそれぞれの実
B27: 績値を記入すること。
A28: 6 | B28: 特別管理産業廃棄物の種類が２以上あるときは、特別管理産業廃棄物の種類ごとに、第２面
B29: の例により特別管理産業廃棄物処理計画の実施状況を明らかにした書面を作成し、当該書面を
B30: 添付すること。
A31: 7 | B31: 「電子情報処理組織の使用に関する事項」の欄には、前々年度及び前年度における特別管理産業廃棄物の排出量（ポリ塩化ビフェニル廃棄物（令第２条の４第５号イからハまでに掲げるものをいう。）を除く。）並びに電子情報処理組織使用義務者にあっては前年度に実施した電子情報処理組織の使用に関する取組（情報処理センターへの登録が困難な場合として廃棄物の処理及び清掃に関する法律施行規則第８条の31の４に該当したときは、その旨及び理由を含む。）について記入すること。
A32: 8 | B32: ※欄には、何も記入しないこと。
