Workbook

Sheet 雛形
B1: 教科 | C1: 単元名
C4: 授業のはじめ | E4: 授業の終わり | F4: 学び合い度 | G4: =AVERAGE(G7:G21) -> 0
F5: 説明できる ◎ あと少し ○ 教えて △
B6: 時間 | C6: 今日のめあて （自分が頑張るところ） | D6: 学習の仕方 （誰と） | E6: ふりかえり （気づいたこと、わかったこと、次に頑張ること） | G6: 文字数 (自動)
B7: 1 | G7: =LEN(E7) -> 0
B8: 2 | G8: =LEN(E8) -> 0
B9: 3 | G9: =LEN(E9) -> 0
B10: 4 | G10: =LEN(E10) -> 0
B11: 5 | G11: =LEN(E11) -> 0
B12: 6 | G12: =LEN(E12) -> 0
B13: 7 | G13: =LEN(E13) -> 0
B14: 8 | G14: =LEN(E14) -> 0
B15: 9 | G15: =LEN(E15) -> 0
B16: 10 | G16: =LEN(E16) -> 0
B17: 11 | G17: =LEN(E17) -> 0
B18: 12 | G18: =LEN(E18) -> 0
... B21: 15 | G21: =LEN(E21) -> 0

Sheet 元データ
C1: 授業のはじめ | E1: 授業の終わり | F1: 学び合い度
F2: 説明できる ◎ あと少し ○ 教えて △
C3: 今日のめあて （自分の課題） | D3: 学習の仕方 （誰と） | E3: ふりかえり | G3: 文字数 (自動)
A4: 1 | G4: =LEN(E4) -> 0
A5: 2 | G5: =LEN(E5) -> 0
A6: 3 | G6: =LEN(E6) -> 0
A7: 4 | G7: =LEN(E7) -> 0
A8: 5 | G8: =LEN(E8) -> 0
A9: 6 | G9: =LEN(E9) -> 0 | I9: 誰と
A10: 7 | G10: =LEN(E10) -> 0 | I10: 一人で
A11: 8 | G11: =LEN(E11) -> 0 | I11: 友だちと
A12: 9 | G12: =LEN(E12) -> 0 | I12: 先生と
A13: 10 | G13: =LEN(E13) -> 0
A14: 11 | G14: =LEN(E14) -> 0 | I14: 学び合い度
A15: 12 | G15: =LEN(E15) -> 0 | I15: ◎
A16: 13 | G16: =LEN(E16) -> 0 | I16: ○
A17: 14 | G17: =LEN(E17) -> 0 | I17: △
A18: 15 | G18: =LEN(E18) -> 0
A19: 16 | G19: =LEN(E19) -> 0
A20: 17 | G20: =LEN(E20) -> 0
A21: 18 | G21: =LEN(E21) -> 0
A22: 19 | G22: =LEN(E22) -> 0
A23: 20 | G23: =LEN(E23) -> 0
A24: 21 | G24: =LEN(E24) -> 0
A25: 22 | G25: =LEN(E25) -> 0
A26: 23 | G26: =LEN(E26) -> 0
A27: 24 | G27: =LEN(E27) -> 0
A28: 25 | G28: =LEN(E28) -> 0
A29: 26 | G29: =LEN(E29) -> 0
... A34: 31 | G34: =LEN(E34) -> 0

Sheet 1時間目
A1: 研修用 | C1: 授業のはじめ | E1: 授業の終わり | F1: 学び合い度
F2: 説明できる ◎ あと少し ○ 教えて △
C3: 今日のめあて （自分の課題） | D3: 学習の仕方 （誰と） | E3: ふりかえり | G3: 文字数 (自動)
A4: 1 | B4: =元データ!B4 -> 0 | C4: ='１'!C7 -> 0 | D4: ='１'!D7 -> 0 | E4: ='１'!E7 -> 0 | F4: ='１'!F7 -> 0 | G4: =LEN(E4) -> 1
A5: 2 | B5: =元データ!B5 -> 0 | C5: ='２'!C7 -> 0 | D5: ='２'!D7 -> 0 | E5: ='２'!E7 -> 0 | F5: ='２'!F7 -> 0 | G5: =LEN(E5) -> 1
A6: 3 | B6: =元データ!B6 -> 0 | C6: ='３'!C7 -> 0 | D6: ='３'!D7 -> 0 | E6: ='３'!E7 -> 0 | F6: ='３'!F7 -> 0 | G6: =LEN(E6) -> 1
A7: 4 | B7: =元データ!B7 -> 0 | C7: ='４'!C7 -> 0 | D7: ='４'!D7 -> 0 | E7: ='４'!E7 -> 0 | F7: ='４'!F7 -> 0 | G7: =LEN(E7) -> 1
A8: 5 | B8: =元データ!B8 -> 0 | C8: ='５'!C7 -> 0 | D8: ='５'!D7 -> 0 | E8: ='５'!E7 -> 0 | F8: ='５'!F7 -> 0 | G8: =LEN(E8) -> 1
A9: 6 | B9: =元データ!B9 -> 0 | C9: ='６'!C7 -> 0 | D9: ='６'!D7 -> 0 | E9: ='６'!E7 -> 0 | F9: ='６'!F7 -> 0 | G9: =LEN(E9) -> 1 | I9: 誰と
A10: 7 | B10: =元データ!B10 -> 0 | C10: ='7'!C7 -> 0 | D10: ='7'!D7 -> 0 | E10: ='7'!E7 -> 0 | F10: ='7'!F7 -> 0 | G10: =LEN(E10) -> 1 | I10: 一人で
A11: 8 | B11: =元データ!B11 -> 0 | C11: ='8'!C7 -> 0 | D11: ='8'!D7 -> 0 | E11: ='8'!E7 -> 0 | F11: ='8'!F7 -> 0 | G11: =LEN(E11) -> 1 | I11: 友だちと
A12: 9 | B12: =元データ!B12 -> 0 | C12: ='9'!C7 -> 0 | D12: ='9'!D7 -> 0 | E12: ='9'!E7 -> 0 | F12: ='9'!F7 -> 0 | G12: =LEN(E12) -> 1 | I12: 先生と
A13: 10 | B13: =元データ!B13 -> 0 | C13: ='10'!C7 -> 0 | D13: ='10'!D7 -> 0 | E13: ='10'!E7 -> 0 | F13: ='10'!F7 -> 0 | G13: =LEN(E13) -> 1
A14: 11 | B14: =元データ!B14 -> 0 | C14: ='11'!C7 -> 0 | D14: ='11'!D7 -> 0 | E14: ='11'!E7 -> 0 | F14: ='11'!F7 -> 0 | G14: =LEN(E14) -> 1 | I14: 学び合い度
A15: 12 | B15: =元データ!B15 -> 0 | C15: ='12'!C7 -> 0 | D15: ='12'!D7 -> 0 | E15: ='12'!E7 -> 0 | F15: ='12'!F7 -> 0 | G15: =LEN(E15) -> 1 | I15: ◎
A16: 13 | B16: =元データ!B16 -> 0 | C16: ='13'!C7 -> 0 | D16: ='13'!D7 -> 0 | E16: ='13'!E7 -> 0 | F16: ='13'!F7 -> 0 | G16: =LEN(E16) -> 1 | I16: ○
A17: 14 | B17: =元データ!B17 -> 0 | C17: ='14'!C7 -> 0 | D17: ='14'!D7 -> 0 | E17: ='14'!E7 -> 0 | F17: ='14'!F7 -> 0 | G17: =LEN(E17) -> 1 | I17: △
A18: 15 | B18: =元データ!B18 -> 0 | C18: ='15'!C7 -> 0 | D18: ='15'!D7 -> 0 | E18: ='15'!E7 -> 0 | F18: ='15'!F7 -> 0 | G18: =LEN(E18) -> 1
A19: 16 | B19: =元データ!B19 -> 0 | C19: ='16'!C7 -> 0 | D19: ='16'!D7 -> 0 | E19: ='16'!E7 -> 0 | F19: ='16'!F7 -> 0 | G19: =LEN(E19) -> 1
A20: 17 | B20: =元データ!B20 -> 0 | C20: ='17'!C7 -> 0 | D20: ='17'!D7 -> 0 | E20: ='17'!E7 -> 0 | F20: ='17'!F7 -> 0 | G20: =LEN(E20) -> 1
A21: 18 | B21: =元データ!B21 -> 0 | C21: ='18'!C7 -> 0 | D21: ='18'!D7 -> 0 | E21: ='18'!E7 -> 0 | F21: ='18'!F7 -> 0 | G21: =LEN(E21) -> 1
A22: 19 | B22: =元データ!B22 -> 0 | C22: ='19'!C7 -> 0 | D22: ='19'!D7 -> 0 | E22: ='19'!E7 -> 0 | F22: ='19'!F7 -> 0 | G22: =LEN(E22) -> 1
A23: 20 | B23: =元データ!B23 -> 0 | C23: ='20'!C7 -> 0 | D23: ='20'!D7 -> 0 | E23: ='20'!E7 -> 0 | F23: ='20'!F7 -> 0 | G23: =LEN(E23) -> 1
A24: 21 | B24: =元データ!B24 -> 0 | C24: ='21'!C7 -> 0 | D24: ='21'!D7 -> 0 | E24: ='21'!E7 -> 0 | F24: ='21'!F7 -> 0 | G24: =LEN(E24) -> 1
A25: 22 | B25: =元データ!B25 -> 0 | C25: ='22'!C7 -> 0 | D25: ='22'!D7 -> 0 | E25: ='22'!E7 -> 0 | F25: ='22'!F7 -> 0 | G25: =LEN(E25) -> 1
A26: 23 | B26: =元データ!B26 -> 0 | C26: ='23'!C7 -> 0 | D26: ='23'!D7 -> 0 | E26: ='23'!E7 -> 0 | F26: ='23'!F7 -> 0 | G26: =LEN(E26) -> 1
A27: 24 | B27: =元データ!B27 -> 0 | C27: ='24'!C7 -> 0 | D27: ='24'!D7 -> 0 | E27: ='24'!E7 -> 0 | F27: ='24'!F7 -> 0 | G27: =LEN(E27) -> 1
A28: 25 | B28: =元データ!B28 -> 0 | C28: ='25'!C7 -> 0 | D28: ='25'!D7 -> 0 | E28: ='25'!E7 -> 0 | F28: ='25'!F7 -> 0 | G28: =LEN(E28) -> 1
A29: 26 | B29: =元データ!B29 -> 0 | C29: ='26'!C7 -> 0 | D29: ='26'!D7 -> 0 | E29: ='26'!E7 -> 0 | F29: ='26'!F7 -> 0 | G29: =LEN(E29) -> 1
A30: 27 | B30: =元データ!B30 -> 0 | C30: ='27'!C7 -> 0 | D30: ='27'!D7 -> 0 | E30: ='27'!E7 -> 0 | F30: ='27'!F7 -> 0 | G30: =LEN(E30) -> 1
A31: 28 | B31: =元データ!B31 -> 0 | C31: ='28'!C7 -> 0 | D31: ='28'!D7 -> 0 | E31: ='28'!E7 -> 0 | F31: ='28'!F7 -> 0 | G31: =LEN(E31) -> 1
A32: 29 | B32: =元データ!B32 -> 0 | C32: ='29'!C7 -> 0 | D32: ='29'!D7 -> 0 | E32: ='29'!E7 -> 0 | F32: ='29'!F7 -> 0 | G32: =LEN(E32) -> 1
A33: 30 | B33: =元データ!B33 -> 0 | C33: ='30'!C7 -> 0 | D33: ='30'!D7 -> 0 | E33: ='30'!E7 -> 0 | F33: ='30'!F7 -> 0 | G33: =LEN(E33) -> 1
A34: 31 | B34: =元データ!B34 -> 0 | C34: ='31'!C7 -> 0 | D34: ='31'!D7 -> 0 | E34: ='31'!E7 -> 0 | F34: ='31'!F7 -> 0 | G34: =LEN(E34) -> 1

Sheet 2時間目
A1: 研修用 | C1: 授業のはじめ | E1: 授業の終わり | F1: 学び合い度
F2: 説明できる ◎ あと少し ○ 教えて △
C3: 今日のめあて （自分の課題） | D3: 学習の仕方 （誰と） | E3: ふりかえり | G3: 文字数 (自動)
A4: 1 | B4: =元データ!B4 -> 0 | C4: ='１'!C8 -> 0 | D4: ='１'!D8 -> 0 | E4: ='１'!E8 -> 0 | F4: ='１'!F8 -> 0 | G4: =LEN(E4) -> 1
A5: 2 | B5: =元データ!B5 -> 0 | C5: ='２'!C8 -> 0 | D5: ='２'!D8 -> 0 | E5: ='２'!E8 -> 0 | F5: ='２'!F8 -> 0 | G5: =LEN(E5) -> 1
A6: 3 | B6: =元データ!B6 -> 0 | C6: ='３'!C8 -> 0 | D6: ='３'!D8 -> 0 | E6: ='３'!E8 -> 0 | F6: ='３'!F8 -> 0 | G6: =LEN(E6) -> 1
A7: 4 | B7: =元データ!B7 -> 0 | C7: ='４'!C8 -> 0 | D7: ='４'!D8 -> 0 | E7: ='４'!E8 -> 0 | F7: ='４'!F8 -> 0 | G7: =LEN(E7) -> 1
A8: 5 | B8: =元データ!B8 -> 0 | C8: ='５'!C8 -> 0 | D8: ='５'!D8 -> 0 | E8: ='５'!E8 -> 0 | F8: ='５'!F8 -> 0 | G8: =LEN(E8) -> 1
A9: 6 | B9: =元データ!B9 -> 0 | C9: ='６'!C8 -> 0 | D9: ='６'!D8 -> 0 | E9: ='６'!E8 -> 0 | F9: ='６'!F8 -> 0 | G9: =LEN(E9) -> 1 | I9: 誰と
A10: 7 | B10: =元データ!B10 -> 0 | C10: ='7'!C8 -> 0 | D10: ='7'!D8 -> 0 | E10: ='7'!E8 -> 0 | F10: ='7'!F8 -> 0 | G10: =LEN(E10) -> 1 | I10: 一人で
A11: 8 | B11: =元データ!B11 -> 0 | C11: ='8'!C8 -> 0 | D11: ='8'!D8 -> 0 | E11: ='8'!E8 -> 0 | F11: ='8'!F8 -> 0 | G11: =LEN(E11) -> 1 | I11: 友だちと
A12: 9 | B12: =元データ!B12 -> 0 | C12: ='9'!C8 -> 0 | D12: ='9'!D8 -> 0 | E12: ='9'!E8 -> 0 | F12: ='9'!F8 -> 0 | G12: =LEN(E12) -> 1 | I12: 先生と
A13: 10 | B13: =元データ!B13 -> 0 | C13: ='10'!C8 -> 0 | D13: ='10'!D8 -> 0 | E13: ='10'!E8 -> 0 | F13: ='10'!F8 -> 0 | G13: =LEN(E13) -> 1
A14: 11 | B14: =元データ!B14 -> 0 | C14: ='11'!C8 -> 0 | D14: ='11'!D8 -> 0 | E14: ='11'!E8 -> 0 | F14: ='11'!F8 -> 0 | G14: =LEN(E14) -> 1 | I14: 学び合い度
A15: 12 | B15: =元データ!B15 -> 0 | C15: ='12'!C8 -> 0 | D15: ='12'!D8 -> 0 | E15: ='12'!E8 -> 0 | F15: ='12'!F8 -> 0 | G15: =LEN(E15) -> 1 | I15: ◎
A16: 13 | B16: =元データ!B16 -> 0 | C16: ='13'!C8 -> 0 | D16: ='13'!D8 -> 0 | E16: ='13'!E8 -> 0 | F16: ='13'!F8 -> 0 | G16: =LEN(E16) -> 1 | I16: ○
A17: 14 | B17: =元データ!B17 -> 0 | C17: ='14'!C8 -> 0 | D17: ='14'!D8 -> 0 | E17: ='14'!E8 -> 0 | F17: ='14'!F8 -> 0 | G17: =LEN(E17) -> 1 | I17: △
A18: 15 | B18: =元データ!B18 -> 0 | C18: ='15'!C8 -> 0 | D18: ='15'!D8 -> 0 | E18: ='15'!E8 -> 0 | F18: ='15'!F8 -> 0 | G18: =LEN(E18) -> 1
A19: 16 | B19: =元データ!B19 -> 0 | C19: ='16'!C8 -> 0 | D19: ='16'!D8 -> 0 | E19: ='16'!E8 -> 0 | F19: ='16'!F8 -> 0 | G19: =LEN(E19) -> 1
A20: 17 | B20: =元データ!B20 -> 0 | C20: ='17'!C8 -> 0 | D20: ='17'!D8 -> 0 | E20: ='17'!E8 -> 0 | F20: ='17'!F8 -> 0 | G20: =LEN(E20) -> 1
A21: 18 | B21: =元データ!B21 -> 0 | C21: ='18'!C8 -> 0 | D21: ='18'!D8 -> 0 | E21: ='18'!E8 -> 0 | F21: ='18'!F8 -> 0 | G21: =LEN(E21) -> 1
A22: 19 | B22: =元データ!B22 -> 0 | C22: ='19'!C8 -> 0 | D22: ='19'!D8 -> 0 | E22: ='19'!E8 -> 0 | F22: ='19'!F8 -> 0 | G22: =LEN(E22) -> 1
A23: 20 | B23: =元データ!B23 -> 0 | C23: ='20'!C8 -> 0 | D23: ='20'!D8 -> 0 | E23: ='20'!E8 -> 0 | F23: ='20'!F8 -> 0 | G23: =LEN(E23) -> 1
A24: 21 | B24: =元データ!B24 -> 0 | C24: ='21'!C8 -> 0 | D24: ='21'!D8 -> 0 | E24: ='21'!E8 -> 0 | F24: ='21'!F8 -> 0 | G24: =LEN(E24) -> 1
A25: 22 | B25: =元データ!B25 -> 0 | C25: ='22'!C8 -> 0 | D25: ='22'!D8 -> 0 | E25: ='22'!E8 -> 0 | F25: ='22'!F8 -> 0 | G25: =LEN(E25) -> 1
A26: 23 | B26: =元データ!B26 -> 0 | C26: ='23'!C8 -> 0 | D26: ='23'!D8 -> 0 | E26: ='23'!E8 -> 0 | F26: ='23'!F8 -> 0 | G26: =LEN(E26) -> 1
A27: 24 | B27: =元データ!B27 -> 0 | C27: ='24'!C8 -> 0 | D27: ='24'!D8 -> 0 | E27: ='24'!E8 -> 0 | F27: ='24'!F8 -> 0 | G27: =LEN(E27) -> 1
A28: 25 | B28: =元データ!B28 -> 0 | C28: ='25'!C8 -> 0 | D28: ='25'!D8 -> 0 | E28: ='25'!E8 -> 0 | F28: ='25'!F8 -> 0 | G28: =LEN(E28) -> 1
A29: 26 | B29: =元データ!B29 -> 0 | C29: ='26'!C8 -> 0 | D29: ='26'!D8 -> 0 | E29: ='26'!E8 -> 0 | F29: ='26'!F8 -> 0 | G29: =LEN(E29) -> 1
A30: 27 | B30: =元データ!B30 -> 0 | C30: ='27'!C8 -> 0 | D30: ='27'!D8 -> 0 | E30: ='27'!E8 -> 0 | F30: ='27'!F8 -> 0 | G30: =LEN(E30) -> 1
A31: 28 | B31: =元データ!B31 -> 0 | C31: ='28'!C8 -> 0 | D31: ='28'!D8 -> 0 | E31: ='28'!E8 -> 0 | F31: ='28'!F8 -> 0 | G31: =LEN(E31) -> 1
A32: 29 | B32: =元データ!B32 -> 0 | C32: ='29'!C8 -> 0 | D32: ='29'!D8 -> 0 | E32: ='29'!E8 -> 0 | F32: ='29'!F8 -> 0 | G32: =LEN(E32) -> 1
A33: 30 | B33: =元データ!B33 -> 0 | C33: ='30'!C8 -> 0 | D33: ='30'!D8 -> 0 | E33: ='30'!E8 -> 0 | F33: ='30'!F8 -> 0 | G33: =LEN(E33) -> 1
A34: 31 | B34: =元データ!B34 -> 0 | C34: ='31'!C8 -> 0 | D34: ='31'!D8 -> 0 | E34: ='31'!E8 -> 0 | F34: ='31'!F8 -> 0 | G34: =LEN(E34) -> 1

Sheet 3時間目
A1: 研修用 | C1: 授業のはじめ | E1: 授業の終わり | F1: 学び合い度
F2: 説明できる ◎ あと少し ○ 教えて △
C3: 今日のめあて （自分の課題） | D3: 学習の仕方 （誰と） | E3: ふりかえり | G3: 文字数 (自動)
A4: 1 | B4: =元データ!B4 -> 0 | C4: ='１'!C9 -> 0 | D4: ='１'!D9 -> 0 | E4: ='１'!E9 -> 0 | F4: ='１'!F9 -> 0 | G4: =LEN(E4) -> 1
A5: 2 | B5: =元データ!B5 -> 0 | C5: ='２'!C9 -> 0 | D5: ='２'!D9 -> 0 | E5: ='２'!E9 -> 0 | F5: ='２'!F9 -> 0 | G5: =LEN(E5) -> 1
A6: 3 | B6: =元データ!B6 -> 0 | C6: ='３'!C9 -> 0 | D6: ='３'!D9 -> 0 | E6: ='３'!E9 -> 0 | F6: ='３'!F9 -> 0 | G6: =LEN(E6) -> 1
A7: 4 | B7: =元データ!B7 -> 0 | C7: ='４'!C9 -> 0 | D7: ='４'!D9 -> 0 | E7: ='４'!E9 -> 0 | F7: ='４'!F9 -> 0 | G7: =LEN(E7) -> 1
A8: 5 | B8: =元データ!B8 -> 0 | C8: ='５'!C9 -> 0 | D8: ='５'!D9 -> 0 | E8: ='５'!E9 -> 0 | F8: ='５'!F9 -> 0 | G8: =LEN(E8) -> 1
A9: 6 | B9: =元データ!B9 -> 0 | C9: ='６'!C9 -> 0 | D9: ='６'!D9 -> 0 | E9: ='６'!E9 -> 0 | F9: ='６'!F9 -> 0 | G9: =LEN(E9) -> 1 | I9: 誰と
A10: 7 | B10: =元データ!B10 -> 0 | C10: ='7'!C9 -> 0 | D10: ='7'!D9 -> 0 | E10: ='7'!E9 -> 0 | F10: ='7'!F9 -> 0 | G10: =LEN(E10) -> 1 | I10: 一人で
A11: 8 | B11: =元データ!B11 -> 0 | C11: ='8'!C9 -> 0 | D11: ='8'!D9 -> 0 | E11: ='8'!E9 -> 0 | F11: ='8'!F9 -> 0 | G11: =LEN(E11) -> 1 | I11: 友だちと
A12: 9 | B12: =元データ!B12 -> 0 | C12: ='9'!C9 -> 0 | D12: ='9'!D9 -> 0 | E12: ='9'!E9 -> 0 | F12: ='9'!F9 -> 0 | G12: =LEN(E12) -> 1 | I12: 先生と
A13: 10 | B13: =元データ!B13 -> 0 | C13: ='10'!C9 -> 0 | D13: ='10'!D9 -> 0 | E13: ='10'!E9 -> 0 | F13: ='10'!F9 -> 0 | G13: =LEN(E13) -> 1
A14: 11 | B14: =元データ!B14 -> 0 | C14: ='11'!C9 -> 0 | D14: ='11'!D9 -> 0 | E14: ='11'!E9 -> 0 | F14: ='11'!F9 -> 0 | G14: =LEN(E14) -> 1 | I14: 学び合い度
A15: 12 | B15: =元データ!B15 -> 0 | C15: ='12'!C9 -> 0 | D15: ='12'!D9 -> 0 | E15: ='12'!E9 -> 0 | F15: ='12'!F9 -> 0 | G15: =LEN(E15) -> 1 | I15: ◎
A16: 13 | B16: =元データ!B16 -> 0 | C16: ='13'!C9 -> 0 | D16: ='13'!D9 -> 0 | E16: ='13'!E9 -> 0 | F16: ='13'!F9 -> 0 | G16: =LEN(E16) -> 1 | I16: ○
A17: 14 | B17: =元データ!B17 -> 0 | C17: ='14'!C9 -> 0 | D17: ='14'!D9 -> 0 | E17: ='14'!E9 -> 0 | F17: ='14'!F9 -> 0 | G17: =LEN(E17) -> 1 | I17: △
A18: 15 | B18: =元データ!B18 -> 0 | C18: ='15'!C9 -> 0 | D18: ='15'!D9 -> 0 | E18: ='15'!E9 -> 0 | F18: ='15'!F9 -> 0 | G18: =LEN(E18) -> 1
A19: 16 | B19: =元データ!B19 -> 0 | C19: ='16'!C9 -> 0 | D19: ='16'!D9 -> 0 | E19: ='16'!E9 -> 0 | F19: ='16'!F9 -> 0 | G19: =LEN(E19) -> 1
A20: 17 | B20: =元データ!B20 -> 0 | C20: ='17'!C9 -> 0 | D20: ='17'!D9 -> 0 | E20: ='17'!E9 -> 0 | F20: ='17'!F9 -> 0 | G20: =LEN(E20) -> 1
A21: 18 | B21: =元データ!B21 -> 0 | C21: ='18'!C9 -> 0 | D21: ='18'!D9 -> 0 | E21: ='18'!E9 -> 0 | F21: ='18'!F9 -> 0 | G21: =LEN(E21) -> 1
A22: 19 | B22: =元データ!B22 -> 0 | C22: ='19'!C9 -> 0 | D22: ='19'!D9 -> 0 | E22: ='19'!E9 -> 0 | F22: ='19'!F9 -> 0 | G22: =LEN(E22) -> 1
A23: 20 | B23: =元データ!B23 -> 0 | C23: ='20'!C9 -> 0 | D23: ='20'!D9 -> 0 | E23: ='20'!E9 -> 0 | F23: ='20'!F9 -> 0 | G23: =LEN(E23) -> 1
A24: 21 | B24: =元データ!B24 -> 0 | C24: ='21'!C9 -> 0 | D24: ='21'!D9 -> 0 | E24: ='21'!E9 -> 0 | F24: ='21'!F9 -> 0 | G24: =LEN(E24) -> 1
A25: 22 | B25: =元データ!B25 -> 0 | C25: ='22'!C9 -> 0 | D25: ='22'!D9 -> 0 | E25: ='22'!E9 -> 0 | F25: ='22'!F9 -> 0 | G25: =LEN(E25) -> 1
A26: 23 | B26: =元データ!B26 -> 0 | C26: ='23'!C9 -> 0 | D26: ='23'!D9 -> 0 | E26: ='23'!E9 -> 0 | F26: ='23'!F9 -> 0 | G26: =LEN(E26) -> 1
A27: 24 | B27: =元データ!B27 -> 0 | C27: ='24'!C9 -> 0 | D27: ='24'!D9 -> 0 | E27: ='24'!E9 -> 0 | F27: ='24'!F9 -> 0 | G27: =LEN(E27) -> 1
A28: 25 | B28: =元データ!B28 -> 0 | C28: ='25'!C9 -> 0 | D28: ='25'!D9 -> 0 | E28: ='25'!E9 -> 0 | F28: ='25'!F9 -> 0 | G28: =LEN(E28) -> 1
A29: 26 | B29: =元データ!B29 -> 0 | C29: ='26'!C9 -> 0 | D29: ='26'!D9 -> 0 | E29: ='26'!E9 -> 0 | F29: ='26'!F9 -> 0 | G29: =LEN(E29) -> 1
A30: 27 | B30: =元データ!B30 -> 0 | C30: ='27'!C9 -> 0 | D30: ='27'!D9 -> 0 | E30: ='27'!E9 -> 0 | F30: ='27'!F9 -> 0 | G30: =LEN(E30) -> 1
A31: 28 | B31: =元データ!B31 -> 0 | C31: ='28'!C9 -> 0 | D31: ='28'!D9 -> 0 | E31: ='28'!E9 -> 0 | F31: ='28'!F9 -> 0 | G31: =LEN(E31) -> 1
A32: 29 | B32: =元データ!B32 -> 0 | C32: ='29'!C9 -> 0 | D32: ='29'!D9 -> 0 | E32: ='29'!E9 -> 0 | F32: ='29'!F9 -> 0 | G32: =LEN(E32) -> 1
A33: 30 | B33: =元データ!B33 -> 0 | C33: ='30'!C9 -> 0 | D33: ='30'!D9 -> 0 | E33: ='30'!E9 -> 0 | F33: ='30'!F9 -> 0 | G33: =LEN(E33) -> 1
A34: 31 | B34: =元データ!B34 -> 0 | C34: ='31'!C9 -> 0 | D34: ='31'!D9 -> 0 | E34: ='31'!E9 -> 0 | F34: ='31'!F9 -> 0 | G34: =LEN(E34) -> 1

Sheet 4時間目
A1: 研修用 | C1: 授業のはじめ | E1: 授業の終わり | F1: 学び合い度
F2: 説明できる ◎ あと少し ○ 教えて △
C3: 今日のめあて （自分の課題） | D3: 学習の仕方 （誰と） | E3: ふりかえり | G3: 文字数 (自動)
A4: 1 | B4: =元データ!B4 -> 0 | C4: ='１'!C10 -> 0 | D4: ='１'!D10 -> 0 | E4: ='１'!E10 -> 0 | F4: ='１'!F10 -> 0 | G4: =LEN(E4) -> 1
A5: 2 | B5: =元データ!B5 -> 0 | C5: ='２'!C10 -> 0 | D5: ='２'!D10 -> 0 | E5: ='２'!E10 -> 0 | F5: ='２'!F10 -> 0 | G5: =LEN(E5) -> 1
A6: 3 | B6: =元データ!B6 -> 0 | C6: ='３'!C10 -> 0 | D6: ='３'!D10 -> 0 | E6: ='３'!E10 -> 0 | F6: ='３'!F10 -> 0 | G6: =LEN(E6) -> 1
A7: 4 | B7: =元データ!B7 -> 0 | C7: ='４'!C10 -> 0 | D7: ='４'!D10 -> 0 | E7: ='４'!E10 -> 0 | F7: ='４'!F10 -> 0 | G7: =LEN(E7) -> 1
A8: 5 | B8: =元データ!B8 -> 0 | C8: ='５'!C10 -> 0 | D8: ='５'!D10 -> 0 | E8: ='５'!E10 -> 0 | F8: ='５'!F10 -> 0 | G8: =LEN(E8) -> 1
A9: 6 | B9: =元データ!B9 -> 0 | C9: ='６'!C10 -> 0 | D9: ='６'!D10 -> 0 | E9: ='６'!E10 -> 0 | F9: ='６'!F10 -> 0 | G9: =LEN(E9) -> 1 | I9: 誰と
A10: 7 | B10: =元データ!B10 -> 0 | C10: ='7'!C10 -> 0 | D10: ='7'!D10 -> 0 | E10: ='7'!E10 -> 0 | F10: ='7'!F10 -> 0 | G10: =LEN(E10) -> 1 | I10: 一人で
A11: 8 | B11: =元データ!B11 -> 0 | C11: ='8'!C10 -> 0 | D11: ='8'!D10 -> 0 | E11: ='8'!E10 -> 0 | F11: ='8'!F10 -> 0 | G11: =LEN(E11) -> 1 | I11: 友だちと
A12: 9 | B12: =元データ!B12 -> 0 | C12: ='9'!C10 -> 0 | D12: ='9'!D10 -> 0 | E12: ='9'!E10 -> 0 | F12: ='9'!F10 -> 0 | G12: =LEN(E12) -> 1 | I12: 先生と
A13: 10 | B13: =元データ!B13 -> 0 | C13: ='10'!C10 -> 0 | D13: ='10'!D10 -> 0 | E13: ='10'!E10 -> 0 | F13: ='10'!F10 -> 0 | G13: =LEN(E13) -> 1
A14: 11 | B14: =元データ!B14 -> 0 | C14: ='11'!C10 -> 0 | D14: ='11'!D10 -> 0 | E14: ='11'!E10 -> 0 | F14: ='11'!F10 -> 0 | G14: =LEN(E14) -> 1 | I14: 学び合い度
A15: 12 | B15: =元データ!B15 -> 0 | C15: ='12'!C10 -> 0 | D15: ='12'!D10 -> 0 | E15: ='12'!E10 -> 0 | F15: ='12'!F10 -> 0 | G15: =LEN(E15) -> 1 | I15: ◎
A16: 13 | B16: =元データ!B16 -> 0 | C16: ='13'!C10 -> 0 | D16: ='13'!D10 -> 0 | E16: ='13'!E10 -> 0 | F16: ='13'!F10 -> 0 | G16: =LEN(E16) -> 1 | I16: ○
A17: 14 | B17: =元データ!B17 -> 0 | C17: ='14'!C10 -> 0 | D17: ='14'!D10 -> 0 | E17: ='14'!E10 -> 0 | F17: ='14'!F10 -> 0 | G17: =LEN(E17) -> 1 | I17: △
A18: 15 | B18: =元データ!B18 -> 0 | C18: ='15'!C10 -> 0 | D18: ='15'!D10 -> 0 | E18: ='15'!E10 -> 0 | F18: ='15'!F10 -> 0 | G18: =LEN(E18) -> 1
A19: 16 | B19: =元データ!B19 -> 0 | C19: ='16'!C10 -> 0 | D19: ='16'!D10 -> 0 | E19: ='16'!E10 -> 0 | F19: ='16'!F10 -> 0 | G19: =LEN(E19) -> 1
A20: 17 | B20: =元データ!B20 -> 0 | C20: ='17'!C10 -> 0 | D20: ='17'!D10 -> 0 | E20: ='17'!E10 -> 0 | F20: ='17'!F10 -> 0 | G20: =LEN(E20) -> 1
A21: 18 | B21: =元データ!B21 -> 0 | C21: ='18'!C10 -> 0 | D21: ='18'!D10 -> 0 | E21: ='18'!E10 -> 0 | F21: ='18'!F10 -> 0 | G21: =LEN(E21) -> 1
A22: 19 | B22: =元データ!B22 -> 0 | C22: ='19'!C10 -> 0 | D22: ='19'!D10 -> 0 | E22: ='19'!E10 -> 0 | F22: ='19'!F10 -> 0 | G22: =LEN(E22) -> 1
A23: 20 | B23: =元データ!B23 -> 0 | C23: ='20'!C10 -> 0 | D23: ='20'!D10 -> 0 | E23: ='20'!E10 -> 0 | F23: ='20'!F10 -> 0 | G23: =LEN(E23) -> 1
A24: 21 | B24: =元データ!B24 -> 0 | C24: ='21'!C10 -> 0 | D24: ='21'!D10 -> 0 | E24: ='21'!E10 -> 0 | F24: ='21'!F10 -> 0 | G24: =LEN(E24) -> 1
A25: 22 | B25: =元データ!B25 -> 0 | C25: ='22'!C10 -> 0 | D25: ='22'!D10 -> 0 | E25: ='22'!E10 -> 0 | F25: ='22'!F10 -> 0 | G25: =LEN(E25) -> 1
A26: 23 | B26: =元データ!B26 -> 0 | C26: ='23'!C10 -> 0 | D26: ='23'!D10 -> 0 | E26: ='23'!E10 -> 0 | F26: ='23'!F10 -> 0 | G26: =LEN(E26) -> 1
A27: 24 | B27: =元データ!B27 -> 0 | C27: ='24'!C10 -> 0 | D27: ='24'!D10 -> 0 | E27: ='24'!E10 -> 0 | F27: ='24'!F10 -> 0 | G27: =LEN(E27) -> 1
A28: 25 | B28: =元データ!B28 -> 0 | C28: ='25'!C10 -> 0 | D28: ='25'!D10 -> 0 | E28: ='25'!E10 -> 0 | F28: ='25'!F10 -> 0 | G28: =LEN(E28) -> 1
A29: 26 | B29: =元データ!B29 -> 0 | C29: ='26'!C10 -> 0 | D29: ='26'!D10 -> 0 | E29: ='26'!E10 -> 0 | F29: ='26'!F10 -> 0 | G29: =LEN(E29) -> 1
A30: 27 | B30: =元データ!B30 -> 0 | C30: ='27'!C10 -> 0 | D30: ='27'!D10 -> 0 | E30: ='27'!E10 -> 0 | F30: ='27'!F10 -> 0 | G30: =LEN(E30) -> 1
A31: 28 | B31: =元データ!B31 -> 0 | C31: ='28'!C10 -> 0 | D31: ='28'!D10 -> 0 | E31: ='28'!E10 -> 0 | F31: ='28'!F10 -> 0 | G31: =LEN(E31) -> 1
A32: 29 | B32: =元データ!B32 -> 0 | C32: ='29'!C10 -> 0 | D32: ='29'!D10 -> 0 | E32: ='29'!E10 -> 0 | F32: ='29'!F10 -> 0 | G32: =LEN(E32) -> 1
A33: 30 | B33: =元データ!B33 -> 0 | C33: ='30'!C10 -> 0 | D33: ='30'!D10 -> 0 | E33: ='30'!E10 -> 0 | F33: ='30'!F10 -> 0 | G33: =LEN(E33) -> 1
A34: 31 | B34: =元データ!B34 -> 0 | C34: ='31'!C10 -> 0 | D34: ='31'!D10 -> 0 | E34: ='31'!E10 -> 0 | F34: ='31'!F10 -> 0 | G34: =LEN(E34) -> 1

Sheet 5時間目
A1: 研修用 | C1: 授業のはじめ | E1: 授業の終わり | F1: 学び合い度
F2: 説明できる ◎ あと少し ○ 教えて △
C3: 今日のめあて （自分の課題） | D3: 学習の仕方 （誰と） | E3: ふりかえり | G3: 文字数 (自動)
A4: 1 | B4: =元データ!B4 -> 0 | C4: ='１'!C11 -> 0 | D4: ='１'!D11 -> 0 | E4: ='１'!E11 -> 0 | F4: ='１'!F11 -> 0 | G4: =LEN(E4) -> 1
A5: 2 | B5: =元データ!B5 -> 0 | C5: ='２'!C11 -> 0 | D5: ='２'!D11 -> 0 | E5: ='２'!E11 -> 0 | F5: ='２'!F11 -> 0 | G5: =LEN(E5) -> 1
A6: 3 | B6: =元データ!B6 -> 0 | C6: ='３'!C11 -> 0 | D6: ='３'!D11 -> 0 | E6: ='３'!E11 -> 0 | F6: ='３'!F11 -> 0 | G6: =LEN(E6) -> 1
A7: 4 | B7: =元データ!B7 -> 0 | C7: ='４'!C11 -> 0 | D7: ='４'!D11 -> 0 | E7: ='４'!E11 -> 0 | F7: ='４'!F11 -> 0 | G7: =LEN(E7) -> 1
A8: 5 | B8: =元データ!B8 -> 0 | C8: ='５'!C11 -> 0 | D8: ='５'!D11 -> 0 | E8: ='５'!E11 -> 0 | F8: ='５'!F11 -> 0 | G8: =LEN(E8) -> 1
A9: 6 | B9: =元データ!B9 -> 0 | C9: ='６'!C11 -> 0 | D9: ='６'!D11 -> 0 | E9: ='６'!E11 -> 0 | F9: ='６'!F11 -> 0 | G9: =LEN(E9) -> 1 | I9: 誰と
A10: 7 | B10: =元データ!B10 -> 0 | C10: ='7'!C11 -> 0 | D10: ='7'!D11 -> 0 | E10: ='7'!E11 -> 0 | F10: ='7'!F11 -> 0 | G10: =LEN(E10) -> 1 | I10: 一人で
A11: 8 | B11: =元データ!B11 -> 0 | C11: ='8'!C11 -> 0 | D11: ='8'!D11 -> 0 | E11: ='8'!E11 -> 0 | F11: ='8'!F11 -> 0 | G11: =LEN(E11) -> 1 | I11: 友だちと
A12: 9 | B12: =元データ!B12 -> 0 | C12: ='9'!C11 -> 0 | D12: ='9'!D11 -> 0 | E12: ='9'!E11 -> 0 | F12: ='9'!F11 -> 0 | G12: =LEN(E12) -> 1 | I12: 先生と
A13: 10 | B13: =元データ!B13 -> 0 | C13: ='10'!C11 -> 0 | D13: ='10'!D11 -> 0 | E13: ='10'!E11 -> 0 | F13: ='10'!F11 -> 0 | G13: =LEN(E13) -> 1
A14: 11 | B14: =元データ!B14 -> 0 | C14: ='11'!C11 -> 0 | D14: ='11'!D11 -> 0 | E14: ='11'!E11 -> 0 | F14: ='11'!F11 -> 0 | G14: =LEN(E14) -> 1 | I14: 学び合い度
A15: 12 | B15: =元データ!B15 -> 0 | C15: ='12'!C11 -> 0 | D15: ='12'!D11 -> 0 | E15: ='12'!E11 -> 0 | F15: ='12'!F11 -> 0 | G15: =LEN(E15) -> 1 | I15: ◎
A16: 13 | B16: =元データ!B16 -> 0 | C16: ='13'!C11 -> 0 | D16: ='13'!D11 -> 0 | E16: ='13'!E11 -> 0 | F16: ='13'!F11 -> 0 | G16: =LEN(E16) -> 1 | I16: ○
A17: 14 | B17: =元データ!B17 -> 0 | C17: ='14'!C11 -> 0 | D17: ='14'!D11 -> 0 | E17: ='14'!E11 -> 0 | F17: ='14'!F11 -> 0 | G17: =LEN(E17) -> 1 | I17: △
A18: 15 | B18: =元データ!B18 -> 0 | C18: ='15'!C11 -> 0 | D18: ='15'!D11 -> 0 | E18: ='15'!E11 -> 0 | F18: ='15'!F11 -> 0 | G18: =LEN(E18) -> 1
A19: 16 | B19: =元データ!B19 -> 0 | C19: ='16'!C11 -> 0 | D19: ='16'!D11 -> 0 | E19: ='16'!E11 -> 0 | F19: ='16'!F11 -> 0 | G19: =LEN(E19) -> 1
A20: 17 | B20: =元データ!B20 -> 0 | C20: ='17'!C11 -> 0 | D20: ='17'!D11 -> 0 | E20: ='17'!E11 -> 0 | F20: ='17'!F11 -> 0 | G20: =LEN(E20) -> 1
A21: 18 | B21: =元データ!B21 -> 0 | C21: ='18'!C11 -> 0 | D21: ='18'!D11 -> 0 | E21: ='18'!E11 -> 0 | F21: ='18'!F11 -> 0 | G21: =LEN(E21) -> 1
A22: 19 | B22: =元データ!B22 -> 0 | C22: ='19'!C11 -> 0 | D22: ='19'!D11 -> 0 | E22: ='19'!E11 -> 0 | F22: ='19'!F11 -> 0 | G22: =LEN(E22) -> 1
A23: 20 | B23: =元データ!B23 -> 0 | C23: ='20'!C11 -> 0 | D23: ='20'!D11 -> 0 | E23: ='20'!E11 -> 0 | F23: ='20'!F11 -> 0 | G23: =LEN(E23) -> 1
A24: 21 | B24: =元データ!B24 -> 0 | C24: ='21'!C11 -> 0 | D24: ='21'!D11 -> 0 | E24: ='21'!E11 -> 0 | F24: ='21'!F11 -> 0 | G24: =LEN(E24) -> 1
A25: 22 | B25: =元データ!B25 -> 0 | C25: ='22'!C11 -> 0 | D25: ='22'!D11 -> 0 | E25: ='22'!E11 -> 0 | F25: ='22'!F11 -> 0 | G25: =LEN(E25) -> 1
A26: 23 | B26: =元データ!B26 -> 0 | C26: ='23'!C11 -> 0 | D26: ='23'!D11 -> 0 | E26: ='23'!E11 -> 0 | F26: ='23'!F11 -> 0 | G26: =LEN(E26) -> 1
A27: 24 | B27: =元データ!B27 -> 0 | C27: ='24'!C11 -> 0 | D27: ='24'!D11 -> 0 | E27: ='24'!E11 -> 0 | F27: ='24'!F11 -> 0 | G27: =LEN(E27) -> 1
A28: 25 | B28: =元データ!B28 -> 0 | C28: ='25'!C11 -> 0 | D28: ='25'!D11 -> 0 | E28: ='25'!E11 -> 0 | F28: ='25'!F11 -> 0 | G28: =LEN(E28) -> 1
A29: 26 | B29: =元データ!B29 -> 0 | C29: ='26'!C11 -> 0 | D29: ='26'!D11 -> 0 | E29: ='26'!E11 -> 0 | F29: ='26'!F11 -> 0 | G29: =LEN(E29) -> 1
A30: 27 | B30: =元データ!B30 -> 0 | C30: ='27'!C11 -> 0 | D30: ='27'!D11 -> 0 | E30: ='27'!E11 -> 0 | F30: ='27'!F11 -> 0 | G30: =LEN(E30) -> 1
A31: 28 | B31: =元データ!B31 -> 0 | C31: ='28'!C11 -> 0 | D31: ='28'!D11 -> 0 | E31: ='28'!E11 -> 0 | F31: ='28'!F11 -> 0 | G31: =LEN(E31) -> 1
A32: 29 | B32: =元データ!B32 -> 0 | C32: ='29'!C11 -> 0 | D32: ='29'!D11 -> 0 | E32: ='29'!E11 -> 0 | F32: ='29'!F11 -> 0 | G32: =LEN(E32) -> 1
A33: 30 | B33: =元データ!B33 -> 0 | C33: ='30'!C11 -> 0 | D33: ='30'!D11 -> 0 | E33: ='30'!E11 -> 0 | F33: ='30'!F11 -> 0 | G33: =LEN(E33) -> 1
A34: 31 | B34: =元データ!B34 -> 0 | C34: ='31'!C11 -> 0 | D34: ='31'!D11 -> 0 | E34: ='31'!E11 -> 0 | F34: ='31'!F11 -> 0 | G34: =LEN(E34) -> 1

Sheet 6時間目
A1: 研修用 | C1: 授業のはじめ | E1: 授業の終わり | F1: 学び合い度
F2: 説明できる ◎ あと少し ○ 教えて △
C3: 今日のめあて （自分の課題） | D3: 学習の仕方 （誰と） | E3: ふりかえり | G3: 文字数 (自動)
A4: 1 | B4: =元データ!B4 -> 0 | C4: ='１'!C12 -> 0 | D4: ='１'!D12 -> 0 | E4: ='１'!E12 -> 0 | F4: ='１'!F12 -> 0 | G4: =LEN(E4) -> 1
A5: 2 | B5: =元データ!B5 -> 0 | C5: ='２'!C12 -> 0 | D5: ='２'!D12 -> 0 | E5: ='２'!E12 -> 0 | F5: ='２'!F12 -> 0 | G5: =LEN(E5) -> 1
A6: 3 | B6: =元データ!B6 -> 0 | C6: ='３'!C12 -> 0 | D6: ='３'!D12 -> 0 | E6: ='３'!E12 -> 0 | F6: ='３'!F12 -> 0 | G6: =LEN(E6) -> 1
A7: 4 | B7: =元データ!B7 -> 0 | C7: ='４'!C12 -> 0 | D7: ='４'!D12 -> 0 | E7: ='４'!E12 -> 0 | F7: ='４'!F12 -> 0 | G7: =LEN(E7) -> 1
A8: 5 | B8: =元データ!B8 -> 0 | C8: ='５'!C12 -> 0 | D8: ='５'!D12 -> 0 | E8: ='５'!E12 -> 0 | F8: ='５'!F12 -> 0 | G8: =LEN(E8) -> 1
A9: 6 | B9: =元データ!B9 -> 0 | C9: ='６'!C12 -> 0 | D9: ='６'!D12 -> 0 | E9: ='６'!E12 -> 0 | F9: ='６'!F12 -> 0 | G9: =LEN(E9) -> 1 | I9: 誰と
A10: 7 | B10: =元データ!B10 -> 0 | C10: ='7'!C12 -> 0 | D10: ='7'!D12 -> 0 | E10: ='7'!E12 -> 0 | F10: ='7'!F12 -> 0 | G10: =LEN(E10) -> 1 | I10: 一人で
A11: 8 | B11: =元データ!B11 -> 0 | C11: ='8'!C12 -> 0 | D11: ='8'!D12 -> 0 | E11: ='8'!E12 -> 0 | F11: ='8'!F12 -> 0 | G11: =LEN(E11) -> 1 | I11: 友だちと
A12: 9 | B12: =元データ!B12 -> 0 | C12: ='9'!C12 -> 0 | D12: ='9'!D12 -> 0 | E12: ='9'!E12 -> 0 | F12: ='9'!F12 -> 0 | G12: =LEN(E12) -> 1 | I12: 先生と
A13: 10 | B13: =元データ!B13 -> 0 | C13: ='10'!C12 -> 0 | D13: ='10'!D12 -> 0 | E13: ='10'!E12 -> 0 | F13: ='10'!F12 -> 0 | G13: =LEN(E13) -> 1
A14: 11 | B14: =元データ!B14 -> 0 | C14: ='11'!C12 -> 0 | D14: ='11'!D12 -> 0 | E14: ='11'!E12 -> 0 | F14: ='11'!F12 -> 0 | G14: =LEN(E14) -> 1 | I14: 学び合い度
A15: 12 | B15: =元データ!B15 -> 0 | C15: ='12'!C12 -> 0 | D15: ='12'!D12 -> 0 | E15: ='12'!E12 -> 0 | F15: ='12'!F12 -> 0 | G15: =LEN(E15) -> 1 | I15: ◎
A16: 13 | B16: =元データ!B16 -> 0 | C16: ='13'!C12 -> 0 | D16: ='13'!D12 -> 0 | E16: ='13'!E12 -> 0 | F16: ='13'!F12 -> 0 | G16: =LEN(E16) -> 1 | I16: ○
A17: 14 | B17: =元データ!B17 -> 0 | C17: ='14'!C12 -> 0 | D17: ='14'!D12 -> 0 | E17: ='14'!E12 -> 0 | F17: ='14'!F12 -> 0 | G17: =LEN(E17) -> 1 | I17: △
A18: 15 | B18: =元データ!B18 -> 0 | C18: ='15'!C12 -> 0 | D18: ='15'!D12 -> 0 | E18: ='15'!E12 -> 0 | F18: ='15'!F12 -> 0 | G18: =LEN(E18) -> 1
A19: 16 | B19: =元データ!B19 -> 0 | C19: ='16'!C12 -> 0 | D19: ='16'!D12 -> 0 | E19: ='16'!E12 -> 0 | F19: ='16'!F12 -> 0 | G19: =LEN(E19) -> 1
A20: 17 | B20: =元データ!B20 -> 0 | C20: ='17'!C12 -> 0 | D20: ='17'!D12 -> 0 | E20: ='17'!E12 -> 0 | F20: ='17'!F12 -> 0 | G20: =LEN(E20) -> 1
A21: 18 | B21: =元データ!B21 -> 0 | C21: ='18'!C12 -> 0 | D21: ='18'!D12 -> 0 | E21: ='18'!E12 -> 0 | F21: ='18'!F12 -> 0 | G21: =LEN(E21) -> 1
A22: 19 | B22: =元データ!B22 -> 0 | C22: ='19'!C12 -> 0 | D22: ='19'!D12 -> 0 | E22: ='19'!E12 -> 0 | F22: ='19'!F12 -> 0 | G22: =LEN(E22) -> 1
A23: 20 | B23: =元データ!B23 -> 0 | C23: ='20'!C12 -> 0 | D23: ='20'!D12 -> 0 | E23: ='20'!E12 -> 0 | F23: ='20'!F12 -> 0 | G23: =LEN(E23) -> 1
A24: 21 | B24: =元データ!B24 -> 0 | C24: ='21'!C12 -> 0 | D24: ='21'!D12 -> 0 | E24: ='21'!E12 -> 0 | F24: ='21'!F12 -> 0 | G24: =LEN(E24) -> 1
A25: 22 | B25: =元データ!B25 -> 0 | C25: ='22'!C12 -> 0 | D25: ='22'!D12 -> 0 | E25: ='22'!E12 -> 0 | F25: ='22'!F12 -> 0 | G25: =LEN(E25) -> 1
A26: 23 | B26: =元データ!B26 -> 0 | C26: ='23'!C12 -> 0 | D26: ='23'!D12 -> 0 | E26: ='23'!E12 -> 0 | F26: ='23'!F12 -> 0 | G26: =LEN(E26) -> 1
A27: 24 | B27: =元データ!B27 -> 0 | C27: ='24'!C12 -> 0 | D27: ='24'!D12 -> 0 | E27: ='24'!E12 -> 0 | F27: ='24'!F12 -> 0 | G27: =LEN(E27) -> 1
A28: 25 | B28: =元データ!B28 -> 0 | C28: ='25'!C12 -> 0 | D28: ='25'!D12 -> 0 | E28: ='25'!E12 -> 0 | F28: ='25'!F12 -> 0 | G28: =LEN(E28) -> 1
A29: 26 | B29: =元データ!B29 -> 0 | C29: ='26'!C12 -> 0 | D29: ='26'!D12 -> 0 | E29: ='26'!E12 -> 0 | F29: ='26'!F12 -> 0 | G29: =LEN(E29) -> 1
A30: 27 | B30: =元データ!B30 -> 0 | C30: ='27'!C12 -> 0 | D30: ='27'!D12 -> 0 | E30: ='27'!E12 -> 0 | F30: ='27'!F12 -> 0 | G30: =LEN(E30) -> 1
A31: 28 | B31: =元データ!B31 -> 0 | C31: ='28'!C12 -> 0 | D31: ='29'!D11 -> 0 | E31: ='29'!E11 -> 0 | F31: ='29'!F11 -> 0 | G31: =LEN(E31) -> 1
A32: 29 | B32: =元データ!B32 -> 0 | C32: ='29'!C12 -> 0 | D32: ='29'!D12 -> 0 | E32: ='29'!E12 -> 0 | F32: ='29'!F12 -> 0 | G32: =LEN(E32) -> 1
A33: 30 | B33: =元データ!B33 -> 0 | C33: ='30'!C12 -> 0 | D33: ='30'!D12 -> 0 | E33: ='30'!E12 -> 0 | F33: ='30'!F12 -> 0 | G33: =LEN(E33) -> 1
A34: 31 | B34: =元データ!B34 -> 0 | C34: ='31'!C12 -> 0 | D34: ='31'!D12 -> 0 | E34: ='31'!E12 -> 0 | F34: ='31'!F12 -> 0 | G34: =LEN(E34) -> 1

Sheet 7時間目
A1: 研修用 | C1: 授業のはじめ | E1: 授業の終わり | F1: 学び合い度
F2: 説明できる ◎ あと少し ○ 教えて △
C3: 今日のめあて （自分の課題） | D3: 学習の仕方 （誰と） | E3: ふりかえり | G3: 文字数 (自動)
A4: 1 | B4: =元データ!B4 -> 0 | C4: ='１'!C13 -> 0 | D4: ='１'!D13 -> 0 | E4: ='１'!E13 -> 0 | F4: ='１'!F13 -> 0 | G4: =LEN(E4) -> 1
A5: 2 | B5: =元データ!B5 -> 0 | C5: ='２'!C13 -> 0 | D5: ='２'!D13 -> 0 | E5: ='２'!E13 -> 0 | F5: ='２'!F13 -> 0 | G5: =LEN(E5) -> 1
A6: 3 | B6: =元データ!B6 -> 0 | C6: ='３'!C13 -> 0 | D6: ='３'!D13 -> 0 | E6: ='３'!E13 -> 0 | F6: ='３'!F13 -> 0 | G6: =LEN(E6) -> 1
A7: 4 | B7: =元データ!B7 -> 0 | C7: ='４'!C13 -> 0 | D7: ='４'!D13 -> 0 | E7: ='４'!E13 -> 0 | F7: ='４'!F13 -> 0 | G7: =LEN(E7) -> 1
A8: 5 | B8: =元データ!B8 -> 0 | C8: ='５'!C13 -> 0 | D8: ='５'!D13 -> 0 | E8: ='５'!E13 -> 0 | F8: ='５'!F13 -> 0 | G8: =LEN(E8) -> 1
A9: 6 | B9: =元データ!B9 -> 0 | C9: ='６'!C13 -> 0 | D9: ='６'!D13 -> 0 | E9: ='６'!E13 -> 0 | F9: ='６'!F13 -> 0 | G9: =LEN(E9) -> 1 | I9: 誰と
A10: 7 | B10: =元データ!B10 -> 0 | C10: ='7'!C13 -> 0 | D10: ='7'!D13 -> 0 | E10: ='7'!E13 -> 0 | F10: ='7'!F13 -> 0 | G10: =LEN(E10) -> 1 | I10: 一人で
A11: 8 | B11: =元データ!B11 -> 0 | C11: ='8'!C13 -> 0 | D11: ='8'!D13 -> 0 | E11: ='8'!E13 -> 0 | F11: ='8'!F13 -> 0 | G11: =LEN(E11) -> 1 | I11: 友だちと
A12: 9 | B12: =元データ!B12 -> 0 | C12: ='9'!C13 -> 0 | D12: ='9'!D13 -> 0 | E12: ='9'!E13 -> 0 | F12: ='9'!F13 -> 0 | G12: =LEN(E12) -> 1 | I12: 先生と
A13: 10 | B13: =元データ!B13 -> 0 | C13: ='10'!C13 -> 0 | D13: ='10'!D13 -> 0 | E13: ='10'!E13 -> 0 | F13: ='10'!F13 -> 0 | G13: =LEN(E13) -> 1
A14: 11 | B14: =元データ!B14 -> 0 | C14: ='11'!C13 -> 0 | D14: ='11'!D13 -> 0 | E14: ='11'!E13 -> 0 | F14: ='11'!F13 -> 0 | G14: =LEN(E14) -> 1 | I14: 学び合い度
A15: 12 | B15: =元データ!B15 -> 0 | C15: ='12'!C13 -> 0 | D15: ='12'!D13 -> 0 | E15: ='12'!E13 -> 0 | F15: ='12'!F13 -> 0 | G15: =LEN(E15) -> 1 | I15: ◎
A16: 13 | B16: =元データ!B16 -> 0 | C16: ='13'!C13 -> 0 | D16: ='13'!D13 -> 0 | E16: ='13'!E13 -> 0 | F16: ='13'!F13 -> 0 | G16: =LEN(E16) -> 1 | I16: ○
A17: 14 | B17: =元データ!B17 -> 0 | C17: ='14'!C13 -> 0 | D17: ='14'!D13 -> 0 | E17: ='14'!E13 -> 0 | F17: ='14'!F13 -> 0 | G17: =LEN(E17) -> 1 | I17: △
A18: 15 | B18: =元データ!B18 -> 0 | C18: ='15'!C13 -> 0 | D18: ='15'!D13 -> 0 | E18: ='15'!E13 -> 0 | F18: ='15'!F13 -> 0 | G18: =LEN(E18) -> 1
A19: 16 | B19: =元データ!B19 -> 0 | C19: ='16'!C13 -> 0 | D19: ='16'!D13 -> 0 | E19: ='16'!E13 -> 0 | F19: ='16'!F13 -> 0 | G19: =LEN(E19) -> 1
A20: 17 | B20: =元データ!B20 -> 0 | C20: ='17'!C13 -> 0 | D20: ='17'!D13 -> 0 | E20: ='17'!E13 -> 0 | F20: ='17'!F13 -> 0 | G20: =LEN(E20) -> 1
A21: 18 | B21: =元データ!B21 -> 0 | C21: ='18'!C13 -> 0 | D21: ='18'!D13 -> 0 | E21: ='18'!E13 -> 0 | F21: ='18'!F13 -> 0 | G21: =LEN(E21) -> 1
A22: 19 | B22: =元データ!B22 -> 0 | C22: ='19'!C13 -> 0 | D22: ='19'!D13 -> 0 | E22: ='19'!E13 -> 0 | F22: ='19'!F13 -> 0 | G22: =LEN(E22) -> 1
A23: 20 | B23: =元データ!B23 -> 0 | C23: ='20'!C13 -> 0 | D23: ='20'!D13 -> 0 | E23: ='20'!E13 -> 0 | F23: ='20'!F13 -> 0 | G23: =LEN(E23) -> 1
A24: 21 | B24: =元データ!B24 -> 0 | C24: ='21'!C13 -> 0 | D24: ='21'!D13 -> 0 | E24: ='21'!E13 -> 0 | F24: ='21'!F13 -> 0 | G24: =LEN(E24) -> 1
A25: 22 | B25: =元データ!B25 -> 0 | C25: ='22'!C13 -> 0 | D25: ='22'!D13 -> 0 | E25: ='22'!E13 -> 0 | F25: ='22'!F13 -> 0 | G25: =LEN(E25) -> 1
A26: 23 | B26: =元データ!B26 -> 0 | C26: ='23'!C13 -> 0 | D26: ='23'!D13 -> 0 | E26: ='23'!E13 -> 0 | F26: ='23'!F13 -> 0 | G26: =LEN(E26) -> 1
A27: 24 | B27: =元データ!B27 -> 0 | C27: ='24'!C13 -> 0 | D27: ='24'!D13 -> 0 | E27: ='24'!E13 -> 0 | F27: ='24'!F13 -> 0 | G27: =LEN(E27) -> 1
A28: 25 | B28: =元データ!B28 -> 0 | C28: ='25'!C13 -> 0 | D28: ='25'!D13 -> 0 | E28: ='25'!E13 -> 0 | F28: ='25'!F13 -> 0 | G28: =LEN(E28) -> 1
A29: 26 | B29: =元データ!B29 -> 0 | C29: ='26'!C13 -> 0 | D29: ='26'!D13 -> 0 | E29: ='26'!E13 -> 0 | F29: ='26'!F13 -> 0 | G29: =LEN(E29) -> 1
A30: 27 | B30: =元データ!B30 -> 0 | C30: ='27'!C13 -> 0 | D30: ='27'!D13 -> 0 | E30: ='27'!E13 -> 0 | F30: ='27'!F13 -> 0 | G30: =LEN(E30) -> 1
A31: 28 | B31: =元データ!B31 -> 0 | C31: ='28'!C13 -> 0 | D31: ='28'!D13 -> 0 | E31: ='28'!E13 -> 0 | F31: ='28'!F13 -> 0 | G31: =LEN(E31) -> 1
A32: 29 | B32: =元データ!B32 -> 0 | C32: ='29'!C13 -> 0 | D32: ='29'!D13 -> 0 | E32: ='29'!E13 -> 0 | F32: ='29'!F13 -> 0 | G32: =LEN(E32) -> 1
A33: 30 | B33: =元データ!B33 -> 0 | C33: ='30'!C13 -> 0 | D33: ='30'!D13 -> 0 | E33: ='30'!E13 -> 0 | F33: ='30'!F13 -> 0 | G33: =LEN(E33) -> 1
A34: 31 | B34: =元データ!B34 -> 0 | C34: ='31'!C13 -> 0 | D34: ='31'!D13 -> 0 | E34: ='31'!E13 -> 0 | F34: ='31'!F13 -> 0 | G34: =LEN(E34) -> 1

Sheet 8時間目
A1: 研修用 | C1: 授業のはじめ | E1: 授業の終わり | F1: 学び合い度
F2: 説明できる ◎ あと少し ○ 教えて △
C3: 今日のめあて （自分の課題） | D3: 学習の仕方 （誰と） | E3: ふりかえり | G3: 文字数 (自動)
A4: 1 | B4: =元データ!B4 -> 0 | C4: ='１'!C14 -> 0 | D4: ='１'!D14 -> 0 | E4: ='１'!E14 -> 0 | F4: ='１'!F14 -> 0 | G4: =LEN(E4) -> 1
A5: 2 | B5: =元データ!B5 -> 0 | C5: ='２'!C14 -> 0 | D5: ='２'!D14 -> 0 | E5: ='２'!E14 -> 0 | F5: ='２'!F14 -> 0 | G5: =LEN(E5) -> 1
A6: 3 | B6: =元データ!B6 -> 0 | C6: ='３'!C14 -> 0 | D6: ='３'!D14 -> 0 | E6: ='３'!E14 -> 0 | F6: ='３'!F14 -> 0 | G6: =LEN(E6) -> 1
A7: 4 | B7: =元データ!B7 -> 0 | C7: ='４'!C14 -> 0 | D7: ='４'!D14 -> 0 | E7: ='４'!E14 -> 0 | F7: ='４'!F14 -> 0 | G7: =LEN(E7) -> 1
A8: 5 | B8: =元データ!B8 -> 0 | C8: ='５'!C14 -> 0 | D8: ='５'!D14 -> 0 | E8: ='５'!E14 -> 0 | F8: ='５'!F14 -> 0 | G8: =LEN(E8) -> 1
A9: 6 | B9: =元データ!B9 -> 0 | C9: ='６'!C14 -> 0 | D9: ='６'!D14 -> 0 | E9: ='６'!E14 -> 0 | F9: ='６'!F14 -> 0 | G9: =LEN(E9) -> 1 | I9: 誰と
A10: 7 | B10: =元データ!B10 -> 0 | C10: ='7'!C14 -> 0 | D10: ='7'!D14 -> 0 | E10: ='7'!E14 -> 0 | F10: ='7'!F14 -> 0 | G10: =LEN(E10) -> 1 | I10: 一人で
A11: 8 | B11: =元データ!B11 -> 0 | C11: ='8'!C14 -> 0 | D11: ='8'!D14 -> 0 | E11: ='8'!E14 -> 0 | F11: ='8'!F14 -> 0 | G11: =LEN(E11) -> 1 | I11: 友だちと
A12: 9 | B12: =元データ!B12 -> 0 | C12: ='9'!C14 -> 0 | D12: ='9'!D14 -> 0 | E12: ='9'!E14 -> 0 | F12: ='9'!F14 -> 0 | G12: =LEN(E12) -> 1 | I12: 先生と
A13: 10 | B13: =元データ!B13 -> 0 | C13: ='10'!C14 -> 0 | D13: ='10'!D14 -> 0 | E13: ='10'!E14 -> 0 | F13: ='10'!F14 -> 0 | G13: =LEN(E13) -> 1
A14: 11 | B14: =元データ!B14 -> 0 | C14: ='11'!C14 -> 0 | D14: ='11'!D14 -> 0 | E14: ='11'!E14 -> 0 | F14: ='11'!F14 -> 0 | G14: =LEN(E14) -> 1 | I14: 学び合い度
A15: 12 | B15: =元データ!B15 -> 0 | C15: ='12'!C14 -> 0 | D15: ='12'!D14 -> 0 | E15: ='12'!E14 -> 0 | F15: ='12'!F14 -> 0 | G15: =LEN(E15) -> 1 | I15: ◎
A16: 13 | B16: =元データ!B16 -> 0 | C16: ='13'!C14 -> 0 | D16: ='13'!D14 -> 0 | E16: ='13'!E14 -> 0 | F16: ='13'!F14 -> 0 | G16: =LEN(E16) -> 1 | I16: ○
A17: 14 | B17: =元データ!B17 -> 0 | C17: ='14'!C14 -> 0 | D17: ='14'!D14 -> 0 | E17: ='14'!E14 -> 0 | F17: ='14'!F14 -> 0 | G17: =LEN(E17) -> 1 | I17: △
A18: 15 | B18: =元データ!B18 -> 0 | C18: ='15'!C14 -> 0 | D18: ='15'!D14 -> 0 | E18: ='15'!E14 -> 0 | F18: ='15'!F14 -> 0 | G18: =LEN(E18) -> 1
A19: 16 | B19: =元データ!B19 -> 0 | C19: ='16'!C14 -> 0 | D19: ='16'!D14 -> 0 | E19: ='16'!E14 -> 0 | F19: ='16'!F14 -> 0 | G19: =LEN(E19) -> 1
A20: 17 | B20: =元データ!B20 -> 0 | C20: ='17'!C14 -> 0 | D20: ='17'!D14 -> 0 | E20: ='17'!E14 -> 0 | F20: ='17'!F14 -> 0 | G20: =LEN(E20) -> 1
A21: 18 | B21: =元データ!B21 -> 0 | C21: ='18'!C14 -> 0 | D21: ='18'!D14 -> 0 | E21: ='18'!E14 -> 0 | F21: ='18'!F14 -> 0 | G21: =LEN(E21) -> 1
A22: 19 | B22: =元データ!B22 -> 0 | C22: ='19'!C14 -> 0 | D22: ='19'!D14 -> 0 | E22: ='19'!E14 -> 0 | F22: ='19'!F14 -> 0 | G22: =LEN(E22) -> 1
A23: 20 | B23: =元データ!B23 -> 0 | C23: ='20'!C14 -> 0 | D23: ='20'!D14 -> 0 | E23: ='20'!E14 -> 0 | F23: ='20'!F14 -> 0 | G23: =LEN(E23) -> 1
A24: 21 | B24: =元データ!B24 -> 0 | C24: ='21'!C14 -> 0 | D24: ='21'!D14 -> 0 | E24: ='21'!E14 -> 0 | F24: ='21'!F14 -> 0 | G24: =LEN(E24) -> 1
A25: 22 | B25: =元データ!B25 -> 0 | C25: ='22'!C14 -> 0 | D25: ='22'!D14 -> 0 | E25: ='22'!E14 -> 0 | F25: ='22'!F14 -> 0 | G25: =LEN(E25) -> 1
A26: 23 | B26: =元データ!B26 -> 0 | C26: ='23'!C14 -> 0 | D26: ='23'!D14 -> 0 | E26: ='23'!E14 -> 0 | F26: ='23'!F14 -> 0 | G26: =LEN(E26) -> 1
A27: 24 | B27: =元データ!B27 -> 0 | C27: ='24'!C14 -> 0 | D27: ='24'!D14 -> 0 | E27: ='24'!E14 -> 0 | F27: ='24'!F14 -> 0 | G27: =LEN(E27) -> 1
A28: 25 | B28: =元データ!B28 -> 0 | C28: ='25'!C14 -> 0 | D28: ='25'!D14 -> 0 | E28: ='25'!E14 -> 0 | F28: ='25'!F14 -> 0 | G28: =LEN(E28) -> 1
A29: 26 | B29: =元データ!B29 -> 0 | C29: ='26'!C14 -> 0 | D29: ='26'!D14 -> 0 | E29: ='26'!E14 -> 0 | F29: ='26'!F14 -> 0 | G29: =LEN(E29) -> 1
A30: 27 | B30: =元データ!B30 -> 0 | C30: ='27'!C14 -> 0 | D30: ='27'!D14 -> 0 | E30: ='27'!E14 -> 0 | F30: ='27'!F14 -> 0 | G30: =LEN(E30) -> 1
A31: 28 | B31: =元データ!B31 -> 0 | C31: ='28'!C14 -> 0 | D31: ='28'!D14 -> 0 | E31: ='28'!E14 -> 0 | F31: ='28'!F14 -> 0 | G31: =LEN(E31) -> 1
A32: 29 | B32: =元データ!B32 -> 0 | C32: ='29'!C14 -> 0 | D32: ='29'!D14 -> 0 | E32: ='29'!E14 -> 0 | F32: ='29'!F14 -> 0 | G32: =LEN(E32) -> 1
A33: 30 | B33: =元データ!B33 -> 0 | C33: ='30'!C14 -> 0 | D33: ='30'!D14 -> 0 | E33: ='30'!E14 -> 0 | F33: ='30'!F14 -> 0 | G33: =LEN(E33) -> 1
A34: 31 | B34: =元データ!B34 -> 0 | C34: ='31'!C14 -> 0 | D34: ='31'!D14 -> 0 | E34: ='31'!E14 -> 0 | F34: ='31'!F14 -> 0 | G34: =LEN(E34) -> 1

Sheet １
B1: 教科 | C1: 単元名
C4: 授業のはじめ | E4: 授業の終わり | F4: 学び合い度 | G4: =AVERAGE(G7:G21) -> 0
F5: 説明できる ◎ あと少し ○ 教えて △
B6: 時間 | C6: 今日のめあて （自分が頑張るところ） | D6: 学習の仕方 （誰と） | E6: ふりかえり （気づいたこと、わかったこと、次に頑張ること） | G6: 文字数 (自動)
B7: 1 | G7: =LEN(E7) -> 0
B8: 2 | G8: =LEN(E8) -> 0
B9: 3 | G9: =LEN(E9) -> 0
B10: 4 | G10: =LEN(E10) -> 0
B11: 5 | G11: =LEN(E11) -> 0
B12: 6 | G12: =LEN(E12) -> 0
B13: 7 | G13: =LEN(E13) -> 0
B14: 8 | G14: =LEN(E14) -> 0
B15: 9 | G15: =LEN(E15) -> 0
B16: 10 | G16: =LEN(E16) -> 0
B17: 11 | G17: =LEN(E17) -> 0
B18: 12 | G18: =LEN(E18) -> 0
... B21: 15 | G21: =LEN(E21) -> 0

Sheet ２
B1: 教科 | C1: 単元名
C4: 授業のはじめ | E4: 授業の終わり | F4: 学び合い度 | G4: =AVERAGE(G7:G21) -> 0
F5: 説明できる ◎ あと少し ○ 教えて △
B6: 時間 | C6: 今日のめあて （自分が頑張るところ） | D6: 学習の仕方 （誰と） | E6: ふりかえり （気づいたこと、わかったこと、次に頑張ること） | G6: 文字数 (自動)
B7: 1 | G7: =LEN(E7) -> 0
B8: 2 | G8: =LEN(E8) -> 0
B9: 3 | G9: =LEN(E9) -> 0
B10: 4 | G10: =LEN(E10) -> 0
B11: 5 | G11: =LEN(E11) -> 0
B12: 6 | G12: =LEN(E12) -> 0
B13: 7 | G13: =LEN(E13) -> 0
B14: 8 | G14: =LEN(E14) -> 0
B15: 9 | G15: =LEN(E15) -> 0
B16: 10 | G16: =LEN(E16) -> 0
B17: 11 | G17: =LEN(E17) -> 0
B18: 12 | G18: =LEN(E18) -> 0
... B21: 15 | G21: =LEN(E21) -> 0

Sheet ３
B1: 教科 | C1: 単元名
C4: 授業のはじめ | E4: 授業の終わり | F4: 学び合い度 | G4: =AVERAGE(G7:G21) -> 0
F5: 説明できる ◎ あと少し ○ 教えて △
B6: 時間 | C6: 今日のめあて （自分が頑張るところ） | D6: 学習の仕方 （誰と） | E6: ふりかえり （気づいたこと、わかったこと、次に頑張ること） | G6: 文字数 (自動)
B7: 1 | G7: =LEN(E7) -> 0
B8: 2 | G8: =LEN(E8) -> 0
B9: 3 | G9: =LEN(E9) -> 0
B10: 4 | G10: =LEN(E10) -> 0
B11: 5 | G11: =LEN(E11) -> 0
B12: 6 | G12: =LEN(E12) -> 0
B13: 7 | G13: =LEN(E13) -> 0
B14: 8 | G14: =LEN(E14) -> 0
B15: 9 | G15: =LEN(E15) -> 0
B16: 10 | G16: =LEN(E16) -> 0
B17: 11 | G17: =LEN(E17) -> 0
B18: 12 | G18: =LEN(E18) -> 0
... B21: 15 | G21: =LEN(E21) -> 0

Sheet ４
B1: 教科 | C1: 単元名
C4: 授業のはじめ | E4: 授業の終わり | F4: 学び合い度 | G4: =AVERAGE(G7:G21) -> 0
F5: 説明できる ◎ あと少し ○ 教えて △
B6: 時間 | C6: 今日のめあて （自分が頑張るところ） | D6: 学習の仕方 （誰と） | E6: ふりかえり （気づいたこと、わかったこと、次に頑張ること） | G6: 文字数 (自動)
B7: 1 | G7: =LEN(E7) -> 0
B8: 2 | G8: =LEN(E8) -> 0
B9: 3 | G9: =LEN(E9) -> 0
B10: 4 | G10: =LEN(E10) -> 0
B11: 5 | G11: =LEN(E11) -> 0
B12: 6 | G12: =LEN(E12) -> 0
B13: 7 | G13: =LEN(E13) -> 0
B14: 8 | G14: =LEN(E14) -> 0
B15: 9 | G15: =LEN(E15) -> 0
B16: 10 | G16: =LEN(E16) -> 0
B17: 11 | G17: =LEN(E17) -> 0
B18: 12 | G18: =LEN(E18) -> 0
... B21: 15 | G21: =LEN(E21) -> 0

Sheet ５
B1: 教科 | C1: 単元名
C4: 授業のはじめ | E4: 授業の終わり | F4: 学び合い度 | G4: =AVERAGE(G7:G21) -> 0
F5: 説明できる ◎ あと少し ○ 教えて △
B6: 時間 | C6: 今日のめあて （自分が頑張るところ） | D6: 学習の仕方 （誰と） | E6: ふりかえり （気づいたこと、わかったこと、次に頑張ること） | G6: 文字数 (自動)
B7: 1 | G7: =LEN(E7) -> 0
B8: 2 | G8: =LEN(E8) -> 0
B9: 3 | G9: =LEN(E9) -> 0
B10: 4 | G10: =LEN(E10) -> 0
B11: 5 | G11: =LEN(E11) -> 0
B12: 6 | G12: =LEN(E12) -> 0
B13: 7 | G13: =LEN(E13) -> 0
B14: 8 | G14: =LEN(E14) -> 0
B15: 9 | G15: =LEN(E15) -> 0
B16: 10 | G16: =LEN(E16) -> 0
B17: 11 | G17: =LEN(E17) -> 0
B18: 12 | G18: =LEN(E18) -> 0
... B21: 15 | G21: =LEN(E21) -> 0

Sheet ６
B1: 教科 | C1: 単元名
C4: 授業のはじめ | E4: 授業の終わり | F4: 学び合い度 | G4: =AVERAGE(G7:G21) -> 0
F5: 説明できる ◎ あと少し ○ 教えて △
B6: 時間 | C6: 今日のめあて （自分が頑張るところ） | D6: 学習の仕方 （誰と） | E6: ふりかえり （気づいたこと、わかったこと、次に頑張ること） | G6: 文字数 (自動)
B7: 1 | G7: =LEN(E7) -> 0
B8: 2 | G8: =LEN(E8) -> 0
B9: 3 | G9: =LEN(E9) -> 0
B10: 4 | G10: =LEN(E10) -> 0
B11: 5 | G11: =LEN(E11) -> 0
B12: 6 | G12: =LEN(E12) -> 0
B13: 7 | G13: =LEN(E13) -> 0
B14: 8 | G14: =LEN(E14) -> 0
B15: 9 | G15: =LEN(E15) -> 0
B16: 10 | G16: =LEN(E16) -> 0
B17: 11 | G17: =LEN(E17) -> 0
B18: 12 | G18: =LEN(E18) -> 0
... B21: 15 | G21: =LEN(E21) -> 0

Sheet 7
B1: 教科 | C1: 単元名
C4: 授業のはじめ | E4: 授業の終わり | F4: 学び合い度 | G4: =AVERAGE(G7:G21) -> 0
F5: 説明できる ◎ あと少し ○ 教えて △
B6: 時間 | C6: 今日のめあて （自分が頑張るところ） | D6: 学習の仕方 （誰と） | E6: ふりかえり （気づいたこと、わかったこと、次に頑張ること） | G6: 文字数 (自動)
B7: 1 | G7: =LEN(E7) -> 0
B8: 2 | G8: =LEN(E8) -> 0
B9: 3 | G9: =LEN(E9) -> 0
B10: 4 | G10: =LEN(E10) -> 0
B11: 5 | G11: =LEN(E11) -> 0
B12: 6 | G12: =LEN(E12) -> 0
B13: 7 | G13: =LEN(E13) -> 0
B14: 8 | G14: =LEN(E14) -> 0
B15: 9 | G15: =LEN(E15) -> 0
B16: 10 | G16: =LEN(E16) -> 0
B17: 11 | G17: =LEN(E17) -> 0
B18: 12 | G18: =LEN(E18) -> 0
... B21: 15 | G21: =LEN(E21) -> 0

Sheet 8
B1: 教科 | C1: 単元名
C4: 授業のはじめ | E4: 授業の終わり | F4: 学び合い度 | G4: =AVERAGE(G7:G21) -> 0
F5: 説明できる ◎ あと少し ○ 教えて △
B6: 時間 | C6: 今日のめあて （自分が頑張るところ） | D6: 学習の仕方 （誰と） | E6: ふりかえり （気づいたこと、わかったこと、次に頑張ること） | G6: 文字数 (自動)
B7: 1 | G7: =LEN(E7) -> 0
B8: 2 | G8: =LEN(E8) -> 0
B9: 3 | G9: =LEN(E9) -> 0
B10: 4 | G10: =LEN(E10) -> 0
B11: 5 | G11: =LEN(E11) -> 0
B12: 6 | G12: =LEN(E12) -> 0
B13: 7 | G13: =LEN(E13) -> 0
B14: 8 | G14: =LEN(E14) -> 0
B15: 9 | G15: =LEN(E15) -> 0
B16: 10 | G16: =LEN(E16) -> 0
B17: 11 | G17: =LEN(E17) -> 0
B18: 12 | G18: =LEN(E18) -> 0
... B21: 15 | G21: =LEN(E21) -> 0

Sheet 9
B1: 教科 | C1: 単元名
C4: 授業のはじめ | E4: 授業の終わり | F4: 学び合い度 | G4: =AVERAGE(G7:G21) -> 0
F5: 説明できる ◎ あと少し ○ 教えて △
B6: 時間 | C6: 今日のめあて （自分が頑張るところ） | D6: 学習の仕方 （誰と） | E6: ふりかえり （気づいたこと、わかったこと、次に頑張ること） | G6: 文字数 (自動)
B7: 1 | G7: =LEN(E7) -> 0
B8: 2 | G8: =LEN(E8) -> 0
B9: 3 | G9: =LEN(E9) -> 0
B10: 4 | G10: =LEN(E10) -> 0
B11: 5 | G11: =LEN(E11) -> 0
B12: 6 | G12: =LEN(E12) -> 0
B13: 7 | G13: =LEN(E13) -> 0
B14: 8 | G14: =LEN(E14) -> 0
B15: 9 | G15: =LEN(E15) -> 0
B16: 10 | G16: =LEN(E16) -> 0
B17: 11 | G17: =LEN(E17) -> 0
B18: 12 | G18: =LEN(E18) -> 0
... B21: 15 | G21: =LEN(E21) -> 0

Sheet 10
B1: 教科 | C1: 単元名
C4: 授業のはじめ | E4: 授業の終わり | F4: 学び合い度 | G4: =AVERAGE(G7:G21) -> 0
F5: 説明できる ◎ あと少し ○ 教えて △
B6: 時間 | C6: 今日のめあて （自分が頑張るところ） | D6: 学習の仕方 （誰と） | E6: ふりかえり （気づいたこと、わかったこと、次に頑張ること） | G6: 文字数 (自動)
B7: 1 | G7: =LEN(E7) -> 0
B8: 2 | G8: =LEN(E8) -> 0
B9: 3 | G9: =LEN(E9) -> 0
B10: 4 | G10: =LEN(E10) -> 0
B11: 5 | G11: =LEN(E11) -> 0
B12: 6 | G12: =LEN(E12) -> 0
B13: 7 | G13: =LEN(E13) -> 0
B14: 8 | G14: =LEN(E14) -> 0
B15: 9 | G15: =LEN(E15) -> 0
B16: 10 | G16: =LEN(E16) -> 0
B17: 11 | G17: =LEN(E17) -> 0
B18: 12 | G18: =LEN(E18) -> 0
... B21: 15 | G21: =LEN(E21) -> 0

Sheet 11
B1: 教科 | C1: 単元名
C4: 授業のはじめ | E4: 授業の終わり | F4: 学び合い度 | G4: =AVERAGE(G7:G21) -> 0
F5: 説明できる ◎ あと少し ○ 教えて △
B6: 時間 | C6: 今日のめあて （自分が頑張るところ） | D6: 学習の仕方 （誰と） | E6: ふりかえり （気づいたこと、わかったこと、次に頑張ること） | G6: 文字数 (自動)
B7: 1 | G7: =LEN(E7) -> 0
B8: 2 | G8: =LEN(E8) -> 0
B9: 3 | G9: =LEN(E9) -> 0
B10: 4 | G10: =LEN(E10) -> 0
B11: 5 | G11: =LEN(E11) -> 0
B12: 6 | G12: =LEN(E12) -> 0
B13: 7 | G13: =LEN(E13) -> 0
B14: 8 | G14: =LEN(E14) -> 0
B15: 9 | G15: =LEN(E15) -> 0
B16: 10 | G16: =LEN(E16) -> 0
B17: 11 | G17: =LEN(E17) -> 0
B18: 12 | G18: =LEN(E18) -> 0
... B21: 15 | G21: =LEN(E21) -> 0

Sheet 12
B1: 教科 | C1: 単元名
C4: 授業のはじめ | E4: 授業の終わり | F4: 学び合い度 | G4: =AVERAGE(G7:G21) -> 0
F5: 説明できる ◎ あと少し ○ 教えて △
B6: 時間 | C6: 今日のめあて （自分が頑張るところ） | D6: 学習の仕方 （誰と） | E6: ふりかえり （気づいたこと、わかったこと、次に頑張ること） | G6: 文字数 (自動)
B7: 1 | G7: =LEN(E7) -> 0
B8: 2 | G8: =LEN(E8) -> 0
B9: 3 | G9: =LEN(E9) -> 0
B10: 4 | G10: =LEN(E10) -> 0
B11: 5 | G11: =LEN(E11) -> 0
B12: 6 | G12: =LEN(E12) -> 0
B13: 7 | G13: =LEN(E13) -> 0
B14: 8 | G14: =LEN(E14) -> 0
B15: 9 | G15: =LEN(E15) -> 0
B16: 10 | G16: =LEN(E16) -> 0
B17: 11 | G17: =LEN(E17) -> 0
B18: 12 | G18: =LEN(E18) -> 0
... B21: 15 | G21: =LEN(E21) -> 0

Sheet 13
B1: 教科 | C1: 単元名
C4: 授業のはじめ | E4: 授業の終わり | F4: 学び合い度 | G4: =AVERAGE(G7:G21) -> 0
F5: 説明できる ◎ あと少し ○ 教えて △
B6: 時間 | C6: 今日のめあて （自分が頑張るところ） | D6: 学習の仕方 （誰と） | E6: ふりかえり （気づいたこと、わかったこと、次に頑張ること） | G6: 文字数 (自動)
B7: 1 | G7: =LEN(E7) -> 0
B8: 2 | G8: =LEN(E8) -> 0
B9: 3 | G9: =LEN(E9) -> 0
B10: 4 | G10: =LEN(E10) -> 0
B11: 5 | G11: =LEN(E11) -> 0
B12: 6 | G12: =LEN(E12) -> 0
B13: 7 | G13: =LEN(E13) -> 0
B14: 8 | G14: =LEN(E14) -> 0
B15: 9 | G15: =LEN(E15) -> 0
B16: 10 | G16: =LEN(E16) -> 0
B17: 11 | G17: =LEN(E17) -> 0
B18: 12 | G18: =LEN(E18) -> 0
... B21: 15 | G21: =LEN(E21) -> 0

Sheet 14
B1: 教科 | C1: 単元名
C4: 授業のはじめ | E4: 授業の終わり | F4: 学び合い度 | G4: =AVERAGE(G7:G21) -> 0
F5: 説明できる ◎ あと少し ○ 教えて △
B6: 時間 | C6: 今日のめあて （自分が頑張るところ） | D6: 学習の仕方 （誰と） | E6: ふりかえり （気づいたこと、わかったこと、次に頑張ること） | G6: 文字数 (自動)
B7: 1 | G7: =LEN(E7) -> 0
B8: 2 | G8: =LEN(E8) -> 0
B9: 3 | G9: =LEN(E9) -> 0
B10: 4 | G10: =LEN(E10) -> 0
B11: 5 | G11: =LEN(E11) -> 0
B12: 6 | G12: =LEN(E12) -> 0
B13: 7 | G13: =LEN(E13) -> 0
B14: 8 | G14: =LEN(E14) -> 0
B15: 9 | G15: =LEN(E15) -> 0
B16: 10 | G16: =LEN(E16) -> 0
B17: 11 | G17: =LEN(E17) -> 0
B18: 12 | G18: =LEN(E18) -> 0
... B21: 15 | G21: =LEN(E21) -> 0

Sheet 15
B1: 教科 | C1: 単元名
C4: 授業のはじめ | E4: 授業の終わり | F4: 学び合い度 | G4: =AVERAGE(G7:G21) -> 0
F5: 説明できる ◎ あと少し ○ 教えて △
B6: 時間 | C6: 今日のめあて （自分が頑張るところ） | D6: 学習の仕方 （誰と） | E6: ふりかえり （気づいたこと、わかったこと、次に頑張ること） | G6: 文字数 (自動)
B7: 1 | G7: =LEN(E7) -> 0
B8: 2 | G8: =LEN(E8) -> 0
B9: 3 | G9: =LEN(E9) -> 0
B10: 4 | G10: =LEN(E10) -> 0
B11: 5 | G11: =LEN(E11) -> 0
B12: 6 | G12: =LEN(E12) -> 0
B13: 7 | G13: =LEN(E13) -> 0
B14: 8 | G14: =LEN(E14) -> 0
B15: 9 | G15: =LEN(E15) -> 0
B16: 10 | G16: =LEN(E16) -> 0
B17: 11 | G17: =LEN(E17) -> 0
B18: 12 | G18: =LEN(E18) -> 0
... B21: 15 | G21: =LEN(E21) -> 0

Sheet 16
B1: 教科 | C1: 単元名
C4: 授業のはじめ | E4: 授業の終わり | F4: 学び合い度 | G4: =AVERAGE(G7:G21) -> 0
F5: 説明できる ◎ あと少し ○ 教えて △
B6: 時間 | C6: 今日のめあて （自分が頑張るところ） | D6: 学習の仕方 （誰と） | E6: ふりかえり （気づいたこと、わかったこと、次に頑張ること） | G6: 文字数 (自動)
B7: 1 | G7: =LEN(E7) -> 0
B8: 2 | G8: =LEN(E8) -> 0
B9: 3 | G9: =LEN(E9) -> 0
B10: 4 | G10: =LEN(E10) -> 0
B11: 5 | G11: =LEN(E11) -> 0
B12: 6 | G12: =LEN(E12) -> 0
B13: 7 | G13: =LEN(E13) -> 0
B14: 8 | G14: =LEN(E14) -> 0
B15: 9 | G15: =LEN(E15) -> 0
B16: 10 | G16: =LEN(E16) -> 0
B17: 11 | G17: =LEN(E17) -> 0
B18: 12 | G18: =LEN(E18) -> 0
... B21: 15 | G21: =LEN(E21) -> 0

Sheet 17
B1: 教科 | C1: 単元名
C4: 授業のはじめ | E4: 授業の終わり | F4: 学び合い度 | G4: =AVERAGE(G7:G21) -> 0
F5: 説明できる ◎ あと少し ○ 教えて △
B6: 時間 | C6: 今日のめあて （自分が頑張るところ） | D6: 学習の仕方 （誰と） | E6: ふりかえり （気づいたこと、わかったこと、次に頑張ること） | G6: 文字数 (自動)
B7: 1 | G7: =LEN(E7) -> 0
B8: 2 | G8: =LEN(E8) -> 0
B9: 3 | G9: =LEN(E9) -> 0
B10: 4 | G10: =LEN(E10) -> 0
B11: 5 | G11: =LEN(E11) -> 0
B12: 6 | G12: =LEN(E12) -> 0
B13: 7 | G13: =LEN(E13) -> 0
B14: 8 | G14: =LEN(E14) -> 0
B15: 9 | G15: =LEN(E15) -> 0
B16: 10 | G16: =LEN(E16) -> 0
B17: 11 | G17: =LEN(E17) -> 0
B18: 12 | G18: =LEN(E18) -> 0
... B21: 15 | G21: =LEN(E21) -> 0

Sheet 18
B1: 教科 | C1: 単元名
C4: 授業のはじめ | E4: 授業の終わり | F4: 学び合い度 | G4: =AVERAGE(G7:G21) -> 0
F5: 説明できる ◎ あと少し ○ 教えて △
B6: 時間 | C6: 今日のめあて （自分が頑張るところ） | D6: 学習の仕方 （誰と） | E6: ふりかえり （気づいたこと、わかったこと、次に頑張ること） | G6: 文字数 (自動)
B7: 1 | G7: =LEN(E7) -> 0
B8: 2 | G8: =LEN(E8) -> 0
B9: 3 | G9: =LEN(E9) -> 0
B10: 4 | G10: =LEN(E10) -> 0
B11: 5 | G11: =LEN(E11) -> 0
B12: 6 | G12: =LEN(E12) -> 0
B13: 7 | G13: =LEN(E13) -> 0
B14: 8 | G14: =LEN(E14) -> 0
B15: 9 | G15: =LEN(E15) -> 0
B16: 10 | G16: =LEN(E16) -> 0
B17: 11 | G17: =LEN(E17) -> 0
B18: 12 | G18: =LEN(E18) -> 0
... B21: 15 | G21: =LEN(E21) -> 0

Sheet 19
B1: 教科 | C1: 単元名
C4: 授業のはじめ | E4: 授業の終わり | F4: 学び合い度 | G4: =AVERAGE(G7:G21) -> 0
F5: 説明できる ◎ あと少し ○ 教えて △
B6: 時間 | C6: 今日のめあて （自分が頑張るところ） | D6: 学習の仕方 （誰と） | E6: ふりかえり （気づいたこと、わかったこと、次に頑張ること） | G6: 文字数 (自動)
B7: 1 | G7: =LEN(E7) -> 0
B8: 2 | G8: =LEN(E8) -> 0
B9: 3 | G9: =LEN(E9) -> 0
B10: 4 | G10: =LEN(E10) -> 0
B11: 5 | G11: =LEN(E11) -> 0
B12: 6 | G12: =LEN(E12) -> 0
B13: 7 | G13: =LEN(E13) -> 0
B14: 8 | G14: =LEN(E14) -> 0
B15: 9 | G15: =LEN(E15) -> 0
B16: 10 | G16: =LEN(E16) -> 0
B17: 11 | G17: =LEN(E17) -> 0
B18: 12 | G18: =LEN(E18) -> 0
... B21: 15 | G21: =LEN(E21) -> 0

Sheet 20
B1: 教科 | C1: 単元名
C4: 授業のはじめ | E4: 授業の終わり | F4: 学び合い度 | G4: =AVERAGE(G7:G21) -> 0
F5: 説明できる ◎ あと少し ○ 教えて △
B6: 時間 | C6: 今日のめあて （自分が頑張るところ） | D6: 学習の仕方 （誰と） | E6: ふりかえり （気づいたこと、わかったこと、次に頑張ること） | G6: 文字数 (自動)
B7: 1 | G7: =LEN(E7) -> 0
B8: 2 | G8: =LEN(E8) -> 0
B9: 3 | G9: =LEN(E9) -> 0
B10: 4 | G10: =LEN(E10) -> 0
B11: 5 | G11: =LEN(E11) -> 0
B12: 6 | G12: =LEN(E12) -> 0
B13: 7 | G13: =LEN(E13) -> 0
B14: 8 | G14: =LEN(E14) -> 0
B15: 9 | G15: =LEN(E15) -> 0
B16: 10 | G16: =LEN(E16) -> 0
B17: 11 | G17: =LEN(E17) -> 0
B18: 12 | G18: =LEN(E18) -> 0
... B21: 15 | G21: =LEN(E21) -> 0

Sheet 21
B1: 教科 | C1: 単元名
C4: 授業のはじめ | E4: 授業の終わり | F4: 学び合い度 | G4: =AVERAGE(G7:G21) -> 0
F5: 説明できる ◎ あと少し ○ 教えて △
B6: 時間 | C6: 今日のめあて （自分が頑張るところ） | D6: 学習の仕方 （誰と） | E6: ふりかえり （気づいたこと、わかったこと、次に頑張ること） | G6: 文字数 (自動)
B7: 1 | G7: =LEN(E7) -> 0
B8: 2 | G8: =LEN(E8) -> 0
B9: 3 | G9: =LEN(E9) -> 0
B10: 4 | G10: =LEN(E10) -> 0
B11: 5 | G11: =LEN(E11) -> 0
B12: 6 | G12: =LEN(E12) -> 0
B13: 7 | G13: =LEN(E13) -> 0
B14: 8 | G14: =LEN(E14) -> 0
B15: 9 | G15: =LEN(E15) -> 0
B16: 10 | G16: =LEN(E16) -> 0
B17: 11 | G17: =LEN(E17) -> 0
B18: 12 | G18: =LEN(E18) -> 0
... B21: 15 | G21: =LEN(E21) -> 0

Sheet 22
B1: 教科 | C1: 単元名
C4: 授業のはじめ | E4: 授業の終わり | F4: 学び合い度 | G4: =AVERAGE(G7:G21) -> 0
F5: 説明できる ◎ あと少し ○ 教えて △
B6: 時間 | C6: 今日のめあて （自分が頑張るところ） | D6: 学習の仕方 （誰と） | E6: ふりかえり （気づいたこと、わかったこと、次に頑張ること） | G6: 文字数 (自動)
B7: 1 | G7: =LEN(E7) -> 0
B8: 2 | G8: =LEN(E8) -> 0
B9: 3 | G9: =LEN(E9) -> 0
B10: 4 | G10: =LEN(E10) -> 0
B11: 5 | G11: =LEN(E11) -> 0
B12: 6 | G12: =LEN(E12) -> 0
B13: 7 | G13: =LEN(E13) -> 0
B14: 8 | G14: =LEN(E14) -> 0
B15: 9 | G15: =LEN(E15) -> 0
B16: 10 | G16: =LEN(E16) -> 0
B17: 11 | G17: =LEN(E17) -> 0
B18: 12 | G18: =LEN(E18) -> 0
... B21: 15 | G21: =LEN(E21) -> 0

Sheet 23
B1: 教科 | C1: 単元名
C4: 授業のはじめ | E4: 授業の終わり | F4: 学び合い度 | G4: =AVERAGE(G7:G21) -> 0
F5: 説明できる ◎ あと少し ○ 教えて △
B6: 時間 | C6: 今日のめあて （自分が頑張るところ） | D6: 学習の仕方 （誰と） | E6: ふりかえり （気づいたこと、わかったこと、次に頑張ること） | G6: 文字数 (自動)
B7: 1 | G7: =LEN(E7) -> 0
B8: 2 | G8: =LEN(E8) -> 0
B9: 3 | G9: =LEN(E9) -> 0
B10: 4 | G10: =LEN(E10) -> 0
B11: 5 | G11: =LEN(E11) -> 0
B12: 6 | G12: =LEN(E12) -> 0
B13: 7 | G13: =LEN(E13) -> 0
B14: 8 | G14: =LEN(E14) -> 0
B15: 9 | G15: =LEN(E15) -> 0
B16: 10 | G16: =LEN(E16) -> 0
B17: 11 | G17: =LEN(E17) -> 0
B18: 12 | G18: =LEN(E18) -> 0
... B21: 15 | G21: =LEN(E21) -> 0

Sheet 24
B1: 教科 | C1: 単元名
C4: 授業のはじめ | E4: 授業の終わり | F4: 学び合い度 | G4: =AVERAGE(G7:G21) -> 0
F5: 説明できる ◎ あと少し ○ 教えて △
B6: 時間 | C6: 今日のめあて （自分が頑張るところ） | D6: 学習の仕方 （誰と） | E6: ふりかえり （気づいたこと、わかったこと、次に頑張ること） | G6: 文字数 (自動)
B7: 1 | G7: =LEN(E7) -> 0
B8: 2 | G8: =LEN(E8) -> 0
B9: 3 | G9: =LEN(E9) -> 0
B10: 4 | G10: =LEN(E10) -> 0
B11: 5 | G11: =LEN(E11) -> 0
B12: 6 | G12: =LEN(E12) -> 0
B13: 7 | G13: =LEN(E13) -> 0
B14: 8 | G14: =LEN(E14) -> 0
B15: 9 | G15: =LEN(E15) -> 0
B16: 10 | G16: =LEN(E16) -> 0
B17: 11 | G17: =LEN(E17) -> 0
B18: 12 | G18: =LEN(E18) -> 0
... B21: 15 | G21: =LEN(E21) -> 0

Sheet 25
B1: 教科 | C1: 単元名
C4: 授業のはじめ | E4: 授業の終わり | F4: 学び合い度 | G4: =AVERAGE(G7:G21) -> 0
F5: 説明できる ◎ あと少し ○ 教えて △
B6: 時間 | C6: 今日のめあて （自分が頑張るところ） | D6: 学習の仕方 （誰と） | E6: ふりかえり （気づいたこと、わかったこと、次に頑張ること） | G6: 文字数 (自動)
B7: 1 | G7: =LEN(E7) -> 0
B8: 2 | G8: =LEN(E8) -> 0
B9: 3 | G9: =LEN(E9) -> 0
B10: 4 | G10: =LEN(E10) -> 0
B11: 5 | G11: =LEN(E11) -> 0
B12: 6 | G12: =LEN(E12) -> 0
B13: 7 | G13: =LEN(E13) -> 0
B14: 8 | G14: =LEN(E14) -> 0
B15: 9 | G15: =LEN(E15) -> 0
B16: 10 | G16: =LEN(E16) -> 0
B17: 11 | G17: =LEN(E17) -> 0
B18: 12 | G18: =LEN(E18) -> 0
... B21: 15 | G21: =LEN(E21) -> 0

Sheet 26
B1: 教科 | C1: 単元名
C4: 授業のはじめ | E4: 授業の終わり | F4: 学び合い度 | G4: =AVERAGE(G7:G21) -> 0
F5: 説明できる ◎ あと少し ○ 教えて △
B6: 時間 | C6: 今日のめあて （自分が頑張るところ） | D6: 学習の仕方 （誰と） | E6: ふりかえり （気づいたこと、わかったこと、次に頑張ること） | G6: 文字数 (自動)
B7: 1 | G7: =LEN(E7) -> 0
B8: 2 | G8: =LEN(E8) -> 0
B9: 3 | G9: =LEN(E9) -> 0
B10: 4 | G10: =LEN(E10) -> 0
B11: 5 | G11: =LEN(E11) -> 0
B12: 6 | G12: =LEN(E12) -> 0
B13: 7 | G13: =LEN(E13) -> 0
B14: 8 | G14: =LEN(E14) -> 0
B15: 9 | G15: =LEN(E15) -> 0
B16: 10 | G16: =LEN(E16) -> 0
B17: 11 | G17: =LEN(E17) -> 0
B18: 12 | G18: =LEN(E18) -> 0
... B21: 15 | G21: =LEN(E21) -> 0

Sheet 27
B1: 教科 | C1: 単元名
C4: 授業のはじめ | E4: 授業の終わり | F4: 学び合い度 | G4: =AVERAGE(G7:G21) -> 0
F5: 説明できる ◎ あと少し ○ 教えて △
B6: 時間 | C6: 今日のめあて （自分が頑張るところ） | D6: 学習の仕方 （誰と） | E6: ふりかえり （気づいたこと、わかったこと、次に頑張ること） | G6: 文字数 (自動)
B7: 1 | G7: =LEN(E7) -> 0
B8: 2 | G8: =LEN(E8) -> 0
B9: 3 | G9: =LEN(E9) -> 0
B10: 4 | G10: =LEN(E10) -> 0
B11: 5 | G11: =LEN(E11) -> 0
B12: 6 | G12: =LEN(E12) -> 0
B13: 7 | G13: =LEN(E13) -> 0
B14: 8 | G14: =LEN(E14) -> 0
B15: 9 | G15: =LEN(E15) -> 0
B16: 10 | G16: =LEN(E16) -> 0
B17: 11 | G17: =LEN(E17) -> 0
B18: 12 | G18: =LEN(E18) -> 0
... B21: 15 | G21: =LEN(E21) -> 0

Sheet 28
B1: 教科 | C1: 単元名
C4: 授業のはじめ | E4: 授業の終わり | F4: 学び合い度 | G4: =AVERAGE(G7:G21) -> 0
F5: 説明できる ◎ あと少し ○ 教えて △
B6: 時間 | C6: 今日のめあて （自分が頑張るところ） | D6: 学習の仕方 （誰と） | E6: ふりかえり （気づいたこと、わかったこと、次に頑張ること） | G6: 文字数 (自動)
B7: 1 | G7: =LEN(E7) -> 0
B8: 2 | G8: =LEN(E8) -> 0
B9: 3 | G9: =LEN(E9) -> 0
B10: 4 | G10: =LEN(E10) -> 0
B11: 5 | G11: =LEN(E11) -> 0
B12: 6 | G12: =LEN(E12) -> 0
B13: 7 | G13: =LEN(E13) -> 0
B14: 8 | G14: =LEN(E14) -> 0
B15: 9 | G15: =LEN(E15) -> 0
B16: 10 | G16: =LEN(E16) -> 0
B17: 11 | G17: =LEN(E17) -> 0
B18: 12 | G18: =LEN(E18) -> 0
... B21: 15 | G21: =LEN(E21) -> 0

Sheet 29
B1: 教科 | C1: 単元名
C4: 授業のはじめ | E4: 授業の終わり | F4: 学び合い度 | G4: =AVERAGE(G7:G21) -> 0
F5: 説明できる ◎ あと少し ○ 教えて △
B6: 時間 | C6: 今日のめあて （自分が頑張るところ） | D6: 学習の仕方 （誰と） | E6: ふりかえり （気づいたこと、わかったこと、次に頑張ること） | G6: 文字数 (自動)
B7: 1 | G7: =LEN(E7) -> 0
B8: 2 | G8: =LEN(E8) -> 0
B9: 3 | G9: =LEN(E9) -> 0
B10: 4 | G10: =LEN(E10) -> 0
B11: 5 | G11: =LEN(E11) -> 0
B12: 6 | G12: =LEN(E12) -> 0
B13: 7 | G13: =LEN(E13) -> 0
B14: 8 | G14: =LEN(E14) -> 0
B15: 9 | G15: =LEN(E15) -> 0
B16: 10 | G16: =LEN(E16) -> 0
B17: 11 | G17: =LEN(E17) -> 0
B18: 12 | G18: =LEN(E18) -> 0
... B21: 15 | G21: =LEN(E21) -> 0

Sheet 30
B1: 教科 | C1: 単元名
C4: 授業のはじめ | E4: 授業の終わり | F4: 学び合い度 | G4: =AVERAGE(G7:G21) -> 0
F5: 説明できる ◎ あと少し ○ 教えて △
B6: 時間 | C6: 今日のめあて （自分が頑張るところ） | D6: 学習の仕方 （誰と） | E6: ふりかえり （気づいたこと、わかったこと、次に頑張ること） | G6: 文字数 (自動)
B7: 1 | G7: =LEN(E7) -> 0
B8: 2 | G8: =LEN(E8) -> 0
B9: 3 | G9: =LEN(E9) -> 0
B10: 4 | G10: =LEN(E10) -> 0
B11: 5 | G11: =LEN(E11) -> 0
B12: 6 | G12: =LEN(E12) -> 0
B13: 7 | G13: =LEN(E13) -> 0
B14: 8 | G14: =LEN(E14) -> 0
B15: 9 | G15: =LEN(E15) -> 0
B16: 10 | G16: =LEN(E16) -> 0
B17: 11 | G17: =LEN(E17) -> 0
B18: 12 | G18: =LEN(E18) -> 0
... B21: 15 | G21: =LEN(E21) -> 0

Sheet 31
B1: 教科 | C1: 単元名
C4: 授業のはじめ | E4: 授業の終わり | F4: 学び合い度 | G4: =AVERAGE(G7:G21) -> 0
F5: 説明できる ◎ あと少し ○ 教えて △
B6: 時間 | C6: 今日のめあて （自分が頑張るところ） | D6: 学習の仕方 （誰と） | E6: ふりかえり （気づいたこと、わかったこと、次に頑張ること） | G6: 文字数 (自動)
B7: 1 | G7: =LEN(E7) -> 0
B8: 2 | G8: =LEN(E8) -> 0
B9: 3 | G9: =LEN(E9) -> 0
B10: 4 | G10: =LEN(E10) -> 0
B11: 5 | G11: =LEN(E11) -> 0
B12: 6 | G12: =LEN(E12) -> 0
B13: 7 | G13: =LEN(E13) -> 0
B14: 8 | G14: =LEN(E14) -> 0
B15: 9 | G15: =LEN(E15) -> 0
B16: 10 | G16: =LEN(E16) -> 0
B17: 11 | G17: =LEN(E17) -> 0
B18: 12 | G18: =LEN(E18) -> 0
... B21: 15 | G21: =LEN(E21) -> 0
