Workbook

Sheet 名簿
B2: A組 | C2: B組 | D2: C組
A3: 1
A4: 2
A5: 3
A6: 4
A7: 5
A8: 6
A9: 7
A10: 8
A11: 9
A12: 10
A13: 11
A14: 12
... A39: 37

Sheet 一覧表
B1: タイトル | J1: =VLOOKUP($A$1,$K$1:$L$4,2) -> #N/A | K1: A | L1: 1
B2: めあて | K2: B | L2: 2
B3: 単元のめあて | K3: C | L3: 3
A4: 組 | K4: D | L4: 4
B5: 名前 | C5: 1回目 調子 | D5: 1回目 結果 | E5: 1回目 学習形態 | G5: 2回目 調子 | H5: 2回目 結果 | I5: 2回目 学習形態 | N5: 3回目 調子 | O5: 3回目 結果 | P5: 3回目 学習形態 | R5: 4回目 調子 | S5: ４回目 結果 | T5: ４回目 学習形態
A6: 1 | B6: =VLOOKUP(一覧表!A6,名簿!$A$3:$D$42,一覧表!$J$1+1,TRUE) -> #N/A | C6: {=INDIRECT("'" & ROW(A1) & "'!$D$10")} -> 0 | D6: {=INDIRECT("'" & ROW(A1) & "'!$J$5")} -> 0 | E6: {=INDIRECT("'" & ROW(A1) & "'!$D$11")} -> 0 | G6: {=INDIRECT("'" & ROW(A1) & "'!$D$18")} -> 0 | H6: {=INDIRECT("'" & ROW(A1) & "'!$J$13")} -> 0 | I6: {=INDIRECT("'" & ROW(A1) & "'!$D$19")} -> 0 | N6: {=INDIRECT("'" & ROW(A1) & "'!$D$26")} -> 0 | O6: {=INDIRECT("'" & ROW(A1) & "'!$J$21")} -> 0 | P6: {=INDIRECT("'" & ROW(E1) & "'!$D$27")} -> 0 | R6: {=INDIRECT("'" & ROW(E1) & "'!$D$34")} -> 0 | S6: {=INDIRECT("'" & ROW(E1) & "'!$J$29")} -> 0 | T6: {=INDIRECT("'" & ROW(I1) & "'!$D$35")} -> 0
A7: 2 | B7: =VLOOKUP(一覧表!A7,名簿!$A$3:$D$42,一覧表!$J$1+1,TRUE) -> #N/A | C7: {=INDIRECT("'" & ROW(A2) & "'!$D$10")} -> 0 | D7: {=INDIRECT("'" & ROW(A2) & "'!$J$5")} -> 0 | E7: {=INDIRECT("'" & ROW(A2) & "'!$D$11")} -> 0 | G7: {=INDIRECT("'" & ROW(A2) & "'!$D$18")} -> 0 | H7: {=INDIRECT("'" & ROW(A2) & "'!$J$13")} -> 0 | I7: {=INDIRECT("'" & ROW(A2) & "'!$D$19")} -> 0 | N7: {=INDIRECT("'" & ROW(A2) & "'!$D$26")} -> 0 | O7: {=INDIRECT("'" & ROW(A2) & "'!$J$21")} -> 0 | P7: {=INDIRECT("'" & ROW(E2) & "'!$D$27")} -> 0 | R7: {=INDIRECT("'" & ROW(E2) & "'!$D$34")} -> 0 | S7: {=INDIRECT("'" & ROW(E2) & "'!$J$29")} -> 0 | T7: {=INDIRECT("'" & ROW(I2) & "'!$D$35")} -> 0
A8: 3 | B8: =VLOOKUP(一覧表!A8,名簿!$A$3:$D$42,一覧表!$J$1+1,TRUE) -> #N/A | C8: {=INDIRECT("'" & ROW(A3) & "'!$D$10")} -> 0 | D8: {=INDIRECT("'" & ROW(A3) & "'!$J$5")} -> 0 | E8: {=INDIRECT("'" & ROW(A3) & "'!$D$11")} -> 0 | G8: {=INDIRECT("'" & ROW(A3) & "'!$D$18")} -> 0 | H8: {=INDIRECT("'" & ROW(A3) & "'!$J$13")} -> 0 | I8: {=INDIRECT("'" & ROW(A3) & "'!$D$19")} -> 0 | N8: {=INDIRECT("'" & ROW(A3) & "'!$D$26")} -> 0 | O8: {=INDIRECT("'" & ROW(A3) & "'!$J$21")} -> 0 | P8: {=INDIRECT("'" & ROW(E3) & "'!$D$27")} -> 0 | R8: {=INDIRECT("'" & ROW(E3) & "'!$D$34")} -> 0 | S8: {=INDIRECT("'" & ROW(E3) & "'!$J$29")} -> 0 | T8: {=INDIRECT("'" & ROW(I3) & "'!$D$35")} -> 0
A9: 4 | B9: =VLOOKUP(一覧表!A9,名簿!$A$3:$D$42,一覧表!$J$1+1,TRUE) -> #N/A | C9: {=INDIRECT("'" & ROW(A4) & "'!$D$10")} -> 0 | D9: {=INDIRECT("'" & ROW(A4) & "'!$J$5")} -> 0 | E9: {=INDIRECT("'" & ROW(A4) & "'!$D$11")} -> 0 | G9: {=INDIRECT("'" & ROW(A4) & "'!$D$18")} -> 0 | H9: {=INDIRECT("'" & ROW(A4) & "'!$J$13")} -> 0 | I9: {=INDIRECT("'" & ROW(A4) & "'!$D$19")} -> 0 | N9: {=INDIRECT("'" & ROW(A4) & "'!$D$26")} -> 0 | O9: {=INDIRECT("'" & ROW(A4) & "'!$J$21")} -> 0 | P9: {=INDIRECT("'" & ROW(E4) & "'!$D$27")} -> 0 | R9: {=INDIRECT("'" & ROW(E4) & "'!$D$34")} -> 0 | S9: {=INDIRECT("'" & ROW(E4) & "'!$J$29")} -> 0 | T9: {=INDIRECT("'" & ROW(I4) & "'!$D$35")} -> 0
A10: 5 | B10: =VLOOKUP(一覧表!A10,名簿!$A$3:$D$42,一覧表!$J$1+1,TRUE) -> #N/A | C10: {=INDIRECT("'" & ROW(A5) & "'!$D$10")} -> 0 | D10: {=INDIRECT("'" & ROW(A5) & "'!$J$5")} -> 0 | E10: {=INDIRECT("'" & ROW(A5) & "'!$D$11")} -> 0 | G10: {=INDIRECT("'" & ROW(A5) & "'!$D$18")} -> 0 | H10: {=INDIRECT("'" & ROW(A5) & "'!$J$13")} -> 0 | I10: {=INDIRECT("'" & ROW(A5) & "'!$D$19")} -> 0 | N10: {=INDIRECT("'" & ROW(A5) & "'!$D$26")} -> 0 | O10: {=INDIRECT("'" & ROW(A5) & "'!$J$21")} -> 0 | P10: {=INDIRECT("'" & ROW(E5) & "'!$D$27")} -> 0 | R10: {=INDIRECT("'" & ROW(E5) & "'!$D$34")} -> 0 | S10: {=INDIRECT("'" & ROW(E5) & "'!$J$29")} -> 0 | T10: {=INDIRECT("'" & ROW(I5) & "'!$D$35")} -> 0
A11: 6 | B11: =VLOOKUP(一覧表!A11,名簿!$A$3:$D$42,一覧表!$J$1+1,TRUE) -> #N/A | C11: {=INDIRECT("'" & ROW(A6) & "'!$D$10")} -> 0 | D11: {=INDIRECT("'" & ROW(A6) & "'!$J$5")} -> 0 | E11: {=INDIRECT("'" & ROW(A6) & "'!$D$11")} -> 0 | G11: {=INDIRECT("'" & ROW(A6) & "'!$D$18")} -> 0 | H11: {=INDIRECT("'" & ROW(A6) & "'!$J$13")} -> 0 | I11: {=INDIRECT("'" & ROW(A6) & "'!$D$19")} -> 0 | N11: {=INDIRECT("'" & ROW(A6) & "'!$D$26")} -> 0 | O11: {=INDIRECT("'" & ROW(A6) & "'!$J$21")} -> 0 | P11: {=INDIRECT("'" & ROW(E6) & "'!$D$27")} -> 0 | R11: {=INDIRECT("'" & ROW(E6) & "'!$D$34")} -> 0 | S11: {=INDIRECT("'" & ROW(E6) & "'!$J$29")} -> 0 | T11: {=INDIRECT("'" & ROW(I6) & "'!$D$35")} -> 0
A12: 7 | B12: =VLOOKUP(一覧表!A12,名簿!$A$3:$D$42,一覧表!$J$1+1,TRUE) -> #N/A | C12: {=INDIRECT("'" & ROW(A7) & "'!$D$10")} -> 0 | D12: {=INDIRECT("'" & ROW(A7) & "'!$J$5")} -> 0 | E12: {=INDIRECT("'" & ROW(A7) & "'!$D$11")} -> 0 | G12: {=INDIRECT("'" & ROW(A7) & "'!$D$18")} -> 0 | H12: {=INDIRECT("'" & ROW(A7) & "'!$J$13")} -> 0 | I12: {=INDIRECT("'" & ROW(A7) & "'!$D$19")} -> 0 | N12: {=INDIRECT("'" & ROW(A7) & "'!$D$26")} -> 0 | O12: {=INDIRECT("'" & ROW(A7) & "'!$J$21")} -> 0 | P12: {=INDIRECT("'" & ROW(E7) & "'!$D$27")} -> 0 | R12: {=INDIRECT("'" & ROW(E7) & "'!$D$34")} -> 0 | S12: {=INDIRECT("'" & ROW(E7) & "'!$J$29")} -> 0 | T12: {=INDIRECT("'" & ROW(I7) & "'!$D$35")} -> 0
A13: 8 | B13: =VLOOKUP(一覧表!A13,名簿!$A$3:$D$42,一覧表!$J$1+1,TRUE) -> #N/A | C13: {=INDIRECT("'" & ROW(A8) & "'!$D$10")} -> 0 | D13: {=INDIRECT("'" & ROW(A8) & "'!$J$5")} -> 0 | E13: {=INDIRECT("'" & ROW(A8) & "'!$D$11")} -> 0 | G13: {=INDIRECT("'" & ROW(A8) & "'!$D$18")} -> 0 | H13: {=INDIRECT("'" & ROW(A8) & "'!$J$13")} -> 0 | I13: {=INDIRECT("'" & ROW(A8) & "'!$D$19")} -> 0 | N13: {=INDIRECT("'" & ROW(A8) & "'!$D$26")} -> 0 | O13: {=INDIRECT("'" & ROW(A8) & "'!$J$21")} -> 0 | P13: {=INDIRECT("'" & ROW(E8) & "'!$D$27")} -> 0 | R13: {=INDIRECT("'" & ROW(E8) & "'!$D$34")} -> 0 | S13: {=INDIRECT("'" & ROW(E8) & "'!$J$29")} -> 0 | T13: {=INDIRECT("'" & ROW(I8) & "'!$D$35")} -> 0
A14: 9 | B14: =VLOOKUP(一覧表!A14,名簿!$A$3:$D$42,一覧表!$J$1+1,TRUE) -> #N/A | C14: {=INDIRECT("'" & ROW(A9) & "'!$D$10")} -> 0 | D14: {=INDIRECT("'" & ROW(A9) & "'!$J$5")} -> 0 | E14: {=INDIRECT("'" & ROW(A9) & "'!$D$11")} -> 0 | G14: {=INDIRECT("'" & ROW(A9) & "'!$D$18")} -> 0 | H14: {=INDIRECT("'" & ROW(A9) & "'!$J$13")} -> 0 | I14: {=INDIRECT("'" & ROW(A9) & "'!$D$19")} -> 0 | N14: {=INDIRECT("'" & ROW(A9) & "'!$D$26")} -> 0 | O14: {=INDIRECT("'" & ROW(A9) & "'!$J$21")} -> 0 | P14: {=INDIRECT("'" & ROW(E9) & "'!$D$27")} -> 0 | R14: {=INDIRECT("'" & ROW(E9) & "'!$D$34")} -> 0 | S14: {=INDIRECT("'" & ROW(E9) & "'!$J$29")} -> 0 | T14: {=INDIRECT("'" & ROW(I9) & "'!$D$35")} -> 0
A15: 10 | B15: =VLOOKUP(一覧表!A15,名簿!$A$3:$D$42,一覧表!$J$1+1,TRUE) -> #N/A | C15: {=INDIRECT("'" & ROW(A10) & "'!$D$10")} -> 0 | D15: {=INDIRECT("'" & ROW(A10) & "'!$J$5")} -> 0 | E15: {=INDIRECT("'" & ROW(A10) & "'!$D$11")} -> 0 | G15: {=INDIRECT("'" & ROW(A10) & "'!$D$18")} -> 0 | H15: {=INDIRECT("'" & ROW(A10) & "'!$J$13")} -> 0 | I15: {=INDIRECT("'" & ROW(A10) & "'!$D$19")} -> 0 | N15: {=INDIRECT("'" & ROW(A10) & "'!$D$26")} -> 0 | O15: {=INDIRECT("'" & ROW(A10) & "'!$J$21")} -> 0 | P15: {=INDIRECT("'" & ROW(E10) & "'!$D$27")} -> 0 | R15: {=INDIRECT("'" & ROW(E10) & "'!$D$34")} -> 0 | S15: {=INDIRECT("'" & ROW(E10) & "'!$J$29")} -> 0 | T15: {=INDIRECT("'" & ROW(I10) & "'!$D$35")} -> 0
A16: 11 | B16: =VLOOKUP(一覧表!A16,名簿!$A$3:$D$42,一覧表!$J$1+1,TRUE) -> #N/A | C16: {=INDIRECT("'" & ROW(A11) & "'!$D$10")} -> 0 | D16: {=INDIRECT("'" & ROW(A11) & "'!$J$5")} -> 0 | E16: {=INDIRECT("'" & ROW(A11) & "'!$D$11")} -> 0 | G16: {=INDIRECT("'" & ROW(A11) & "'!$D$18")} -> 0 | H16: {=INDIRECT("'" & ROW(A11) & "'!$J$13")} -> 0 | I16: {=INDIRECT("'" & ROW(A11) & "'!$D$19")} -> 0 | N16: {=INDIRECT("'" & ROW(A11) & "'!$D$26")} -> 0 | O16: {=INDIRECT("'" & ROW(A11) & "'!$J$21")} -> 0 | P16: {=INDIRECT("'" & ROW(E11) & "'!$D$27")} -> 0 | R16: {=INDIRECT("'" & ROW(E11) & "'!$D$34")} -> 0 | S16: {=INDIRECT("'" & ROW(E11) & "'!$J$29")} -> 0 | T16: {=INDIRECT("'" & ROW(I11) & "'!$D$35")} -> 0
A17: 12 | B17: =VLOOKUP(一覧表!A17,名簿!$A$3:$D$42,一覧表!$J$1+1,TRUE) -> #N/A | C17: {=INDIRECT("'" & ROW(A12) & "'!$D$10")} -> 0 | D17: {=INDIRECT("'" & ROW(A12) & "'!$J$5")} -> 0 | E17: {=INDIRECT("'" & ROW(A12) & "'!$D$11")} -> 0 | G17: {=INDIRECT("'" & ROW(A12) & "'!$D$18")} -> 0 | H17: {=INDIRECT("'" & ROW(A12) & "'!$J$13")} -> 0 | I17: {=INDIRECT("'" & ROW(A12) & "'!$D$19")} -> 0 | N17: {=INDIRECT("'" & ROW(A12) & "'!$D$26")} -> 0 | O17: {=INDIRECT("'" & ROW(A12) & "'!$J$21")} -> 0 | P17: {=INDIRECT("'" & ROW(E12) & "'!$D$27")} -> 0 | R17: {=INDIRECT("'" & ROW(E12) & "'!$D$34")} -> 0 | S17: {=INDIRECT("'" & ROW(E12) & "'!$J$29")} -> 0 | T17: {=INDIRECT("'" & ROW(I12) & "'!$D$35")} -> 0
... A45: 40 | B45: =VLOOKUP(一覧表!A45,名簿!$A$3:$D$42,一覧表!$J$1+1,TRUE) -> #N/A | C45: {=INDIRECT("'" & ROW(A40) & "'!$D$10")} -> #REF! | D45: {=INDIRECT("'" & ROW(A40) & "'!$J$5")} -> #REF! | E45: {=INDIRECT("'" & ROW(A40) & "'!$D$11")} -> #REF! | G45: {=INDIRECT("'" & ROW(A40) & "'!$D$18")} -> #REF! | H45: {=INDIRECT("'" & ROW(A40) & "'!$J$13")} -> #REF! | I45: {=INDIRECT("'" & ROW(A40) & "'!$D$19")} -> #REF! | N45: {=INDIRECT("'" & ROW(A40) & "'!$D$26")} -> #REF! | O45: {=INDIRECT("'" & ROW(A40) & "'!$J$21")} -> #REF! | P45: {=INDIRECT("'" & ROW(E40) & "'!$D$27")} -> #REF! | R45: {=INDIRECT("'" & ROW(E40) & "'!$D$34")} -> #REF! | S45: {=INDIRECT("'" & ROW(E40) & "'!$J$29")} -> #REF! | T45: {=INDIRECT("'" & ROW(I40) & "'!$D$35")} -> #REF!

Sheet 記入例
B1: 名前 | D1: 内容 | E1: 平方根
D2: めあて | E2: √を使った計算を確実にできるようにしよう+難しい問題にもチャレンジしよう
D3: 単元のめあて | E3: 数の世界を広げよう
A4: 絶好調(*'▽') | B4: 1時間目 | C4: 意識するポイント | E4: 学習計画 (この授業、あなたは何をする？) | H4: 教科の内容や学び方のふりかえり （〇・・・良かったところ、△×・・・悪かったところ,→・・・次こうする）
A5: 良好( ^^) | C5: 現在の理解度 | D5: 9 | F5: 計画をたてる | G5: ☑ | H5: 今日の学習(理解度)は？ | J5: 9
A6: 普通(・_・) | E6: 1 | F6: プリントの裏をする
A7: イマイチ(-.-) | C7: 問題の数をこなす | E7: 2 | F7: ワークをする | H7: ちゃんと問題全部解けたけど−とか＋の間違えが多いからちゃんと見落としのないようにする！あとはもっと問題を解いて計算に慣れてもっと早く解けるようにしたいと思います。やっぱ大きな間違えはないけど凡ミスが多すぎるからそれをどんどん無くしていきたいと思う。そのためにはちゃんと見直しをしようと思います。
A8: サイアク(;´Д｀) | E8: 3
E9: 4
C10: 今日の調子 | D10: 絶好調(*'▽') | E10: 5
A11: ☑ | C11: 学び方は？(学習形態) | D11: 誰かと一緒に！ | F11: ふりかえり
B12: 2時間目 | C12: 意識するポイント | E12: 学習計画 (この授業、あなたは何をする？) | H12: 教科の内容や学び方のふりかえり （〇・・・良かったところ、△×・・・悪かったところ,→・・・次こうする）
C13: 現在の理解度 | D13: 9 | F13: 計画をたてる | G13: ☑ | H13: 今日の学習(理解度)は？ | J13: 8
A14: １人でじっくり・・・ | E14: 1 | F14: プリントを終わらせる
A15: 誰かと一緒に！ | C15: 問題を早く解く | E15: 2 | F15: どんどん進める | H15: 眠たくて全然頭に入らなかった。けどもプリントを終わらせれてよかった！！近似値のところもちゃんと1人でできて良かった！や表は計算ミスなくて満点やったからどんどん計算早くしてあってるようにしたい！！次は眠くならないようにしたい！次は一個だけ終わらせるだけじゃなくて2個終わらせたいと思います！
A16: 先生、教えて！ | E16: 3
A17: 教えに行きたい！ | E17: 4
A18: 計画以上に進んだ | C18: 今日の調子 | D18: 良好( ^^) | E18: 5
A19: 計画どおり | C19: 学び方は？(学習形態) | D19: 誰かと一緒に！ | F19: ふりかえり
A20: あまり進まなかった | B20: 3時間目 | C20: 意識するポイント | E20: 学習計画 (この授業、あなたは何をする？) | H20: 教科の内容や学び方のふりかえり （〇・・・良かったところ、△×・・・悪かったところ,→・・・次こうする）
C21: 現在の理解度 | D21: 10 | F21: 計画をたてる | G21: ☑ | H21: 今日の学習(理解度)は？ | J21: 10
E22: 1 | F22: プリントを終わらせる
C23: いっぱい問題を解く | E23: 2 | F23: ワークをする | H23: ルートを簡単にするのめっちゃめんどくさいけどやるしかないねんよなーー、けどめんどくさすぎる。覚えてるやつもあるけど大きすぎたらわからへんからいちいち素因数分解をしないといけないのがめんどくさい。でも計算慣れてきたから早くなった気がする。だからもっと問題の数をこなしてどんどん慣れて計算が早くなるようにしたいと思います。
E24: 3
E25: 4
C26: 今日の調子 | D26: 良好( ^^) | E26: 5
C27: 学び方は？(学習形態) | D27: 誰かと一緒に！ | F27: ふりかえり
B28: 4時間目 | C28: 意識するポイント | E28: 学習計画 (この授業、あなたは何をする？) | H28: 教科の内容や学び方のふりかえり （〇・・・良かったところ、△×・・・悪かったところ,→・・・次こうする）
C29: 現在の理解度 | F29: 計画をたてる | G29: ☑ | H29: 今日の学習(理解度)は？
E30: 1
E31: 2
E32: 3
E33: 4
C34: 今日の調子 | E34: 5
C35: 学び方は？(学習形態) | F35: ふりかえり

Sheet 1
B1: 名前 | C1: =一覧表!$B$6 -> #N/A | D1: 内容 | E1: =一覧表!$C$1 -> 0
D2: めあて | E2: =一覧表!$C$2 -> 0
D3: 単元のめあて | E3: =一覧表!$C$3 -> 0
A4: 絶好調(*'▽') | B4: 1時間目 | C4: 意識するポイント | E4: 学習計画 (この授業、あなたは何をする？) | H4: 教科の内容や学び方のふりかえり （〇・・・良かったところ、△×・・・悪かったところ,→・・・次こうする）
A5: 良好( ^^) | C5: 現在の理解度 | F5: 計画をたてる | G5: ☑ | H5: 今日の学習(理解度)は？
A6: 普通(・_・) | E6: 1
A7: イマイチ(-.-) | E7: 2
A8: サイアク(;´Д｀) | E8: 3
E9: 4
C10: 今日の調子 | E10: 5
A11: ☑ | C11: 学び方は？(学習形態) | F11: ふりかえり
B12: 2時間目 | C12: 意識するポイント | E12: 学習計画 (この授業、あなたは何をする？) | H12: 教科の内容や学び方のふりかえり （〇・・・良かったところ、△×・・・悪かったところ,→・・・次こうする）
C13: 現在の理解度 | F13: 計画をたてる | G13: ☑ | H13: 今日の学習(理解度)は？
A14: １人でじっくり・・・ | E14: 1
A15: 誰かと一緒に！ | E15: 2
A16: 先生、教えて！ | E16: 3
A17: 教えに行きたい！ | E17: 4
A18: 計画以上に進んだ | C18: 今日の調子 | E18: 5
A19: 計画どおり | C19: 学び方は？(学習形態) | F19: ふりかえり
A20: あまり進まなかった | B20: 3時間目 | C20: 意識するポイント | E20: 学習計画 (この授業、あなたは何をする？) | H20: 教科の内容や学び方のふりかえり （〇・・・良かったところ、△×・・・悪かったところ,→・・・次こうする）
C21: 現在の理解度 | F21: 計画をたてる | G21: ☑ | H21: 今日の学習(理解度)は？
E22: 1
E23: 2
E24: 3
E25: 4
C26: 今日の調子 | E26: 5
C27: 学び方は？(学習形態) | F27: ふりかえり
B28: 4時間目 | C28: 意識するポイント | E28: 学習計画 (この授業、あなたは何をする？) | H28: 教科の内容や学び方のふりかえり （〇・・・良かったところ、△×・・・悪かったところ,→・・・次こうする）
C29: 現在の理解度 | F29: 計画をたてる | G29: ☑ | H29: 今日の学習(理解度)は？
E30: 1
E31: 2
E32: 3
E33: 4
C34: 今日の調子 | E34: 5
C35: 学び方は？(学習形態) | F35: ふりかえり

Sheet 2
B1: 名前 | C1: =一覧表!$B$7 -> #N/A | D1: 内容 | E1: =一覧表!$C$1 -> 0
D2: めあて | E2: =一覧表!$C$2 -> 0
D3: 単元のめあて | E3: =一覧表!$C$3 -> 0
A4: 絶好調(*'▽') | B4: 1時間目 | C4: 意識するポイント | E4: 学習計画 (この授業、あなたは何をする？) | H4: 教科の内容や学び方のふりかえり （〇・・・良かったところ、△×・・・悪かったところ,→・・・次こうする）
A5: 良好( ^^) | C5: 現在の理解度 | F5: 計画をたてる | G5: ☑ | H5: 今日の学習(理解度)は？
A6: 普通(・_・) | E6: 1
A7: イマイチ(-.-) | E7: 2
A8: サイアク(;´Д｀) | E8: 3
E9: 4
C10: 今日の調子 | E10: 5
A11: ☑ | C11: 学び方は？(学習形態) | F11: ふりかえり
B12: 2時間目 | C12: 意識するポイント | E12: 学習計画 (この授業、あなたは何をする？) | H12: 教科の内容や学び方のふりかえり （〇・・・良かったところ、△×・・・悪かったところ,→・・・次こうする）
C13: 現在の理解度 | F13: 計画をたてる | G13: ☑ | H13: 今日の学習(理解度)は？
A14: １人でじっくり・・・ | E14: 1
A15: 誰かと一緒に！ | E15: 2
A16: 先生、教えて！ | E16: 3
A17: 教えに行きたい！ | E17: 4
A18: 計画以上に進んだ | C18: 今日の調子 | E18: 5
A19: 計画どおり | C19: 学び方は？(学習形態) | F19: ふりかえり
A20: あまり進まなかった | B20: 3時間目 | C20: 意識するポイント | E20: 学習計画 (この授業、あなたは何をする？) | H20: 教科の内容や学び方のふりかえり （〇・・・良かったところ、△×・・・悪かったところ,→・・・次こうする）
C21: 現在の理解度 | F21: 計画をたてる | G21: ☑ | H21: 今日の学習(理解度)は？
E22: 1
E23: 2
E24: 3
E25: 4
C26: 今日の調子 | E26: 5
C27: 学び方は？(学習形態) | F27: ふりかえり
B28: 4時間目 | C28: 意識するポイント | E28: 学習計画 (この授業、あなたは何をする？) | H28: 教科の内容や学び方のふりかえり （〇・・・良かったところ、△×・・・悪かったところ,→・・・次こうする）
C29: 現在の理解度 | F29: 計画をたてる | G29: ☑ | H29: 今日の学習(理解度)は？
E30: 1
E31: 2
E32: 3
E33: 4
C34: 今日の調子 | E34: 5
C35: 学び方は？(学習形態) | F35: ふりかえり

Sheet 3
B1: 名前 | C1: =一覧表!$B$8 -> #N/A | D1: 内容 | E1: =一覧表!$C$1 -> 0
D2: めあて | E2: =一覧表!$C$2 -> 0
D3: 単元のめあて | E3: =一覧表!$C$3 -> 0
A4: 絶好調(*'▽') | B4: 1時間目 | C4: 意識するポイント | E4: 学習計画 (この授業、あなたは何をする？) | H4: 教科の内容や学び方のふりかえり （〇・・・良かったところ、△×・・・悪かったところ,→・・・次こうする）
A5: 良好( ^^) | C5: 現在の理解度 | F5: 計画をたてる | G5: ☑ | H5: 今日の学習(理解度)は？
A6: 普通(・_・) | E6: 1
A7: イマイチ(-.-) | E7: 2
A8: サイアク(;´Д｀) | E8: 3
E9: 4
C10: 今日の調子 | E10: 5
A11: ☑ | C11: 学び方は？(学習形態) | F11: ふりかえり
B12: 2時間目 | C12: 意識するポイント | E12: 学習計画 (この授業、あなたは何をする？) | H12: 教科の内容や学び方のふりかえり （〇・・・良かったところ、△×・・・悪かったところ,→・・・次こうする）
C13: 現在の理解度 | F13: 計画をたてる | G13: ☑ | H13: 今日の学習(理解度)は？
A14: １人でじっくり・・・ | E14: 1
A15: 誰かと一緒に！ | E15: 2
A16: 先生、教えて！ | E16: 3
A17: 教えに行きたい！ | E17: 4
A18: 計画以上に進んだ | C18: 今日の調子 | E18: 5
A19: 計画どおり | C19: 学び方は？(学習形態) | F19: ふりかえり
A20: あまり進まなかった | B20: 3時間目 | C20: 意識するポイント | E20: 学習計画 (この授業、あなたは何をする？) | H20: 教科の内容や学び方のふりかえり （〇・・・良かったところ、△×・・・悪かったところ,→・・・次こうする）
C21: 現在の理解度 | F21: 計画をたてる | G21: ☑ | H21: 今日の学習(理解度)は？
E22: 1
E23: 2
E24: 3
E25: 4
C26: 今日の調子 | E26: 5
C27: 学び方は？(学習形態) | F27: ふりかえり
B28: 4時間目 | C28: 意識するポイント | E28: 学習計画 (この授業、あなたは何をする？) | H28: 教科の内容や学び方のふりかえり （〇・・・良かったところ、△×・・・悪かったところ,→・・・次こうする）
C29: 現在の理解度 | F29: 計画をたてる | G29: ☑ | H29: 今日の学習(理解度)は？
E30: 1
E31: 2
E32: 3
E33: 4
C34: 今日の調子 | E34: 5
C35: 学び方は？(学習形態) | F35: ふりかえり

Sheet 4
B1: 名前 | C1: =一覧表!$B$9 -> #N/A | D1: 内容 | E1: =一覧表!$C$1 -> 0
D2: めあて | E2: =一覧表!$C$2 -> 0
D3: 単元のめあて | E3: =一覧表!$C$3 -> 0
A4: 絶好調(*'▽') | B4: 1時間目 | C4: 意識するポイント | E4: 学習計画 (この授業、あなたは何をする？) | H4: 教科の内容や学び方のふりかえり （〇・・・良かったところ、△×・・・悪かったところ,→・・・次こうする）
A5: 良好( ^^) | C5: 現在の理解度 | F5: 計画をたてる | G5: ☑ | H5: 今日の学習(理解度)は？
A6: 普通(・_・) | E6: 1
A7: イマイチ(-.-) | E7: 2
A8: サイアク(;´Д｀) | E8: 3
E9: 4
C10: 今日の調子 | E10: 5
A11: ☑ | C11: 学び方は？(学習形態) | F11: ふりかえり
B12: 2時間目 | C12: 意識するポイント | E12: 学習計画 (この授業、あなたは何をする？) | H12: 教科の内容や学び方のふりかえり （〇・・・良かったところ、△×・・・悪かったところ,→・・・次こうする）
C13: 現在の理解度 | F13: 計画をたてる | G13: ☑ | H13: 今日の学習(理解度)は？
A14: １人でじっくり・・・ | E14: 1
A15: 誰かと一緒に！ | E15: 2
A16: 先生、教えて！ | E16: 3
A17: 教えに行きたい！ | E17: 4
A18: 計画以上に進んだ | C18: 今日の調子 | E18: 5
A19: 計画どおり | C19: 学び方は？(学習形態) | F19: ふりかえり
A20: あまり進まなかった | B20: 3時間目 | C20: 意識するポイント | E20: 学習計画 (この授業、あなたは何をする？) | H20: 教科の内容や学び方のふりかえり （〇・・・良かったところ、△×・・・悪かったところ,→・・・次こうする）
C21: 現在の理解度 | F21: 計画をたてる | G21: ☑ | H21: 今日の学習(理解度)は？
E22: 1
E23: 2
E24: 3
E25: 4
C26: 今日の調子 | E26: 5
C27: 学び方は？(学習形態) | F27: ふりかえり
B28: 4時間目 | C28: 意識するポイント | E28: 学習計画 (この授業、あなたは何をする？) | H28: 教科の内容や学び方のふりかえり （〇・・・良かったところ、△×・・・悪かったところ,→・・・次こうする）
C29: 現在の理解度 | F29: 計画をたてる | G29: ☑ | H29: 今日の学習(理解度)は？
E30: 1
E31: 2
E32: 3
E33: 4
C34: 今日の調子 | E34: 5
C35: 学び方は？(学習形態) | F35: ふりかえり

Sheet 5
B1: 名前 | C1: =一覧表!$B$10 -> #N/A | D1: 内容 | E1: =一覧表!$C$1 -> 0
D2: めあて | E2: =一覧表!$C$2 -> 0
D3: 単元のめあて | E3: =一覧表!$C$3 -> 0
A4: 絶好調(*'▽') | B4: 1時間目 | C4: 意識するポイント | E4: 学習計画 (この授業、あなたは何をする？) | H4: 教科の内容や学び方のふりかえり （〇・・・良かったところ、△×・・・悪かったところ,→・・・次こうする）
A5: 良好( ^^) | C5: 現在の理解度 | F5: 計画をたてる | G5: ☑ | H5: 今日の学習(理解度)は？
A6: 普通(・_・) | E6: 1
A7: イマイチ(-.-) | E7: 2
A8: サイアク(;´Д｀) | E8: 3
E9: 4
C10: 今日の調子 | E10: 5
A11: ☑ | C11: 学び方は？(学習形態) | F11: ふりかえり
B12: 2時間目 | C12: 意識するポイント | E12: 学習計画 (この授業、あなたは何をする？) | H12: 教科の内容や学び方のふりかえり （〇・・・良かったところ、△×・・・悪かったところ,→・・・次こうする）
C13: 現在の理解度 | F13: 計画をたてる | G13: ☑ | H13: 今日の学習(理解度)は？
A14: １人でじっくり・・・ | E14: 1
A15: 誰かと一緒に！ | E15: 2
A16: 先生、教えて！ | E16: 3
A17: 教えに行きたい！ | E17: 4
A18: 計画以上に進んだ | C18: 今日の調子 | E18: 5
A19: 計画どおり | C19: 学び方は？(学習形態) | F19: ふりかえり
A20: あまり進まなかった | B20: 3時間目 | C20: 意識するポイント | E20: 学習計画 (この授業、あなたは何をする？) | H20: 教科の内容や学び方のふりかえり （〇・・・良かったところ、△×・・・悪かったところ,→・・・次こうする）
C21: 現在の理解度 | F21: 計画をたてる | G21: ☑ | H21: 今日の学習(理解度)は？
E22: 1
E23: 2
E24: 3
E25: 4
C26: 今日の調子 | E26: 5
C27: 学び方は？(学習形態) | F27: ふりかえり
B28: 4時間目 | C28: 意識するポイント | E28: 学習計画 (この授業、あなたは何をする？) | H28: 教科の内容や学び方のふりかえり （〇・・・良かったところ、△×・・・悪かったところ,→・・・次こうする）
C29: 現在の理解度 | F29: 計画をたてる | G29: ☑ | H29: 今日の学習(理解度)は？
E30: 1
E31: 2
E32: 3
E33: 4
C34: 今日の調子 | E34: 5
C35: 学び方は？(学習形態) | F35: ふりかえり

Sheet 6
B1: 名前 | C1: =一覧表!$B$11 -> #N/A | D1: 内容 | E1: =一覧表!$C$1 -> 0
D2: めあて | E2: =一覧表!$C$2 -> 0
D3: 単元のめあて | E3: =一覧表!$C$3 -> 0
A4: 絶好調(*'▽') | B4: 1時間目 | C4: 意識するポイント | E4: 学習計画 (この授業、あなたは何をする？) | H4: 教科の内容や学び方のふりかえり （〇・・・良かったところ、△×・・・悪かったところ,→・・・次こうする）
A5: 良好( ^^) | C5: 現在の理解度 | F5: 計画をたてる | G5: ☑ | H5: 今日の学習(理解度)は？
A6: 普通(・_・) | E6: 1
A7: イマイチ(-.-) | E7: 2
A8: サイアク(;´Д｀) | E8: 3
E9: 4
C10: 今日の調子 | E10: 5
A11: ☑ | C11: 学び方は？(学習形態) | F11: ふりかえり
B12: 2時間目 | C12: 意識するポイント | E12: 学習計画 (この授業、あなたは何をする？) | H12: 教科の内容や学び方のふりかえり （〇・・・良かったところ、△×・・・悪かったところ,→・・・次こうする）
C13: 現在の理解度 | F13: 計画をたてる | G13: ☑ | H13: 今日の学習(理解度)は？
A14: １人でじっくり・・・ | E14: 1
A15: 誰かと一緒に！ | E15: 2
A16: 先生、教えて！ | E16: 3
A17: 教えに行きたい！ | E17: 4
A18: 計画以上に進んだ | C18: 今日の調子 | E18: 5
A19: 計画どおり | C19: 学び方は？(学習形態) | F19: ふりかえり
A20: あまり進まなかった | B20: 3時間目 | C20: 意識するポイント | E20: 学習計画 (この授業、あなたは何をする？) | H20: 教科の内容や学び方のふりかえり （〇・・・良かったところ、△×・・・悪かったところ,→・・・次こうする）
C21: 現在の理解度 | F21: 計画をたてる | G21: ☑ | H21: 今日の学習(理解度)は？
E22: 1
E23: 2
E24: 3
E25: 4
C26: 今日の調子 | E26: 5
C27: 学び方は？(学習形態) | F27: ふりかえり
B28: 4時間目 | C28: 意識するポイント | E28: 学習計画 (この授業、あなたは何をする？) | H28: 教科の内容や学び方のふりかえり （〇・・・良かったところ、△×・・・悪かったところ,→・・・次こうする）
C29: 現在の理解度 | F29: 計画をたてる | G29: ☑ | H29: 今日の学習(理解度)は？
E30: 1
E31: 2
E32: 3
E33: 4
C34: 今日の調子 | E34: 5
C35: 学び方は？(学習形態) | F35: ふりかえり

Sheet 7
B1: 名前 | C1: =一覧表!$B$12 -> #N/A | D1: 内容 | E1: =一覧表!$C$1 -> 0
D2: めあて | E2: =一覧表!$C$2 -> 0
D3: 単元のめあて | E3: =一覧表!$C$3 -> 0
A4: 絶好調(*'▽') | B4: 1時間目 | C4: 意識するポイント | E4: 学習計画 (この授業、あなたは何をする？) | H4: 教科の内容や学び方のふりかえり （〇・・・良かったところ、△×・・・悪かったところ,→・・・次こうする）
A5: 良好( ^^) | C5: 現在の理解度 | F5: 計画をたてる | G5: ☑ | H5: 今日の学習(理解度)は？
A6: 普通(・_・) | E6: 1
A7: イマイチ(-.-) | E7: 2
A8: サイアク(;´Д｀) | E8: 3
E9: 4
C10: 今日の調子 | E10: 5
A11: ☑ | C11: 学び方は？(学習形態) | F11: ふりかえり
B12: 2時間目 | C12: 意識するポイント | E12: 学習計画 (この授業、あなたは何をする？) | H12: 教科の内容や学び方のふりかえり （〇・・・良かったところ、△×・・・悪かったところ,→・・・次こうする）
C13: 現在の理解度 | F13: 計画をたてる | G13: ☑ | H13: 今日の学習(理解度)は？
A14: １人でじっくり・・・ | E14: 1
A15: 誰かと一緒に！ | E15: 2
A16: 先生、教えて！ | E16: 3
A17: 教えに行きたい！ | E17: 4
A18: 計画以上に進んだ | C18: 今日の調子 | E18: 5
A19: 計画どおり | C19: 学び方は？(学習形態) | F19: ふりかえり
A20: あまり進まなかった | B20: 3時間目 | C20: 意識するポイント | E20: 学習計画 (この授業、あなたは何をする？) | H20: 教科の内容や学び方のふりかえり （〇・・・良かったところ、△×・・・悪かったところ,→・・・次こうする）
C21: 現在の理解度 | F21: 計画をたてる | G21: ☑ | H21: 今日の学習(理解度)は？
E22: 1
E23: 2
E24: 3
E25: 4
C26: 今日の調子 | E26: 5
C27: 学び方は？(学習形態) | F27: ふりかえり
B28: 4時間目 | C28: 意識するポイント | E28: 学習計画 (この授業、あなたは何をする？) | H28: 教科の内容や学び方のふりかえり （〇・・・良かったところ、△×・・・悪かったところ,→・・・次こうする）
C29: 現在の理解度 | F29: 計画をたてる | G29: ☑ | H29: 今日の学習(理解度)は？
E30: 1
E31: 2
E32: 3
E33: 4
C34: 今日の調子 | E34: 5
C35: 学び方は？(学習形態) | F35: ふりかえり

Sheet 8
B1: 名前 | C1: =一覧表!$B$13 -> #N/A | D1: 内容 | E1: =一覧表!$C$1 -> 0
D2: めあて | E2: =一覧表!$C$2 -> 0
D3: 単元のめあて | E3: =一覧表!$C$3 -> 0
A4: 絶好調(*'▽') | B4: 1時間目 | C4: 意識するポイント | E4: 学習計画 (この授業、あなたは何をする？) | H4: 教科の内容や学び方のふりかえり （〇・・・良かったところ、△×・・・悪かったところ,→・・・次こうする）
A5: 良好( ^^) | C5: 現在の理解度 | F5: 計画をたてる | G5: ☑ | H5: 今日の学習(理解度)は？
A6: 普通(・_・) | E6: 1
A7: イマイチ(-.-) | E7: 2
A8: サイアク(;´Д｀) | E8: 3
E9: 4
C10: 今日の調子 | E10: 5
A11: ☑ | C11: 学び方は？(学習形態) | F11: ふりかえり
B12: 2時間目 | C12: 意識するポイント | E12: 学習計画 (この授業、あなたは何をする？) | H12: 教科の内容や学び方のふりかえり （〇・・・良かったところ、△×・・・悪かったところ,→・・・次こうする）
C13: 現在の理解度 | F13: 計画をたてる | G13: ☑ | H13: 今日の学習(理解度)は？
A14: １人でじっくり・・・ | E14: 1
A15: 誰かと一緒に！ | E15: 2
A16: 先生、教えて！ | E16: 3
A17: 教えに行きたい！ | E17: 4
A18: 計画以上に進んだ | C18: 今日の調子 | E18: 5
A19: 計画どおり | C19: 学び方は？(学習形態) | F19: ふりかえり
A20: あまり進まなかった | B20: 3時間目 | C20: 意識するポイント | E20: 学習計画 (この授業、あなたは何をする？) | H20: 教科の内容や学び方のふりかえり （〇・・・良かったところ、△×・・・悪かったところ,→・・・次こうする）
C21: 現在の理解度 | F21: 計画をたてる | G21: ☑ | H21: 今日の学習(理解度)は？
E22: 1
E23: 2
E24: 3
E25: 4
C26: 今日の調子 | E26: 5
C27: 学び方は？(学習形態) | F27: ふりかえり
B28: 4時間目 | C28: 意識するポイント | E28: 学習計画 (この授業、あなたは何をする？) | H28: 教科の内容や学び方のふりかえり （〇・・・良かったところ、△×・・・悪かったところ,→・・・次こうする）
C29: 現在の理解度 | F29: 計画をたてる | G29: ☑ | H29: 今日の学習(理解度)は？
E30: 1
E31: 2
E32: 3
E33: 4
C34: 今日の調子 | E34: 5
C35: 学び方は？(学習形態) | F35: ふりかえり

Sheet 9
B1: 名前 | C1: =一覧表!$B$14 -> #N/A | D1: 内容 | E1: =一覧表!$C$1 -> 0
D2: めあて | E2: =一覧表!$C$2 -> 0
D3: 単元のめあて | E3: =一覧表!$C$3 -> 0
A4: 絶好調(*'▽') | B4: 1時間目 | C4: 意識するポイント | E4: 学習計画 (この授業、あなたは何をする？) | H4: 教科の内容や学び方のふりかえり （〇・・・良かったところ、△×・・・悪かったところ,→・・・次こうする）
A5: 良好( ^^) | C5: 現在の理解度 | F5: 計画をたてる | G5: ☑ | H5: 今日の学習(理解度)は？
A6: 普通(・_・) | E6: 1
A7: イマイチ(-.-) | E7: 2
A8: サイアク(;´Д｀) | E8: 3
E9: 4
C10: 今日の調子 | E10: 5
A11: ☑ | C11: 学び方は？(学習形態) | F11: ふりかえり
B12: 2時間目 | C12: 意識するポイント | E12: 学習計画 (この授業、あなたは何をする？) | H12: 教科の内容や学び方のふりかえり （〇・・・良かったところ、△×・・・悪かったところ,→・・・次こうする）
C13: 現在の理解度 | F13: 計画をたてる | G13: ☑ | H13: 今日の学習(理解度)は？
A14: １人でじっくり・・・ | E14: 1
A15: 誰かと一緒に！ | E15: 2
A16: 先生、教えて！ | E16: 3
A17: 教えに行きたい！ | E17: 4
A18: 計画以上に進んだ | E18: 5
A19: 計画どおり | C19: 学び方は？(学習形態) | F19: ふりかえり
A20: あまり進まなかった | B20: 3時間目 | C20: 意識するポイント | E20: 学習計画 (この授業、あなたは何をする？) | H20: 教科の内容や学び方のふりかえり （〇・・・良かったところ、△×・・・悪かったところ,→・・・次こうする）
C21: 現在の理解度 | F21: 計画をたてる | G21: ☑ | H21: 今日の学習(理解度)は？
E22: 1
E23: 2
E24: 3
E25: 4
C26: 今日の調子 | E26: 5
C27: 学び方は？(学習形態) | F27: ふりかえり
B28: 4時間目 | C28: 意識するポイント | E28: 学習計画 (この授業、あなたは何をする？) | H28: 教科の内容や学び方のふりかえり （〇・・・良かったところ、△×・・・悪かったところ,→・・・次こうする）
C29: 現在の理解度 | F29: 計画をたてる | G29: ☑ | H29: 今日の学習(理解度)は？
E30: 1
E31: 2
E32: 3
E33: 4
C34: 今日の調子 | E34: 5
C35: 学び方は？(学習形態) | F35: ふりかえり

Sheet 10
B1: 名前 | C1: =一覧表!$B$15 -> #N/A | D1: 内容 | E1: =一覧表!$C$1 -> 0
D2: めあて | E2: =一覧表!$C$2 -> 0
D3: 単元のめあて | E3: =一覧表!$C$3 -> 0
A4: 絶好調(*'▽') | B4: 1時間目 | C4: 意識するポイント | E4: 学習計画 (この授業、あなたは何をする？) | H4: 教科の内容や学び方のふりかえり （〇・・・良かったところ、△×・・・悪かったところ,→・・・次こうする）
A5: 良好( ^^) | C5: 現在の理解度 | F5: 計画をたてる | G5: ☑ | H5: 今日の学習(理解度)は？
A6: 普通(・_・) | E6: 1
A7: イマイチ(-.-) | E7: 2
A8: サイアク(;´Д｀) | E8: 3
E9: 4
C10: 今日の調子 | E10: 5
A11: ☑ | C11: 学び方は？(学習形態) | F11: ふりかえり
B12: 2時間目 | C12: 意識するポイント | E12: 学習計画 (この授業、あなたは何をする？) | H12: 教科の内容や学び方のふりかえり （〇・・・良かったところ、△×・・・悪かったところ,→・・・次こうする）
C13: 現在の理解度 | F13: 計画をたてる | G13: ☑ | H13: 今日の学習(理解度)は？
A14: １人でじっくり・・・ | E14: 1
A15: 誰かと一緒に！ | E15: 2
A16: 先生、教えて！ | E16: 3
A17: 教えに行きたい！ | E17: 4
A18: 計画以上に進んだ | C18: 今日の調子 | E18: 5
A19: 計画どおり | C19: 学び方は？(学習形態) | F19: ふりかえり
A20: あまり進まなかった | B20: 3時間目 | C20: 意識するポイント | E20: 学習計画 (この授業、あなたは何をする？) | H20: 教科の内容や学び方のふりかえり （〇・・・良かったところ、△×・・・悪かったところ,→・・・次こうする）
C21: 現在の理解度 | F21: 計画をたてる | G21: ☑ | H21: 今日の学習(理解度)は？
E22: 1
E23: 2
E24: 3
E25: 4
C26: 今日の調子 | E26: 5
C27: 学び方は？(学習形態) | F27: ふりかえり
B28: 4時間目 | C28: 意識するポイント | E28: 学習計画 (この授業、あなたは何をする？) | H28: 教科の内容や学び方のふりかえり （〇・・・良かったところ、△×・・・悪かったところ,→・・・次こうする）
C29: 現在の理解度 | F29: 計画をたてる | G29: ☑ | H29: 今日の学習(理解度)は？
E30: 1
E31: 2
E32: 3
E33: 4
C34: 今日の調子 | E34: 5
C35: 学び方は？(学習形態) | F35: ふりかえり

Sheet 11
B1: 名前 | C1: =一覧表!$B$16 -> #N/A | D1: 内容 | E1: =一覧表!$C$1 -> 0
D2: めあて | E2: =一覧表!$C$2 -> 0
D3: 単元のめあて | E3: =一覧表!$C$3 -> 0
A4: 絶好調(*'▽') | B4: 1時間目 | C4: 意識するポイント | E4: 学習計画 (この授業、あなたは何をする？) | H4: 教科の内容や学び方のふりかえり （〇・・・良かったところ、△×・・・悪かったところ,→・・・次こうする）
A5: 良好( ^^) | C5: 現在の理解度 | F5: 計画をたてる | G5: ☑ | H5: 今日の学習(理解度)は？
A6: 普通(・_・) | E6: 1
A7: イマイチ(-.-) | E7: 2
A8: サイアク(;´Д｀) | E8: 3
E9: 4
C10: 今日の調子 | E10: 5
A11: ☑ | C11: 学び方は？(学習形態) | F11: ふりかえり
B12: 2時間目 | C12: 意識するポイント | E12: 学習計画 (この授業、あなたは何をする？) | H12: 教科の内容や学び方のふりかえり （〇・・・良かったところ、△×・・・悪かったところ,→・・・次こうする）
C13: 現在の理解度 | F13: 計画をたてる | G13: ☑ | H13: 今日の学習(理解度)は？
A14: １人でじっくり・・・ | E14: 1
A15: 誰かと一緒に！ | E15: 2
A16: 先生、教えて！ | E16: 3
A17: 教えに行きたい！ | E17: 4
A18: 計画以上に進んだ | C18: 今日の調子 | E18: 5
A19: 計画どおり | C19: 学び方は？(学習形態) | F19: ふりかえり
A20: あまり進まなかった | B20: 3時間目 | C20: 意識するポイント | E20: 学習計画 (この授業、あなたは何をする？) | H20: 教科の内容や学び方のふりかえり （〇・・・良かったところ、△×・・・悪かったところ,→・・・次こうする）
C21: 現在の理解度 | F21: 計画をたてる | G21: ☑ | H21: 今日の学習(理解度)は？
E22: 1
E23: 2
E24: 3
E25: 4
C26: 今日の調子 | E26: 5
C27: 学び方は？(学習形態) | F27: ふりかえり
B28: 4時間目 | C28: 意識するポイント | E28: 学習計画 (この授業、あなたは何をする？) | H28: 教科の内容や学び方のふりかえり （〇・・・良かったところ、△×・・・悪かったところ,→・・・次こうする）
C29: 現在の理解度 | F29: 計画をたてる | G29: ☑ | H29: 今日の学習(理解度)は？
E30: 1
E31: 2
E32: 3
E33: 4
C34: 今日の調子 | E34: 5
C35: 学び方は？(学習形態) | F35: ふりかえり

Sheet 12
B1: 名前 | C1: =一覧表!$B$17 -> #N/A | D1: 内容 | E1: =一覧表!$C$1 -> 0
D2: めあて | E2: =一覧表!$C$2 -> 0
D3: 単元のめあて | E3: =一覧表!$C$3 -> 0
A4: 絶好調(*'▽') | B4: 1時間目 | C4: 意識するポイント | E4: 学習計画 (この授業、あなたは何をする？) | H4: 教科の内容や学び方のふりかえり （〇・・・良かったところ、△×・・・悪かったところ,→・・・次こうする）
A5: 良好( ^^) | C5: 現在の理解度 | F5: 計画をたてる | G5: ☑ | H5: 今日の学習(理解度)は？
A6: 普通(・_・) | E6: 1
A7: イマイチ(-.-) | E7: 2
A8: サイアク(;´Д｀) | E8: 3
E9: 4
C10: 今日の調子 | E10: 5
A11: ☑ | C11: 学び方は？(学習形態) | F11: ふりかえり
B12: 2時間目 | C12: 意識するポイント | E12: 学習計画 (この授業、あなたは何をする？) | H12: 教科の内容や学び方のふりかえり （〇・・・良かったところ、△×・・・悪かったところ,→・・・次こうする）
C13: 現在の理解度 | F13: 計画をたてる | G13: ☑ | H13: 今日の学習(理解度)は？
A14: １人でじっくり・・・ | E14: 1
A15: 誰かと一緒に！ | E15: 2
A16: 先生、教えて！ | E16: 3
A17: 教えに行きたい！ | E17: 4
A18: 計画以上に進んだ | C18: 今日の調子 | E18: 5
A19: 計画どおり | C19: 学び方は？(学習形態) | F19: ふりかえり
A20: あまり進まなかった | B20: 3時間目 | C20: 意識するポイント | E20: 学習計画 (この授業、あなたは何をする？) | H20: 教科の内容や学び方のふりかえり （〇・・・良かったところ、△×・・・悪かったところ,→・・・次こうする）
C21: 現在の理解度 | F21: 計画をたてる | G21: ☑ | H21: 今日の学習(理解度)は？
E22: 1
E23: 2
E24: 3
E25: 4
C26: 今日の調子 | E26: 5
C27: 学び方は？(学習形態) | F27: ふりかえり
B28: 4時間目 | C28: 意識するポイント | E28: 学習計画 (この授業、あなたは何をする？) | H28: 教科の内容や学び方のふりかえり （〇・・・良かったところ、△×・・・悪かったところ,→・・・次こうする）
C29: 現在の理解度 | F29: 計画をたてる | G29: ☑ | H29: 今日の学習(理解度)は？
E30: 1
E31: 2
E32: 3
E33: 4
C34: 今日の調子 | E34: 5
C35: 学び方は？(学習形態) | F35: ふりかえり

Sheet 13
B1: 名前 | C1: =一覧表!$B$18 -> #N/A | D1: 内容 | E1: =一覧表!$C$1 -> 0
D2: めあて | E2: =一覧表!$C$2 -> 0
D3: 単元のめあて | E3: =一覧表!$C$3 -> 0
A4: 絶好調(*'▽') | B4: 1時間目 | C4: 意識するポイント | E4: 学習計画 (この授業、あなたは何をする？) | H4: 教科の内容や学び方のふりかえり （〇・・・良かったところ、△×・・・悪かったところ,→・・・次こうする）
A5: 良好( ^^) | C5: 現在の理解度 | F5: 計画をたてる | G5: ☑ | H5: 今日の学習(理解度)は？
A6: 普通(・_・) | E6: 1
A7: イマイチ(-.-) | E7: 2
A8: サイアク(;´Д｀) | E8: 3
E9: 4
C10: 今日の調子 | E10: 5
A11: ☑ | C11: 学び方は？(学習形態) | F11: ふりかえり
B12: 2時間目 | C12: 意識するポイント | E12: 学習計画 (この授業、あなたは何をする？) | H12: 教科の内容や学び方のふりかえり （〇・・・良かったところ、△×・・・悪かったところ,→・・・次こうする）
C13: 現在の理解度 | F13: 計画をたてる | G13: ☑ | H13: 今日の学習(理解度)は？
A14: １人でじっくり・・・ | E14: 1
A15: 誰かと一緒に！ | E15: 2
A16: 先生、教えて！ | E16: 3
A17: 教えに行きたい！ | E17: 4
A18: 計画以上に進んだ | C18: 今日の調子 | E18: 5
A19: 計画どおり | C19: 学び方は？(学習形態) | F19: ふりかえり
A20: あまり進まなかった | B20: 3時間目 | C20: 意識するポイント | E20: 学習計画 (この授業、あなたは何をする？) | H20: 教科の内容や学び方のふりかえり （〇・・・良かったところ、△×・・・悪かったところ,→・・・次こうする）
C21: 現在の理解度 | F21: 計画をたてる | G21: ☑ | H21: 今日の学習(理解度)は？
E22: 1
E23: 2
E24: 3
E25: 4
C26: 今日の調子 | E26: 5
C27: 学び方は？(学習形態) | F27: ふりかえり
B28: 4時間目 | C28: 意識するポイント | E28: 学習計画 (この授業、あなたは何をする？) | H28: 教科の内容や学び方のふりかえり （〇・・・良かったところ、△×・・・悪かったところ,→・・・次こうする）
C29: 現在の理解度 | F29: 計画をたてる | G29: ☑ | H29: 今日の学習(理解度)は？
E30: 1
E31: 2
E32: 3
E33: 4
C34: 今日の調子 | E34: 5
C35: 学び方は？(学習形態) | F35: ふりかえり

Sheet 14
B1: 名前 | C1: =一覧表!$B$19 -> #N/A | D1: 内容 | E1: =一覧表!$C$1 -> 0
D2: めあて | E2: =一覧表!$C$2 -> 0
D3: 単元のめあて | E3: =一覧表!$C$3 -> 0
A4: 絶好調(*'▽') | B4: 1時間目 | C4: 意識するポイント | E4: 学習計画 (この授業、あなたは何をする？) | H4: 教科の内容や学び方のふりかえり （〇・・・良かったところ、△×・・・悪かったところ,→・・・次こうする）
A5: 良好( ^^) | C5: 現在の理解度 | F5: 計画をたてる | G5: ☑ | H5: 今日の学習(理解度)は？
A6: 普通(・_・) | E6: 1
A7: イマイチ(-.-) | E7: 2
A8: サイアク(;´Д｀) | E8: 3
E9: 4
C10: 今日の調子 | E10: 5
A11: ☑ | C11: 学び方は？(学習形態) | F11: ふりかえり
B12: 2時間目 | C12: 意識するポイント | E12: 学習計画 (この授業、あなたは何をする？) | H12: 教科の内容や学び方のふりかえり （〇・・・良かったところ、△×・・・悪かったところ,→・・・次こうする）
C13: 現在の理解度 | F13: 計画をたてる | G13: ☑ | H13: 今日の学習(理解度)は？
A14: １人でじっくり・・・ | E14: 1
A15: 誰かと一緒に！ | E15: 2
A16: 先生、教えて！ | E16: 3
A17: 教えに行きたい！ | E17: 4
A18: 計画以上に進んだ | C18: 今日の調子 | E18: 5
A19: 計画どおり | C19: 学び方は？(学習形態) | F19: ふりかえり
A20: あまり進まなかった | B20: 3時間目 | C20: 意識するポイント | E20: 学習計画 (この授業、あなたは何をする？) | H20: 教科の内容や学び方のふりかえり （〇・・・良かったところ、△×・・・悪かったところ,→・・・次こうする）
C21: 現在の理解度 | F21: 計画をたてる | G21: ☑ | H21: 今日の学習(理解度)は？
E22: 1
E23: 2
E24: 3
E25: 4
C26: 今日の調子 | E26: 5
C27: 学び方は？(学習形態) | F27: ふりかえり
B28: 4時間目 | C28: 意識するポイント | E28: 学習計画 (この授業、あなたは何をする？) | H28: 教科の内容や学び方のふりかえり （〇・・・良かったところ、△×・・・悪かったところ,→・・・次こうする）
C29: 現在の理解度 | F29: 計画をたてる | G29: ☑ | H29: 今日の学習(理解度)は？
E30: 1
E31: 2
E32: 3
E33: 4
C34: 今日の調子 | E34: 5
C35: 学び方は？(学習形態) | F35: ふりかえり

Sheet 15
B1: 名前 | C1: =一覧表!$B$20 -> #N/A | D1: 内容 | E1: =一覧表!$C$1 -> 0
D2: めあて | E2: =一覧表!$C$2 -> 0
D3: 単元のめあて | E3: =一覧表!$C$3 -> 0
A4: 絶好調(*'▽') | B4: 1時間目 | C4: 意識するポイント | E4: 学習計画 (この授業、あなたは何をする？) | H4: 教科の内容や学び方のふりかえり （〇・・・良かったところ、△×・・・悪かったところ,→・・・次こうする）
A5: 良好( ^^) | C5: 現在の理解度 | F5: 計画をたてる | G5: ☑ | H5: 今日の学習(理解度)は？
A6: 普通(・_・) | E6: 1
A7: イマイチ(-.-) | E7: 2
A8: サイアク(;´Д｀) | E8: 3
E9: 4
C10: 今日の調子 | E10: 5
A11: ☑ | C11: 学び方は？(学習形態) | F11: ふりかえり
B12: 2時間目 | C12: 意識するポイント | E12: 学習計画 (この授業、あなたは何をする？) | H12: 教科の内容や学び方のふりかえり （〇・・・良かったところ、△×・・・悪かったところ,→・・・次こうする）
C13: 現在の理解度 | F13: 計画をたてる | G13: ☑ | H13: 今日の学習(理解度)は？
A14: １人でじっくり・・・ | E14: 1
A15: 誰かと一緒に！ | E15: 2
A16: 先生、教えて！ | E16: 3
A17: 教えに行きたい！ | E17: 4
A18: 計画以上に進んだ | C18: 今日の調子 | E18: 5
A19: 計画どおり | C19: 学び方は？(学習形態) | F19: ふりかえり
A20: あまり進まなかった | B20: 3時間目 | C20: 意識するポイント | E20: 学習計画 (この授業、あなたは何をする？) | H20: 教科の内容や学び方のふりかえり （〇・・・良かったところ、△×・・・悪かったところ,→・・・次こうする）
C21: 現在の理解度 | F21: 計画をたてる | G21: ☑ | H21: 今日の学習(理解度)は？
E22: 1
E23: 2
E24: 3
E25: 4
C26: 今日の調子 | E26: 5
C27: 学び方は？(学習形態) | F27: ふりかえり
B28: 4時間目 | C28: 意識するポイント | E28: 学習計画 (この授業、あなたは何をする？) | H28: 教科の内容や学び方のふりかえり （〇・・・良かったところ、△×・・・悪かったところ,→・・・次こうする）
C29: 現在の理解度 | F29: 計画をたてる | G29: ☑ | H29: 今日の学習(理解度)は？
E30: 1
E31: 2
E32: 3
E33: 4
C34: 今日の調子 | E34: 5
C35: 学び方は？(学習形態) | F35: ふりかえり

Sheet 16
B1: 名前 | C1: =一覧表!$B$21 -> #N/A | D1: 内容 | E1: =一覧表!$C$1 -> 0
D2: めあて | E2: =一覧表!$C$2 -> 0
D3: 単元のめあて | E3: =一覧表!$C$3 -> 0
A4: 絶好調(*'▽') | B4: 1時間目 | C4: 意識するポイント | E4: 学習計画 (この授業、あなたは何をする？) | H4: 教科の内容や学び方のふりかえり （〇・・・良かったところ、△×・・・悪かったところ,→・・・次こうする）
A5: 良好( ^^) | C5: 現在の理解度 | F5: 計画をたてる | G5: ☑ | H5: 今日の学習(理解度)は？
A6: 普通(・_・) | E6: 1
A7: イマイチ(-.-) | E7: 2
A8: サイアク(;´Д｀) | E8: 3
E9: 4
C10: 今日の調子 | E10: 5
A11: ☑ | C11: 学び方は？(学習形態) | F11: ふりかえり
B12: 2時間目 | C12: 意識するポイント | E12: 学習計画 (この授業、あなたは何をする？) | H12: 教科の内容や学び方のふりかえり （〇・・・良かったところ、△×・・・悪かったところ,→・・・次こうする）
C13: 現在の理解度 | F13: 計画をたてる | G13: ☑ | H13: 今日の学習(理解度)は？
A14: １人でじっくり・・・ | E14: 1
A15: 誰かと一緒に！ | E15: 2
A16: 先生、教えて！ | E16: 3
A17: 教えに行きたい！ | E17: 4
A18: 計画以上に進んだ | C18: 今日の調子 | E18: 5
A19: 計画どおり | C19: 学び方は？(学習形態) | F19: ふりかえり
A20: あまり進まなかった | B20: 3時間目 | C20: 意識するポイント | E20: 学習計画 (この授業、あなたは何をする？) | H20: 教科の内容や学び方のふりかえり （〇・・・良かったところ、△×・・・悪かったところ,→・・・次こうする）
C21: 現在の理解度 | F21: 計画をたてる | G21: ☑ | H21: 今日の学習(理解度)は？
E22: 1
E23: 2
E24: 3
E25: 4
C26: 今日の調子 | E26: 5
C27: 学び方は？(学習形態) | F27: ふりかえり
B28: 4時間目 | C28: 意識するポイント | E28: 学習計画 (この授業、あなたは何をする？) | H28: 教科の内容や学び方のふりかえり （〇・・・良かったところ、△×・・・悪かったところ,→・・・次こうする）
C29: 現在の理解度 | F29: 計画をたてる | G29: ☑ | H29: 今日の学習(理解度)は？
E30: 1
E31: 2
E32: 3
E33: 4
C34: 今日の調子 | E34: 5
C35: 学び方は？(学習形態) | F35: ふりかえり

Sheet 17
B1: 名前 | C1: =一覧表!$B$22 -> #N/A | D1: 内容 | E1: =一覧表!$C$1 -> 0
D2: めあて | E2: =一覧表!$C$2 -> 0
D3: 単元のめあて | E3: =一覧表!$C$3 -> 0
A4: 絶好調(*'▽') | B4: 1時間目 | C4: 意識するポイント | E4: 学習計画 (この授業、あなたは何をする？) | H4: 教科の内容や学び方のふりかえり （〇・・・良かったところ、△×・・・悪かったところ,→・・・次こうする）
A5: 良好( ^^) | C5: 現在の理解度 | F5: 計画をたてる | G5: ☑ | H5: 今日の学習(理解度)は？
A6: 普通(・_・) | E6: 1
A7: イマイチ(-.-) | E7: 2
A8: サイアク(;´Д｀) | E8: 3
E9: 4
C10: 今日の調子 | E10: 5
A11: ☑ | C11: 学び方は？(学習形態) | F11: ふりかえり
B12: 2時間目 | C12: 意識するポイント | E12: 学習計画 (この授業、あなたは何をする？) | H12: 教科の内容や学び方のふりかえり （〇・・・良かったところ、△×・・・悪かったところ,→・・・次こうする）
C13: 現在の理解度 | F13: 計画をたてる | G13: ☑ | H13: 今日の学習(理解度)は？
A14: １人でじっくり・・・ | E14: 1
A15: 誰かと一緒に！ | E15: 2
A16: 先生、教えて！ | E16: 3
A17: 教えに行きたい！ | E17: 4
A18: 計画以上に進んだ | C18: 今日の調子 | E18: 5
A19: 計画どおり | C19: 学び方は？(学習形態) | F19: ふりかえり
A20: あまり進まなかった | B20: 3時間目 | C20: 意識するポイント | E20: 学習計画 (この授業、あなたは何をする？) | H20: 教科の内容や学び方のふりかえり （〇・・・良かったところ、△×・・・悪かったところ,→・・・次こうする）
C21: 現在の理解度 | F21: 計画をたてる | G21: ☑ | H21: 今日の学習(理解度)は？
E22: 1
E23: 2
E24: 3
E25: 4
C26: 今日の調子 | E26: 5
C27: 学び方は？(学習形態) | F27: ふりかえり
B28: 4時間目 | C28: 意識するポイント | E28: 学習計画 (この授業、あなたは何をする？) | H28: 教科の内容や学び方のふりかえり （〇・・・良かったところ、△×・・・悪かったところ,→・・・次こうする）
C29: 現在の理解度 | F29: 計画をたてる | G29: ☑ | H29: 今日の学習(理解度)は？
E30: 1
E31: 2
E32: 3
E33: 4
C34: 今日の調子 | E34: 5
C35: 学び方は？(学習形態) | F35: ふりかえり

Sheet 18
B1: 名前 | C1: =一覧表!$B$23 -> #N/A | D1: 内容 | E1: =一覧表!$C$1 -> 0
D2: めあて | E2: =一覧表!$C$2 -> 0
D3: 単元のめあて | E3: =一覧表!$C$3 -> 0
A4: 絶好調(*'▽') | B4: 1時間目 | C4: 意識するポイント | E4: 学習計画 (この授業、あなたは何をする？) | H4: 教科の内容や学び方のふりかえり （〇・・・良かったところ、△×・・・悪かったところ,→・・・次こうする）
A5: 良好( ^^) | C5: 現在の理解度 | F5: 計画をたてる | G5: ☑ | H5: 今日の学習(理解度)は？
A6: 普通(・_・) | E6: 1
A7: イマイチ(-.-) | E7: 2
A8: サイアク(;´Д｀) | E8: 3
E9: 4
C10: 今日の調子 | E10: 5
A11: ☑ | C11: 学び方は？(学習形態) | F11: ふりかえり
B12: 2時間目 | C12: 意識するポイント | E12: 学習計画 (この授業、あなたは何をする？) | H12: 教科の内容や学び方のふりかえり （〇・・・良かったところ、△×・・・悪かったところ,→・・・次こうする）
C13: 現在の理解度 | F13: 計画をたてる | G13: ☑ | H13: 今日の学習(理解度)は？
A14: １人でじっくり・・・ | E14: 1
A15: 誰かと一緒に！ | E15: 2
A16: 先生、教えて！ | E16: 3
A17: 教えに行きたい！ | E17: 4
A18: 計画以上に進んだ | C18: 今日の調子 | E18: 5
A19: 計画どおり | C19: 学び方は？(学習形態) | F19: ふりかえり
A20: あまり進まなかった | B20: 3時間目 | C20: 意識するポイント | E20: 学習計画 (この授業、あなたは何をする？) | H20: 教科の内容や学び方のふりかえり （〇・・・良かったところ、△×・・・悪かったところ,→・・・次こうする）
C21: 現在の理解度 | F21: 計画をたてる | G21: ☑ | H21: 今日の学習(理解度)は？
E22: 1
E23: 2
E24: 3
E25: 4
C26: 今日の調子 | E26: 5
C27: 学び方は？(学習形態) | F27: ふりかえり
B28: 4時間目 | C28: 意識するポイント | E28: 学習計画 (この授業、あなたは何をする？) | H28: 教科の内容や学び方のふりかえり （〇・・・良かったところ、△×・・・悪かったところ,→・・・次こうする）
C29: 現在の理解度 | F29: 計画をたてる | G29: ☑ | H29: 今日の学習(理解度)は？
E30: 1
E31: 2
E32: 3
E33: 4
C34: 今日の調子 | E34: 5
C35: 学び方は？(学習形態) | F35: ふりかえり

Sheet 19
B1: 名前 | C1: =一覧表!$B$24 -> #N/A | D1: 内容 | E1: =一覧表!$C$1 -> 0
D2: めあて | E2: =一覧表!$C$2 -> 0
D3: 単元のめあて | E3: =一覧表!$C$3 -> 0
A4: 絶好調(*'▽') | B4: 1時間目 | C4: 意識するポイント | E4: 学習計画 (この授業、あなたは何をする？) | H4: 教科の内容や学び方のふりかえり （〇・・・良かったところ、△×・・・悪かったところ,→・・・次こうする）
A5: 良好( ^^) | C5: 現在の理解度 | F5: 計画をたてる | G5: ☑ | H5: 今日の学習(理解度)は？
A6: 普通(・_・) | E6: 1
A7: イマイチ(-.-) | E7: 2
A8: サイアク(;´Д｀) | E8: 3
E9: 4
C10: 今日の調子 | E10: 5
A11: ☑ | C11: 学び方は？(学習形態) | F11: ふりかえり
B12: 2時間目 | C12: 意識するポイント | E12: 学習計画 (この授業、あなたは何をする？) | H12: 教科の内容や学び方のふりかえり （〇・・・良かったところ、△×・・・悪かったところ,→・・・次こうする）
C13: 現在の理解度 | F13: 計画をたてる | G13: ☑ | H13: 今日の学習(理解度)は？
A14: １人でじっくり・・・ | E14: 1
A15: 誰かと一緒に！ | E15: 2
A16: 先生、教えて！ | E16: 3
A17: 教えに行きたい！ | E17: 4
A18: 計画以上に進んだ | C18: 今日の調子 | E18: 5
A19: 計画どおり | C19: 学び方は？(学習形態) | F19: ふりかえり
A20: あまり進まなかった | B20: 3時間目 | C20: 意識するポイント | E20: 学習計画 (この授業、あなたは何をする？) | H20: 教科の内容や学び方のふりかえり （〇・・・良かったところ、△×・・・悪かったところ,→・・・次こうする）
C21: 現在の理解度 | F21: 計画をたてる | G21: ☑ | H21: 今日の学習(理解度)は？
E22: 1
E23: 2
E24: 3
E25: 4
C26: 今日の調子 | E26: 5
C27: 学び方は？(学習形態) | F27: ふりかえり
B28: 4時間目 | C28: 意識するポイント | E28: 学習計画 (この授業、あなたは何をする？) | H28: 教科の内容や学び方のふりかえり （〇・・・良かったところ、△×・・・悪かったところ,→・・・次こうする）
C29: 現在の理解度 | F29: 計画をたてる | G29: ☑ | H29: 今日の学習(理解度)は？
E30: 1
E31: 2
E32: 3
E33: 4
C34: 今日の調子 | E34: 5
C35: 学び方は？(学習形態) | F35: ふりかえり

Sheet 20
B1: 名前 | C1: =一覧表!$B$25 -> #N/A | D1: 内容 | E1: =一覧表!$C$1 -> 0
D2: めあて | E2: =一覧表!$C$2 -> 0
D3: 単元のめあて | E3: =一覧表!$C$3 -> 0
A4: 絶好調(*'▽') | B4: 1時間目 | C4: 意識するポイント | E4: 学習計画 (この授業、あなたは何をする？) | H4: 教科の内容や学び方のふりかえり （〇・・・良かったところ、△×・・・悪かったところ,→・・・次こうする）
A5: 良好( ^^) | C5: 現在の理解度 | F5: 計画をたてる | G5: ☑ | H5: 今日の学習(理解度)は？
A6: 普通(・_・) | E6: 1
A7: イマイチ(-.-) | E7: 2
A8: サイアク(;´Д｀) | E8: 3
E9: 4
C10: 今日の調子 | E10: 5
A11: ☑ | C11: 学び方は？(学習形態) | F11: ふりかえり
B12: 2時間目 | C12: 意識するポイント | E12: 学習計画 (この授業、あなたは何をする？) | H12: 教科の内容や学び方のふりかえり （〇・・・良かったところ、△×・・・悪かったところ,→・・・次こうする）
C13: 現在の理解度 | F13: 計画をたてる | G13: ☑ | H13: 今日の学習(理解度)は？
A14: １人でじっくり・・・ | E14: 1
A15: 誰かと一緒に！ | E15: 2
A16: 先生、教えて！ | E16: 3
A17: 教えに行きたい！ | E17: 4
A18: 計画以上に進んだ | C18: 今日の調子 | E18: 5
A19: 計画どおり | C19: 学び方は？(学習形態) | F19: ふりかえり
A20: あまり進まなかった | B20: 3時間目 | C20: 意識するポイント | E20: 学習計画 (この授業、あなたは何をする？) | H20: 教科の内容や学び方のふりかえり （〇・・・良かったところ、△×・・・悪かったところ,→・・・次こうする）
C21: 現在の理解度 | F21: 計画をたてる | G21: ☑ | H21: 今日の学習(理解度)は？
E22: 1
E23: 2
E24: 3
E25: 4
C26: 今日の調子 | E26: 5
C27: 学び方は？(学習形態) | F27: ふりかえり
B28: 4時間目 | C28: 意識するポイント | E28: 学習計画 (この授業、あなたは何をする？) | H28: 教科の内容や学び方のふりかえり （〇・・・良かったところ、△×・・・悪かったところ,→・・・次こうする）
C29: 現在の理解度 | F29: 計画をたてる | G29: ☑ | H29: 今日の学習(理解度)は？
E30: 1
E31: 2
E32: 3
E33: 4
C34: 今日の調子 | E34: 5
C35: 学び方は？(学習形態) | F35: ふりかえり

Sheet 21
B1: 名前 | C1: =一覧表!$B$26 -> #N/A | D1: 内容 | E1: =一覧表!$C$1 -> 0
D2: めあて | E2: =一覧表!$C$2 -> 0
D3: 単元のめあて | E3: =一覧表!$C$3 -> 0
A4: 絶好調(*'▽') | B4: 1時間目 | C4: 意識するポイント | E4: 学習計画 (この授業、あなたは何をする？) | H4: 教科の内容や学び方のふりかえり （〇・・・良かったところ、△×・・・悪かったところ,→・・・次こうする）
A5: 良好( ^^) | C5: 現在の理解度 | F5: 計画をたてる | G5: ☑ | H5: 今日の学習(理解度)は？
A6: 普通(・_・) | E6: 1
A7: イマイチ(-.-) | E7: 2
A8: サイアク(;´Д｀) | E8: 3
E9: 4
C10: 今日の調子 | E10: 5
A11: ☑ | C11: 学び方は？(学習形態) | F11: ふりかえり
B12: 2時間目 | C12: 意識するポイント | E12: 学習計画 (この授業、あなたは何をする？) | H12: 教科の内容や学び方のふりかえり （〇・・・良かったところ、△×・・・悪かったところ,→・・・次こうする）
C13: 現在の理解度 | F13: 計画をたてる | G13: ☑ | H13: 今日の学習(理解度)は？
A14: １人でじっくり・・・ | E14: 1
A15: 誰かと一緒に！ | E15: 2
A16: 先生、教えて！ | E16: 3
A17: 教えに行きたい！ | E17: 4
A18: 計画以上に進んだ | C18: 今日の調子 | E18: 5
A19: 計画どおり | C19: 学び方は？(学習形態) | F19: ふりかえり
A20: あまり進まなかった | B20: 3時間目 | C20: 意識するポイント | E20: 学習計画 (この授業、あなたは何をする？) | H20: 教科の内容や学び方のふりかえり （〇・・・良かったところ、△×・・・悪かったところ,→・・・次こうする）
C21: 現在の理解度 | F21: 計画をたてる | G21: ☑ | H21: 今日の学習(理解度)は？
E22: 1
E23: 2
E24: 3
E25: 4
C26: 今日の調子 | E26: 5
C27: 学び方は？(学習形態) | F27: ふりかえり
B28: 4時間目 | C28: 意識するポイント | E28: 学習計画 (この授業、あなたは何をする？) | H28: 教科の内容や学び方のふりかえり （〇・・・良かったところ、△×・・・悪かったところ,→・・・次こうする）
C29: 現在の理解度 | F29: 計画をたてる | G29: ☑ | H29: 今日の学習(理解度)は？
E30: 1
E31: 2
E32: 3
E33: 4
C34: 今日の調子 | E34: 5
C35: 学び方は？(学習形態) | F35: ふりかえり

Sheet 22
B1: 名前 | C1: =一覧表!$B$27 -> #N/A | D1: 内容 | E1: =一覧表!$C$1 -> 0
D2: めあて | E2: =一覧表!$C$2 -> 0
D3: 単元のめあて | E3: =一覧表!$C$3 -> 0
A4: 絶好調(*'▽') | B4: 1時間目 | C4: 意識するポイント | E4: 学習計画 (この授業、あなたは何をする？) | H4: 教科の内容や学び方のふりかえり （〇・・・良かったところ、△×・・・悪かったところ,→・・・次こうする）
A5: 良好( ^^) | C5: 現在の理解度 | F5: 計画をたてる | G5: ☑ | H5: 今日の学習(理解度)は？
A6: 普通(・_・) | E6: 1
A7: イマイチ(-.-) | E7: 2
A8: サイアク(;´Д｀) | E8: 3
E9: 4
C10: 今日の調子 | E10: 5
A11: ☑ | C11: 学び方は？(学習形態) | F11: ふりかえり
B12: 2時間目 | C12: 意識するポイント | E12: 学習計画 (この授業、あなたは何をする？) | H12: 教科の内容や学び方のふりかえり （〇・・・良かったところ、△×・・・悪かったところ,→・・・次こうする）
C13: 現在の理解度 | F13: 計画をたてる | G13: ☑ | H13: 今日の学習(理解度)は？
A14: １人でじっくり・・・ | E14: 1
A15: 誰かと一緒に！ | E15: 2
A16: 先生、教えて！ | E16: 3
A17: 教えに行きたい！ | E17: 4
A18: 計画以上に進んだ | C18: 今日の調子 | E18: 5
A19: 計画どおり | C19: 学び方は？(学習形態) | F19: ふりかえり
A20: あまり進まなかった | B20: 3時間目 | C20: 意識するポイント | E20: 学習計画 (この授業、あなたは何をする？) | H20: 教科の内容や学び方のふりかえり （〇・・・良かったところ、△×・・・悪かったところ,→・・・次こうする）
C21: 現在の理解度 | F21: 計画をたてる | G21: ☑ | H21: 今日の学習(理解度)は？
E22: 1
E23: 2
E24: 3
E25: 4
C26: 今日の調子 | E26: 5
C27: 学び方は？(学習形態) | F27: ふりかえり
B28: 4時間目 | C28: 意識するポイント | E28: 学習計画 (この授業、あなたは何をする？) | H28: 教科の内容や学び方のふりかえり （〇・・・良かったところ、△×・・・悪かったところ,→・・・次こうする）
C29: 現在の理解度 | F29: 計画をたてる | G29: ☑ | H29: 今日の学習(理解度)は？
E30: 1
E31: 2
E32: 3
E33: 4
C34: 今日の調子 | E34: 5
C35: 学び方は？(学習形態) | F35: ふりかえり

Sheet 23
B1: 名前 | C1: =一覧表!$B$28 -> #N/A | D1: 内容 | E1: =一覧表!$C$1 -> 0
D2: めあて | E2: =一覧表!$C$2 -> 0
D3: 単元のめあて | E3: =一覧表!$C$3 -> 0
A4: 絶好調(*'▽') | B4: 1時間目 | C4: 意識するポイント | E4: 学習計画 (この授業、あなたは何をする？) | H4: 教科の内容や学び方のふりかえり （〇・・・良かったところ、△×・・・悪かったところ,→・・・次こうする）
A5: 良好( ^^) | C5: 現在の理解度 | F5: 計画をたてる | G5: ☑ | H5: 今日の学習(理解度)は？
A6: 普通(・_・) | E6: 1
A7: イマイチ(-.-) | E7: 2
A8: サイアク(;´Д｀) | E8: 3
E9: 4
C10: 今日の調子 | E10: 5
A11: ☑ | C11: 学び方は？(学習形態) | F11: ふりかえり
B12: 2時間目 | C12: 意識するポイント | E12: 学習計画 (この授業、あなたは何をする？) | H12: 教科の内容や学び方のふりかえり （〇・・・良かったところ、△×・・・悪かったところ,→・・・次こうする）
C13: 現在の理解度 | F13: 計画をたてる | G13: ☑ | H13: 今日の学習(理解度)は？
A14: １人でじっくり・・・ | E14: 1
A15: 誰かと一緒に！ | E15: 2
A16: 先生、教えて！ | E16: 3
A17: 教えに行きたい！ | E17: 4
A18: 計画以上に進んだ | C18: 今日の調子 | E18: 5
A19: 計画どおり | C19: 学び方は？(学習形態) | F19: ふりかえり
A20: あまり進まなかった | B20: 3時間目 | C20: 意識するポイント | E20: 学習計画 (この授業、あなたは何をする？) | H20: 教科の内容や学び方のふりかえり （〇・・・良かったところ、△×・・・悪かったところ,→・・・次こうする）
C21: 現在の理解度 | F21: 計画をたてる | G21: ☑ | H21: 今日の学習(理解度)は？
E22: 1
E23: 2
E24: 3
E25: 4
C26: 今日の調子 | E26: 5
C27: 学び方は？(学習形態) | F27: ふりかえり
B28: 4時間目 | C28: 意識するポイント | E28: 学習計画 (この授業、あなたは何をする？) | H28: 教科の内容や学び方のふりかえり （〇・・・良かったところ、△×・・・悪かったところ,→・・・次こうする）
C29: 現在の理解度 | F29: 計画をたてる | G29: ☑ | H29: 今日の学習(理解度)は？
E30: 1
E31: 2
E32: 3
E33: 4
C34: 今日の調子 | E34: 5
C35: 学び方は？(学習形態) | F35: ふりかえり

Sheet 24
B1: 名前 | C1: =一覧表!$B$29 -> #N/A | D1: 内容 | E1: =一覧表!$C$1 -> 0
D2: めあて | E2: =一覧表!$C$2 -> 0
D3: 単元のめあて | E3: =一覧表!$C$3 -> 0
A4: 絶好調(*'▽') | B4: 1時間目 | C4: 意識するポイント | E4: 学習計画 (この授業、あなたは何をする？) | H4: 教科の内容や学び方のふりかえり （〇・・・良かったところ、△×・・・悪かったところ,→・・・次こうする）
A5: 良好( ^^) | C5: 現在の理解度 | F5: 計画をたてる | G5: ☑ | H5: 今日の学習(理解度)は？
A6: 普通(・_・) | E6: 1
A7: イマイチ(-.-) | E7: 2
A8: サイアク(;´Д｀) | E8: 3
E9: 4
C10: 今日の調子 | E10: 5
A11: ☑ | C11: 学び方は？(学習形態) | F11: ふりかえり
B12: 2時間目 | C12: 意識するポイント | E12: 学習計画 (この授業、あなたは何をする？) | H12: 教科の内容や学び方のふりかえり （〇・・・良かったところ、△×・・・悪かったところ,→・・・次こうする）
C13: 現在の理解度 | F13: 計画をたてる | G13: ☑ | H13: 今日の学習(理解度)は？
A14: １人でじっくり・・・ | E14: 1
A15: 誰かと一緒に！ | E15: 2
A16: 先生、教えて！ | E16: 3
A17: 教えに行きたい！ | E17: 4
A18: 計画以上に進んだ | C18: 今日の調子 | E18: 5
A19: 計画どおり | C19: 学び方は？(学習形態) | F19: ふりかえり
A20: あまり進まなかった | B20: 3時間目 | C20: 意識するポイント | E20: 学習計画 (この授業、あなたは何をする？) | H20: 教科の内容や学び方のふりかえり （〇・・・良かったところ、△×・・・悪かったところ,→・・・次こうする）
C21: 現在の理解度 | F21: 計画をたてる | G21: ☑ | H21: 今日の学習(理解度)は？
E22: 1
E23: 2
E24: 3
E25: 4
C26: 今日の調子 | E26: 5
C27: 学び方は？(学習形態) | F27: ふりかえり
B28: 4時間目 | C28: 意識するポイント | E28: 学習計画 (この授業、あなたは何をする？) | H28: 教科の内容や学び方のふりかえり （〇・・・良かったところ、△×・・・悪かったところ,→・・・次こうする）
C29: 現在の理解度 | F29: 計画をたてる | G29: ☑ | H29: 今日の学習(理解度)は？
E30: 1
E31: 2
E32: 3
E33: 4
C34: 今日の調子 | E34: 5
C35: 学び方は？(学習形態) | F35: ふりかえり

Sheet 25
B1: 名前 | C1: =一覧表!$B$30 -> #N/A | D1: 内容 | E1: =一覧表!$C$1 -> 0
D2: めあて | E2: =一覧表!$C$2 -> 0
D3: 単元のめあて | E3: =一覧表!$C$3 -> 0
A4: 絶好調(*'▽') | B4: 1時間目 | C4: 意識するポイント | E4: 学習計画 (この授業、あなたは何をする？) | H4: 教科の内容や学び方のふりかえり （〇・・・良かったところ、△×・・・悪かったところ,→・・・次こうする）
A5: 良好( ^^) | C5: 現在の理解度 | F5: 計画をたてる | G5: ☑ | H5: 今日の学習(理解度)は？
A6: 普通(・_・) | E6: 1
A7: イマイチ(-.-) | E7: 2
A8: サイアク(;´Д｀) | E8: 3
E9: 4
C10: 今日の調子 | E10: 5
A11: ☑ | C11: 学び方は？(学習形態) | F11: ふりかえり
B12: 2時間目 | C12: 意識するポイント | E12: 学習計画 (この授業、あなたは何をする？) | H12: 教科の内容や学び方のふりかえり （〇・・・良かったところ、△×・・・悪かったところ,→・・・次こうする）
C13: 現在の理解度 | F13: 計画をたてる | G13: ☑ | H13: 今日の学習(理解度)は？
A14: １人でじっくり・・・ | E14: 1
A15: 誰かと一緒に！ | E15: 2
A16: 先生、教えて！ | E16: 3
A17: 教えに行きたい！ | E17: 4
A18: 計画以上に進んだ | C18: 今日の調子 | E18: 5
A19: 計画どおり | C19: 学び方は？(学習形態) | F19: ふりかえり
A20: あまり進まなかった | B20: 3時間目 | C20: 意識するポイント | E20: 学習計画 (この授業、あなたは何をする？) | H20: 教科の内容や学び方のふりかえり （〇・・・良かったところ、△×・・・悪かったところ,→・・・次こうする）
C21: 現在の理解度 | F21: 計画をたてる | G21: ☑ | H21: 今日の学習(理解度)は？
E22: 1
E23: 2
E24: 3
E25: 4
C26: 今日の調子 | E26: 5
C27: 学び方は？(学習形態) | F27: ふりかえり
B28: 4時間目 | C28: 意識するポイント | E28: 学習計画 (この授業、あなたは何をする？) | H28: 教科の内容や学び方のふりかえり （〇・・・良かったところ、△×・・・悪かったところ,→・・・次こうする）
C29: 現在の理解度 | F29: 計画をたてる | G29: ☑ | H29: 今日の学習(理解度)は？
E30: 1
E31: 2
E32: 3
E33: 4
C34: 今日の調子 | E34: 5
C35: 学び方は？(学習形態) | F35: ふりかえり

Sheet 26
B1: 名前 | C1: =一覧表!$B$31 -> #N/A | D1: 内容 | E1: =一覧表!$C$1 -> 0
D2: めあて | E2: =一覧表!$C$2 -> 0
D3: 単元のめあて | E3: =一覧表!$C$3 -> 0
A4: 絶好調(*'▽') | B4: 1時間目 | C4: 意識するポイント | E4: 学習計画 (この授業、あなたは何をする？) | H4: 教科の内容や学び方のふりかえり （〇・・・良かったところ、△×・・・悪かったところ,→・・・次こうする）
A5: 良好( ^^) | C5: 現在の理解度 | F5: 計画をたてる | G5: ☑ | H5: 今日の学習(理解度)は？
A6: 普通(・_・) | E6: 1
A7: イマイチ(-.-) | E7: 2
A8: サイアク(;´Д｀) | E8: 3
E9: 4
C10: 今日の調子 | E10: 5
A11: ☑ | C11: 学び方は？(学習形態) | F11: ふりかえり
B12: 2時間目 | C12: 意識するポイント | E12: 学習計画 (この授業、あなたは何をする？) | H12: 教科の内容や学び方のふりかえり （〇・・・良かったところ、△×・・・悪かったところ,→・・・次こうする）
C13: 現在の理解度 | F13: 計画をたてる | G13: ☑ | H13: 今日の学習(理解度)は？
A14: １人でじっくり・・・ | E14: 1
A15: 誰かと一緒に！ | E15: 2
A16: 先生、教えて！ | E16: 3
A17: 教えに行きたい！ | E17: 4
A18: 計画以上に進んだ | C18: 今日の調子 | E18: 5
A19: 計画どおり | C19: 学び方は？(学習形態) | F19: ふりかえり
A20: あまり進まなかった | B20: 3時間目 | C20: 意識するポイント | E20: 学習計画 (この授業、あなたは何をする？) | H20: 教科の内容や学び方のふりかえり （〇・・・良かったところ、△×・・・悪かったところ,→・・・次こうする）
C21: 現在の理解度 | F21: 計画をたてる | G21: ☑ | H21: 今日の学習(理解度)は？
E22: 1
E23: 2
E24: 3
E25: 4
C26: 今日の調子 | E26: 5
C27: 学び方は？(学習形態) | F27: ふりかえり
B28: 4時間目 | C28: 意識するポイント | E28: 学習計画 (この授業、あなたは何をする？) | H28: 教科の内容や学び方のふりかえり （〇・・・良かったところ、△×・・・悪かったところ,→・・・次こうする）
C29: 現在の理解度 | F29: 計画をたてる | G29: ☑ | H29: 今日の学習(理解度)は？
E30: 1
E31: 2
E32: 3
E33: 4
C34: 今日の調子 | E34: 5
C35: 学び方は？(学習形態) | F35: ふりかえり

Sheet 27
B1: 名前 | C1: =一覧表!$B$32 -> #N/A | D1: 内容 | E1: =一覧表!$C$1 -> 0
D2: めあて | E2: =一覧表!$C$2 -> 0
D3: 単元のめあて | E3: =一覧表!$C$3 -> 0
A4: 絶好調(*'▽') | B4: 1時間目 | C4: 意識するポイント | E4: 学習計画 (この授業、あなたは何をする？) | H4: 教科の内容や学び方のふりかえり （〇・・・良かったところ、△×・・・悪かったところ,→・・・次こうする）
A5: 良好( ^^) | C5: 現在の理解度 | F5: 計画をたてる | G5: ☑ | H5: 今日の学習(理解度)は？
A6: 普通(・_・) | E6: 1
A7: イマイチ(-.-) | E7: 2
A8: サイアク(;´Д｀) | E8: 3
E9: 4
C10: 今日の調子 | E10: 5
A11: ☑ | C11: 学び方は？(学習形態) | F11: ふりかえり
B12: 2時間目 | C12: 意識するポイント | E12: 学習計画 (この授業、あなたは何をする？) | H12: 教科の内容や学び方のふりかえり （〇・・・良かったところ、△×・・・悪かったところ,→・・・次こうする）
C13: 現在の理解度 | F13: 計画をたてる | G13: ☑ | H13: 今日の学習(理解度)は？
A14: １人でじっくり・・・ | E14: 1
A15: 誰かと一緒に！ | E15: 2
A16: 先生、教えて！ | E16: 3
A17: 教えに行きたい！ | E17: 4
A18: 計画以上に進んだ | C18: 今日の調子 | E18: 5
A19: 計画どおり | C19: 学び方は？(学習形態) | F19: ふりかえり
A20: あまり進まなかった | B20: 3時間目 | C20: 意識するポイント | E20: 学習計画 (この授業、あなたは何をする？) | H20: 教科の内容や学び方のふりかえり （〇・・・良かったところ、△×・・・悪かったところ,→・・・次こうする）
C21: 現在の理解度 | F21: 計画をたてる | G21: ☑ | H21: 今日の学習(理解度)は？
E22: 1
E23: 2
E24: 3
E25: 4
C26: 今日の調子 | E26: 5
C27: 学び方は？(学習形態) | F27: ふりかえり
B28: 4時間目 | C28: 意識するポイント | E28: 学習計画 (この授業、あなたは何をする？) | H28: 教科の内容や学び方のふりかえり （〇・・・良かったところ、△×・・・悪かったところ,→・・・次こうする）
C29: 現在の理解度 | F29: 計画をたてる | G29: ☑ | H29: 今日の学習(理解度)は？
E30: 1
E31: 2
E32: 3
E33: 4
C34: 今日の調子 | E34: 5
C35: 学び方は？(学習形態) | F35: ふりかえり

Sheet 28
B1: 名前 | C1: =一覧表!$B$33 -> #N/A | D1: 内容 | E1: =一覧表!$C$1 -> 0
D2: めあて | E2: =一覧表!$C$2 -> 0
D3: 単元のめあて | E3: =一覧表!$C$3 -> 0
A4: 絶好調(*'▽') | B4: 1時間目 | C4: 意識するポイント | E4: 学習計画 (この授業、あなたは何をする？) | H4: 教科の内容や学び方のふりかえり （〇・・・良かったところ、△×・・・悪かったところ,→・・・次こうする）
A5: 良好( ^^) | C5: 現在の理解度 | F5: 計画をたてる | G5: ☑ | H5: 今日の学習(理解度)は？
A6: 普通(・_・) | E6: 1
A7: イマイチ(-.-) | E7: 2
A8: サイアク(;´Д｀) | E8: 3
E9: 4
C10: 今日の調子 | E10: 5
A11: ☑ | C11: 学び方は？(学習形態) | F11: ふりかえり
B12: 2時間目 | C12: 意識するポイント | E12: 学習計画 (この授業、あなたは何をする？) | H12: 教科の内容や学び方のふりかえり （〇・・・良かったところ、△×・・・悪かったところ,→・・・次こうする）
C13: 現在の理解度 | F13: 計画をたてる | G13: ☑ | H13: 今日の学習(理解度)は？
A14: １人でじっくり・・・ | E14: 1
A15: 誰かと一緒に！ | E15: 2
A16: 先生、教えて！ | E16: 3
A17: 教えに行きたい！ | E17: 4
A18: 計画以上に進んだ | C18: 今日の調子 | E18: 5
A19: 計画どおり | C19: 学び方は？(学習形態) | F19: ふりかえり
A20: あまり進まなかった | B20: 3時間目 | C20: 意識するポイント | E20: 学習計画 (この授業、あなたは何をする？) | H20: 教科の内容や学び方のふりかえり （〇・・・良かったところ、△×・・・悪かったところ,→・・・次こうする）
C21: 現在の理解度 | F21: 計画をたてる | G21: ☑ | H21: 今日の学習(理解度)は？
E22: 1
E23: 2
E24: 3
E25: 4
C26: 今日の調子 | E26: 5
C27: 学び方は？(学習形態) | F27: ふりかえり
B28: 4時間目 | C28: 意識するポイント | E28: 学習計画 (この授業、あなたは何をする？) | H28: 教科の内容や学び方のふりかえり （〇・・・良かったところ、△×・・・悪かったところ,→・・・次こうする）
C29: 現在の理解度 | F29: 計画をたてる | G29: ☑ | H29: 今日の学習(理解度)は？
E30: 1
E31: 2
E32: 3
E33: 4
C34: 今日の調子 | E34: 5
C35: 学び方は？(学習形態) | F35: ふりかえり

Sheet 29
B1: 名前 | C1: =一覧表!$B$34 -> #N/A | D1: 内容 | E1: =一覧表!$C$1 -> 0
D2: めあて | E2: =一覧表!$C$2 -> 0
D3: 単元のめあて | E3: =一覧表!$C$3 -> 0
A4: 絶好調(*'▽') | B4: 1時間目 | C4: 意識するポイント | E4: 学習計画 (この授業、あなたは何をする？) | H4: 教科の内容や学び方のふりかえり （〇・・・良かったところ、△×・・・悪かったところ,→・・・次こうする）
A5: 良好( ^^) | C5: 現在の理解度 | F5: 計画をたてる | G5: ☑ | H5: 今日の学習(理解度)は？
A6: 普通(・_・) | E6: 1
A7: イマイチ(-.-) | E7: 2
A8: サイアク(;´Д｀) | E8: 3
E9: 4
C10: 今日の調子 | E10: 5
A11: ☑ | C11: 学び方は？(学習形態) | F11: ふりかえり
B12: 2時間目 | C12: 意識するポイント | E12: 学習計画 (この授業、あなたは何をする？) | H12: 教科の内容や学び方のふりかえり （〇・・・良かったところ、△×・・・悪かったところ,→・・・次こうする）
C13: 現在の理解度 | F13: 計画をたてる | G13: ☑ | H13: 今日の学習(理解度)は？
A14: １人でじっくり・・・ | E14: 1
A15: 誰かと一緒に！ | E15: 2
A16: 先生、教えて！ | E16: 3
A17: 教えに行きたい！ | E17: 4
A18: 計画以上に進んだ | C18: 今日の調子 | E18: 5
A19: 計画どおり | C19: 学び方は？(学習形態) | F19: ふりかえり
A20: あまり進まなかった | B20: 3時間目 | C20: 意識するポイント | E20: 学習計画 (この授業、あなたは何をする？) | H20: 教科の内容や学び方のふりかえり （〇・・・良かったところ、△×・・・悪かったところ,→・・・次こうする）
C21: 現在の理解度 | F21: 計画をたてる | G21: ☑ | H21: 今日の学習(理解度)は？
E22: 1
E23: 2
E24: 3
E25: 4
C26: 今日の調子 | E26: 5
C27: 学び方は？(学習形態) | F27: ふりかえり
B28: 4時間目 | C28: 意識するポイント | E28: 学習計画 (この授業、あなたは何をする？) | H28: 教科の内容や学び方のふりかえり （〇・・・良かったところ、△×・・・悪かったところ,→・・・次こうする）
C29: 現在の理解度 | F29: 計画をたてる | G29: ☑ | H29: 今日の学習(理解度)は？
E30: 1
E31: 2
E32: 3
E33: 4
C34: 今日の調子 | E34: 5
C35: 学び方は？(学習形態) | F35: ふりかえり

Sheet 30
B1: 名前 | C1: =一覧表!$B$35 -> #N/A | D1: 内容 | E1: =一覧表!$C$1 -> 0
D2: めあて | E2: =一覧表!$C$2 -> 0
D3: 単元のめあて | E3: =一覧表!$C$3 -> 0
A4: 絶好調(*'▽') | B4: 1時間目 | C4: 意識するポイント | E4: 学習計画 (この授業、あなたは何をする？) | H4: 教科の内容や学び方のふりかえり （〇・・・良かったところ、△×・・・悪かったところ,→・・・次こうする）
A5: 良好( ^^) | C5: 現在の理解度 | F5: 計画をたてる | G5: ☑ | H5: 今日の学習(理解度)は？
A6: 普通(・_・) | E6: 1
A7: イマイチ(-.-) | E7: 2
A8: サイアク(;´Д｀) | E8: 3
E9: 4
C10: 今日の調子 | E10: 5
A11: ☑ | C11: 学び方は？(学習形態) | F11: ふりかえり
B12: 2時間目 | C12: 意識するポイント | E12: 学習計画 (この授業、あなたは何をする？) | H12: 教科の内容や学び方のふりかえり （〇・・・良かったところ、△×・・・悪かったところ,→・・・次こうする）
C13: 現在の理解度 | F13: 計画をたてる | G13: ☑ | H13: 今日の学習(理解度)は？
A14: １人でじっくり・・・ | E14: 1
A15: 誰かと一緒に！ | E15: 2
A16: 先生、教えて！ | E16: 3
A17: 教えに行きたい！ | E17: 4
A18: 計画以上に進んだ | C18: 今日の調子 | E18: 5
A19: 計画どおり | C19: 学び方は？(学習形態) | F19: ふりかえり
A20: あまり進まなかった | B20: 3時間目 | C20: 意識するポイント | E20: 学習計画 (この授業、あなたは何をする？) | H20: 教科の内容や学び方のふりかえり （〇・・・良かったところ、△×・・・悪かったところ,→・・・次こうする）
C21: 現在の理解度 | F21: 計画をたてる | G21: ☑ | H21: 今日の学習(理解度)は？
E22: 1
E23: 2
E24: 3
E25: 4
C26: 今日の調子 | E26: 5
C27: 学び方は？(学習形態) | F27: ふりかえり
B28: 4時間目 | C28: 意識するポイント | E28: 学習計画 (この授業、あなたは何をする？) | H28: 教科の内容や学び方のふりかえり （〇・・・良かったところ、△×・・・悪かったところ,→・・・次こうする）
C29: 現在の理解度 | F29: 計画をたてる | G29: ☑ | H29: 今日の学習(理解度)は？
E30: 1
E31: 2
E32: 3
E33: 4
C34: 今日の調子 | E34: 5
C35: 学び方は？(学習形態) | F35: ふりかえり

Sheet 31
B1: 名前 | C1: =一覧表!$B$36 -> #N/A | D1: 内容 | E1: =一覧表!$C$1 -> 0
D2: めあて | E2: =一覧表!$C$2 -> 0
D3: 単元のめあて | E3: =一覧表!$C$3 -> 0
A4: 絶好調(*'▽') | B4: 1時間目 | C4: 意識するポイント | E4: 学習計画 (この授業、あなたは何をする？) | H4: 教科の内容や学び方のふりかえり （〇・・・良かったところ、△×・・・悪かったところ,→・・・次こうする）
A5: 良好( ^^) | C5: 現在の理解度 | F5: 計画をたてる | G5: ☑ | H5: 今日の学習(理解度)は？
A6: 普通(・_・) | E6: 1
A7: イマイチ(-.-) | E7: 2
A8: サイアク(;´Д｀) | E8: 3
E9: 4
C10: 今日の調子 | E10: 5
A11: ☑ | C11: 学び方は？(学習形態) | F11: ふりかえり
B12: 2時間目 | C12: 意識するポイント | E12: 学習計画 (この授業、あなたは何をする？) | H12: 教科の内容や学び方のふりかえり （〇・・・良かったところ、△×・・・悪かったところ,→・・・次こうする）
C13: 現在の理解度 | F13: 計画をたてる | G13: ☑ | H13: 今日の学習(理解度)は？
A14: １人でじっくり・・・ | E14: 1
A15: 誰かと一緒に！ | E15: 2
A16: 先生、教えて！ | E16: 3
A17: 教えに行きたい！ | E17: 4
A18: 計画以上に進んだ | C18: 今日の調子 | E18: 5
A19: 計画どおり | C19: 学び方は？(学習形態) | F19: ふりかえり
A20: あまり進まなかった | B20: 3時間目 | C20: 意識するポイント | E20: 学習計画 (この授業、あなたは何をする？) | H20: 教科の内容や学び方のふりかえり （〇・・・良かったところ、△×・・・悪かったところ,→・・・次こうする）
C21: 現在の理解度 | F21: 計画をたてる | G21: ☑ | H21: 今日の学習(理解度)は？
E22: 1
E23: 2
E24: 3
E25: 4
C26: 今日の調子 | E26: 5
C27: 学び方は？(学習形態) | F27: ふりかえり
B28: 4時間目 | C28: 意識するポイント | E28: 学習計画 (この授業、あなたは何をする？) | H28: 教科の内容や学び方のふりかえり （〇・・・良かったところ、△×・・・悪かったところ,→・・・次こうする）
C29: 現在の理解度 | F29: 計画をたてる | G29: ☑ | H29: 今日の学習(理解度)は？
E30: 1
E31: 2
E32: 3
E33: 4
C34: 今日の調子 | E34: 5
C35: 学び方は？(学習形態) | F35: ふりかえり

Sheet 32
B1: 名前 | C1: =一覧表!$B$37 -> #N/A | D1: 内容 | E1: =一覧表!$C$1 -> 0
D2: めあて | E2: =一覧表!$C$2 -> 0
D3: 単元のめあて | E3: =一覧表!$C$3 -> 0
A4: 絶好調(*'▽') | B4: 1時間目 | C4: 意識するポイント | E4: 学習計画 (この授業、あなたは何をする？) | H4: 教科の内容や学び方のふりかえり （〇・・・良かったところ、△×・・・悪かったところ,→・・・次こうする）
A5: 良好( ^^) | C5: 現在の理解度 | F5: 計画をたてる | G5: ☑ | H5: 今日の学習(理解度)は？
A6: 普通(・_・) | E6: 1
A7: イマイチ(-.-) | E7: 2
A8: サイアク(;´Д｀) | E8: 3
E9: 4
C10: 今日の調子 | E10: 5
A11: ☑ | C11: 学び方は？(学習形態) | F11: ふりかえり
B12: 2時間目 | C12: 意識するポイント | E12: 学習計画 (この授業、あなたは何をする？) | H12: 教科の内容や学び方のふりかえり （〇・・・良かったところ、△×・・・悪かったところ,→・・・次こうする）
C13: 現在の理解度 | F13: 計画をたてる | G13: ☑ | H13: 今日の学習(理解度)は？
A14: １人でじっくり・・・ | E14: 1
A15: 誰かと一緒に！ | E15: 2
A16: 先生、教えて！ | E16: 3
A17: 教えに行きたい！ | E17: 4
A18: 計画以上に進んだ | C18: 今日の調子 | E18: 5
A19: 計画どおり | C19: 学び方は？(学習形態) | F19: ふりかえり
A20: あまり進まなかった | B20: 3時間目 | C20: 意識するポイント | E20: 学習計画 (この授業、あなたは何をする？) | H20: 教科の内容や学び方のふりかえり （〇・・・良かったところ、△×・・・悪かったところ,→・・・次こうする）
C21: 現在の理解度 | F21: 計画をたてる | G21: ☑ | H21: 今日の学習(理解度)は？
E22: 1
E23: 2
E24: 3
E25: 4
C26: 今日の調子 | E26: 5
C27: 学び方は？(学習形態) | F27: ふりかえり
B28: 4時間目 | C28: 意識するポイント | E28: 学習計画 (この授業、あなたは何をする？) | H28: 教科の内容や学び方のふりかえり （〇・・・良かったところ、△×・・・悪かったところ,→・・・次こうする）
C29: 現在の理解度 | F29: 計画をたてる | G29: ☑ | H29: 今日の学習(理解度)は？
E30: 1
E31: 2
E32: 3
E33: 4
C34: 今日の調子 | E34: 5
C35: 学び方は？(学習形態) | F35: ふりかえり

Sheet 33
B1: 名前 | C1: =一覧表!$B$38 -> #N/A | D1: 内容 | E1: =一覧表!$C$1 -> 0
D2: めあて | E2: =一覧表!$C$2 -> 0
D3: 単元のめあて | E3: =一覧表!$C$3 -> 0
A4: 絶好調(*'▽') | B4: 1時間目 | C4: 意識するポイント | E4: 学習計画 (この授業、あなたは何をする？) | H4: 教科の内容や学び方のふりかえり （〇・・・良かったところ、△×・・・悪かったところ,→・・・次こうする）
A5: 良好( ^^) | C5: 現在の理解度 | F5: 計画をたてる | G5: ☑ | H5: 今日の学習(理解度)は？
A6: 普通(・_・) | E6: 1
A7: イマイチ(-.-) | E7: 2
A8: サイアク(;´Д｀) | E8: 3
E9: 4
C10: 今日の調子 | E10: 5
A11: ☑ | C11: 学び方は？(学習形態) | F11: ふりかえり
B12: 2時間目 | C12: 意識するポイント | E12: 学習計画 (この授業、あなたは何をする？) | H12: 教科の内容や学び方のふりかえり （〇・・・良かったところ、△×・・・悪かったところ,→・・・次こうする）
C13: 現在の理解度 | F13: 計画をたてる | G13: ☑ | H13: 今日の学習(理解度)は？
A14: １人でじっくり・・・ | E14: 1
A15: 誰かと一緒に！ | E15: 2
A16: 先生、教えて！ | E16: 3
A17: 教えに行きたい！ | E17: 4
A18: 計画以上に進んだ | C18: 今日の調子 | E18: 5
A19: 計画どおり | C19: 学び方は？(学習形態) | F19: ふりかえり
A20: あまり進まなかった | B20: 3時間目 | C20: 意識するポイント | E20: 学習計画 (この授業、あなたは何をする？) | H20: 教科の内容や学び方のふりかえり （〇・・・良かったところ、△×・・・悪かったところ,→・・・次こうする）
C21: 現在の理解度 | F21: 計画をたてる | G21: ☑ | H21: 今日の学習(理解度)は？
E22: 1
E23: 2
E24: 3
E25: 4
C26: 今日の調子 | E26: 5
C27: 学び方は？(学習形態) | F27: ふりかえり
B28: 4時間目 | C28: 意識するポイント | E28: 学習計画 (この授業、あなたは何をする？) | H28: 教科の内容や学び方のふりかえり （〇・・・良かったところ、△×・・・悪かったところ,→・・・次こうする）
C29: 現在の理解度 | F29: 計画をたてる | G29: ☑ | H29: 今日の学習(理解度)は？
E30: 1
E31: 2
E32: 3
E33: 4
C34: 今日の調子 | E34: 5
C35: 学び方は？(学習形態) | F35: ふりかえり
